{"text_format":"2","workbook":"xlsx","n_sheets":8,"sheets":["рабочая таблица","На что стоит обратить внимание","план на 2016","членские взносы","баланс","data","справочник","Лист6"],"not_rendered":{"charts":0,"images":0,"macros":0,"external_links":0,"defined_names":19,"comments":7,"pivot_tables":0},"unopened":[],"bounds":{"document_bytes":16777216,"sheet_cells":100000,"run_cost":"one","rows_first":2000,"rows_last":500,"rows_between":2000,"halvings":0,"cell_chars":16384,"cell_head_chars":4096},"cells_cut":0,"cells_raw":0,"read":"whole","date_system":"1900"}

{"sheet":"рабочая таблица","index":0,"n_rows":305,"n_cols":18,"rows_kept":305,"cut":false,"hidden":false,"merged":[]}
[null,"свыше 10 тыс. руб."]
[null,"от 5 тыс. руб. до 10 тыс. руб."]
[null,"от 1 до 5 тыс. руб"]
[null,"нет долгов, оплачено вперед"]
[]
["ID","Ф.И.О.","номер участка","член правления","телефонный номер","куратор","Сумма по полю 01.01.2016","Сумма по полю 01.02.2016","Сумма по полю 01.03.2016","Сумма по полю 01.04.2016","Сумма по полю 01.05.2016","Сумма по полю 01.06.2016","Сумма по полю 01.07.2016","Сумма по полю 01.08.2016","Сумма по полю 01.09.2016","Сумма по полю 01.10.2016","Сумма по полю 01.11.2016","Сумма по полю 01.12.2016"]
["Общий итог",{"$nulls":5},3756757.7,3822557.7,3920957.7,4039007.7,4083657.7,4018357.7,4255957.7,4493557.7,4731157.7,4968757.7,5206357.7,5443957.7]
[144,"Рожкова Глафира Андреевна",{"$f":"VLOOKUP(A8,справочник!$A$2:$C$322,3,0)","v":153},{"$f":"IFERROR(VLOOKUP(B8,справочник!$AF$2:$AF$15,1,0),\"\")","v":""},null,"Сидельников Михаил Васильевич",102800,103600,104400,105200,106000,106800,107600,108400,109200,110000,110800,111600]
[199,"Лошкарев Виктор Ильич",{"$f":"VLOOKUP(A9,справочник!$A$2:$C$322,3,0)","v":208},{"$f":"IFERROR(VLOOKUP(B9,справочник!$AF$2:$AF$15,1,0),\"\")","v":""},null,"Борисов Олег Александрович",86800,87600,88400,89200,90000,90800,91600,92400,93200,94000,94800,95600]
[56,"Кушваха Виджай Шанкар",{"$f":"VLOOKUP(A10,справочник!$A$2:$C$322,3,0)","v":58},{"$f":"IFERROR(VLOOKUP(B10,справочник!$AF$2:$AF$15,1,0),\"\")","v":""},null,"Темникова Елена Станиславна",53800,54600,55400,56200,57000,57800,58600,59400,60200,61000,61800,62600]
[26,"Олейников Дмитрий Александрович",{"$f":"VLOOKUP(A11,справочник!$A$2:$C$322,3,0)","v":26},{"$f":"IFERROR(VLOOKUP(B11,справочник!$AF$2:$AF$15,1,0),\"\")","v":""},null,"Жохова Елена Сергеевна",52800,53600,54400,55200,56000,56800,57600,58400,59200,60000,60800,61600]
[173,"Колесников Никита Олегович(у Кряжковой Виктория Сергеевна",{"$f":"VLOOKUP(A12,справочник!$A$2:$C$322,3,0)","v":181},{"$f":"IFERROR(VLOOKUP(B12,справочник!$AF$2:$AF$15,1,0),\"\")","v":""},null,"Спиридонов Андрей Владимирович",51800,52600,53400,54200,55000,55800,56600,57400,58200,59000,59800,60600]
[278,"Севастьянов Михаил Григорьевич",{"$f":"VLOOKUP(A13,справочник!$A$2:$C$322,3,0)","v":290},{"$f":"IFERROR(VLOOKUP(B13,справочник!$AF$2:$AF$15,1,0),\"\")","v":""},null,"Недосенко Олег Анатольевич",48800,49600,50400,51200,52000,52800,53600,54400,55200,56000,56800,57600]
[149,"Кириллов Вадим Александрович",{"$f":"VLOOKUP(A14,справочник!$A$2:$C$322,3,0)","v":157},{"$f":"IFERROR(VLOOKUP(B14,справочник!$AF$2:$AF$15,1,0),\"\")","v":""},null,"Анциферов Алексей Сергеевич",49800,50600,50400,51200,51000,51800,52600,53400,54200,55000,55800,56600]
[30,"Кириллов Дмитрий Александрович",{"$f":"VLOOKUP(A15,справочник!$A$2:$C$322,3,0)","v":30},{"$f":"IFERROR(VLOOKUP(B15,справочник!$AF$2:$AF$15,1,0),\"\")","v":""},null,"Жохова Елена Сергеевна",47800,48600,49400,50200,51000,51800,52600,53400,54200,55000,55800,56600]
[223,"Борисов Олег Александрович",{"$f":"VLOOKUP(A16,справочник!$A$2:$C$322,3,0)","v":232},{"$f":"IFERROR(VLOOKUP(B16,справочник!$AF$2:$AF$15,1,0),\"\")","v":"Борисов Олег Александрович"},null,"Карпова Елена Витальевна",46800,47600,48400,49200,50000,50800,51600,52400,53200,54000,54800,55600]
[296,"Бекмансурова Динара Василевна",{"$f":"VLOOKUP(A17,справочник!$A$2:$C$322,3,0)","v":311},{"$f":"IFERROR(VLOOKUP(B17,справочник!$AF$2:$AF$15,1,0),\"\")","v":""},null,"Измайлов Михаил Михайлович",44800,45600,46400,47200,48000,48800,49600,50400,51200,52000,52800,53600]
[67,"Сбитнева Юлия Сергеевна",{"$f":"VLOOKUP(A18,справочник!$A$2:$C$322,3,0)","v":69},{"$f":"IFERROR(VLOOKUP(B18,справочник!$AF$2:$AF$15,1,0),\"\")","v":""},null,"Нелюбов Сергей Владимирович",44800,45600,46400,47200,48000,48800,49600,50400,51200,52000,52800,53600]
[238,"Самоволькина Ирина Владимировна",{"$f":"VLOOKUP(A19,справочник!$A$2:$C$322,3,0)","v":249},{"$f":"IFERROR(VLOOKUP(B19,справочник!$AF$2:$AF$15,1,0),\"\")","v":""},null,"Ермошин Владимир Владимирович",43800,44600,45400,46200,47000,47800,48600,49400,50200,51000,51800,52600]
[69,"Колташ Анна Владимировна",{"$f":"VLOOKUP(A20,справочник!$A$2:$C$322,3,0)","v":76},{"$f":"IFERROR(VLOOKUP(B20,справочник!$AF$2:$AF$15,1,0),\"\")","v":""},null,"Нелюбов Сергей Владимирович",39800,40600,41400,42200,43000,43800,44600,45400,46200,47000,47800,48600]
[7,"Артемьев Сергей Иванович",{"$f":"VLOOKUP(A21,справочник!$A$2:$C$322,3,0)","v":14},{"$f":"IFERROR(VLOOKUP(B21,справочник!$AF$2:$AF$15,1,0),\"\")","v":""},null,"Жохова Елена Сергеевна",39800,40600,41400,42200,43000,43800,44600,45400,46200,47000,47800,48600]
[172,"Ступнев Евгений  Романович",{"$f":"VLOOKUP(A22,справочник!$A$2:$C$322,3,0)","v":180},{"$f":"IFERROR(VLOOKUP(B22,справочник!$AF$2:$AF$15,1,0),\"\")","v":""},null,"Анциферов Алексей Сергеевич",38800,39600,40400,41200,42000,42800,43600,44400,45200,46000,46800,47600]
[114,"Беспаленко Зинаида Александровна",{"$f":"VLOOKUP(A23,справочник!$A$2:$C$322,3,0)","v":119},{"$f":"IFERROR(VLOOKUP(B23,справочник!$AF$2:$AF$15,1,0),\"\")","v":""},null,"Марин Андрей Вячеславович",35800,36600,37400,38200,39000,39800,40600,41400,42200,43000,43800,44600]
[106,"Карпекина Лилия Рафаэльевна",{"$f":"VLOOKUP(A24,справочник!$A$2:$C$322,3,0)","v":111},{"$f":"IFERROR(VLOOKUP(B24,справочник!$AF$2:$AF$15,1,0),\"\")","v":""},null,"Марин Андрей Вячеславович",35800,36600,37400,38200,39000,39800,40600,41400,42200,43000,43800,44600]
[139,"Левина Елена Александровна (Дмитрий)",{"$f":"VLOOKUP(A25,справочник!$A$2:$C$322,3,0)","v":149},{"$f":"IFERROR(VLOOKUP(B25,справочник!$AF$2:$AF$15,1,0),\"\")","v":""},null,"Сидельников Михаил Васильевич",39800,40600,41400,42200,38200,39000,39800,40600,41400,42200,43000,43800]
[197,"Иванова Татьяна Викторовна",{"$f":"VLOOKUP(A26,справочник!$A$2:$C$322,3,0)","v":205},{"$f":"IFERROR(VLOOKUP(B26,справочник!$AF$2:$AF$15,1,0),\"\")","v":""},null,"Борисов Олег Александрович",34800,35600,36400,37200,38000,38800,39600,40400,41200,42000,42800,43600]
[188,"Бондаренко Владимир Иванович",{"$f":"VLOOKUP(A27,справочник!$A$2:$C$322,3,0)","v":197},{"$f":"IFERROR(VLOOKUP(B27,справочник!$AF$2:$AF$15,1,0),\"\")","v":""},null,"Спиридонов Андрей Владимирович",34800,35600,36400,37200,38000,38800,39600,40400,41200,42000,42800,43600]
[183,"Спиридонов Андрей Владимирович",{"$f":"VLOOKUP(A28,справочник!$A$2:$C$322,3,0)","v":192},{"$f":"IFERROR(VLOOKUP(B28,справочник!$AF$2:$AF$15,1,0),\"\")","v":"Спиридонов Андрей Владимирович"},null,"Спиридонов Андрей Владимирович",34800,35600,36400,37200,38000,38800,39600,40400,41200,42000,42800,43600]
[77,"Самородов",{"$f":"VLOOKUP(A29,справочник!$A$2:$C$322,3,0)","v":83},{"$f":"IFERROR(VLOOKUP(B29,справочник!$AF$2:$AF$15,1,0),\"\")","v":""},null,"Абу Махади Мохаммед Ибрагим",33800,34600,35400,36200,37000,37800,38600,39400,40200,41000,41800,42600]
[299,"Садовников Алексей Владимирович(Рошка Александр Николаевич)",{"$f":"VLOOKUP(A30,справочник!$A$2:$C$322,3,0)","v":314},{"$f":"IFERROR(VLOOKUP(B30,справочник!$AF$2:$AF$15,1,0),\"\")","v":""},null,"Измайлов Михаил Михайлович",32800,33600,34400,35200,36000,36800,37600,38400,39200,40000,40800,41600]
[306,"Шептухина Александра Борисовна",{"$f":"VLOOKUP(A31,справочник!$A$2:$C$322,3,0)","v":321},{"$f":"IFERROR(VLOOKUP(B31,справочник!$AF$2:$AF$15,1,0),\"\")","v":""},null,"Измайлов Михаил Михайлович",31800,32600,33400,34200,35000,35800,36600,37400,38200,39000,39800,40600]
[91,"Степанова Марина Николаевна (Артем)",{"$f":"VLOOKUP(A32,справочник!$A$2:$C$322,3,0)","v":96},{"$f":"IFERROR(VLOOKUP(B32,справочник!$AF$2:$AF$15,1,0),\"\")","v":""},null,"Абу Махади Мохаммед Ибрагим",31800,32600,33400,34200,35000,35800,36600,37400,38200,39000,39800,40600]
[150,"Лайпанов Рустам Сеитбиевич",{"$f":"VLOOKUP(A33,справочник!$A$2:$C$322,3,0)","v":158},{"$f":"IFERROR(VLOOKUP(B33,справочник!$AF$2:$AF$15,1,0),\"\")","v":""},null,"Анциферов Алексей Сергеевич",30800,31600,32400,33200,34000,34800,35600,36400,37200,38000,38800,39600]
[135,"Финогин Сергей Александрович",142,{"$f":"IFERROR(VLOOKUP(B34,справочник!$AF$2:$AF$15,1,0),\"\")","v":""},null,"Сидельников Михаил Васильевич",59800,60600,53400,54200,55000,34800,35600,36400,37200,38000,38800,39600]
[78,"Шелухина Мария Сергеевна",{"$f":"VLOOKUP(A35,справочник!$A$2:$C$322,3,0)","v":83},{"$f":"IFERROR(VLOOKUP(B35,справочник!$AF$2:$AF$15,1,0),\"\")","v":""},null,"Абу Махади Мохаммед Ибрагим",30800,31600,32400,33200,34000,34800,35600,36400,37200,38000,38800,39600]
[113,"Хрупало Николай Алексеевич (118+120)",{"$f":"VLOOKUP(A36,справочник!$A$2:$C$322,3,0)","v":"116+118+120"},{"$f":"IFERROR(VLOOKUP(B36,справочник!$AF$2:$AF$15,1,0),\"\")","v":""},null,"Марин Андрей Вячеславович",41000,41000,41000,38000,38000,35000,35000,35000,35000,35000,35000,35000]
[242,"Моисеев Андрей Валентинович",{"$f":"VLOOKUP(A37,справочник!$A$2:$C$322,3,0)","v":253},{"$f":"IFERROR(VLOOKUP(B37,справочник!$AF$2:$AF$15,1,0),\"\")","v":""},null,"Ермошин Владимир Владимирович",29800,30600,31400,32200,33000,33800,34600,35400,36200,37000,37800,38600]
[99,"Трыкин Евгений Викторович",{"$f":"VLOOKUP(A38,справочник!$A$2:$C$322,3,0)","v":104},{"$f":"IFERROR(VLOOKUP(B38,справочник!$AF$2:$AF$15,1,0),\"\")","v":""},null,"Марин Андрей Вячеславович",29800,30600,31400,32200,33000,33800,34600,35400,36200,37000,37800,38600]
[48,"Сломов Константин Витальевич",{"$f":"VLOOKUP(A39,справочник!$A$2:$C$322,3,0)","v":48},{"$f":"IFERROR(VLOOKUP(B39,справочник!$AF$2:$AF$15,1,0),\"\")","v":""},null,"Темникова Елена Станиславна",29800,30600,31400,32200,33000,33800,34600,35400,36200,37000,37800,38600]
[288,"Ли Наталья Сергеевна",{"$f":"VLOOKUP(A40,справочник!$A$2:$C$322,3,0)","v":300},{"$f":"IFERROR(VLOOKUP(B40,справочник!$AF$2:$AF$15,1,0),\"\")","v":""},null,"Недосенко Олег Анатольевич",28800,29600,30400,31200,32000,32800,33600,34400,35200,36000,36800,37600]
[148,"Горячев Дмитрий Николаевич",{"$f":"VLOOKUP(A41,справочник!$A$2:$C$322,3,0)","v":156},{"$f":"IFERROR(VLOOKUP(B41,справочник!$AF$2:$AF$15,1,0),\"\")","v":""},null,"Анциферов Алексей Сергеевич",33800,32800,31800,30800,31600,32400,33200,34000,34800,35600,36400,37200]
[63,"Захаров Михаил Сергеевич",{"$f":"VLOOKUP(A42,справочник!$A$2:$C$322,3,0)","v":65},{"$f":"IFERROR(VLOOKUP(B42,справочник!$AF$2:$AF$15,1,0),\"\")","v":""},null,"Нелюбов Сергей Владимирович",28800,29600,30400,31200,32000,32000,32800,33600,34400,35200,36000,36800]
[257,"Месхидзе Оксана Валерьевна",{"$f":"VLOOKUP(A43,справочник!$A$2:$C$322,3,0)","v":270},{"$f":"IFERROR(VLOOKUP(B43,справочник!$AF$2:$AF$15,1,0),\"\")","v":""},null,"Лапшин Сергей Николаевич",26800,27600,28400,29200,30000,30800,31600,32400,33200,34000,34800,35600]
[12,"Захаренкова Светлана Евгеньевна",{"$f":"VLOOKUP(A44,справочник!$A$2:$C$322,3,0)","v":12},{"$f":"IFERROR(VLOOKUP(B44,справочник!$AF$2:$AF$15,1,0),\"\")","v":""},null,"Жохова Елена Сергеевна",26800,27600,28400,29200,30000,30800,31600,32400,33200,34000,34800,35600]
[261,"Леськов Олег Петрович",{"$f":"VLOOKUP(A45,справочник!$A$2:$C$322,3,0)","v":275},{"$f":"IFERROR(VLOOKUP(B45,справочник!$AF$2:$AF$15,1,0),\"\")","v":""},null,"Лапшин Сергей Николаевич",28400,29200,30000,28400,29200,30000,30800,31600,32400,33200,34000,34800]
[164,"Лунёв Денис Александрович",{"$f":"VLOOKUP(A46,справочник!$A$2:$C$322,3,0)","v":172},{"$f":"IFERROR(VLOOKUP(B46,справочник!$AF$2:$AF$15,1,0),\"\")","v":""},null,"Анциферов Алексей Сергеевич",25800,26600,27400,28200,29000,29800,30600,31400,32200,33000,33800,34600]
[303,"Бурдух Юрие",{"$f":"VLOOKUP(A47,справочник!$A$2:$C$322,3,0)","v":319},{"$f":"IFERROR(VLOOKUP(B47,справочник!$AF$2:$AF$15,1,0),\"\")","v":""},null,"Измайлов Михаил Михайлович",24800,25600,26400,27200,28000,28800,29600,30400,31200,32000,32800,33600]
[249,"Байбикова Рузалия Равилевна / Байбикова Руфия Равилевна",{"$f":"VLOOKUP(A48,справочник!$A$2:$C$322,3,0)","v":260},{"$f":"IFERROR(VLOOKUP(B48,справочник!$AF$2:$AF$15,1,0),\"\")","v":""},null,"Ермошин Владимир Владимирович",24800,25600,26400,27200,28000,28800,29600,30400,31200,32000,32800,33600]
[232,"Амплеева Мария Александровна",{"$f":"VLOOKUP(A49,справочник!$A$2:$C$322,3,0)","v":241},{"$f":"IFERROR(VLOOKUP(B49,справочник!$AF$2:$AF$15,1,0),\"\")","v":""},null,"Ермошин Владимир Владимирович",24800,25600,26400,27200,28000,28800,29600,30400,31200,32000,32800,33600]
[202,"Корчинская Ирина Анатольевна",{"$f":"VLOOKUP(A50,справочник!$A$2:$C$322,3,0)","v":212},{"$f":"IFERROR(VLOOKUP(B50,справочник!$AF$2:$AF$15,1,0),\"\")","v":""},null,"Борисов Олег Александрович",24800,25600,26400,27200,28000,28800,29600,30400,31200,32000,32800,33600]
[151,"Бирюков Александр Сергеевич",{"$f":"VLOOKUP(A51,справочник!$A$2:$C$322,3,0)","v":159},{"$f":"IFERROR(VLOOKUP(B51,справочник!$AF$2:$AF$15,1,0),\"\")","v":""},null,"Анциферов Алексей Сергеевич",24800,25600,26400,27200,28000,28800,29600,30400,31200,32000,32800,33600]
[229,"Безменова Татьяна Игоревна",{"$f":"VLOOKUP(A52,справочник!$A$2:$C$322,3,0)","v":238},{"$f":"IFERROR(VLOOKUP(B52,справочник!$AF$2:$AF$15,1,0),\"\")","v":""},null,"Карпова Елена Витальевна",23800,24600,25400,26200,27000,27800,28600,29400,30200,31000,31800,32600]
[157,"Кудрявцева Наталья Викторовна",{"$f":"VLOOKUP(A53,справочник!$A$2:$C$322,3,0)","v":165},{"$f":"IFERROR(VLOOKUP(B53,справочник!$AF$2:$AF$15,1,0),\"\")","v":""},null,"Анциферов Алексей Сергеевич",23800,24600,25400,26200,27000,27800,28600,29400,30200,31000,31800,32600]
[47,"Новикова Светлана Владимировна (Анатолий)",{"$f":"VLOOKUP(A54,справочник!$A$2:$C$322,3,0)","v":47},{"$f":"IFERROR(VLOOKUP(B54,справочник!$AF$2:$AF$15,1,0),\"\")","v":""},null,"Темникова Елена Станиславна",23800,24600,25400,26200,27000,27800,28600,29400,30200,31000,31800,32600]
[309,"Янковская Яна Валерьевна",{"$f":"VLOOKUP(A55,справочник!$A$2:$C$322,3,0)","v":324},{"$f":"IFERROR(VLOOKUP(B55,справочник!$AF$2:$AF$15,1,0),\"\")","v":""},null,"Измайлов Михаил Михайлович",22800,23600,24400,25200,26000,26800,27600,28400,29200,30000,30800,31600]
[187,"Мирошниченко Екатерина Олеговна",{"$f":"VLOOKUP(A56,справочник!$A$2:$C$322,3,0)","v":195},{"$f":"IFERROR(VLOOKUP(B56,справочник!$AF$2:$AF$15,1,0),\"\")","v":""},null,"Спиридонов Андрей Владимирович",27800,28600,29400,25200,26000,26800,27600,28400,29200,30000,30800,31600]
[158,"Лебедева Елена Александровна",{"$f":"VLOOKUP(A57,справочник!$A$2:$C$322,3,0)","v":166},{"$f":"IFERROR(VLOOKUP(B57,справочник!$AF$2:$AF$15,1,0),\"\")","v":""},null,"Анциферов Алексей Сергеевич",22800,23600,24400,25200,26000,26800,27600,28400,29200,30000,30800,31600]
[228,"Виртилецкий Денис Вячеславович",{"$f":"VLOOKUP(A58,справочник!$A$2:$C$322,3,0)","v":237},{"$f":"IFERROR(VLOOKUP(B58,справочник!$AF$2:$AF$15,1,0),\"\")","v":""},null,"Карпова Елена Витальевна",21800,22600,23400,24200,25000,25800,26600,27400,28200,29000,29800,30600]
[160,"Пономарева Олеся Сергеевна",{"$f":"VLOOKUP(A59,справочник!$A$2:$C$322,3,0)","v":168},{"$f":"IFERROR(VLOOKUP(B59,справочник!$AF$2:$AF$15,1,0),\"\")","v":""},null,"Анциферов Алексей Сергеевич",21800,22600,23400,24200,25000,25800,26600,27400,28200,29000,29800,30600]
[89,"Олег (Гусев Николай Михайлович — был)",{"$f":"VLOOKUP(A60,справочник!$A$2:$C$322,3,0)","v":94},{"$f":"IFERROR(VLOOKUP(B60,справочник!$AF$2:$AF$15,1,0),\"\")","v":""},null,"Абу Махади Мохаммед Ибрагим",21800,22600,23400,24200,25000,25800,26600,27400,28200,29000,29800,30600]
[61,"Высоких Антон Маркович",{"$f":"VLOOKUP(A61,справочник!$A$2:$C$322,3,0)","v":63},{"$f":"IFERROR(VLOOKUP(B61,справочник!$AF$2:$AF$15,1,0),\"\")","v":""},null,"Нелюбов Сергей Владимирович",21800,22600,23400,24200,25000,25800,26600,27400,28200,29000,29800,30600]
[43,"Васильцова Елена Владимировна",{"$f":"VLOOKUP(A62,справочник!$A$2:$C$322,3,0)","v":43},{"$f":"IFERROR(VLOOKUP(B62,справочник!$AF$2:$AF$15,1,0),\"\")","v":""},null,"Темникова Елена Станиславна",23800,24600,25400,26200,27000,25800,26600,27400,28200,29000,29800,30600]
[3,"Лебедев Андрей Анатольевич",{"$f":"VLOOKUP(A63,справочник!$A$2:$C$322,3,0)","v":3},{"$f":"IFERROR(VLOOKUP(B63,справочник!$AF$2:$AF$15,1,0),\"\")","v":""},null,"Жохова Елена Сергеевна",21800,22600,23400,24200,25000,25800,26600,27400,28200,29000,29800,30600]
[310,"Сидельникова Ольга Петровна",{"$f":"VLOOKUP(A64,справочник!$A$2:$C$322,3,0)","v":"133-134"},{"$f":"IFERROR(VLOOKUP(B64,справочник!$AF$2:$AF$15,1,0),\"\")","v":""},null,{"$f":"{#н/д}","v":{"$error":"#N/A"}},35800,36600,32400,28250,24050,24850,25650,26450,27250,28050,28850,29650]
[265,"Козловский Алексей Гаврилович",{"$f":"VLOOKUP(A65,справочник!$A$2:$C$322,3,0)","v":278},{"$f":"IFERROR(VLOOKUP(B65,справочник!$AF$2:$AF$15,1,0),\"\")","v":""},null,"Лапшин Сергей Николаевич",23800,24600,22400,23200,24000,24800,25600,26400,27200,28000,28800,29600]
[251,"Пузанова Екатерина Вячеславовна",{"$f":"VLOOKUP(A66,справочник!$A$2:$C$322,3,0)","v":262},{"$f":"IFERROR(VLOOKUP(B66,справочник!$AF$2:$AF$15,1,0),\"\")","v":""},null,"Лапшин Сергей Николаевич",20800,21600,22400,23200,24000,24800,25600,26400,27200,28000,28800,29600]
[239,"Салопаева Татьяна Сергеевна",{"$f":"VLOOKUP(A67,справочник!$A$2:$C$322,3,0)","v":250},{"$f":"IFERROR(VLOOKUP(B67,справочник!$AF$2:$AF$15,1,0),\"\")","v":""},null,"Ермошин Владимир Владимирович",20800,21600,22400,23200,24000,24800,25600,26400,27200,28000,28800,29600]
[226,"Данильянц Юрий Константинович",{"$f":"VLOOKUP(A68,справочник!$A$2:$C$322,3,0)","v":235},{"$f":"IFERROR(VLOOKUP(B68,справочник!$AF$2:$AF$15,1,0),\"\")","v":""},null,"Карпова Елена Витальевна",20800,21600,22400,23200,24000,24800,25600,26400,27200,28000,28800,29600]
[224,"Рудая Наталья Викторовна",{"$f":"VLOOKUP(A69,справочник!$A$2:$C$322,3,0)","v":233},{"$f":"IFERROR(VLOOKUP(B69,справочник!$AF$2:$AF$15,1,0),\"\")","v":""},null,"Карпова Елена Витальевна",20800,21600,22400,23200,24000,24800,25600,26400,27200,28000,28800,29600]
[195,"Родичева Наталья Николаевна - Завилевская Е.И. ???",{"$f":"VLOOKUP(A70,справочник!$A$2:$C$322,3,0)","v":203},{"$f":"IFERROR(VLOOKUP(B70,справочник!$AF$2:$AF$15,1,0),\"\")","v":""},null,"Борисов Олег Александрович",24800,25600,26400,27200,28000,24800,25600,26400,27200,28000,28800,29600]
[65,"Куликова Наталья Александровна",{"$f":"VLOOKUP(A71,справочник!$A$2:$C$322,3,0)","v":67},{"$f":"IFERROR(VLOOKUP(B71,справочник!$AF$2:$AF$15,1,0),\"\")","v":""},null,"Нелюбов Сергей Владимирович",20800,21600,22400,23200,24000,24800,25600,26400,27200,28000,28800,29600]
[315,"Ратников Алексей Сергеевич",{"$f":"VLOOKUP(A72,справочник!$A$2:$C$322,3,0)","v":"265-266"},{"$f":"IFERROR(VLOOKUP(B72,справочник!$AF$2:$AF$15,1,0),\"\")","v":""},null,{"$f":"{#н/д}","v":{"$error":"#N/A"}},19800,20600,21400,22200,23000,23800,24600,25400,26200,27000,27800,28600]
[117,"Вольский Андрей Юрьевич",{"$f":"VLOOKUP(A73,справочник!$A$2:$C$322,3,0)","v":122},{"$f":"IFERROR(VLOOKUP(B73,справочник!$AF$2:$AF$15,1,0),\"\")","v":""},null,"Марин Андрей Вячеславович",19800,20600,21400,22200,23000,23800,24600,25400,26200,27000,27800,28600]
[110,"Кондрашов Роман Вячеславович",{"$f":"VLOOKUP(A74,справочник!$A$2:$C$322,3,0)","v":115},{"$f":"IFERROR(VLOOKUP(B74,справочник!$AF$2:$AF$15,1,0),\"\")","v":""},null,"Марин Андрей Вячеславович",19800,20600,21400,22200,23000,23800,24600,25400,26200,27000,27800,28600]
[109,"Антипова Жанна Михайловна",{"$f":"VLOOKUP(A75,справочник!$A$2:$C$322,3,0)","v":114},{"$f":"IFERROR(VLOOKUP(B75,справочник!$AF$2:$AF$15,1,0),\"\")","v":""},null,"Марин Андрей Вячеславович",21800,21600,21400,22200,23000,23800,24600,25400,26200,27000,27800,28600]
[98,"Бугрова Вероника Артуровна",{"$f":"VLOOKUP(A76,справочник!$A$2:$C$322,3,0)","v":103},{"$f":"IFERROR(VLOOKUP(B76,справочник!$AF$2:$AF$15,1,0),\"\")","v":""},null,"Марин Андрей Вячеславович",19800,20600,21400,22200,23000,23800,24600,25400,26200,27000,27800,28600]
[213,"Жирная Татьяна Сергеевна",{"$f":"VLOOKUP(A77,справочник!$A$2:$C$322,3,0)","v":222},{"$f":"IFERROR(VLOOKUP(B77,справочник!$AF$2:$AF$15,1,0),\"\")","v":""},null,"Карпова Елена Витальевна",19300,20100,20900,21700,22500,23300,24100,24900,25700,26500,27300,28100]
[281,"Белов Семён Иванович",{"$f":"VLOOKUP(A78,справочник!$A$2:$C$322,3,0)","v":293},{"$f":"IFERROR(VLOOKUP(B78,справочник!$AF$2:$AF$15,1,0),\"\")","v":""},null,"Недосенко Олег Анатольевич",18800,19600,20400,21200,22000,22800,23600,24400,25200,26000,26800,27600]
[269,"Коваленко Ирина Леонидовна",{"$f":"VLOOKUP(A79,справочник!$A$2:$C$322,3,0)","v":282},{"$f":"IFERROR(VLOOKUP(B79,справочник!$AF$2:$AF$15,1,0),\"\")","v":""},null,"Недосенко Олег Анатольевич",18800,19600,20400,21200,22000,22800,23600,24400,25200,26000,26800,27600]
[93,"Тимофеева Татьяна Александровна (Денис)",{"$f":"VLOOKUP(A80,справочник!$A$2:$C$322,3,0)","v":98},{"$f":"IFERROR(VLOOKUP(B80,справочник!$AF$2:$AF$15,1,0),\"\")","v":""},null,"Абу Махади Мохаммед Ибрагим",18800,19600,20400,21200,22000,22800,23600,24400,25200,26000,26800,27600]
[220,"Ларионова Наталья Владимировна",{"$f":"VLOOKUP(A81,справочник!$A$2:$C$322,3,0)","v":229},{"$f":"IFERROR(VLOOKUP(B81,справочник!$AF$2:$AF$15,1,0),\"\")","v":""},null,"Карпова Елена Витальевна",17800,18600,19400,20200,21000,21800,22600,23400,24200,25000,25800,26600]
[192,"Косенков Степан Фед-ч(Галактионова)",{"$f":"VLOOKUP(A82,справочник!$A$2:$C$322,3,0)","v":200},{"$f":"IFERROR(VLOOKUP(B82,справочник!$AF$2:$AF$15,1,0),\"\")","v":""},null,"Спиридонов Андрей Владимирович",17800,18600,19400,20200,21000,21800,22600,23400,24200,25000,25800,26600]
[119,"Афян Сасун Аркадиевич",{"$f":"VLOOKUP(A83,справочник!$A$2:$C$322,3,0)","v":124},{"$f":"IFERROR(VLOOKUP(B83,справочник!$AF$2:$AF$15,1,0),\"\")","v":""},null,"Марин Андрей Вячеславович",20800,21600,19400,20200,21000,21800,22600,23400,24200,25000,25800,26600]
[20,"Харинкина Танзиля Гарафутдиновна",{"$f":"VLOOKUP(A84,справочник!$A$2:$C$322,3,0)","v":20},{"$f":"IFERROR(VLOOKUP(B84,справочник!$AF$2:$AF$15,1,0),\"\")","v":""},null,"Жохова Елена Сергеевна",17800,18600,19400,20200,21000,21800,22600,23400,24200,25000,25800,26600]
[316,"Алексеев Андрей Олегович",{"$f":"VLOOKUP(A85,справочник!$A$2:$C$322,3,0)","v":"306-307"},{"$f":"IFERROR(VLOOKUP(B85,справочник!$AF$2:$AF$15,1,0),\"\")","v":""},null,{"$f":"{#н/д}","v":{"$error":"#N/A"}},17000,17800,18600,19400,20200,21000,21800,22600,23400,24200,25000,25800]
[105,"Брылёв Андрей Вячеславович",{"$f":"VLOOKUP(A86,справочник!$A$2:$C$322,3,0)","v":110},{"$f":"IFERROR(VLOOKUP(B86,справочник!$AF$2:$AF$15,1,0),\"\")","v":""},null,"Марин Андрей Вячеславович",17800,18600,19400,20200,21000,21000,21800,22600,23400,24200,25000,25800]
[225,"Крупник Андрей Валерьевич",{"$f":"VLOOKUP(A87,справочник!$A$2:$C$322,3,0)","v":234},{"$f":"IFERROR(VLOOKUP(B87,справочник!$AF$2:$AF$15,1,0),\"\")","v":""},null,"Карпова Елена Витальевна",16800,17600,18400,19200,20000,20800,21600,22400,23200,24000,24800,25600]
[35,"Абушаев Роман Шамильевич",{"$f":"VLOOKUP(A88,справочник!$A$2:$C$322,3,0)","v":35},{"$f":"IFERROR(VLOOKUP(B88,справочник!$AF$2:$AF$15,1,0),\"\")","v":""},null,"Темникова Елена Станиславна",16800,17600,18400,19200,20000,20800,21600,22400,23200,24000,24800,25600]
[13,"Малов Алексей Викторович",{"$f":"VLOOKUP(A89,справочник!$A$2:$C$322,3,0)","v":13},{"$f":"IFERROR(VLOOKUP(B89,справочник!$AF$2:$AF$15,1,0),\"\")","v":""},null,"Жохова Елена Сергеевна",16800,17600,18400,19200,20000,20800,21600,22400,23200,24000,24800,25600]
[190,"Коновальцев Олег Серафимович",{"$f":"VLOOKUP(A90,справочник!$A$2:$C$322,3,0)","v":198},{"$f":"IFERROR(VLOOKUP(B90,справочник!$AF$2:$AF$15,1,0),\"\")","v":""},null,"Спиридонов Андрей Владимирович",16800,17600,18400,19200,20000,20000,20800,21600,22400,23200,24000,24800]
[209,"Мельников Михаил Вячеславович / Диденко",{"$f":"VLOOKUP(A91,справочник!$A$2:$C$322,3,0)","v":219},{"$f":"IFERROR(VLOOKUP(B91,справочник!$AF$2:$AF$15,1,0),\"\")","v":""},null,"Борисов Олег Александрович",20800,21600,22400,23200,22000,19800,20600,21400,22200,23000,23800,24600]
[147,"Пахарева Ольга Александровна (Дмитрий)",{"$f":"VLOOKUP(A92,справочник!$A$2:$C$322,3,0)","v":155},{"$f":"IFERROR(VLOOKUP(B92,справочник!$AF$2:$AF$15,1,0),\"\")","v":""},null,"Сидельников Михаил Васильевич",15800,16600,17400,18200,19000,19800,20600,21400,22200,23000,23800,24600]
[113,"Хрупало Николай Алексеевич",{"$f":"VLOOKUP(A93,справочник!$A$2:$C$322,3,0)","v":"116+118+120"},{"$f":"IFERROR(VLOOKUP(B93,справочник!$AF$2:$AF$15,1,0),\"\")","v":""},null,"Марин Андрей Вячеславович",15800,16600,17400,18200,19000,19800,20600,21400,22200,23000,23800,24600]
[46,"Сысоев Евгений Анатольевич",{"$f":"VLOOKUP(A94,справочник!$A$2:$C$322,3,0)","v":46},{"$f":"IFERROR(VLOOKUP(B94,справочник!$AF$2:$AF$15,1,0),\"\")","v":""},null,"Темникова Елена Станиславна",15800,16600,17400,18200,19000,19800,20600,21400,22200,23000,23800,24600]
[41,"Шустов Василий Александрович",{"$f":"VLOOKUP(A95,справочник!$A$2:$C$322,3,0)","v":41},{"$f":"IFERROR(VLOOKUP(B95,справочник!$AF$2:$AF$15,1,0),\"\")","v":""},null,"Темникова Елена Станиславна",15800,16600,17400,18200,19000,19800,20600,21400,22200,23000,23800,24600]
[40,"Яшин Евгений Иванович",{"$f":"VLOOKUP(A96,справочник!$A$2:$C$322,3,0)","v":40},{"$f":"IFERROR(VLOOKUP(B96,справочник!$AF$2:$AF$15,1,0),\"\")","v":""},null,"Темникова Елена Станиславна",15800,16600,17400,18200,19000,19800,20600,21400,22200,23000,23800,24600]
[185,"Петункин Игорь Минович",{"$f":"VLOOKUP(A97,справочник!$A$2:$C$322,3,0)","v":193},{"$f":"IFERROR(VLOOKUP(B97,справочник!$AF$2:$AF$15,1,0),\"\")","v":""},null,"Спиридонов Андрей Владимирович",14800,15600,16400,17200,18000,18800,19600,20400,21200,22000,22800,23600]
[124,"Казымов Горхмаз Гамид/Лавренчук Александр Владиславович",{"$f":"VLOOKUP(A98,справочник!$A$2:$C$322,3,0)","v":129},{"$f":"IFERROR(VLOOKUP(B98,справочник!$AF$2:$AF$15,1,0),\"\")","v":""},null,"Марин Андрей Вячеславович",14300,15100,15900,16700,17500,18300,19100,19900,20700,21500,22300,23100]
[305,"Колесов Вадим Владимирович",{"$f":"VLOOKUP(A99,справочник!$A$2:$C$322,3,0)","v":320},{"$f":"IFERROR(VLOOKUP(B99,справочник!$AF$2:$AF$15,1,0),\"\")","v":""},null,"Измайлов Михаил Михайлович",13800,14600,15400,16200,17000,17800,18600,19400,20200,21000,21800,22600]
[302,"Колышкина Александра Сергеевна",{"$f":"VLOOKUP(A100,справочник!$A$2:$C$322,3,0)","v":317},{"$f":"IFERROR(VLOOKUP(B100,справочник!$AF$2:$AF$15,1,0),\"\")","v":""},null,"Измайлов Михаил Михайлович",13800,14600,15400,16200,17000,17800,18600,19400,20200,21000,21800,22600]
[178,"Афанасьева Злата Сергеевна",{"$f":"VLOOKUP(A101,справочник!$A$2:$C$322,3,0)","v":186},{"$f":"IFERROR(VLOOKUP(B101,справочник!$AF$2:$AF$15,1,0),\"\")","v":""},null,"Спиридонов Андрей Владимирович",13800,14600,15400,16200,17000,17800,18600,19400,20200,21000,21800,22600]
[132,"Евглевская Ольга Борисовна",{"$f":"VLOOKUP(A102,справочник!$A$2:$C$322,3,0)","v":139},{"$f":"IFERROR(VLOOKUP(B102,справочник!$AF$2:$AF$15,1,0),\"\")","v":""},null,"Сидельников Михаил Васильевич",13800,14600,15400,16200,17000,17800,18600,19400,20200,21000,21800,22600]
[123,"Кондратьева Юлия Викторовна",{"$f":"VLOOKUP(A103,справочник!$A$2:$C$322,3,0)","v":128},{"$f":"IFERROR(VLOOKUP(B103,справочник!$AF$2:$AF$15,1,0),\"\")","v":""},null,"Марин Андрей Вячеславович",13800,14600,15400,16200,17000,17800,18600,19400,20200,21000,21800,22600]
[96,"Маслова Валентина Петровна",{"$f":"VLOOKUP(A104,справочник!$A$2:$C$322,3,0)","v":102},{"$f":"IFERROR(VLOOKUP(B104,справочник!$AF$2:$AF$15,1,0),\"\")","v":""},null,"Марин Андрей Вячеславович",17788,18588,19388,18188,18988,17788,18588,19388,20188,20988,21788,22588]
[9,"Марковнина Светлана Викторовна",{"$f":"VLOOKUP(A105,справочник!$A$2:$C$322,3,0)","v":9},{"$f":"IFERROR(VLOOKUP(B105,справочник!$AF$2:$AF$15,1,0),\"\")","v":""},null,"Жохова Елена Сергеевна",23800,24600,25400,26200,18000,17200,18000,18800,19600,20400,21200,22000]
[301,"Десюкова Марина Александровна",{"$f":"VLOOKUP(A106,справочник!$A$2:$C$322,3,0)","v":316},{"$f":"IFERROR(VLOOKUP(B106,справочник!$AF$2:$AF$15,1,0),\"\")","v":""},null,"Измайлов Михаил Михайлович",12800,13600,14400,15200,16000,16800,17600,18400,19200,20000,20800,21600]
[297,"Саргсян Оганнес Ншанович",{"$f":"VLOOKUP(A107,справочник!$A$2:$C$322,3,0)","v":312},{"$f":"IFERROR(VLOOKUP(B107,справочник!$AF$2:$AF$15,1,0),\"\")","v":""},null,"Измайлов Михаил Михайлович",12800,13600,14400,15200,16000,16800,17600,18400,19200,20000,20800,21600]
[295,"Измайлов Михаил Михайлович",{"$f":"VLOOKUP(A108,справочник!$A$2:$C$322,3,0)","v":310},{"$f":"IFERROR(VLOOKUP(B108,справочник!$AF$2:$AF$15,1,0),\"\")","v":"Измайлов Михаил Михайлович"},null,"Измайлов Михаил Михайлович",12800,13600,14400,15200,16000,16800,17600,18400,19200,20000,20800,21600]
[293,"Ахромеев Андрей Владимирович",{"$f":"VLOOKUP(A109,справочник!$A$2:$C$322,3,0)","v":308},{"$f":"IFERROR(VLOOKUP(B109,справочник!$AF$2:$AF$15,1,0),\"\")","v":""},null,"Измайлов Михаил Михайлович",12800,13600,14400,15200,16000,16800,17600,18400,19200,20000,20800,21600]
[205,"Сидоров Александр Юрьевич",{"$f":"VLOOKUP(A110,справочник!$A$2:$C$322,3,0)","v":215},{"$f":"IFERROR(VLOOKUP(B110,справочник!$AF$2:$AF$15,1,0),\"\")","v":""},null,"Борисов Олег Александрович",12800,13600,14400,15200,16000,16800,17600,18400,19200,20000,20800,21600]
[167,"Трубченко Петр Александрович",{"$f":"VLOOKUP(A111,справочник!$A$2:$C$322,3,0)","v":175},{"$f":"IFERROR(VLOOKUP(B111,справочник!$AF$2:$AF$15,1,0),\"\")","v":""},null,"Анциферов Алексей Сергеевич",12800,13600,14400,15200,16000,16800,17600,18400,19200,20000,20800,21600]
[166,"Ловыгина Татьяна Александровна",{"$f":"VLOOKUP(A112,справочник!$A$2:$C$322,3,0)","v":174},{"$f":"IFERROR(VLOOKUP(B112,справочник!$AF$2:$AF$15,1,0),\"\")","v":""},null,"Анциферов Алексей Сергеевич",12800,13600,14400,15200,16000,16800,17600,18400,19200,20000,20800,21600]
[71,"Олейникова Евгения Александровна",{"$f":"VLOOKUP(A113,справочник!$A$2:$C$322,3,0)","v":77},{"$f":"IFERROR(VLOOKUP(B113,справочник!$AF$2:$AF$15,1,0),\"\")","v":""},null,"Нелюбов Сергей Владимирович",12800,13600,14400,15200,16000,16800,17600,18400,19200,20000,20800,21600]
[39,"Гордейчик Игорь Борисович",{"$f":"VLOOKUP(A114,справочник!$A$2:$C$322,3,0)","v":39},{"$f":"IFERROR(VLOOKUP(B114,справочник!$AF$2:$AF$15,1,0),\"\")","v":""},null,"Темникова Елена Станиславна",12800,13600,14400,15200,16000,16800,17600,18400,19200,20000,20800,21600]
[27,"Федорова Юлия Владимировна",{"$f":"VLOOKUP(A115,справочник!$A$2:$C$322,3,0)","v":27},{"$f":"IFERROR(VLOOKUP(B115,справочник!$AF$2:$AF$15,1,0),\"\")","v":""},null,"Жохова Елена Сергеевна",12800,13600,14400,15200,16000,16800,17600,18400,19200,20000,20800,21600]
[11,"Бенгя Владимир Михайлович (Диана)",{"$f":"VLOOKUP(A116,справочник!$A$2:$C$322,3,0)","v":11},{"$f":"IFERROR(VLOOKUP(B116,справочник!$AF$2:$AF$15,1,0),\"\")","v":""},null,"Жохова Елена Сергеевна",12800,13600,14400,15200,16000,16800,17600,18400,19200,20000,20800,21600]
[300,"Новикова Наталья Петровна",{"$f":"VLOOKUP(A117,справочник!$A$2:$C$322,3,0)","v":315},{"$f":"IFERROR(VLOOKUP(B117,справочник!$AF$2:$AF$15,1,0),\"\")","v":""},null,"Измайлов Михаил Михайлович",11800,12600,13400,14200,15000,15800,16600,17400,18200,19000,19800,20600]
[292,"Матвеев Денис Львович",{"$f":"VLOOKUP(A118,справочник!$A$2:$C$322,3,0)","v":305},{"$f":"IFERROR(VLOOKUP(B118,справочник!$AF$2:$AF$15,1,0),\"\")","v":""},null,"Измайлов Михаил Михайлович",11800,12600,13400,14200,15000,15800,16600,17400,18200,19000,19800,20600]
[266,"Кудревцев Евгений Александрович",{"$f":"VLOOKUP(A119,справочник!$A$2:$C$322,3,0)","v":279},{"$f":"IFERROR(VLOOKUP(B119,справочник!$AF$2:$AF$15,1,0),\"\")","v":""},null,"Лапшин Сергей Николаевич",11800,12600,13400,14200,15000,15800,16600,17400,18200,19000,19800,20600]
[250,"Каляникова Наталья Сергеевна",{"$f":"VLOOKUP(A120,справочник!$A$2:$C$322,3,0)","v":261},{"$f":"IFERROR(VLOOKUP(B120,справочник!$AF$2:$AF$15,1,0),\"\")","v":""},null,"Лапшин Сергей Николаевич",14800,15600,15400,15200,15000,15800,16600,17400,18200,19000,19800,20600]
[247,"Фомин Игорь Анатольевич",{"$f":"VLOOKUP(A121,справочник!$A$2:$C$322,3,0)","v":258},{"$f":"IFERROR(VLOOKUP(B121,справочник!$AF$2:$AF$15,1,0),\"\")","v":""},null,"Ермошин Владимир Владимирович",11800,12600,13400,14200,15000,15800,16600,17400,18200,19000,19800,20600]
[73,"Сысоев Семен Евгеньевич",{"$f":"VLOOKUP(A122,справочник!$A$2:$C$322,3,0)","v":79},{"$f":"IFERROR(VLOOKUP(B122,справочник!$AF$2:$AF$15,1,0),\"\")","v":""},null,"Нелюбов Сергей Владимирович",11800,12600,13400,14200,15000,15800,16600,17400,18200,19000,19800,20600]
[5,"Иванов Владимир Николаевич",{"$f":"VLOOKUP(A123,справочник!$A$2:$C$322,3,0)","v":5},{"$f":"IFERROR(VLOOKUP(B123,справочник!$AF$2:$AF$15,1,0),\"\")","v":""},null,"Жохова Елена Сергеевна",11800,12600,13400,14200,15000,15800,16600,17400,18200,19000,19800,20600]
[175,"Буланова Лилия Михайловна",{"$f":"VLOOKUP(A124,справочник!$A$2:$C$322,3,0)","v":187},{"$f":"IFERROR(VLOOKUP(B124,справочник!$AF$2:$AF$15,1,0),\"\")","v":""},null,"Спиридонов Андрей Владимирович",32800,33600,34400,35200,14400,15200,16000,16800,17600,18400,19200,20000]
[127,"Жохова Елена Сергеевна",{"$f":"VLOOKUP(A125,справочник!$A$2:$C$322,3,0)","v":132},{"$f":"IFERROR(VLOOKUP(B125,справочник!$AF$2:$AF$15,1,0),\"\")","v":"Жохова Елена Сергеевна"},null,"Сидельников Михаил Васильевич",12800,12000,12800,13600,14400,15200,16000,16800,17600,18400,19200,20000]
[270,"Маркова Тамара Ивановна",{"$f":"VLOOKUP(A126,справочник!$A$2:$C$322,3,0)","v":283},{"$f":"IFERROR(VLOOKUP(B126,справочник!$AF$2:$AF$15,1,0),\"\")","v":""},null,"Недосенко Олег Анатольевич",10800,11600,12400,13200,14000,14800,15600,16400,17200,18000,18800,19600]
[136,"Беляков Виктор Михайлович",{"$f":"VLOOKUP(A127,справочник!$A$2:$C$322,3,0)","v":144},{"$f":"IFERROR(VLOOKUP(B127,справочник!$AF$2:$AF$15,1,0),\"\")","v":""},null,"Сидельников Михаил Васильевич",10800,11600,12400,13200,14000,14800,15600,16400,17200,18000,18800,19600]
[57,"Суркова Татьяна Александровна",{"$f":"VLOOKUP(A128,справочник!$A$2:$C$322,3,0)","v":59},{"$f":"IFERROR(VLOOKUP(B128,справочник!$AF$2:$AF$15,1,0),\"\")","v":""},null,"Темникова Елена Станиславна",10800,11600,12400,13200,14000,14800,15600,16400,17200,18000,18800,19600]
[36,"Закревская Марина Владимировна",{"$f":"VLOOKUP(A129,справочник!$A$2:$C$322,3,0)","v":36},{"$f":"IFERROR(VLOOKUP(B129,справочник!$AF$2:$AF$15,1,0),\"\")","v":""},null,"Темникова Елена Станиславна",10800,11600,12400,13200,14000,14800,15600,16400,17200,18000,18800,19600]
[24,"Двойрина Юлия Владимировна",{"$f":"VLOOKUP(A130,справочник!$A$2:$C$322,3,0)","v":24},{"$f":"IFERROR(VLOOKUP(B130,справочник!$AF$2:$AF$15,1,0),\"\")","v":""},null,"Жохова Елена Сергеевна",10800,11600,12400,13200,14000,14800,15600,16400,17200,18000,18800,19600]
[6,"Осадчев Константин Владимирович",{"$f":"VLOOKUP(A131,справочник!$A$2:$C$322,3,0)","v":6},{"$f":"IFERROR(VLOOKUP(B131,справочник!$AF$2:$AF$15,1,0),\"\")","v":""},null,"Жохова Елена Сергеевна",14800,15600,16400,17200,14000,14800,15600,16400,17200,18000,18800,19600]
[100,"Солодкий Дмитрий Павлович",{"$f":"VLOOKUP(A132,справочник!$A$2:$C$322,3,0)","v":105},{"$f":"IFERROR(VLOOKUP(B132,справочник!$AF$2:$AF$15,1,0),\"\")","v":""},null,"Марин Андрей Вячеславович",10749.7,11549.7,12349.7,13149.7,13949.7,14749.7,15549.7,16349.7,17149.7,17949.7,18749.7,19549.7]
[289,"Косенкова Елизавета Евгеньевна",{"$f":"VLOOKUP(A133,справочник!$A$2:$C$322,3,0)","v":301},{"$f":"IFERROR(VLOOKUP(B133,справочник!$AF$2:$AF$15,1,0),\"\")","v":""},null,"Измайлов Михаил Михайлович",9800,10600,11400,12200,13000,13800,14600,15400,16200,17000,17800,18600]
[206,"Валеев Артур Рашидович",{"$f":"VLOOKUP(A134,справочник!$A$2:$C$322,3,0)","v":216},{"$f":"IFERROR(VLOOKUP(B134,справочник!$AF$2:$AF$15,1,0),\"\")","v":""},null,"Борисов Олег Александрович",9800,10600,11400,12200,13000,13800,14600,15400,16200,17000,17800,18600]
[163,"Кондратюк Наталья Петровна 1/2,  Соболев Олег Юрьевич 1/2",{"$f":"VLOOKUP(A135,справочник!$A$2:$C$322,3,0)","v":171},{"$f":"IFERROR(VLOOKUP(B135,справочник!$AF$2:$AF$15,1,0),\"\")","v":""},null,"Анциферов Алексей Сергеевич",9800,10600,11400,12200,13000,13800,14600,15400,16200,17000,17800,18600]
[2,"Чернявская Оксана Юрьевна",{"$f":"VLOOKUP(A136,справочник!$A$2:$C$322,3,0)","v":2},{"$f":"IFERROR(VLOOKUP(B136,справочник!$AF$2:$AF$15,1,0),\"\")","v":""},null,"Жохова Елена Сергеевна",9800,10600,11400,12200,13000,13800,14600,15400,16200,17000,17800,18600]
[143,"Красникова Раиса Михайловна",{"$f":"VLOOKUP(A137,справочник!$A$2:$C$322,3,0)","v":151},{"$f":"IFERROR(VLOOKUP(B137,справочник!$AF$2:$AF$15,1,0),\"\")","v":""},null,"Сидельников Михаил Васильевич",13800,14600,15400,16200,17000,13000,13800,14600,15400,16200,17000,17800]
[308,"Губарева Татьяна Григорьевна",{"$f":"VLOOKUP(A138,справочник!$A$2:$C$322,3,0)","v":323},{"$f":"IFERROR(VLOOKUP(B138,справочник!$AF$2:$AF$15,1,0),\"\")","v":""},null,"Измайлов Михаил Михайлович",8800,9600,10400,11200,12000,12800,13600,14400,15200,16000,16800,17600]
[218,"Молчанова Ирина Владимировна",{"$f":"VLOOKUP(A139,справочник!$A$2:$C$322,3,0)","v":227},{"$f":"IFERROR(VLOOKUP(B139,справочник!$AF$2:$AF$15,1,0),\"\")","v":""},null,"Карпова Елена Витальевна",14800,15600,15400,16200,17000,12800,13600,14400,15200,16000,16800,17600]
[210,"Сазонов Сергей Александрович - Диденко Оксана Владимировна",{"$f":"VLOOKUP(A140,справочник!$A$2:$C$322,3,0)","v":219},{"$f":"IFERROR(VLOOKUP(B140,справочник!$AF$2:$AF$15,1,0),\"\")","v":""},null,"Борисов Олег Александрович",8800,9600,10400,11200,12000,12800,13600,14400,15200,16000,16800,17600]
[112,"Кондрашов Сергей Вячеславович//Балыкин Александр Иванович",{"$f":"VLOOKUP(A141,справочник!$A$2:$C$322,3,0)","v":117},{"$f":"IFERROR(VLOOKUP(B141,справочник!$AF$2:$AF$15,1,0),\"\")","v":""},null,"Марин Андрей Вячеславович",17800,13800,14600,15400,16200,12200,13000,13800,14600,15400,16200,17000]
[118,"Лопухинова Надежда Михайловна",{"$f":"VLOOKUP(A142,справочник!$A$2:$C$322,3,0)","v":123},{"$f":"IFERROR(VLOOKUP(B142,справочник!$AF$2:$AF$15,1,0),\"\")","v":""},null,"Марин Андрей Вячеславович",7800,8600,9400,10200,11000,11800,12600,13400,14200,15000,15800,16600]
[230,"Жарикова Светлана Юрьевна",{"$f":"VLOOKUP(A143,справочник!$A$2:$C$322,3,0)","v":257},{"$f":"IFERROR(VLOOKUP(B143,справочник!$AF$2:$AF$15,1,0),\"\")","v":""},null,"Ермошин Владимир Владимирович",10800,11600,12400,13200,10500,11300,12100,12900,13700,14500,15300,16100]
[307,"Поликарпова Наталья Дмитриевна",{"$f":"VLOOKUP(A144,справочник!$A$2:$C$322,3,0)","v":322},{"$f":"IFERROR(VLOOKUP(B144,справочник!$AF$2:$AF$15,1,0),\"\")","v":""},null,"Измайлов Михаил Михайлович",14800,15600,16400,17200,10000,10800,11600,12400,13200,14000,14800,15600]
[279,"Иванова Светлана Сергеевна",{"$f":"VLOOKUP(A145,справочник!$A$2:$C$322,3,0)","v":291},{"$f":"IFERROR(VLOOKUP(B145,справочник!$AF$2:$AF$15,1,0),\"\")","v":""},null,"Недосенко Олег Анатольевич",6800,7600,8400,9200,10000,10800,11600,12400,13200,14000,14800,15600]
[252,"Тарасенко Анатолий Семенович",{"$f":"VLOOKUP(A146,справочник!$A$2:$C$322,3,0)","v":264},{"$f":"IFERROR(VLOOKUP(B146,справочник!$AF$2:$AF$15,1,0),\"\")","v":""},null,"Лапшин Сергей Николаевич",10800,10800,10000,10800,10000,10800,11600,12400,13200,14000,14800,15600]
[161,"Сергиенко Николай Михайлович",{"$f":"VLOOKUP(A147,справочник!$A$2:$C$322,3,0)","v":169},{"$f":"IFERROR(VLOOKUP(B147,справочник!$AF$2:$AF$15,1,0),\"\")","v":""},null,"Анциферов Алексей Сергеевич",6800,7600,8400,9200,10000,10800,11600,12400,13200,14000,14800,15600]
[94,"Горбунов Максим Николаевич",{"$f":"VLOOKUP(A148,справочник!$A$2:$C$322,3,0)","v":99},{"$f":"IFERROR(VLOOKUP(B148,справочник!$AF$2:$AF$15,1,0),\"\")","v":""},null,"Абу Махади Мохаммед Ибрагим",6800,7600,8400,9200,10000,10800,11600,12400,13200,14000,14800,15600]
[72,"Лещёва Ольга Владимировна",{"$f":"VLOOKUP(A149,справочник!$A$2:$C$322,3,0)","v":78},{"$f":"IFERROR(VLOOKUP(B149,справочник!$AF$2:$AF$15,1,0),\"\")","v":""},null,"Нелюбов Сергей Владимирович",6800,7600,8400,9200,10000,10800,11600,12400,13200,14000,14800,15600]
[38,"Заручинский Вячеслав Владимирович",{"$f":"VLOOKUP(A150,справочник!$A$2:$C$322,3,0)","v":255},{"$f":"IFERROR(VLOOKUP(B150,справочник!$AF$2:$AF$15,1,0),\"\")","v":""},null,"Ермошин Владимир Владимирович",7800,8600,9400,10200,11000,10200,11000,11800,12600,13400,14200,15000]
[280,"Севрюгина Ольга Викторовна",{"$f":"VLOOKUP(A151,справочник!$A$2:$C$322,3,0)","v":292},{"$f":"IFERROR(VLOOKUP(B151,справочник!$AF$2:$AF$15,1,0),\"\")","v":""},null,"Недосенко Олег Анатольевич",5800,6600,7400,8200,9000,9800,10600,11400,12200,13000,13800,14600]
[272,"Серебряков Игорь Васильевич",{"$f":"VLOOKUP(A152,справочник!$A$2:$C$322,3,0)","v":285},{"$f":"IFERROR(VLOOKUP(B152,справочник!$AF$2:$AF$15,1,0),\"\")","v":""},null,"Недосенко Олег Анатольевич",5800,6600,7400,8200,9000,9800,10600,11400,12200,13000,13800,14600]
[259,"Анисимова Елена Анатольевна",{"$f":"VLOOKUP(A153,справочник!$A$2:$C$322,3,0)","v":272},{"$f":"IFERROR(VLOOKUP(B153,справочник!$AF$2:$AF$15,1,0),\"\")","v":""},null,"Лапшин Сергей Николаевич",4800,5600,6400,7200,8000,8800,9600,10400,11200,12000,12800,13600]
[88,"Шалинов Андрей Вадимович + уч. 97",{"$f":"VLOOKUP(A154,справочник!$A$2:$C$322,3,0)","v":"97+93"},{"$f":"IFERROR(VLOOKUP(B154,справочник!$AF$2:$AF$15,1,0),\"\")","v":""},null,"Абу Махади Мохаммед Ибрагим",4800,5600,6400,7200,8000,8800,9600,10400,11200,12000,12800,13600]
[284,"Епанчинцева Людмила Филипповна",{"$f":"VLOOKUP(A155,справочник!$A$2:$C$322,3,0)","v":296},{"$f":"IFERROR(VLOOKUP(B155,справочник!$AF$2:$AF$15,1,0),\"\")","v":""},null,"Недосенко Олег Анатольевич",9800,10600,5400,6200,7000,7800,8600,9400,10200,11000,11800,12600]
[282,"Нормуротов Анваржон Абдирайимович",{"$f":"VLOOKUP(A156,справочник!$A$2:$C$322,3,0)","v":294},{"$f":"IFERROR(VLOOKUP(B156,справочник!$AF$2:$AF$15,1,0),\"\")","v":""},null,"Недосенко Олег Анатольевич",3800,4600,5400,6200,7000,7800,8600,9400,10200,11000,11800,12600]
[260,"Аксенов Дмитрий Викторович",{"$f":"VLOOKUP(A157,справочник!$A$2:$C$322,3,0)","v":273},{"$f":"IFERROR(VLOOKUP(B157,справочник!$AF$2:$AF$15,1,0),\"\")","v":""},null,"Лапшин Сергей Николаевич",8800,7600,8400,9200,9000,7800,8600,9400,10200,11000,11800,12600]
[254,"Ершова Виктория Львовна",{"$f":"VLOOKUP(A158,справочник!$A$2:$C$322,3,0)","v":267},{"$f":"IFERROR(VLOOKUP(B158,справочник!$AF$2:$AF$15,1,0),\"\")","v":""},null,"Лапшин Сергей Николаевич",3800,4600,5400,6200,7000,7800,8600,9400,10200,11000,11800,12600]
[177,"Полякова Марина Александровна",{"$f":"VLOOKUP(A159,справочник!$A$2:$C$322,3,0)","v":185},{"$f":"IFERROR(VLOOKUP(B159,справочник!$AF$2:$AF$15,1,0),\"\")","v":""},null,"Спиридонов Андрей Владимирович",3800,4600,5400,6200,7000,7800,8600,9400,10200,11000,11800,12600]
[152,"Щербаков Павел Евгеньевич",{"$f":"VLOOKUP(A160,справочник!$A$2:$C$322,3,0)","v":160},{"$f":"IFERROR(VLOOKUP(B160,справочник!$AF$2:$AF$15,1,0),\"\")","v":""},null,"Анциферов Алексей Сергеевич",3800,4600,5400,6200,7000,7800,8600,9400,10200,11000,11800,12600]
[128,"Сафронова Наталья Михайловна (у Дедков Илья Егорьевич купила)",{"$f":"VLOOKUP(A161,справочник!$A$2:$C$322,3,0)","v":135},{"$f":"IFERROR(VLOOKUP(B161,справочник!$AF$2:$AF$15,1,0),\"\")","v":""},null,"Сидельников Михаил Васильевич",3800,4600,5400,6200,7000,7800,8600,9400,10200,11000,11800,12600]
[104,"Никифоров Андрей Леонидович",{"$f":"VLOOKUP(A162,справочник!$A$2:$C$322,3,0)","v":109},{"$f":"IFERROR(VLOOKUP(B162,справочник!$AF$2:$AF$15,1,0),\"\")","v":""},null,"Марин Андрей Вячеславович",3800,4600,5400,6200,7000,7800,8600,9400,10200,11000,11800,12600]
[87,"Маркина Людмила Николаевна, Марина",{"$f":"VLOOKUP(A163,справочник!$A$2:$C$322,3,0)","v":92},{"$f":"IFERROR(VLOOKUP(B163,справочник!$AF$2:$AF$15,1,0),\"\")","v":""},null,"Абу Махади Мохаммед Ибрагим",3800,4600,5400,6200,7000,7800,8600,9400,10200,11000,11800,12600]
[208,"Катушкин Роман Юрьевич",{"$f":"VLOOKUP(A164,справочник!$A$2:$C$322,3,0)","v":218},{"$f":"IFERROR(VLOOKUP(B164,справочник!$AF$2:$AF$15,1,0),\"\")","v":""},null,"Борисов Олег Александрович",3300,4100,4900,5700,6500,7300,8100,8900,9700,10500,11300,12100]
[176,"Пикалёва Алла Григорьевна (Юрий)",{"$f":"VLOOKUP(A165,справочник!$A$2:$C$322,3,0)","v":184},{"$f":"IFERROR(VLOOKUP(B165,справочник!$AF$2:$AF$15,1,0),\"\")","v":""},null,"Спиридонов Андрей Владимирович",12800,10600,11400,12200,10000,7300,8100,8900,9700,10500,11300,12100]
[227,"Щербакова Татьяна Дмитриевна",{"$f":"VLOOKUP(A166,справочник!$A$2:$C$322,3,0)","v":236},{"$f":"IFERROR(VLOOKUP(B166,справочник!$AF$2:$AF$15,1,0),\"\")","v":""},null,"Карпова Елена Витальевна",11800,8800,4800,5600,6400,7200,8000,8800,9600,10400,11200,12000]
[66,"Заборская Светлана Анатольевна (Андрей)",{"$f":"VLOOKUP(A167,справочник!$A$2:$C$322,3,0)","v":68},{"$f":"IFERROR(VLOOKUP(B167,справочник!$AF$2:$AF$15,1,0),\"\")","v":""},null,"Нелюбов Сергей Владимирович",3020,3820,4620,5420,6220,7020,7820,8620,9420,10220,11020,11820]
[287,"Мурадова Альбина Сергеевна",{"$f":"VLOOKUP(A168,справочник!$A$2:$C$322,3,0)","v":299},{"$f":"IFERROR(VLOOKUP(B168,справочник!$AF$2:$AF$15,1,0),\"\")","v":""},null,"Недосенко Олег Анатольевич",2800,3600,4400,5200,6000,6800,7600,8400,9200,10000,10800,11600]
[221,"Анисимова (Корнеева) Татьяна Николаевна",{"$f":"VLOOKUP(A169,справочник!$A$2:$C$322,3,0)","v":230},{"$f":"IFERROR(VLOOKUP(B169,справочник!$AF$2:$AF$15,1,0),\"\")","v":""},null,"Карпова Елена Витальевна",2800,3600,4400,5200,6000,6800,7600,8400,9200,10000,10800,11600]
[125,"Безбородова Людмила Михайловна",{"$f":"VLOOKUP(A170,справочник!$A$2:$C$322,3,0)","v":130},{"$f":"IFERROR(VLOOKUP(B170,справочник!$AF$2:$AF$15,1,0),\"\")","v":""},null,"Марин Андрей Вячеславович",5800,6600,7400,8200,9000,6800,7600,8400,9200,10000,10800,11600]
[101,"Васильев Николай Владимирович",{"$f":"VLOOKUP(A171,справочник!$A$2:$C$322,3,0)","v":106},{"$f":"IFERROR(VLOOKUP(B171,справочник!$AF$2:$AF$15,1,0),\"\")","v":""},null,"Марин Андрей Вячеславович",2800,3600,4400,5200,6000,6800,7600,8400,9200,10000,10800,11600]
[44,"Дубов Александр Сергеевич",{"$f":"VLOOKUP(A172,справочник!$A$2:$C$322,3,0)","v":44},{"$f":"IFERROR(VLOOKUP(B172,справочник!$AF$2:$AF$15,1,0),\"\")","v":""},null,"Темникова Елена Станиславна",2800,3600,4400,5200,6000,6800,7600,8400,9200,10000,10800,11600]
[22,"Хан Виталий Борисович",{"$f":"VLOOKUP(A173,справочник!$A$2:$C$322,3,0)","v":22},{"$f":"IFERROR(VLOOKUP(B173,справочник!$AF$2:$AF$15,1,0),\"\")","v":""},null,"Жохова Елена Сергеевна",2800,3600,4400,5200,6000,6800,7600,8400,9200,10000,10800,11600]
[21,"Старостин Виктор Вячеславович",{"$f":"VLOOKUP(A174,справочник!$A$2:$C$322,3,0)","v":21},{"$f":"IFERROR(VLOOKUP(B174,справочник!$AF$2:$AF$15,1,0),\"\")","v":""},null,"Жохова Елена Сергеевна",2800,3600,4400,5200,6000,6800,7600,8400,9200,10000,10800,11600]
[268,"Стрелков Николай Валентинович",{"$f":"VLOOKUP(A175,справочник!$A$2:$C$322,3,0)","v":281},{"$f":"IFERROR(VLOOKUP(B175,справочник!$AF$2:$AF$15,1,0),\"\")","v":""},null,"Недосенко Олег Анатольевич",7800,8600,9400,7200,8000,5800,6600,7400,8200,9000,9800,10600]
[248,"Фомин Андрей Анатольевич",{"$f":"VLOOKUP(A176,справочник!$A$2:$C$322,3,0)","v":259},{"$f":"IFERROR(VLOOKUP(B176,справочник!$AF$2:$AF$15,1,0),\"\")","v":""},null,"Ермошин Владимир Владимирович",3500,4300,5100,5900,6700,5800,6600,7400,8200,9000,9800,10600]
[122,"Денисов Сергей Александрович",{"$f":"VLOOKUP(A177,справочник!$A$2:$C$322,3,0)","v":127},{"$f":"IFERROR(VLOOKUP(B177,справочник!$AF$2:$AF$15,1,0),\"\")","v":""},null,"Марин Андрей Вячеславович",5800,4600,5400,4200,5000,5800,6600,7400,8200,9000,9800,10600]
[201,"Пархачева Эльвира Валентиновна (Алксандр)",{"$f":"VLOOKUP(A178,справочник!$A$2:$C$322,3,0)","v":209},{"$f":"IFERROR(VLOOKUP(B178,справочник!$AF$2:$AF$15,1,0),\"\")","v":""},null,"Борисов Олег Александрович",4800,5600,6400,7200,4800,5600,6400,7200,8000,8800,9600,10400]
[64,"Горбунов Владимир Александрович",{"$f":"VLOOKUP(A179,справочник!$A$2:$C$322,3,0)","v":66},{"$f":"IFERROR(VLOOKUP(B179,справочник!$AF$2:$AF$15,1,0),\"\")","v":""},null,"Нелюбов Сергей Владимирович",4800,5600,4800,5600,6400,5600,6400,7200,8000,8800,9600,10400]
[317,"Стрелков Андрей Вячеславович",{"$f":"VLOOKUP(A180,справочник!$A$2:$C$322,3,0)","v":"51-52"},{"$f":"IFERROR(VLOOKUP(B180,справочник!$AF$2:$AF$15,1,0),\"\")","v":""},null,{"$f":"{#н/д}","v":{"$error":"#N/A"}},800,1600,2400,3200,4000,4800,5600,6400,7200,8000,8800,9600]
[314,"Решетов Владимир Геннадьевич",{"$f":"VLOOKUP(A181,справочник!$A$2:$C$322,3,0)","v":{"$error":"#N/A"}},{"$f":"IFERROR(VLOOKUP(B181,справочник!$AF$2:$AF$15,1,0),\"\")","v":""},null,{"$f":"{#н/д}","v":{"$error":"#N/A"}},800,1600,2400,3200,4000,4800,5600,6400,7200,8000,8800,9600]
[291,"Носикова Мария Леонидовна",{"$f":"VLOOKUP(A182,справочник!$A$2:$C$322,3,0)","v":304},{"$f":"IFERROR(VLOOKUP(B182,справочник!$AF$2:$AF$15,1,0),\"\")","v":""},null,"Измайлов Михаил Михайлович",800,1600,2400,3200,4000,4800,5600,6400,7200,8000,8800,9600]
[241,"Сёмин Александр Иванович",{"$f":"VLOOKUP(A183,справочник!$A$2:$C$322,3,0)","v":252},{"$f":"IFERROR(VLOOKUP(B183,справочник!$AF$2:$AF$15,1,0),\"\")","v":""},null,"Ермошин Владимир Владимирович",4800,4800,4800,5600,6400,4800,5600,6400,7200,8000,8800,9600]
[212,"Милишенко Надежда Ивановна",{"$f":"VLOOKUP(A184,справочник!$A$2:$C$322,3,0)","v":221},{"$f":"IFERROR(VLOOKUP(B184,справочник!$AF$2:$AF$15,1,0),\"\")","v":""},null,"Карпова Елена Витальевна",3200,4000,3200,3200,4000,4800,5600,6400,7200,8000,8800,9600]
[207,"Катушкин Роман Юрьевич//Валеев Артур Рашидович",{"$f":"VLOOKUP(A185,справочник!$A$2:$C$322,3,0)","v":217},{"$f":"IFERROR(VLOOKUP(B185,справочник!$AF$2:$AF$15,1,0),\"\")","v":""},null,"Борисов Олег Александрович",800,1600,2400,3200,4000,4800,5600,6400,7200,8000,8800,9600]
[204,"Носикова Александра Васильевна",{"$f":"VLOOKUP(A186,справочник!$A$2:$C$322,3,0)","v":214},{"$f":"IFERROR(VLOOKUP(B186,справочник!$AF$2:$AF$15,1,0),\"\")","v":""},null,"Борисов Олег Александрович",800,1600,2400,3200,4000,4800,5600,6400,7200,8000,8800,9600]
[193,"Асташкин Павел Александрович(продал???)",{"$f":"VLOOKUP(A187,справочник!$A$2:$C$322,3,0)","v":201},{"$f":"IFERROR(VLOOKUP(B187,справочник!$AF$2:$AF$15,1,0),\"\")","v":""},null,"Борисов Олег Александрович",800,1600,2400,3200,4000,4800,5600,6400,7200,8000,8800,9600]
[191,"Бадирьян Тамара Викторовна",{"$f":"VLOOKUP(A188,справочник!$A$2:$C$322,3,0)","v":199},{"$f":"IFERROR(VLOOKUP(B188,справочник!$AF$2:$AF$15,1,0),\"\")","v":""},null,"Спиридонов Андрей Владимирович",800,1600,2400,3200,4000,4800,5600,6400,7200,8000,8800,9600]
[165,"Прохоров Владимир Михайлович",{"$f":"VLOOKUP(A189,справочник!$A$2:$C$322,3,0)","v":173},{"$f":"IFERROR(VLOOKUP(B189,справочник!$AF$2:$AF$15,1,0),\"\")","v":""},null,"Анциферов Алексей Сергеевич",800,1600,2400,3200,4000,4800,5600,6400,7200,8000,8800,9600]
[159,"Евсеев Александр Сергеевич",{"$f":"VLOOKUP(A190,справочник!$A$2:$C$322,3,0)","v":167},{"$f":"IFERROR(VLOOKUP(B190,справочник!$AF$2:$AF$15,1,0),\"\")","v":""},null,"Анциферов Алексей Сергеевич",12800,1600,2400,3200,4000,4800,5600,6400,7200,8000,8800,9600]
[142,"Блинков Анатолий Сергеевич",{"$f":"VLOOKUP(A191,справочник!$A$2:$C$322,3,0)","v":150},{"$f":"IFERROR(VLOOKUP(B191,справочник!$AF$2:$AF$15,1,0),\"\")","v":""},null,"Сидельников Михаил Васильевич",800,1600,2400,3200,4000,4800,5600,6400,7200,8000,8800,9600]
[54,"Стрелков Андрей Вячеславович",{"$f":"VLOOKUP(A192,справочник!$A$2:$C$322,3,0)","v":56},{"$f":"IFERROR(VLOOKUP(B192,справочник!$AF$2:$AF$15,1,0),\"\")","v":""},null,"Темникова Елена Станиславна",800,1600,2400,3200,4000,4800,5600,6400,7200,8000,8800,9600]
[53,"Попова Нина Ивановна",{"$f":"VLOOKUP(A193,справочник!$A$2:$C$322,3,0)","v":55},{"$f":"IFERROR(VLOOKUP(B193,справочник!$AF$2:$AF$15,1,0),\"\")","v":""},null,"Темникова Елена Станиславна",800,1600,2400,3200,4000,4800,5600,6400,7200,8000,8800,9600]
[37,"Водянова Ольга Александровна",{"$f":"VLOOKUP(A194,справочник!$A$2:$C$322,3,0)","v":37},{"$f":"IFERROR(VLOOKUP(B194,справочник!$AF$2:$AF$15,1,0),\"\")","v":""},null,"Темникова Елена Станиславна",800,1600,2400,3200,4000,4800,5600,6400,7200,8000,8800,9600]
[29,"Петрик Наталья Вячеславовна(ПродалаУстинова Ирина)",{"$f":"VLOOKUP(A195,справочник!$A$2:$C$322,3,0)","v":29},{"$f":"IFERROR(VLOOKUP(B195,справочник!$AF$2:$AF$15,1,0),\"\")","v":""},null,"Жохова Елена Сергеевна",800,1600,2400,3200,4000,4800,5600,6400,7200,8000,8800,9600]
[18,"Дидушко Денис Васильевич (Василий)",{"$f":"VLOOKUP(A196,справочник!$A$2:$C$322,3,0)","v":18},{"$f":"IFERROR(VLOOKUP(B196,справочник!$AF$2:$AF$15,1,0),\"\")","v":""},null,"Жохова Елена Сергеевна",800,1600,2400,3200,4000,4800,5600,6400,7200,8000,8800,9600]
[10,"Якушина Любовь Викторовна",{"$f":"VLOOKUP(A197,справочник!$A$2:$C$322,3,0)","v":10},{"$f":"IFERROR(VLOOKUP(B197,справочник!$AF$2:$AF$15,1,0),\"\")","v":""},null,"Жохова Елена Сергеевна",800,1600,2400,3200,4000,4800,5600,6400,7200,8000,8800,9600]
[121,"Зиннатов Рафаэль Шакурович",{"$f":"VLOOKUP(A198,справочник!$A$2:$C$322,3,0)","v":126},{"$f":"IFERROR(VLOOKUP(B198,справочник!$AF$2:$AF$15,1,0),\"\")","v":""},null,"Марин Андрей Вячеславович",3800,4600,5400,3000,3800,4600,5400,6200,7000,7800,8600,9400]
[263,"Соколова Ирина Анатольевна",{"$f":"VLOOKUP(A199,справочник!$A$2:$C$322,3,0)","v":276},{"$f":"IFERROR(VLOOKUP(B199,справочник!$AF$2:$AF$15,1,0),\"\")","v":""},null,"Лапшин Сергей Николаевич",3800,2000,2000,2800,3600,4400,5200,6000,6800,7600,8400,9200]
[154,"Марков Максим Юрьевич",{"$f":"VLOOKUP(A200,справочник!$A$2:$C$322,3,0)","v":162},{"$f":"IFERROR(VLOOKUP(B200,справочник!$AF$2:$AF$15,1,0),\"\")","v":""},null,"Анциферов Алексей Сергеевич",4800,5600,6400,4800,4800,4000,4800,5600,6400,7200,8000,8800]
[240,"Якиманский Александр Александрович",{"$f":"VLOOKUP(A201,справочник!$A$2:$C$322,3,0)","v":251},{"$f":"IFERROR(VLOOKUP(B201,справочник!$AF$2:$AF$15,1,0),\"\")","v":""},null,"Ермошин Владимир Владимирович",-200,600,1400,2200,3000,3800,4600,5400,6200,7000,7800,8600]
[231,"Кашичкин Александр Борисович",{"$f":"VLOOKUP(A202,справочник!$A$2:$C$322,3,0)","v":240},{"$f":"IFERROR(VLOOKUP(B202,справочник!$AF$2:$AF$15,1,0),\"\")","v":""},null,"Карпова Елена Витальевна",5800,1600,2400,2200,3000,3800,4600,5400,6200,7000,7800,8600]
[194,"Куликов Александр Владимирович",{"$f":"VLOOKUP(A203,справочник!$A$2:$C$322,3,0)","v":202},{"$f":"IFERROR(VLOOKUP(B203,справочник!$AF$2:$AF$15,1,0),\"\")","v":""},null,"Борисов Олег Александрович",4800,600,1400,2200,3000,3800,4600,5400,6200,7000,7800,8600]
[186,"Мирошниченко Андрей Иванович Захарова Елена Александровна",{"$f":"VLOOKUP(A204,справочник!$A$2:$C$322,3,0)","v":194},{"$f":"IFERROR(VLOOKUP(B204,справочник!$AF$2:$AF$15,1,0),\"\")","v":""},null,"Спиридонов Андрей Владимирович",4800,5600,6400,2200,3000,3800,4600,5400,6200,7000,7800,8600]
[82,"Кикоть Наталья Петровна (Андрей)",{"$f":"VLOOKUP(A205,справочник!$A$2:$C$322,3,0)","v":87},{"$f":"IFERROR(VLOOKUP(B205,справочник!$AF$2:$AF$15,1,0),\"\")","v":""},null,"Абу Махади Мохаммед Ибрагим",2800,3600,1400,2200,3000,3800,4600,5400,6200,7000,7800,8600]
[1,"Колыгина Нина Николаевна",{"$f":"VLOOKUP(A206,справочник!$A$2:$C$322,3,0)","v":1},{"$f":"IFERROR(VLOOKUP(B206,справочник!$AF$2:$AF$15,1,0),\"\")","v":""},null,"Жохова Елена Сергеевна",3800,400,1200,2000,2800,3600,4400,5200,6000,6800,7600,8400]
[83,"Кононенко Алла Николаевна (Александр)",{"$f":"VLOOKUP(A207,справочник!$A$2:$C$322,3,0)","v":88},{"$f":"IFERROR(VLOOKUP(B207,справочник!$AF$2:$AF$15,1,0),\"\")","v":""},null,"Абу Махади Мохаммед Ибрагим",3000,3000,3000,3000,3000,3000,3800,4600,5400,6200,7000,7800]
[277,"Андреева Любовь Ивановна(у Севастьянова)",{"$f":"VLOOKUP(A208,справочник!$A$2:$C$322,3,0)","v":290},{"$f":"IFERROR(VLOOKUP(B208,справочник!$AF$2:$AF$15,1,0),\"\")","v":""},null,"Недосенко Олег Анатольевич",-1200,-400,400,1200,2000,2800,3600,4400,5200,6000,6800,7600]
[264,"Еременко Виктор Александрович (Валентина)",{"$f":"VLOOKUP(A209,справочник!$A$2:$C$322,3,0)","v":277},{"$f":"IFERROR(VLOOKUP(B209,справочник!$AF$2:$AF$15,1,0),\"\")","v":""},null,"Лапшин Сергей Николаевич",800,1600,400,1200,2000,2800,3600,4400,5200,6000,6800,7600]
[256,"Хачатрян Алла Самвеловна",{"$f":"VLOOKUP(A210,справочник!$A$2:$C$322,3,0)","v":269},{"$f":"IFERROR(VLOOKUP(B210,справочник!$AF$2:$AF$15,1,0),\"\")","v":""},null,"Лапшин Сергей Николаевич",-1200,-400,400,1200,2000,2800,3600,4400,5200,6000,6800,7600]
[237,"Смирнов Максим Анатольевич, Светлана",{"$f":"VLOOKUP(A211,справочник!$A$2:$C$322,3,0)","v":248},{"$f":"IFERROR(VLOOKUP(B211,справочник!$AF$2:$AF$15,1,0),\"\")","v":""},null,"Ермошин Владимир Владимирович",800,1600,400,1200,2000,2800,3600,4400,5200,6000,6800,7600]
[211,"Модин Игорь Николаевич",{"$f":"VLOOKUP(A212,справочник!$A$2:$C$322,3,0)","v":220},{"$f":"IFERROR(VLOOKUP(B212,справочник!$AF$2:$AF$15,1,0),\"\")","v":""},null,"Борисов Олег Александрович",-1200,-400,400,1200,2000,2800,3600,4400,5200,6000,6800,7600]
[116,"Суворов Сергей Анатольевич",{"$f":"VLOOKUP(A213,справочник!$A$2:$C$322,3,0)","v":121},{"$f":"IFERROR(VLOOKUP(B213,справочник!$AF$2:$AF$15,1,0),\"\")","v":""},null,"Марин Андрей Вячеславович",8800,9600,400,1200,2000,2800,3600,4400,5200,6000,6800,7600]
[50,"Денисов Дмитрий Алексеевич",{"$f":"VLOOKUP(A214,справочник!$A$2:$C$322,3,0)","v":50},{"$f":"IFERROR(VLOOKUP(B214,справочник!$AF$2:$AF$15,1,0),\"\")","v":""},null,"Темникова Елена Станиславна",10800,11600,400,1200,2000,2800,3600,4400,5200,6000,6800,7600]
[17,"Яструб Валерий Викторович",{"$f":"VLOOKUP(A215,справочник!$A$2:$C$322,3,0)","v":17},{"$f":"IFERROR(VLOOKUP(B215,справочник!$AF$2:$AF$15,1,0),\"\")","v":""},null,"Жохова Елена Сергеевна",2800,3600,2400,3200,4000,2800,3600,4400,5200,6000,6800,7600]
[8,"Кириенко Раиса Федоровна",{"$f":"VLOOKUP(A216,справочник!$A$2:$C$322,3,0)","v":8},{"$f":"IFERROR(VLOOKUP(B216,справочник!$AF$2:$AF$15,1,0),\"\")","v":""},null,"Жохова Елена Сергеевна",2800,3600,4400,5200,6000,2800,3600,4400,5200,6000,6800,7600]
[4,"Жигунов Юрий Александрович",{"$f":"VLOOKUP(A217,справочник!$A$2:$C$322,3,0)","v":4},{"$f":"IFERROR(VLOOKUP(B217,справочник!$AF$2:$AF$15,1,0),\"\")","v":""},null,"Жохова Елена Сергеевна",3800,4600,5400,6200,2000,2800,3600,4400,5200,6000,6800,7600]
[137,"Бранцова Татьяна Валерьевна",{"$f":"VLOOKUP(A218,справочник!$A$2:$C$322,3,0)","v":145},{"$f":"IFERROR(VLOOKUP(B218,справочник!$AF$2:$AF$15,1,0),\"\")","v":""},null,"Сидельников Михаил Васильевич",800,0,800,1600,2400,2400,3200,4000,4800,5600,6400,7200]
[131,"Спивак Сергей Николаевич",{"$f":"VLOOKUP(A219,справочник!$A$2:$C$322,3,0)","v":138},{"$f":"IFERROR(VLOOKUP(B219,справочник!$AF$2:$AF$15,1,0),\"\")","v":""},null,"Сидельников Михаил Васильевич",12800,13600,14400,800,1600,2400,3200,4000,4800,5600,6400,7200]
[126,"Волгушев Дмитрий Геннадиевич",{"$f":"VLOOKUP(A220,справочник!$A$2:$C$322,3,0)","v":131},{"$f":"IFERROR(VLOOKUP(B220,справочник!$AF$2:$AF$15,1,0),\"\")","v":""},null,"Сидельников Михаил Васильевич",800,1600,0,800,1600,2400,3200,4000,4800,5600,6400,7200]
[79,"Абу Махади Мохаммед Ибрагим",{"$f":"VLOOKUP(A221,справочник!$A$2:$C$322,3,0)","v":84},{"$f":"IFERROR(VLOOKUP(B221,справочник!$AF$2:$AF$15,1,0),\"\")","v":"Абу Махади Мохаммед Ибрагим"},null,"Абу Махади Мохаммед Ибрагим",4800,1600,2400,800,1600,2400,3200,4000,4800,5600,6400,7200]
[74,"Розова Татьяна Викторовна",{"$f":"VLOOKUP(A222,справочник!$A$2:$C$322,3,0)","v":81},{"$f":"IFERROR(VLOOKUP(B222,справочник!$AF$2:$AF$15,1,0),\"\")","v":""},null,"Абу Махади Мохаммед Ибрагим",800,1600,2400,3200,1600,2400,3200,4000,4800,5600,6400,7200]
[59,"Фисенко Вадим Петрович",{"$f":"VLOOKUP(A223,справочник!$A$2:$C$322,3,0)","v":61},{"$f":"IFERROR(VLOOKUP(B223,справочник!$AF$2:$AF$15,1,0),\"\")","v":""},null,"Нелюбов Сергей Владимирович",-1600,-800,0,800,1600,2400,3200,4000,4800,5600,6400,7200]
[52,"Бельская Светлана Александровна (Владимир)",{"$f":"VLOOKUP(A224,справочник!$A$2:$C$322,3,0)","v":54},{"$f":"IFERROR(VLOOKUP(B224,справочник!$AF$2:$AF$15,1,0),\"\")","v":""},null,"Темникова Елена Станиславна",2800,1600,1600,2400,1600,2400,3200,4000,4800,5600,6400,7200]
[51,"Бельский Владимир Владимирович (Светлана)",{"$f":"VLOOKUP(A225,справочник!$A$2:$C$322,3,0)","v":53},{"$f":"IFERROR(VLOOKUP(B225,справочник!$AF$2:$AF$15,1,0),\"\")","v":""},null,"Темникова Елена Станиславна",2800,1600,1600,2400,1600,2400,3200,4000,4800,5600,6400,7200]
[34,"Лунева Ольга Петровна",{"$f":"VLOOKUP(A226,справочник!$A$2:$C$322,3,0)","v":34},{"$f":"IFERROR(VLOOKUP(B226,справочник!$AF$2:$AF$15,1,0),\"\")","v":""},null,"Темникова Елена Станиславна",-2200,-1400,-600,200,1000,1800,2600,3400,4200,5000,5800,6600]
[33,"Петров Борис Викторович",{"$f":"VLOOKUP(A227,справочник!$A$2:$C$322,3,0)","v":33},{"$f":"IFERROR(VLOOKUP(B227,справочник!$AF$2:$AF$15,1,0),\"\")","v":""},null,"Темникова Елена Станиславна",7800,8600,9400,10200,950,1750,2550,3350,4150,4950,5750,6550]
[182,"Широков Евгений Александрович",{"$f":"VLOOKUP(A228,справочник!$A$2:$C$322,3,0)","v":190},{"$f":"IFERROR(VLOOKUP(B228,справочник!$AF$2:$AF$15,1,0),\"\")","v":""},null,"Спиридонов Андрей Владимирович",6800,7600,8400,9200,800,1600,2400,3200,4000,4800,5600,6400]
[153,"Канышкина Юлия Юрьевна",{"$f":"VLOOKUP(A229,справочник!$A$2:$C$322,3,0)","v":161},{"$f":"IFERROR(VLOOKUP(B229,справочник!$AF$2:$AF$15,1,0),\"\")","v":""},null,"Анциферов Алексей Сергеевич",4800,5600,6400,0,800,1600,2400,3200,4000,4800,5600,6400]
[130,"Анциферов Алексей Сергеевич",{"$f":"VLOOKUP(A230,справочник!$A$2:$C$322,3,0)","v":137},{"$f":"IFERROR(VLOOKUP(B230,справочник!$AF$2:$AF$15,1,0),\"\")","v":"Анциферов Алексей Сергеевич"},null,"Сидельников Михаил Васильевич",800,800,1600,2400,3200,1600,2400,3200,4000,4800,5600,6400]
[81,"Нелюбов Сергей Владимирович",{"$f":"VLOOKUP(A231,справочник!$A$2:$C$322,3,0)","v":86},{"$f":"IFERROR(VLOOKUP(B231,справочник!$AF$2:$AF$15,1,0),\"\")","v":"Нелюбов Сергей Владимирович"},null,"Абу Махади Мохаммед Ибрагим",800,1600,-800,0,800,1600,2400,3200,4000,4800,5600,6400]
[62,"Кривой Владимир Аркадьевич",{"$f":"VLOOKUP(A232,справочник!$A$2:$C$322,3,0)","v":64},{"$f":"IFERROR(VLOOKUP(B232,справочник!$AF$2:$AF$15,1,0),\"\")","v":""},null,"Нелюбов Сергей Владимирович",800,1600,-800,0,800,1600,2400,3200,4000,4800,5600,6400]
[28,"Федорова Наталья Владимировна",{"$f":"VLOOKUP(A233,справочник!$A$2:$C$322,3,0)","v":28},{"$f":"IFERROR(VLOOKUP(B233,справочник!$AF$2:$AF$15,1,0),\"\")","v":""},null,"Жохова Елена Сергеевна",3800,600,1400,-200,600,1400,2200,3000,3800,4600,5400,6200]
[169,"Петрова Елена Николаевна",{"$f":"VLOOKUP(A234,справочник!$A$2:$C$322,3,0)","v":177},{"$f":"IFERROR(VLOOKUP(B234,справочник!$AF$2:$AF$15,1,0),\"\")","v":""},null,"Анциферов Алексей Сергеевич",4800,5600,1000,1800,200,1000,1800,2600,3400,4200,5000,5800]
[275,"Хайлов Алексей Анатольевич",{"$f":"VLOOKUP(A235,справочник!$A$2:$C$322,3,0)","v":288},{"$f":"IFERROR(VLOOKUP(B235,справочник!$AF$2:$AF$15,1,0),\"\")","v":""},null,"Недосенко Олег Анатольевич",12800,13600,14400,15200,16000,800,1600,2400,3200,4000,4800,5600]
[273,"Маргиева Марина Евгеньевна",{"$f":"VLOOKUP(A236,справочник!$A$2:$C$322,3,0)","v":286},{"$f":"IFERROR(VLOOKUP(B236,справочник!$AF$2:$AF$15,1,0),\"\")","v":""},null,"Недосенко Олег Анатольевич",4800,5600,6400,7200,8000,800,1600,2400,3200,4000,4800,5600]
[267,"Рыжов Андрей Николаевич",{"$f":"VLOOKUP(A237,справочник!$A$2:$C$322,3,0)","v":280},{"$f":"IFERROR(VLOOKUP(B237,справочник!$AF$2:$AF$15,1,0),\"\")","v":""},null,"Лапшин Сергей Николаевич",4800,1600,400,-800,0,800,1600,2400,3200,4000,4800,5600]
[245,"Бондарев Станислав Дмитриевич",{"$f":"VLOOKUP(A238,справочник!$A$2:$C$322,3,0)","v":256},{"$f":"IFERROR(VLOOKUP(B238,справочник!$AF$2:$AF$15,1,0),\"\")","v":""},null,"Ермошин Владимир Владимирович",5800,6600,7400,8200,9000,800,1600,2400,3200,4000,4800,5600]
[233,"Хаустова Люция Егоровна",{"$f":"VLOOKUP(A239,справочник!$A$2:$C$322,3,0)","v":242},{"$f":"IFERROR(VLOOKUP(B239,справочник!$AF$2:$AF$15,1,0),\"\")","v":""},null,"Ермошин Владимир Владимирович",3800,4600,5400,6200,7000,800,1600,2400,3200,4000,4800,5600]
[215,"Семенова Рима Прановна",{"$f":"VLOOKUP(A240,справочник!$A$2:$C$322,3,0)","v":224},{"$f":"IFERROR(VLOOKUP(B240,справочник!$AF$2:$AF$15,1,0),\"\")","v":""},null,"Карпова Елена Витальевна",3800,-2400,-1600,-800,0,800,1600,2400,3200,4000,4800,5600]
[198,"Белоглазова Людмила Ивановна",{"$f":"VLOOKUP(A241,справочник!$A$2:$C$322,3,0)","v":206},{"$f":"IFERROR(VLOOKUP(B241,справочник!$AF$2:$AF$15,1,0),\"\")","v":""},null,"Борисов Олег Александрович",800,1600,-800,0,0,800,1600,2400,3200,4000,4800,5600]
[181,"Елисеев Сергей Вячеславович",{"$f":"VLOOKUP(A242,справочник!$A$2:$C$322,3,0)","v":189},{"$f":"IFERROR(VLOOKUP(B242,справочник!$AF$2:$AF$15,1,0),\"\")","v":""},null,"Спиридонов Андрей Владимирович",3800,4600,5400,6200,0,800,1600,2400,3200,4000,4800,5600]
[174,"Просянов Александр Александрович",{"$f":"VLOOKUP(A243,справочник!$A$2:$C$322,3,0)","v":182},{"$f":"IFERROR(VLOOKUP(B243,справочник!$AF$2:$AF$15,1,0),\"\")","v":""},null,"Спиридонов Андрей Владимирович",-200,600,1400,2200,0,800,1600,2400,3200,4000,4800,5600]
[146,"Тюленев Вячеслав Рудольфович",{"$f":"VLOOKUP(A244,справочник!$A$2:$C$322,3,0)","v":154},{"$f":"IFERROR(VLOOKUP(B244,справочник!$AF$2:$AF$15,1,0),\"\")","v":""},null,"Сидельников Михаил Васильевич",22800,23600,24400,25200,26000,800,1600,2400,3200,4000,4800,5600]
[129,"Маслов Александр Александрович",{"$f":"VLOOKUP(A245,справочник!$A$2:$C$322,3,0)","v":136},{"$f":"IFERROR(VLOOKUP(B245,справочник!$AF$2:$AF$15,1,0),\"\")","v":""},null,"Сидельников Михаил Васильевич",2800,600,1400,-800,0,800,1600,2400,3200,4000,4800,5600]
[107,"Сиротин Дмитрий Борисович (Приставалова)",{"$f":"VLOOKUP(A246,справочник!$A$2:$C$322,3,0)","v":112},{"$f":"IFERROR(VLOOKUP(B246,справочник!$AF$2:$AF$15,1,0),\"\")","v":""},null,"Марин Андрей Вячеславович",4800,3600,800,0,800,800,1600,2400,3200,4000,4800,5600]
[102,"Постернак Татьяна Николаевна",{"$f":"VLOOKUP(A247,справочник!$A$2:$C$322,3,0)","v":107},{"$f":"IFERROR(VLOOKUP(B247,справочник!$AF$2:$AF$15,1,0),\"\")","v":""},null,"Марин Андрей Вячеславович",0,0,0,0,800,800,1600,2400,3200,4000,4800,5600]
[95,"Шорахматов Мухаммадхуджа Замшоевич",{"$f":"VLOOKUP(A248,справочник!$A$2:$C$322,3,0)","v":100},{"$f":"IFERROR(VLOOKUP(B248,справочник!$AF$2:$AF$15,1,0),\"\")","v":""},null,"Абу Махади Мохаммед Ибрагим",5800,6600,7400,8200,9000,800,1600,2400,3200,4000,4800,5600]
[88,"Шалинов Андрей Вадимович",{"$f":"VLOOKUP(A249,справочник!$A$2:$C$322,3,0)","v":"97+93"},{"$f":"IFERROR(VLOOKUP(B249,справочник!$AF$2:$AF$15,1,0),\"\")","v":""},null,"Абу Махади Мохаммед Ибрагим",-3200,-2400,-1600,-800,0,800,1600,2400,3200,4000,4800,5600]
[80,"Острикова Наталья Львовна",{"$f":"VLOOKUP(A250,справочник!$A$2:$C$322,3,0)","v":85},{"$f":"IFERROR(VLOOKUP(B250,справочник!$AF$2:$AF$15,1,0),\"\")","v":""},null,"Абу Махади Мохаммед Ибрагим",800,1600,2400,3200,4000,800,1600,2400,3200,4000,4800,5600]
[68,"Рощина Ирина Михайловна",{"$f":"VLOOKUP(A251,справочник!$A$2:$C$322,3,0)","v":70},{"$f":"IFERROR(VLOOKUP(B251,справочник!$AF$2:$AF$15,1,0),\"\")","v":""},null,"Нелюбов Сергей Владимирович",800,0,0,800,800,800,1600,2400,3200,4000,4800,5600]
[58,"Володина Инна Александровна",{"$f":"VLOOKUP(A252,справочник!$A$2:$C$322,3,0)","v":60},{"$f":"IFERROR(VLOOKUP(B252,справочник!$AF$2:$AF$15,1,0),\"\")","v":""},null,"Темникова Елена Станиславна",4800,5600,4000,4800,5600,800,1600,2400,3200,4000,4800,5600]
[49,"Ермолаева Виктория Александровна",{"$f":"VLOOKUP(A253,справочник!$A$2:$C$322,3,0)","v":49},{"$f":"IFERROR(VLOOKUP(B253,справочник!$AF$2:$AF$15,1,0),\"\")","v":""},null,"Темникова Елена Станиславна",11800,12600,13400,14200,10200,800,1600,2400,3200,4000,4800,5600]
[29,"Устинов Федор Валентинович(Петрик)",{"$f":"VLOOKUP(A254,справочник!$A$2:$C$322,3,0)","v":29},{"$f":"IFERROR(VLOOKUP(B254,справочник!$AF$2:$AF$15,1,0),\"\")","v":""},null,"Жохова Елена Сергеевна",800,0,0,-800,0,800,1600,2400,3200,4000,4800,5600]
[19,"Серкин Сергей Львовович",{"$f":"VLOOKUP(A255,справочник!$A$2:$C$322,3,0)","v":19},{"$f":"IFERROR(VLOOKUP(B255,справочник!$AF$2:$AF$15,1,0),\"\")","v":""},null,"Жохова Елена Сергеевна",800,1600,2400,3200,4000,800,1600,2400,3200,4000,4800,5600]
[86,"Васильева Ольга Александровна",{"$f":"VLOOKUP(A256,справочник!$A$2:$C$322,3,0)","v":91},{"$f":"IFERROR(VLOOKUP(B256,справочник!$AF$2:$AF$15,1,0),\"\")","v":""},null,"Абу Махади Мохаммед Ибрагим",800,-400,400,200,1000,200,1000,1800,2600,3400,4200,5000]
[298,"Степанов Валерий Владимирович",{"$f":"VLOOKUP(A257,справочник!$A$2:$C$322,3,0)","v":313},{"$f":"IFERROR(VLOOKUP(B257,справочник!$AF$2:$AF$15,1,0),\"\")","v":""},null,"Измайлов Михаил Михайлович",800,-3200,-2400,-1600,-800,0,800,1600,2400,3200,4000,4800]
[258,"Савина Нина Ивановна",{"$f":"VLOOKUP(A258,справочник!$A$2:$C$322,3,0)","v":271},{"$f":"IFERROR(VLOOKUP(B258,справочник!$AF$2:$AF$15,1,0),\"\")","v":""},null,"Лапшин Сергей Николаевич",800,1600,2400,3200,4000,0,800,1600,2400,3200,4000,4800]
[234,"Ермошина Татьяна Евгеньевна (Владимир)",{"$f":"VLOOKUP(A259,справочник!$A$2:$C$322,3,0)","v":"243-244"},{"$f":"IFERROR(VLOOKUP(B259,справочник!$AF$2:$AF$15,1,0),\"\")","v":""},null,{"$f":"{#н/д}","v":{"$error":"#N/A"}},800,-3200,-2400,-1600,-800,0,800,1600,2400,3200,4000,4800]
[196,"Казарин Сергей Викторович",{"$f":"VLOOKUP(A260,справочник!$A$2:$C$322,3,0)","v":204},{"$f":"IFERROR(VLOOKUP(B260,справочник!$AF$2:$AF$15,1,0),\"\")","v":""},null,"Борисов Олег Александрович",800,1600,-2400,-1600,-800,0,800,1600,2400,3200,4000,4800]
[180,"Черешнева Виктория Викторовна",{"$f":"VLOOKUP(A261,справочник!$A$2:$C$322,3,0)","v":188},{"$f":"IFERROR(VLOOKUP(B261,справочник!$AF$2:$AF$15,1,0),\"\")","v":""},null,"Спиридонов Андрей Владимирович",800,1600,2400,3200,-800,0,800,1600,2400,3200,4000,4800]
[134,"Рыбалкин Андрей Сергеевич",{"$f":"VLOOKUP(A262,справочник!$A$2:$C$322,3,0)","v":141},{"$f":"IFERROR(VLOOKUP(B262,справочник!$AF$2:$AF$15,1,0),\"\")","v":""},null,"Сидельников Михаил Васильевич",800,-3200,-2400,-1600,-800,0,800,1600,2400,3200,4000,4800]
[120,"Мудрак Владимир Григорьевич (Марина)",{"$f":"VLOOKUP(A263,справочник!$A$2:$C$322,3,0)","v":125},{"$f":"IFERROR(VLOOKUP(B263,справочник!$AF$2:$AF$15,1,0),\"\")","v":""},null,"Марин Андрей Вячеславович",5800,0,-1200,-400,400,0,800,1600,2400,3200,4000,4800]
[108,"Шурдук Лариса Анатольевна (Игорь)",{"$f":"VLOOKUP(A264,справочник!$A$2:$C$322,3,0)","v":113},{"$f":"IFERROR(VLOOKUP(B264,справочник!$AF$2:$AF$15,1,0),\"\")","v":""},null,"Марин Андрей Вячеславович",4800,1600,0,800,1600,0,800,1600,2400,3200,4000,4800]
[90,"Быданцева Нина Юрьевна",{"$f":"VLOOKUP(A265,справочник!$A$2:$C$322,3,0)","v":95},{"$f":"IFERROR(VLOOKUP(B265,справочник!$AF$2:$AF$15,1,0),\"\")","v":""},null,"Абу Махади Мохаммед Ибрагим",800,1600,2400,-1600,-800,0,800,1600,2400,3200,4000,4800]
[85,"Новиков Виктор Викторович",{"$f":"VLOOKUP(A266,справочник!$A$2:$C$322,3,0)","v":90},{"$f":"IFERROR(VLOOKUP(B266,справочник!$AF$2:$AF$15,1,0),\"\")","v":""},null,"Абу Махади Мохаммед Ибрагим",800,1600,2400,-1600,-800,0,800,1600,2400,3200,4000,4800]
[84,"Шабунина Светлана Николаевна",{"$f":"VLOOKUP(A267,справочник!$A$2:$C$322,3,0)","v":89},{"$f":"IFERROR(VLOOKUP(B267,справочник!$AF$2:$AF$15,1,0),\"\")","v":""},null,"Абу Махади Мохаммед Ибрагим",800,1600,2400,3200,4000,0,800,1600,2400,3200,4000,4800]
[45,"Темникова Елена Станиславовна",{"$f":"VLOOKUP(A268,справочник!$A$2:$C$322,3,0)","v":45},{"$f":"IFERROR(VLOOKUP(B268,справочник!$AF$2:$AF$15,1,0),\"\")","v":""},null,"Темникова Елена Станиславна",0,0,0,0,0,0,800,1600,2400,3200,4000,4800]
[32,"Ермакова Татьяна Викторовна",{"$f":"VLOOKUP(A269,справочник!$A$2:$C$322,3,0)","v":32},{"$f":"IFERROR(VLOOKUP(B269,справочник!$AF$2:$AF$15,1,0),\"\")","v":""},null,"Темникова Елена Станиславна",-1600,-800,0,800,1600,0,800,1600,2400,3200,4000,4800]
[31,"Нефедов Михаил Владимирович",{"$f":"VLOOKUP(A270,справочник!$A$2:$C$322,3,0)","v":31},{"$f":"IFERROR(VLOOKUP(B270,справочник!$AF$2:$AF$15,1,0),\"\")","v":""},null,"Темникова Елена Станиславна",800,1600,2400,800,-800,0,800,1600,2400,3200,4000,4800]
[15,"Элефтерова Евгения Викторовна (Михаил)",{"$f":"VLOOKUP(A271,справочник!$A$2:$C$322,3,0)","v":15},{"$f":"IFERROR(VLOOKUP(B271,справочник!$AF$2:$AF$15,1,0),\"\")","v":""},null,"Жохова Елена Сергеевна",4800,1600,2400,3200,4000,0,800,1600,2400,3200,4000,4800]
[290,"Недосенко Татьяна Сергеевна (Олег)",{"$f":"VLOOKUP(A272,справочник!$A$2:$C$322,3,0)","v":303},{"$f":"IFERROR(VLOOKUP(B272,справочник!$AF$2:$AF$15,1,0),\"\")","v":""},null,"Измайлов Михаил Михайлович",800,1600,2400,3200,-1000,-200,600,1400,2200,3000,3800,4600]
[271,"Кожемякин Сергей Владимирович",{"$f":"VLOOKUP(A273,справочник!$A$2:$C$322,3,0)","v":284},{"$f":"IFERROR(VLOOKUP(B273,справочник!$AF$2:$AF$15,1,0),\"\")","v":""},null,"Недосенко Олег Анатольевич",800,1600,2400,3200,4000,-200,600,1400,2200,3000,3800,4600]
[214,"Иванов Денис Сильвестрович",{"$f":"VLOOKUP(A274,справочник!$A$2:$C$322,3,0)","v":223},{"$f":"IFERROR(VLOOKUP(B274,справочник!$AF$2:$AF$15,1,0),\"\")","v":""},null,"Карпова Елена Витальевна",800,-1400,-600,200,1000,-200,600,1400,2200,3000,3800,4600]
[133,"Короткевич Наталья Владимировна",{"$f":"VLOOKUP(A275,справочник!$A$2:$C$322,3,0)","v":140},{"$f":"IFERROR(VLOOKUP(B275,справочник!$AF$2:$AF$15,1,0),\"\")","v":""},null,"Сидельников Михаил Васильевич",800,600,400,200,0,-200,600,1400,2200,3000,3800,4600]
[103,"Фомичев Александр Петрович",{"$f":"VLOOKUP(A276,справочник!$A$2:$C$322,3,0)","v":108},{"$f":"IFERROR(VLOOKUP(B276,справочник!$AF$2:$AF$15,1,0),\"\")","v":""},null,"Марин Андрей Вячеславович",1800,2600,-2600,-1800,-1000,-200,600,1400,2200,3000,3800,4600]
[216,"Кулиш Сергей Александрович",{"$f":"VLOOKUP(A277,справочник!$A$2:$C$322,3,0)","v":226},{"$f":"IFERROR(VLOOKUP(B277,справочник!$AF$2:$AF$15,1,0),\"\")","v":""},null,"Карпова Елена Витальевна",800,-3600,-2800,-2000,-1200,-400,400,1200,2000,2800,3600,4400]
[42,"Маслов Андрей Геннадьевич (1/2)                 Щербакова Надежда Михайловна (1/2)",{"$f":"VLOOKUP(A278,справочник!$A$2:$C$322,3,0)","v":42},{"$f":"IFERROR(VLOOKUP(B278,справочник!$AF$2:$AF$15,1,0),\"\")","v":""},null,"Темникова Елена Станиславна",-200,-800,0,-800,0,-800,0,800,1600,2400,3200,4000]
[203,"Александров Владимир Александрович",{"$f":"VLOOKUP(A279,справочник!$A$2:$C$322,3,0)","v":213},{"$f":"IFERROR(VLOOKUP(B279,справочник!$AF$2:$AF$15,1,0),\"\")","v":""},null,"Борисов Олег Александрович",-800,0,800,1600,-1800,-1000,-200,600,1400,2200,3000,3800]
[155,"Дорошенко Владимир Алексеевич",{"$f":"VLOOKUP(A280,справочник!$A$2:$C$322,3,0)","v":163},{"$f":"IFERROR(VLOOKUP(B280,справочник!$AF$2:$AF$15,1,0),\"\")","v":""},null,"Анциферов Алексей Сергеевич",-1200,-1000,-1800,-1000,-1800,-1000,-200,600,1400,2200,3000,3800]
[138,"Виноградова Наталья Дмитриевна (Николай)",{"$f":"VLOOKUP(A281,справочник!$A$2:$C$322,3,0)","v":146},{"$f":"IFERROR(VLOOKUP(B281,справочник!$AF$2:$AF$15,1,0),\"\")","v":""},null,"Сидельников Михаил Васильевич",800,-1400,-600,200,1000,-1100,-300,500,1300,2100,2900,3700]
[312,"Решетов Владимир Генадьевич",210,{"$f":"IFERROR(VLOOKUP(B282,справочник!$AF$2:$AF$15,1,0),\"\")","v":""},null,"Борисов Олег Александрович",-1200,-400,400,-800,0,-1200,-400,400,1200,2000,2800,3600]
[219,"Бондарь Василий Дмитриевич",{"$f":"VLOOKUP(A283,справочник!$A$2:$C$322,3,0)","v":228},{"$f":"IFERROR(VLOOKUP(B283,справочник!$AF$2:$AF$15,1,0),\"\")","v":""},null,"Карпова Елена Витальевна",800,1600,-600,200,1000,-1200,-400,400,1200,2000,2800,3600]
[168,"Чикачёв Сергей Иванович",{"$f":"VLOOKUP(A284,справочник!$A$2:$C$322,3,0)","v":176},{"$f":"IFERROR(VLOOKUP(B284,справочник!$AF$2:$AF$15,1,0),\"\")","v":""},null,"Анциферов Алексей Сергеевич",800,-400,400,-800,-2000,-1200,-400,400,1200,2000,2800,3600]
[162,"Тадлов Виталий Петрович",{"$f":"VLOOKUP(A285,справочник!$A$2:$C$322,3,0)","v":170},{"$f":"IFERROR(VLOOKUP(B285,справочник!$AF$2:$AF$15,1,0),\"\")","v":""},null,"Анциферов Алексей Сергеевич",6800,7600,8400,9200,-2000,-1200,-400,400,1200,2000,2800,3600]
[156,"Иваненко Петр Олегович",{"$f":"VLOOKUP(A286,справочник!$A$2:$C$322,3,0)","v":164},{"$f":"IFERROR(VLOOKUP(B286,справочник!$AF$2:$AF$15,1,0),\"\")","v":""},null,"Анциферов Алексей Сергеевич",3800,-400,-600,-800,-1000,-1200,-400,400,1200,2000,2800,3600]
[255,"Толкова Елена Анатольевна (Олег)",{"$f":"VLOOKUP(A287,справочник!$A$2:$C$322,3,0)","v":268},{"$f":"IFERROR(VLOOKUP(B287,справочник!$AF$2:$AF$15,1,0),\"\")","v":""},null,"Лапшин Сергей Николаевич",800,1600,-800,0,-2400,-1600,-800,0,800,1600,2400,3200]
[76,"Киеня Валентина Александровна (Анатолий)",{"$f":"VLOOKUP(A288,справочник!$A$2:$C$322,3,0)","v":82},{"$f":"IFERROR(VLOOKUP(B288,справочник!$AF$2:$AF$15,1,0),\"\")","v":""},null,"Абу Махади Мохаммед Ибрагим",-1200,-2800,-2000,-3600,-2800,-2000,-1200,-400,400,1200,2000,2800]
[25,"Вершинина Елена Анатольевна",{"$f":"VLOOKUP(A289,справочник!$A$2:$C$322,3,0)","v":25},{"$f":"IFERROR(VLOOKUP(B289,справочник!$AF$2:$AF$15,1,0),\"\")","v":""},null,"Жохова Елена Сергеевна",800,1600,-600,200,-2000,-2000,-1200,-400,400,1200,2000,2800]
[236,"Давыдова Анна Сергеевна",{"$f":"VLOOKUP(A290,справочник!$A$2:$C$322,3,0)","v":245},{"$f":"IFERROR(VLOOKUP(B290,справочник!$AF$2:$AF$15,1,0),\"\")","v":""},null,"Ермошин Владимир Владимирович",18800,19600,20400,21200,-3000,-2200,-1400,-600,200,1000,1800,2600]
[222,"Карпова Елена Витальевна",{"$f":"VLOOKUP(A291,справочник!$A$2:$C$322,3,0)","v":231},{"$f":"IFERROR(VLOOKUP(B291,справочник!$AF$2:$AF$15,1,0),\"\")","v":"Карпова Елена Витальевна"},null,"Карпова Елена Витальевна",800,-1600,-800,0,-3200,-2400,-1600,-800,0,800,1600,2400]
[170,"Науменко Дмитрий Александрович",{"$f":"VLOOKUP(A292,справочник!$A$2:$C$322,3,0)","v":179},{"$f":"IFERROR(VLOOKUP(B292,справочник!$AF$2:$AF$15,1,0),\"\")","v":""},null,"Анциферов Алексей Сергеевич",-1600,-800,-2400,-1600,-800,-2400,-1600,-800,0,800,1600,2400]
[55,"Янковская Елена Александровна",{"$f":"VLOOKUP(A293,справочник!$A$2:$C$322,3,0)","v":57},{"$f":"IFERROR(VLOOKUP(B293,справочник!$AF$2:$AF$15,1,0),\"\")","v":""},null,"Темникова Елена Станиславна",-3200,-2400,-4800,-4000,-3200,-2400,-1600,-800,0,800,1600,2400]
[274,"Будаев Андрей Анатольевич",{"$f":"VLOOKUP(A294,справочник!$A$2:$C$322,3,0)","v":295},{"$f":"IFERROR(VLOOKUP(B294,справочник!$AF$2:$AF$15,1,0),\"\")","v":""},null,"Недосенко Олег Анатольевич",20800,21600,20800,21600,22400,-3600,-2800,-2000,-1200,-400,400,1200]
[243,"Лапшин Сергей Николаевич",{"$f":"VLOOKUP(A295,справочник!$A$2:$C$322,3,0)","v":254},{"$f":"IFERROR(VLOOKUP(B295,справочник!$AF$2:$AF$15,1,0),\"\")","v":"Лапшин Сергей Николаевич"},null,"Ермошин Владимир Владимирович",1800,-2200,-1400,-600,200,-3800,-3000,-2200,-1400,-600,200,1000]
[318,"Гусева Светлана Григорьевна",71,{"$f":"IFERROR(VLOOKUP(B296,справочник!$AF$2:$AF$15,1,0),\"\")","v":""},null,"Нелюбов Сергей Владимирович",800,-3200,-2400,-6400,-5600,-4800,-4000,-3200,-2400,-1600,-800,0]
[294,"Гайкова (Дьякова) Мария Викторовна",{"$f":"VLOOKUP(A297,справочник!$A$2:$C$322,3,0)","v":309},{"$f":"IFERROR(VLOOKUP(B297,справочник!$AF$2:$AF$15,1,0),\"\")","v":""},null,"Измайлов Михаил Михайлович",-8800,-8000,-7200,-6400,-5600,-4800,-4000,-3200,-2400,-1600,-800,0]
[276,"Горянов Михаил Андреевич",{"$f":"VLOOKUP(A298,справочник!$A$2:$C$322,3,0)","v":289},{"$f":"IFERROR(VLOOKUP(B298,справочник!$AF$2:$AF$15,1,0),\"\")","v":""},null,"Недосенко Олег Анатольевич",12800,13600,14400,15200,16000,-4800,-4000,-3200,-2400,-1600,-800,0]
[319,"Тимофеева Лариса Викторовна",73,{"$f":"IFERROR(VLOOKUP(B299,справочник!$AF$2:$AF$15,1,0),\"\")","v":""},null,"Нелюбов Сергей Владимирович",800,-400,400,-2800,-6000,-5200,-4400,-3600,-2800,-2000,-1200,-400]
[23,"Чигрины Анна Анатольевна и Геннадий Иванович",{"$f":"VLOOKUP(A300,справочник!$A$2:$C$322,3,0)","v":23},{"$f":"IFERROR(VLOOKUP(B300,справочник!$AF$2:$AF$15,1,0),\"\")","v":""},null,"Жохова Елена Сергеевна",-10800,-10000,-9200,-8400,-7600,-6800,-6000,-5200,-4400,-3600,-2800,-2000]
[286,"Ганин Александр Борисович",{"$f":"VLOOKUP(A301,справочник!$A$2:$C$322,3,0)","v":298},{"$f":"IFERROR(VLOOKUP(B301,справочник!$AF$2:$AF$15,1,0),\"\")","v":""},null,"Недосенко Олег Анатольевич",800,-6400,-5600,-4800,-4000,-7200,-6400,-5600,-4800,-4000,-3200,-2400]
[285,"Даточный Алексей Валерьевич",{"$f":"VLOOKUP(A302,справочник!$A$2:$C$322,3,0)","v":297},{"$f":"IFERROR(VLOOKUP(B302,справочник!$AF$2:$AF$15,1,0),\"\")","v":""},null,"Недосенко Олег Анатольевич",800,-6400,-5600,-4800,-4000,-7200,-6400,-5600,-4800,-4000,-3200,-2400]
[16,"Захарова Людмила Захаровна",{"$f":"VLOOKUP(A303,справочник!$A$2:$C$322,3,0)","v":16},{"$f":"IFERROR(VLOOKUP(B303,справочник!$AF$2:$AF$15,1,0),\"\")","v":""},null,"Жохова Елена Сергеевна",800,1600,2400,3200,4000,-7200,-6400,-5600,-4800,-4000,-3200,-2400]
[60,"Фисенко Дмитрий Петрович",{"$f":"VLOOKUP(A304,справочник!$A$2:$C$322,3,0)","v":62},{"$f":"IFERROR(VLOOKUP(B304,справочник!$AF$2:$AF$15,1,0),\"\")","v":""},null,"Нелюбов Сергей Владимирович",-12200,-11400,-10600,-9800,-9000,-8200,-7400,-6600,-5800,-5000,-4200,-3400]
[320,"Милоянин Алексей Леонидович",{"$f":"VLOOKUP(A305,справочник!$A$2:$C$322,3,0)","v":0},{"$f":"IFERROR(VLOOKUP(B305,справочник!$AF$2:$AF$15,1,0),\"\")","v":""},null,{"$f":"{#н/д}","v":{"$error":"#N/A"}},800,1600,2400,-10000,-9200,-8400,-7600,-6800,-6000,-5200,-4400,-3600]

{"sheet":"На что стоит обратить внимание","index":1,"n_rows":49,"n_cols":8,"rows_kept":49,"cut":false,"hidden":true,"merged":[]}
[]
["Долги по членам правления"]
["номер участка","ID","Ф.И.О.","Сумма по полю 01.08.2016"]
[3,3,"Лебедев Андрей Анатольевич",27400]
[45,45,"Темникова Елена Станиславовна",0]
[68,66,"Заборская Светлана Анатольевна (Андрей)",8620]
[84,79,"Абу Махади Мохаммед Ибрагим",4000]
[86,81,"Нелюбов Сергей Владимирович",0]
[132,127,"Жохова Елена Сергеевна",2400]
[137,130,"Анциферов Алексей Сергеевич",2400]
[192,183,"Спиридонов Андрей Владимирович",7757]
[231,222,"Карпова Елена Витальевна",-800]
[232,223,"Борисов Олег Александрович",7400]
[243,234,"Ермошина Татьяна Евгеньевна (Владимир)",1600]
[254,243,"Лапшин Сергей Николаевич",-2200]
[303,290,"Недосенко Татьяна Сергеевна (Олег)",1400]
[310,295,"Измайлов Михаил Михайлович",8250]
[133,310,"Сидельникова Ольга Петровна",21675]
[null,null,null,{"$f":"SUM(D16:D18,D14,D13,D4:D11)","v":92902}]
[]
["прделагаю из этого списка выдрать"]
["куратор","телефонный номер","номер участка","ID","Ф.И.О.","Сумма по полю 01.08.2016","Член правления","Город"]
["Жохова Елена Сергеевна","(926)726-6624",3,3,"Лебедев Андрей Анатольевич",27400,"Лебедев Андрей Анатольевич","г. Высоковск"]
["Жохова Елена Сергеевна","(926)226-9654 (903)238-8436",14,7,"Артемьев Сергей Иванович",45400,null,"г. Высоковск"]
["Жохова Елена Сергеевна","(925)051-6761 (967)079-1427",11,11,"Бенгя Владимир Михайлович (Диана)",18400,null,"д. Шипулино"]
["Жохова Елена Сергеевна","(915)434-3911 (916) 159-44-96",12,12,"Захаренкова Светлана Евгеньевна",28400,null,"г. Высоковск"]
["Темникова Елена Станиславна","(916)827-7559",43,43,"Васильцова Елена Владимировна",25400,null,"г. Зеленоград"]
["Спиридонов Андрей Владимирович","(916)493-5464",197,188,"Бондаренко Владимир Иванович",40400,null,"г. Солнечногорск"]
["Спиридонов Андрей Владимирович","(903)236-8802    (903)116-4767",198,190,"Коновальцев Олег Серафимович",21600,null,"г. Зеленоград"]
["Борисов Олег Александрович","(916) 114-5316 (916)870-9325 (967)299-8498",216,206,"Валеев Артур Рашидович",15400,null,"г. Клин"]
["Карпова Елена Витальевна","(905)526-3658  (925)116-5373",227,218,"Молчанова Ирина Владимировна",14400,null,"г. Клин"]
["Лапшин Сергей Николаевич","(963)772-1491",278,265,"Козловский Алексей Гаврилович",23400,null,"г. Клин"]
["Лапшин Сергей Николаевич","(905)583-5178",279,266,"Кудревцев Евгений Александрович",17400,null,"г. Клин"]
["Измайлов Михаил Михайлович","(915)082-1357",324,309,"Янковская Яна Валерьевна",28400,null,"г. Зеленоград"]
[]
[]
[]
["Это злостные неплательщики - те по кому есть города 100% вступали в партнерство"]
["куратор","телефонный номер","номер участка","ID","Ф.И.О.","Сумма по полю 01.08.2016","Член правления","Город"]
["Жохова Елена Сергеевна","(916) 605-8064",26,26,"Олейников Дмитрий Александрович",58400,null,"г. Москва"]
["Жохова Елена Сергеевна","(926) 736-3311 (920) 814-1810",30,30,"Кириллов Дмитрий Александрович",53400,null,"Орловская область"]
["Темникова Елена Станиславна","(925) 223-62-48",58,56,"Кушваха Виджай Шанкар",59400,null,0]
["Нелюбов Сергей Владимирович","(915) 119-5355",69,67,"Сбитнева Юлия Сергеевна",50400,null,"г.Москва"]
["Сидельников Михаил Васильевич","(351) 721-26-45, (495) 542-49-09, (925) 011-75-16",153,144,"Рожкова Глафира Андреевна",108400,null,0]
["Анциферов Алексей Сергеевич","(926)258-1065",157,149,"Кириллов Вадим Александрович",53400,null,0]
["Спиридонов Андрей Владимирович","(964) 514 1642",181,173,"Колесников Никита Олегович(у Кряжковой Виктория Сергеевна",57400,null,0]
["Борисов Олег Александрович",0,208,199,"Лошкарев Виктор Ильич",92400,null,"Норильск"]
["Недосенко Олег Анатольевич","(926)353-2073 (499)141-8433",290,278,"Севастьянов Михаил Григорьевич",54400,null,0]
["Измайлов Михаил Михайлович","(985)929-1070",311,296,"Бекмансурова Динара Василевна",50400,null,0]

{"sheet":"план на 2016","index":2,"n_rows":327,"n_cols":26,"rows_kept":327,"cut":false,"hidden":true,"merged":[[2,2,3,2],[2,3,3,3],[2,4,3,4],[2,7,2,11]]}
[null,null,"НП СЗУ \"Высокое\""]
[null,null,"Отчет по членским взносам за 2015-2016 гг"]
[null,null,"Номер участка","Ф.И.О.","Кадастр. номер участка",null,null,"Расчеты по членским взносам",{"$nulls":4},{"$f":"COUNTA(M5:M326)","v":291},{"$f":"COUNTA(N5:N326)","v":291},{"$f":"COUNTA(O5:O326)","v":291},{"$f":"COUNTA(P5:P326)","v":291},{"$f":"COUNTA(Q5:Q326)","v":291},{"$f":"COUNTA(R5:R326)","v":291},{"$f":"COUNTA(S5:S326)","v":291},{"$f":"COUNTA(T5:T326)","v":291},{"$f":"COUNTA(U5:U326)","v":291},{"$f":"COUNTA(V5:V326)","v":291},{"$f":"COUNTA(W5:W326)","v":291},{"$f":"COUNTA(X5:X326)","v":291}]
["ID","Сцепка",null,null,null,"Дата вступления в НП СЗУ \"Высокое\"","1-ый расчетный месяц","Кол-во месяцев","Сумма членских взносов, которые должны быть уплачены на 01.01.2016 г (исходя из кол-ва месяцев)","Сумма оплаченных членских взносов на 01.11.2015","Оплата членских взносов за декабрь 2015","Остаток задолженности по членским взносам на 01.01.2016","2016-01-01","2016-02-01","2016-03-01","2016-04-01","2016-05-01","2016-06-01","2016-07-01","2016-08-01","2016-09-01","2016-10-01","2016-11-01","2016-12-01","Остаток задолженности по членским взносам на 01.01.2017","количество участков"]
[{"$f":"VLOOKUP(B5,справочник!$B$2:$E$322,4,0)","v":79},{"$f":"CONCATENATE(C5,D5)","v":"84Абу Махади Мохаммед Ибрагим"},84,"Абу Махади Мохаммед Ибрагим","50:03:0070280:947","2011-06-22","2011-07-01",{"$f":"INT(($H$327-G5)/30)","v":54},{"$f":"H5*1000","v":54000},{"$f":"49000+1000","v":50000},null,{"$f":"I5-J5-K5","v":4000},800,800,800,800,800,800,800,800,800,800,800,800,{"$f":"SUM(L5:X5)","v":13600},{"$f":"VLOOKUP(A5,справочник!$E$2:$F$322,2,0)","v":0}]
[{"$f":"VLOOKUP(B6,справочник!$B$2:$E$322,4,0)","v":35},{"$f":"CONCATENATE(C6;D6)","v":{"$error":"#VALUE!"}},35,"Абушаев Роман Шамильевич","50:03:0070280:905","2012-03-02","2012-03-01",{"$f":"INT(($H$327-G6)/30)","v":46},{"$f":"H6*1000","v":46000},30000,null,{"$f":"I6-J6-K6","v":16000},800,800,800,800,800,800,800,800,800,800,800,800,{"$f":"SUM(L6:X6)","v":25600},{"$f":"VLOOKUP(A6,справочник!$E$2:$F$322,2,0)","v":0}]
[{"$f":"VLOOKUP(B7,справочник!$B$2:$E$322,4,0)","v":260},{"$f":"CONCATENATE(C7;D7)","v":{"$error":"#VALUE!"}},273,"Аксенов Дмитрий Викторович","50:03:0070280:730","2013-09-23","2013-10-01",{"$f":"INT(($H$327-G7)/30)","v":27},{"$f":"H7*1000","v":27000},19000,null,{"$f":"I7-J7-K7","v":8000},800,800,800,800,800,800,800,800,800,800,800,800,{"$f":"SUM(L7:X7)","v":17600},{"$f":"VLOOKUP(A7,справочник!$E$2:$F$322,2,0)","v":0}]
[{"$f":"VLOOKUP(B8,справочник!$B$2:$E$322,4,0)","v":203},{"$f":"CONCATENATE(C8;D8)","v":{"$error":"#VALUE!"}},213,"Александров Владимир Александрович","50:03:0070280:850","2013-09-03","2013-10-01",{"$f":"INT(($H$327-G8)/30)","v":27},{"$f":"H8*1000","v":27000},26000,null,{"$f":"I8-J8-K8","v":1000},800,800,800,800,800,800,800,800,800,800,800,800,{"$f":"SUM(L8:X8)","v":10600},{"$f":"VLOOKUP(A8,справочник!$E$2:$F$322,2,0)","v":0}]
[{"$f":"VLOOKUP(B9,справочник!$B$2:$E$322,4,0)","v":316},{"$f":"CONCATENATE(C9;D9)","v":{"$error":"#VALUE!"}},"306-307","Алексеев Андрей Олегович","50:03:0070280:997","2011-12-16","2011-12-01",{"$f":"INT(($H$327-G9)/30)","v":49},{"$f":"H9*1000","v":49000},{"$f":"30000+1000+1000","v":32000},null,{"$f":"I9-J9-K9","v":17000},800,800,800,800,800,800,800,800,800,800,800,800,{"$f":"SUM(L9:X9)","v":26600},{"$f":"VLOOKUP(A9,справочник!$E$2:$F$322,2,0)","v":0}]
[{"$f":"VLOOKUP(B10,справочник!$B$2:$E$322,4,0)","v":232},{"$f":"CONCATENATE(C10;D10)","v":{"$error":"#VALUE!"}},241,"Амплеева Мария Александровна","50:03:0070280:894","2013-06-04","2013-07-01",{"$f":"INT(($H$327-G10)/30)","v":30},{"$f":"H10*1000","v":30000},6000,null,{"$f":"I10-J10-K10","v":24000},800,800,800,800,800,800,800,800,800,800,800,800,{"$f":"SUM(L10:X10)","v":33600},{"$f":"VLOOKUP(A10,справочник!$E$2:$F$322,2,0)","v":0}]
[{"$f":"VLOOKUP(B11,справочник!$B$2:$E$322,4,0)","v":277},{"$f":"CONCATENATE(C11;D11)","v":{"$error":"#VALUE!"}},290,"Андреева Любовь Ивановна(у Севастьянова)",null,"2014-07-07","2014-07-01",{"$f":"INT(($H$327-G11)/30)","v":18},{"$f":"H11*1000","v":18000},20000,null,{"$f":"I11-J11-K11","v":-2000},800,800,800,800,800,800,800,800,800,800,800,800,{"$f":"SUM(L11:X11)","v":7600},{"$f":"VLOOKUP(A11,справочник!$E$2:$F$322,2,0)","v":0}]
[{"$f":"VLOOKUP(B12,справочник!$B$2:$E$322,4,0)","v":221},{"$f":"CONCATENATE(C12;D12)","v":{"$error":"#VALUE!"}},230,"Анисимова (Корнеева) Татьяна Николаевна",null,"2014-09-30","2014-10-01",{"$f":"INT(($H$327-G12)/30)","v":15},{"$f":"H12*1000","v":15000},1000,null,{"$f":"I12-J12-K12","v":14000},800,800,800,800,800,800,800,800,800,800,800,800,{"$f":"SUM(L12:X12)","v":23600},{"$f":"VLOOKUP(A12,справочник!$E$2:$F$322,2,0)","v":0}]
[{"$f":"VLOOKUP(B13,справочник!$B$2:$E$322,4,0)","v":259},{"$f":"CONCATENATE(C13;D13)","v":{"$error":"#VALUE!"}},272,"Анисимова Елена Анатольевна","50:03:0070280:731","2013-07-02","2013-08-01",{"$f":"INT(($H$327-G13)/30)","v":29},{"$f":"H13*1000","v":29000},25000,null,{"$f":"I13-J13-K13","v":4000},800,800,800,800,800,800,800,800,800,800,800,800,{"$f":"SUM(L13:X13)","v":13600},{"$f":"VLOOKUP(A13,справочник!$E$2:$F$322,2,0)","v":0}]
[{"$f":"VLOOKUP(B14,справочник!$B$2:$E$322,4,0)","v":109},{"$f":"CONCATENATE(C14;D14)","v":{"$error":"#VALUE!"}},114,"Антипова Жанна Михайловна","50:03:0070280:814","2013-05-20","2013-06-01",{"$f":"INT(($H$327-G14)/30)","v":31},{"$f":"H14*1000","v":31000},10000,null,{"$f":"I14-J14-K14","v":21000},800,800,800,800,800,800,800,800,800,800,800,800,{"$f":"SUM(L14:X14)","v":30600},{"$f":"VLOOKUP(A14,справочник!$E$2:$F$322,2,0)","v":0}]
[{"$f":"VLOOKUP(B15,справочник!$B$2:$E$322,4,0)","v":130},{"$f":"CONCATENATE(C15;D15)","v":{"$error":"#VALUE!"}},137,"Анциферов Алексей Сергеевич","50:03:0070280:973","2011-10-25","2011-11-01",{"$f":"INT(($H$327-G15)/30)","v":50},{"$f":"H15*1000","v":50000},{"$f":"44000+1000","v":45000},5000,{"$f":"I15-J15-K15","v":0},800,800,800,800,800,800,800,800,800,800,800,800,{"$f":"SUM(L15:X15)","v":9600},{"$f":"VLOOKUP(A15,справочник!$E$2:$F$322,2,0)","v":0}]
[{"$f":"VLOOKUP(B16,справочник!$B$2:$E$322,4,0)","v":7},{"$f":"CONCATENATE(C16;D16)","v":{"$error":"#VALUE!"}},7,"Артемьев Сергей Иванович","50:03:0070280:707","2013-07-12","2013-09-01",{"$f":"INT(($H$327-G16)/30)","v":28},{"$f":"H16*1000","v":28000},null,null,{"$f":"I16-J16-K16","v":28000},800,800,800,800,800,800,800,800,800,800,800,800,{"$f":"SUM(L16:X16)","v":37600},{"$f":"VLOOKUP(A16,справочник!$E$2:$F$322,2,0)","v":1}]
[{"$f":"VLOOKUP(B17,справочник!$B$2:$E$322,4,0)","v":7},{"$f":"CONCATENATE(C17;D17)","v":{"$error":"#VALUE!"}},14,"Артемьев Сергей Иванович","50:03:0070280:701","2012-10-22","2012-11-01",{"$f":"INT(($H$327-G17)/30)","v":38},{"$f":"H17*1000","v":38000},27000,null,{"$f":"I17-J17-K17","v":11000},{"$nulls":12},{"$f":"SUM(L17:X17)","v":11000},{"$f":"VLOOKUP(A17,справочник!$E$2:$F$322,2,0)","v":1}]
[{"$f":"VLOOKUP(B18,справочник!$B$2:$E$322,4,0)","v":193},{"$f":"CONCATENATE(C18;D18)","v":{"$error":"#VALUE!"}},201,"Асташкин Павел Александрович(продал???)","50:03:0070280:758",null,null,null,{"$f":"H18*1000","v":0},null,null,{"$f":"I18-J18-K18","v":0},800,800,800,800,800,800,800,800,800,800,800,800,{"$f":"SUM(L18:X18)","v":9600},{"$f":"VLOOKUP(A18,справочник!$E$2:$F$322,2,0)","v":0}]
[{"$f":"VLOOKUP(B19,справочник!$B$2:$E$322,4,0)","v":178},{"$f":"CONCATENATE(C19;D19)","v":{"$error":"#VALUE!"}},186,"Афанасьева Злата Сергеевна","50:03:0070280:761","2014-09-16","2014-11-01",{"$f":"INT(($H$327-G19)/30)","v":14},{"$f":"H19*1000","v":14000},1000,null,{"$f":"I19-J19-K19","v":13000},800,800,800,800,800,800,800,800,800,800,800,800,{"$f":"SUM(L19:X19)","v":22600},{"$f":"VLOOKUP(A19,справочник!$E$2:$F$322,2,0)","v":0}]
[{"$f":"VLOOKUP(B20,справочник!$B$2:$E$322,4,0)","v":119},{"$f":"CONCATENATE(C20;D20)","v":{"$error":"#VALUE!"}},124,"Афян Сасун Аркадиевич","50:03:0070280:1021","2013-05-07","2013-06-01",{"$f":"INT(($H$327-G20)/30)","v":31},{"$f":"H20*1000","v":31000},11000,null,{"$f":"I20-J20-K20","v":20000},800,800,800,800,800,800,800,800,800,800,800,800,{"$f":"SUM(L20:X20)","v":29600},{"$f":"VLOOKUP(A20,справочник!$E$2:$F$322,2,0)","v":0}]
[{"$f":"VLOOKUP(B21,справочник!$B$2:$E$322,4,0)","v":293},{"$f":"CONCATENATE(C21;D21)","v":{"$error":"#VALUE!"}},308,"Ахромеев Андрей Владимирович","50:03:0070280:999","2012-01-20","2012-01-01",{"$f":"INT(($H$327-G21)/30)","v":48},{"$f":"H21*1000","v":48000},{"$f":"11500+24500","v":36000},null,{"$f":"I21-J21-K21","v":12000},800,800,800,800,800,800,800,800,800,800,800,800,{"$f":"SUM(L21:X21)","v":21600},{"$f":"VLOOKUP(A21,справочник!$E$2:$F$322,2,0)","v":0}]
[{"$f":"VLOOKUP(B22,справочник!$B$2:$E$322,4,0)","v":191},{"$f":"CONCATENATE(C22;D22)","v":{"$error":"#VALUE!"}},199,"Бадирьян Тамара Викторовна","50:03:0070280:888",null,null,null,{"$f":"H22*1000","v":0},null,null,{"$f":"I22-J22-K22","v":0},800,800,800,800,800,800,800,800,800,800,800,800,{"$f":"SUM(L22:X22)","v":9600},{"$f":"VLOOKUP(A22,справочник!$E$2:$F$322,2,0)","v":0}]
[{"$f":"VLOOKUP(B23,справочник!$B$2:$E$322,4,0)","v":249},{"$f":"CONCATENATE(C23;D23)","v":{"$error":"#VALUE!"}},260,"Байбикова Рузалия Равилевна / Байбикова Руфия Равилевна","50:03:0070280:785","2013-11-26","2013-12-01",{"$f":"INT(($H$327-G23)/30)","v":25},{"$f":"H23*1000","v":25000},{"$f":"1000","v":1000},null,{"$f":"I23-J23-K23","v":24000},800,800,800,800,800,800,800,800,800,800,800,800,{"$f":"SUM(L23:X23)","v":33600},{"$f":"VLOOKUP(A23,справочник!$E$2:$F$322,2,0)","v":0}]
[{"$f":"VLOOKUP(B24,справочник!$B$2:$E$322,4,0)","v":72},{"$f":"CONCATENATE(C24;D24)","v":{"$error":"#VALUE!"}},78,"Лещёва Ольга Владимировна","50:03:0070280:802","2011-09-07","2011-09-01",{"$f":"INT(($H$327-G24)/30)","v":52},{"$f":"H24*1000","v":52000},{"$f":"19000+1500+2500+23000","v":46000},null,{"$f":"I24-J24-K24","v":6000},800,800,800,800,800,800,800,800,800,800,800,800,{"$f":"SUM(L24:X24)","v":15600},{"$f":"VLOOKUP(A24,справочник!$E$2:$F$322,2,0)","v":0}]
[{"$f":"VLOOKUP(B25,справочник!$B$2:$E$322,4,0)","v":125},{"$f":"CONCATENATE(C25;D25)","v":{"$error":"#VALUE!"}},130,"Безбородова Людмила Михайловна","50:03:0070280:812","2014-11-05","2014-12-01",{"$f":"INT(($H$327-G25)/30)","v":13},{"$f":"H25*1000","v":13000},8000,null,{"$f":"I25-J25-K25","v":5000},800,800,800,800,800,800,800,800,800,800,800,800,{"$f":"SUM(L25:X25)","v":14600},{"$f":"VLOOKUP(A25,справочник!$E$2:$F$322,2,0)","v":0}]
[{"$f":"VLOOKUP(B26,справочник!$B$2:$E$322,4,0)","v":229},{"$f":"CONCATENATE(C26;D26)","v":{"$error":"#VALUE!"}},238,"Безменова Татьяна Игоревна","50:03:0070280:897","2013-04-09","2013-05-01",{"$f":"INT(($H$327-G26)/30)","v":32},{"$f":"H26*1000","v":32000},9000,null,{"$f":"I26-J26-K26","v":23000},800,800,800,800,800,800,800,800,800,800,800,800,{"$f":"SUM(L26:X26)","v":32600},{"$f":"VLOOKUP(A26,справочник!$E$2:$F$322,2,0)","v":0}]
[{"$f":"VLOOKUP(B27,справочник!$B$2:$E$322,4,0)","v":296},{"$f":"CONCATENATE(C27;D27)","v":{"$error":"#VALUE!"}},311,"Бекмансурова Динара Василевна","50:03:0070280:1002","2012-04-09","2012-04-01",{"$f":"INT(($H$327-G27)/30)","v":45},{"$f":"H27*1000","v":45000},1000,null,{"$f":"I27-J27-K27","v":44000},800,800,800,800,800,800,800,800,800,800,800,800,{"$f":"SUM(L27:X27)","v":53600},{"$f":"VLOOKUP(A27,справочник!$E$2:$F$322,2,0)","v":0}]
[{"$f":"VLOOKUP(B28,справочник!$B$2:$E$322,4,0)","v":281},{"$f":"CONCATENATE(C28;D28)","v":{"$error":"#VALUE!"}},293,"Белов Семён Иванович","50:03:0070280:776","2014-05-07","2014-06-01",{"$f":"INT(($H$327-G28)/30)","v":19},{"$f":"H28*1000","v":19000},1000,null,{"$f":"I28-J28-K28","v":18000},800,800,800,800,800,800,800,800,800,800,800,800,{"$f":"SUM(L28:X28)","v":27600},{"$f":"VLOOKUP(A28,справочник!$E$2:$F$322,2,0)","v":0}]
[{"$f":"VLOOKUP(B29,справочник!$B$2:$E$322,4,0)","v":198},{"$f":"CONCATENATE(C29;D29)","v":{"$error":"#VALUE!"}},206,"Белоглазова Людмила Ивановна","50:03:0070280:983","2011-09-30","2011-09-01",{"$f":"INT(($H$327-G29)/30)","v":52},{"$f":"H29*1000","v":52000},{"$f":"50000+1000","v":51000},1000,{"$f":"I29-J29-K29","v":0},800,800,800,800,800,800,800,800,800,800,800,800,{"$f":"SUM(L29:X29)","v":9600},{"$f":"VLOOKUP(A29,справочник!$E$2:$F$322,2,0)","v":0}]
[{"$f":"VLOOKUP(B30,справочник!$B$2:$E$322,4,0)","v":52},{"$f":"CONCATENATE(C30;D30)","v":{"$error":"#VALUE!"}},54,"Бельская Светлана Александровна (Владимир)","50:03:0070280:945","2012-04-17","2012-04-01",{"$f":"INT(($H$327-G30)/30)","v":45},{"$f":"H30*1000","v":45000},40000,5000,5000,800,800,800,800,800,800,800,800,800,800,800,800,{"$f":"SUM(L30:X30)","v":14600},{"$f":"VLOOKUP(A30,справочник!$E$2:$F$322,2,0)","v":0}]
[{"$f":"VLOOKUP(B31,справочник!$B$2:$E$322,4,0)","v":51},{"$f":"CONCATENATE(C31;D31)","v":{"$error":"#VALUE!"}},53,"Бельский Владимир Владимирович (Светлана)","50:03:0070280:966","2012-04-17","2012-04-01",{"$f":"INT(($H$327-G31)/30)","v":45},{"$f":"H31*1000","v":45000},28000,7000,5000,800,800,800,800,800,800,800,800,800,800,800,800,{"$f":"SUM(L31:X31)","v":14600},{"$f":"VLOOKUP(A31,справочник!$E$2:$F$322,2,0)","v":0}]
[{"$f":"VLOOKUP(B32,справочник!$B$2:$E$322,4,0)","v":136},{"$f":"CONCATENATE(C32;D32)","v":{"$error":"#VALUE!"}},144,"Беляков Виктор Михайлович","50:03:0070280:940","2012-10-22","2012-11-01",{"$f":"INT(($H$327-G32)/30)","v":38},{"$f":"H32*1000","v":38000},28000,null,{"$f":"I32-J32-K32","v":10000},800,800,800,800,800,800,800,800,800,800,800,800,{"$f":"SUM(L32:X32)","v":19600},{"$f":"VLOOKUP(A32,справочник!$E$2:$F$322,2,0)","v":0}]
[{"$f":"VLOOKUP(B33,справочник!$B$2:$E$322,4,0)","v":11},{"$f":"CONCATENATE(C33;D33)","v":{"$error":"#VALUE!"}},11,"Бенгя Владимир Михайлович (Диана)","50:03:0070280:704","2012-10-22","2012-11-01",{"$f":"INT(($H$327-G33)/30)","v":38},{"$f":"H33*1000","v":38000},26000,null,{"$f":"I33-J33-K33","v":12000},800,800,800,800,800,800,800,800,800,800,800,800,{"$f":"SUM(L33:X33)","v":21600},{"$f":"VLOOKUP(A33,справочник!$E$2:$F$322,2,0)","v":0}]
[{"$f":"VLOOKUP(B34,справочник!$B$2:$E$322,4,0)","v":114},{"$f":"CONCATENATE(C34;D34)","v":{"$error":"#VALUE!"}},119,"Беспаленко Зинаида Александровна","50:03:0070280:1024","2012-12-19","2013-01-01",{"$f":"INT(($H$327-G34)/30)","v":36},{"$f":"H34*1000","v":36000},1000,null,{"$f":"I34-J34-K34","v":35000},800,800,800,800,800,800,800,800,800,800,800,800,{"$f":"SUM(L34:X34)","v":44600},{"$f":"VLOOKUP(A34,справочник!$E$2:$F$322,2,0)","v":0}]
[{"$f":"VLOOKUP(B35,справочник!$B$2:$E$322,4,0)","v":151},{"$f":"CONCATENATE(C35;D35)","v":{"$error":"#VALUE!"}},159,"Бирюков Александр Сергеевич","50:03:0070280:960","2012-07-31","2012-08-01",{"$f":"INT(($H$327-G35)/30)","v":41},{"$f":"H35*1000","v":41000},17000,null,{"$f":"I35-J35-K35","v":24000},800,800,800,800,800,800,800,800,800,800,800,800,{"$f":"SUM(L35:X35)","v":33600},{"$f":"VLOOKUP(A35,справочник!$E$2:$F$322,2,0)","v":0}]
[{"$f":"VLOOKUP(B36,справочник!$B$2:$E$322,4,0)","v":142},{"$f":"CONCATENATE(C36;D36)","v":{"$error":"#VALUE!"}},150,"Блинков Анатолий Сергеевич","50:03:0070280:951","2011-08-16","2011-09-01",{"$f":"INT(($H$327-G36)/30)","v":52},{"$f":"H36*1000","v":52000},{"$f":"32000+1000","v":33000},19000,{"$f":"I36-J36-K36","v":0},800,800,800,800,800,800,800,800,800,800,800,800,{"$f":"SUM(L36:X36)","v":9600},{"$f":"VLOOKUP(A36,справочник!$E$2:$F$322,2,0)","v":0}]
[{"$f":"VLOOKUP(B37,справочник!$B$2:$E$322,4,0)","v":245},{"$f":"CONCATENATE(C37;D37)","v":{"$error":"#VALUE!"}},256,"Бондарев Станислав Дмитриевич","50:03:0070280:789","2014-10-18","2014-11-01",{"$f":"INT(($H$327-G37)/30)","v":14},{"$f":"H37*1000","v":14000},9000,null,{"$f":"I37-J37-K37","v":5000},800,800,800,800,800,800,800,800,800,800,800,800,{"$f":"SUM(L37:X37)","v":14600},{"$f":"VLOOKUP(A37,справочник!$E$2:$F$322,2,0)","v":0}]
[{"$f":"VLOOKUP(B38,справочник!$B$2:$E$322,4,0)","v":188},{"$f":"CONCATENATE(C38;D38)","v":{"$error":"#VALUE!"}},196,"Бондаренко Владимир Иванович","50:03:0070280:1773","2014-02-04","2014-03-01",{"$f":"INT(($H$327-G38)/30)","v":22},{"$f":"H38*1000","v":22000},10000,null,{"$f":"I38-J38-K38","v":12000},800,800,800,800,800,800,800,800,800,800,800,800,{"$f":"SUM(L38:X38)","v":21600},{"$f":"VLOOKUP(A38,справочник!$E$2:$F$322,2,0)","v":1}]
[{"$f":"VLOOKUP(B39,справочник!$B$2:$E$322,4,0)","v":188},{"$f":"CONCATENATE(C39;D39)","v":{"$error":"#VALUE!"}},197,"Бондаренко Владимир Иванович",null,"2014-02-04","2014-03-01",{"$f":"INT(($H$327-G39)/30)","v":22},{"$f":"H39*1000","v":22000},null,null,{"$f":"I39-J39-K39","v":22000},{"$nulls":12},{"$f":"SUM(L39:X39)","v":22000},{"$f":"VLOOKUP(A39,справочник!$E$2:$F$322,2,0)","v":1}]
[{"$f":"VLOOKUP(B40,справочник!$B$2:$E$322,4,0)","v":219},{"$f":"CONCATENATE(C40;D40)","v":{"$error":"#VALUE!"}},228,"Бондарь Василий Дмитриевич","50:03:0070280:835","2014-07-28","2014-09-01",{"$f":"INT(($H$327-G40)/30)","v":16},{"$f":"H40*1000","v":16000},13000,3000,{"$f":"I40-J40-K40","v":0},800,800,800,800,800,800,800,800,800,800,800,800,{"$f":"SUM(L40:X40)","v":9600},{"$f":"VLOOKUP(A40,справочник!$E$2:$F$322,2,0)","v":0}]
[{"$f":"VLOOKUP(B41,справочник!$B$2:$E$322,4,0)","v":223},{"$f":"CONCATENATE(C41;D41)","v":{"$error":"#VALUE!"}},232,"Борисов Олег Александрович","50:03:0070280:831","2012-02-16","2012-02-01",{"$f":"INT(($H$327-G41)/30)","v":47},{"$f":"H41*1000","v":47000},1000,45000,{"$f":"I41-J41-K41","v":1000},800,800,800,800,800,800,800,800,800,800,800,800,{"$f":"SUM(L41:X41)","v":10600},{"$f":"VLOOKUP(A41,справочник!$E$2:$F$322,2,0)","v":0}]
[{"$f":"VLOOKUP(B42,справочник!$B$2:$E$322,4,0)","v":137},{"$f":"CONCATENATE(C42;D42)","v":{"$error":"#VALUE!"}},145,"Бранцова Татьяна Валерьевна","50:03:0070280:986","2012-05-01","2012-05-01",{"$f":"INT(($H$327-G42)/30)","v":44},{"$f":"H42*1000","v":44000},44000,null,{"$f":"I42-J42-K42","v":0},800,800,800,800,800,800,800,800,800,800,800,800,{"$f":"SUM(L42:X42)","v":9600},{"$f":"VLOOKUP(A42,справочник!$E$2:$F$322,2,0)","v":0}]
[{"$f":"VLOOKUP(B43,справочник!$B$2:$E$322,4,0)","v":105},{"$f":"CONCATENATE(C43;D43)","v":{"$error":"#VALUE!"}},110,"Брылёв Андрей Вячеславович","50:03:0070280:818","2012-01-17","2012-01-01",{"$f":"INT(($H$327-G43)/30)","v":48},{"$f":"H43*1000","v":48000},28000,null,{"$f":"I43-J43-K43","v":20000},800,800,800,800,800,800,800,800,800,800,800,800,{"$f":"SUM(L43:X43)","v":29600},{"$f":"VLOOKUP(A43,справочник!$E$2:$F$322,2,0)","v":0}]
[{"$f":"VLOOKUP(B44,справочник!$B$2:$E$322,4,0)","v":98},{"$f":"CONCATENATE(C44;D44)","v":{"$error":"#VALUE!"}},103,"Бугрова Вероника Артуровна","50:03:0070280:797","2011-12-20","2011-12-01",{"$f":"INT(($H$327-G44)/30)","v":49},{"$f":"H44*1000","v":49000},{"$f":"29000+1000","v":30000},null,{"$f":"I44-J44-K44","v":19000},800,800,800,800,800,800,800,800,800,800,800,800,{"$f":"SUM(L44:X44)","v":28600},{"$f":"VLOOKUP(A44,справочник!$E$2:$F$322,2,0)","v":0}]
[{"$f":"VLOOKUP(B45,справочник!$B$2:$E$322,4,0)","v":274},{"$f":"CONCATENATE(C45;D45)","v":{"$error":"#VALUE!"}},287,"Будаев Андрей Анатольевич",null,"2015-01-19","2015-02-01",{"$f":"INT(($H$327-G45)/30)","v":11},{"$f":"H45*1000","v":11000},2000,null,{"$f":"I45-J45-K45","v":9000},800,800,800,800,800,800,800,800,800,800,800,800,{"$f":"SUM(L45:X45)","v":18600},{"$f":"VLOOKUP(A45,справочник!$E$2:$F$322,2,0)","v":1}]
[{"$f":"VLOOKUP(B46,справочник!$B$2:$E$322,4,0)","v":274},{"$f":"CONCATENATE(C46;D46)","v":{"$error":"#VALUE!"}},295,"Будаев Андрей Анатольевич",null,"2015-01-19","2015-02-01",{"$f":"INT(($H$327-G46)/30)","v":11},{"$f":"H46*1000","v":11000},null,null,{"$f":"I46-J46-K46","v":11000},{"$nulls":12},{"$f":"SUM(L46:X46)","v":11000},{"$f":"VLOOKUP(A46,справочник!$E$2:$F$322,2,0)","v":1}]
[{"$f":"VLOOKUP(B47,справочник!$B$2:$E$322,4,0)","v":175},{"$f":"CONCATENATE(C47;D47)","v":{"$error":"#VALUE!"}},183,"Буланова Лилия Михайловна","50:03:0070280:921","2014-08-14","2014-09-01",{"$f":"INT(($H$327-G47)/30)","v":16},{"$f":"H47*1000","v":16000},null,null,{"$f":"I47-J47-K47","v":16000},800,800,800,800,800,800,800,800,800,800,800,800,{"$f":"SUM(L47:X47)","v":25600},{"$f":"VLOOKUP(A47,справочник!$E$2:$F$322,2,0)","v":1}]
[{"$f":"VLOOKUP(B48,справочник!$B$2:$E$322,4,0)","v":175},{"$f":"CONCATENATE(C48;D48)","v":{"$error":"#VALUE!"}},187,"Буланова Лилия Михайловна","50:03:0070280:919","2014-08-14","2014-09-01",{"$f":"INT(($H$327-G48)/30)","v":16},{"$f":"H48*1000","v":16000},null,null,{"$f":"I48-J48-K48","v":16000},{"$nulls":12},{"$f":"SUM(L48:X48)","v":16000},{"$f":"VLOOKUP(A48,справочник!$E$2:$F$322,2,0)","v":1}]
[{"$f":"VLOOKUP(B49,справочник!$B$2:$E$322,4,0)","v":303},{"$f":"CONCATENATE(C49;D49)","v":{"$error":"#VALUE!"}},318,"Бурдух Юрие","50:03:0070280:1009","2014-12-29","2015-01-01",{"$f":"INT(($H$327-G49)/30)","v":12},{"$f":"H49*1000","v":12000},null,null,{"$f":"I49-J49-K49","v":12000},800,800,800,800,800,800,800,800,800,800,800,800,{"$f":"SUM(L49:X49)","v":21600},{"$f":"VLOOKUP(A49,справочник!$E$2:$F$322,2,0)","v":1}]
[{"$f":"VLOOKUP(B50,справочник!$B$2:$E$322,4,0)","v":303},{"$f":"CONCATENATE(C50;D50)","v":{"$error":"#VALUE!"}},319,"Бурдух Юрие","50:03:0070280:1010","2014-12-29","2015-01-01",{"$f":"INT(($H$327-G50)/30)","v":12},{"$f":"H50*1000","v":12000},null,null,{"$f":"I50-J50-K50","v":12000},{"$nulls":12},{"$f":"SUM(L50:X50)","v":12000},{"$f":"VLOOKUP(A50,справочник!$E$2:$F$322,2,0)","v":1}]
[{"$f":"VLOOKUP(B51,справочник!$B$2:$E$322,4,0)","v":90},{"$f":"CONCATENATE(C51;D51)","v":{"$error":"#VALUE!"}},95,"Быданцева Нина Юрьевна","50:03:0070280:825","2011-09-09","2011-09-01",{"$f":"INT(($H$327-G51)/30)","v":52},{"$f":"H51*1000","v":52000},{"$f":"36000+4000+12000","v":52000},null,{"$f":"I51-J51-K51","v":0},800,800,800,800,800,800,800,800,800,800,800,800,{"$f":"SUM(L51:X51)","v":9600},{"$f":"VLOOKUP(A51,справочник!$E$2:$F$322,2,0)","v":0}]
[{"$f":"VLOOKUP(B52,справочник!$B$2:$E$322,4,0)","v":206},{"$f":"CONCATENATE(C52;D52)","v":{"$error":"#VALUE!"}},216,"Валеев Артур Рашидович","50:03:0070280:1423","2012-02-14","2012-02-01",{"$f":"INT(($H$327-G52)/30)","v":47},{"$f":"H52*1000","v":47000},38000,null,{"$f":"I52-J52-K52","v":9000},800,800,800,800,800,800,800,800,800,800,800,800,{"$f":"SUM(L52:X52)","v":18600},{"$f":"VLOOKUP(A52,справочник!$E$2:$F$322,2,0)","v":0}]
[{"$f":"VLOOKUP(B53,справочник!$B$2:$E$322,4,0)","v":101},{"$f":"CONCATENATE(C53;D53)","v":{"$error":"#VALUE!"}},106,"Васильев Николай Владимирович","50:03:0070280:798","2011-09-30","2011-09-01",{"$f":"INT(($H$327-G53)/30)","v":52},{"$f":"H53*1000","v":52000},{"$f":"42000+1000","v":43000},null,{"$f":"I53-J53-K53","v":9000},800,800,800,800,800,800,800,800,800,800,800,800,{"$f":"SUM(L53:X53)","v":18600},{"$f":"VLOOKUP(A53,справочник!$E$2:$F$322,2,0)","v":0}]
[{"$f":"VLOOKUP(B54,справочник!$B$2:$E$322,4,0)","v":86},{"$f":"CONCATENATE(C54;D54)","v":{"$error":"#VALUE!"}},91,"Васильева Ольга Александровна","50:03:0070280:866","2011-10-31","2011-11-01",{"$f":"INT(($H$327-G54)/30)","v":50},{"$f":"H54*1000","v":50000},{"$f":"34000+13000","v":47000},4000,{"$f":"I54-J54-K54","v":-1000},800,800,800,800,800,800,800,800,800,800,800,800,{"$f":"SUM(L54:X54)","v":8600},{"$f":"VLOOKUP(A54,справочник!$E$2:$F$322,2,0)","v":0}]
[{"$f":"VLOOKUP(B55,справочник!$B$2:$E$322,4,0)","v":43},{"$f":"CONCATENATE(C55;D55)","v":{"$error":"#VALUE!"}},43,"Васильцова Елена Владимировна","50:03:0070280:972","2011-08-31","2011-09-01",{"$f":"INT(($H$327-G55)/30)","v":52},{"$f":"H55*1000","v":52000},{"$f":"27000+2000","v":29000},null,{"$f":"I55-J55-K55","v":23000},800,800,800,800,800,800,800,800,800,800,800,800,{"$f":"SUM(L55:X55)","v":32600},{"$f":"VLOOKUP(A55,справочник!$E$2:$F$322,2,0)","v":0}]
[{"$f":"VLOOKUP(B56,справочник!$B$2:$E$322,4,0)","v":25},{"$f":"CONCATENATE(C56;D56)","v":{"$error":"#VALUE!"}},25,"Вершинина Елена Анатольевна","50:03:0070280:854","2012-02-16","2012-02-01",{"$f":"INT(($H$327-G56)/30)","v":47},{"$f":"H56*1000","v":47000},{"$f":"33000+11000","v":44000},3000,{"$f":"I56-J56-K56","v":0},800,800,800,800,800,800,800,800,800,800,800,800,{"$f":"SUM(L56:X56)","v":9600},{"$f":"VLOOKUP(A56,справочник!$E$2:$F$322,2,0)","v":0}]
[{"$f":"VLOOKUP(B57,справочник!$B$2:$E$322,4,0)","v":138},{"$f":"CONCATENATE(C57;D57)","v":{"$error":"#VALUE!"}},146,"Виноградова Наталья Дмитриевна (Николай)","50:03:0070280:987","2011-08-29","2011-08-01",{"$f":"INT(($H$327-G57)/30)","v":53},{"$f":"H57*1000","v":53000},{"$f":"53000","v":53000},null,{"$f":"I57-J57-K57","v":0},800,800,800,800,800,800,800,800,800,800,800,800,{"$f":"SUM(L57:X57)","v":9600},{"$f":"VLOOKUP(A57,справочник!$E$2:$F$322,2,0)","v":0}]
[{"$f":"VLOOKUP(B58,справочник!$B$2:$E$322,4,0)","v":228},{"$f":"CONCATENATE(C58;D58)","v":{"$error":"#VALUE!"}},237,"Виртилецкий Денис Вячеславович","50:03:0070280:898","2014-03-05","2014-04-01",{"$f":"INT(($H$327-G58)/30)","v":21},{"$f":"H58*1000","v":21000},null,null,{"$f":"I58-J58-K58","v":21000},800,800,800,800,800,800,800,800,800,800,800,800,{"$f":"SUM(L58:X58)","v":30600},{"$f":"VLOOKUP(A58,справочник!$E$2:$F$322,2,0)","v":0}]
[{"$f":"VLOOKUP(B59,справочник!$B$2:$E$322,4,0)","v":37},{"$f":"CONCATENATE(C59;D59)","v":{"$error":"#VALUE!"}},37,"Водянова Ольга Александровна","50:03:0070280:907","2011-09-09","2011-09-01",{"$f":"INT(($H$327-G59)/30)","v":52},{"$f":"H59*1000","v":52000},{"$f":"48000+4000","v":52000},null,{"$f":"I59-J59-K59","v":0},800,800,800,800,800,800,800,800,800,800,800,800,{"$f":"SUM(L59:X59)","v":9600},{"$f":"VLOOKUP(A59,справочник!$E$2:$F$322,2,0)","v":0}]
[{"$f":"VLOOKUP(B60,справочник!$B$2:$E$322,4,0)","v":126},{"$f":"CONCATENATE(C60;D60)","v":{"$error":"#VALUE!"}},131,"Волгушев Дмитрий Геннадиевич","50:03:0070280:813","2012-10-01","2012-12-01",{"$f":"INT(($H$327-G60)/30)","v":37},{"$f":"H60*1000","v":37000},{"$f":"24000","v":24000},13000,{"$f":"I60-J60-K60","v":0},800,800,800,800,800,800,800,800,800,800,800,800,{"$f":"SUM(L60:X60)","v":9600},{"$f":"VLOOKUP(A60,справочник!$E$2:$F$322,2,0)","v":0}]
[{"$f":"VLOOKUP(B61,справочник!$B$2:$E$322,4,0)","v":58},{"$f":"CONCATENATE(C61;D61)","v":{"$error":"#VALUE!"}},60,"Володина Инна Александровна","50:03:0070280:961","2013-01-29","2013-02-01",{"$f":"INT(($H$327-G61)/30)","v":35},{"$f":"H61*1000","v":35000},{"$f":"31000","v":31000},null,{"$f":"I61-J61-K61","v":4000},800,800,800,800,800,800,800,800,800,800,800,800,{"$f":"SUM(L61:X61)","v":13600},{"$f":"VLOOKUP(A61,справочник!$E$2:$F$322,2,0)","v":0}]
[{"$f":"VLOOKUP(B62,справочник!$B$2:$E$322,4,0)","v":117},{"$f":"CONCATENATE(C62;D62)","v":{"$error":"#VALUE!"}},122,"Вольский Андрей Юрьевич","50:03:0070280:1019","2013-05-13","2013-06-01",{"$f":"INT(($H$327-G62)/30)","v":31},{"$f":"H62*1000","v":31000},{"$f":"12000","v":12000},null,{"$f":"I62-J62-K62","v":19000},800,800,800,800,800,800,800,800,800,800,800,800,{"$f":"SUM(L62:X62)","v":28600},{"$f":"VLOOKUP(A62,справочник!$E$2:$F$322,2,0)","v":0}]
[{"$f":"VLOOKUP(B63,справочник!$B$2:$E$322,4,0)","v":61},{"$f":"CONCATENATE(C63;D63)","v":{"$error":"#VALUE!"}},63,"Высоких Антон Маркович","50:03:0070280:932","2012-01-13","2012-01-01",{"$f":"INT(($H$327-G63)/30)","v":48},{"$f":"H63*1000","v":48000},{"$f":"27000","v":27000},null,{"$f":"I63-J63-K63","v":21000},800,800,800,800,800,800,800,800,800,800,800,800,{"$f":"SUM(L63:X63)","v":30600},{"$f":"VLOOKUP(A63,справочник!$E$2:$F$322,2,0)","v":0}]
[{"$f":"VLOOKUP(B64,справочник!$B$2:$E$322,4,0)","v":294},{"$f":"CONCATENATE(C64;D64)","v":{"$error":"#VALUE!"}},309,"Гайкова (Дьякова) Мария Викторовна","50:03:0070280:1000","2012-02-14","2012-02-01",{"$f":"INT(($H$327-G64)/30)","v":47},{"$f":"H64*1000","v":47000},47000,null,{"$f":"I64-J64-K64","v":0},800,800,800,800,800,800,800,800,800,800,800,800,{"$f":"SUM(L64:X64)","v":9600},{"$f":"VLOOKUP(A64,справочник!$E$2:$F$322,2,0)","v":0}]
[{"$f":"VLOOKUP(B65,справочник!$B$2:$E$322,4,0)","v":286},{"$f":"CONCATENATE(C65;D65)","v":{"$error":"#VALUE!"}},298,"Ганин Александр Борисович","50:03:0070280:781","2014-06-01","2014-06-01",{"$f":"INT(($H$327-G65)/30)","v":19},{"$f":"H65*1000","v":19000},19000,null,{"$f":"I65-J65-K65","v":0},800,800,800,800,800,800,800,800,800,800,800,800,{"$f":"SUM(L65:X65)","v":9600},{"$f":"VLOOKUP(A65,справочник!$E$2:$F$322,2,0)","v":0}]
[{"$f":"VLOOKUP(B66,справочник!$B$2:$E$322,4,0)","v":64},{"$f":"CONCATENATE(C66;D66)","v":{"$error":"#VALUE!"}},66,"Горбунов Владимир Александрович","50:03:0070280:935","2011-08-17","2011-08-01",{"$f":"INT(($H$327-G66)/30)","v":53},{"$f":"H66*1000","v":53000},{"$f":"1000+45000","v":46000},null,{"$f":"I66-J66-K66","v":7000},800,800,800,800,800,800,800,800,800,800,800,800,{"$f":"SUM(L66:X66)","v":16600},{"$f":"VLOOKUP(A66,справочник!$E$2:$F$322,2,0)","v":0}]
[{"$f":"VLOOKUP(B67,справочник!$B$2:$E$322,4,0)","v":94},{"$f":"CONCATENATE(C67;D67)","v":{"$error":"#VALUE!"}},99,"Горбунов Максим Николаевич","50:03:0070280:860","2011-08-19","2011-08-01",{"$f":"INT(($H$327-G67)/30)","v":53},{"$f":"H67*1000","v":53000},{"$f":"42000+5000","v":47000},null,{"$f":"I67-J67-K67","v":6000},800,800,800,800,800,800,800,800,800,800,800,800,{"$f":"SUM(L67:X67)","v":15600},{"$f":"VLOOKUP(A67,справочник!$E$2:$F$322,2,0)","v":0}]
[{"$f":"VLOOKUP(B68,справочник!$B$2:$E$322,4,0)","v":39},{"$f":"CONCATENATE(C68;D68)","v":{"$error":"#VALUE!"}},39,"Гордейчик Игорь Борисович","50:03:0070280:909","2011-06-04","2011-06-01",{"$f":"INT(($H$327-G68)/30)","v":55},{"$f":"H68*1000","v":55000},{"$f":"1000+42000","v":43000},null,{"$f":"I68-J68-K68","v":12000},800,800,800,800,800,800,800,800,800,800,800,800,{"$f":"SUM(L68:X68)","v":21600},{"$f":"VLOOKUP(A68,справочник!$E$2:$F$322,2,0)","v":0}]
[{"$f":"VLOOKUP(B69,справочник!$B$2:$E$322,4,0)","v":276},{"$f":"CONCATENATE(C69;D69)","v":{"$error":"#VALUE!"}},289,"Горянов Михаил Андреевич","50:03:0070280:780","2011-12-13","2011-12-01",{"$f":"INT(($H$327-G69)/30)","v":49},{"$f":"H69*1000","v":49000},{"$f":"1000+36000","v":37000},null,{"$f":"I69-J69-K69","v":12000},800,800,800,800,800,800,800,800,800,800,800,800,{"$f":"SUM(L69:X69)","v":21600},{"$f":"VLOOKUP(A69,справочник!$E$2:$F$322,2,0)","v":0}]
[{"$f":"VLOOKUP(B70,справочник!$B$2:$E$322,4,0)","v":148},{"$f":"CONCATENATE(C70;D70)","v":{"$error":"#VALUE!"}},156,"Горячев Дмитрий Николаевич","50:03:0070280:957","2012-04-09","2012-04-01",{"$f":"INT(($H$327-G70)/30)","v":45},{"$f":"H70*1000","v":45000},{"$f":"12000","v":12000},null,{"$f":"I70-J70-K70","v":33000},800,800,800,800,800,800,800,800,800,800,800,800,{"$f":"SUM(L70:X70)","v":42600},{"$f":"VLOOKUP(A70,справочник!$E$2:$F$322,2,0)","v":0}]
[{"$f":"VLOOKUP(B71,справочник!$B$2:$E$322,4,0)","v":308},{"$f":"CONCATENATE(C71;D71)","v":{"$error":"#VALUE!"}},323,"Губарева Татьяна Григорьевна","50:03:0070280:1017","2015-01-21","2015-02-01",{"$f":"INT(($H$327-G71)/30)","v":11},{"$f":"H71*1000","v":11000},3000,null,{"$f":"I71-J71-K71","v":8000},800,800,800,800,800,800,800,800,800,800,800,800,{"$f":"SUM(L71:X71)","v":17600},{"$f":"VLOOKUP(A71,справочник!$E$2:$F$322,2,0)","v":0}]
[{"$f":"VLOOKUP(B72,справочник!$B$2:$E$322,4,0)","v":318},{"$f":"CONCATENATE(C72;D72)","v":{"$error":"#VALUE!"}},"71-72","Гусева Светлана Григорьевна","50:03:0070280:753","2011-05-31","2011-07-01",{"$f":"INT(($H$327-G72)/30)","v":54},{"$f":"H72*1000*2","v":108000},{"$f":"2000+102000","v":104000},4000,{"$f":"I72-J72-K72","v":0},800,800,800,800,800,800,800,800,800,800,800,800,{"$f":"SUM(L72:X72)","v":9600},{"$f":"VLOOKUP(A72,справочник!$E$2:$F$322,2,0)","v":0}]
[{"$f":"VLOOKUP(B73,справочник!$B$2:$E$322,4,0)","v":236},{"$f":"CONCATENATE(C73;D73)","v":{"$error":"#VALUE!"}},245,"Давыдова Анна Сергеевна","50:03:0070280:875","2012-02-06","2012-02-01",{"$f":"INT(($H$327-G73)/30)","v":47},{"$f":"H73*1000","v":47000},{"$f":"18000+11000","v":29000},null,{"$f":"I73-J73-K73","v":18000},800,800,800,800,800,800,800,800,800,800,800,800,{"$f":"SUM(L73:X73)","v":27600},{"$f":"VLOOKUP(A73,справочник!$E$2:$F$322,2,0)","v":0}]
[{"$f":"VLOOKUP(B74,справочник!$B$2:$E$322,4,0)","v":226},{"$f":"CONCATENATE(C74;D74)","v":{"$error":"#VALUE!"}},235,"Данильянц Юрий Константинович","50:03:0070280:900","2014-04-10","2014-05-01",{"$f":"INT(($H$327-G74)/30)","v":20},{"$f":"H74*1000","v":20000},null,null,{"$f":"I74-J74-K74","v":20000},800,800,800,800,800,800,800,800,800,800,800,800,{"$f":"SUM(L74:X74)","v":29600},{"$f":"VLOOKUP(A74,справочник!$E$2:$F$322,2,0)","v":0}]
[{"$f":"VLOOKUP(B75,справочник!$B$2:$E$322,4,0)","v":285},{"$f":"CONCATENATE(C75;D75)","v":{"$error":"#VALUE!"}},297,"Даточный Алексей Валерьевич","50:03:0070280:782",null,null,null,19000,19000,null,{"$f":"I75-J75-K75","v":0},800,800,800,800,800,800,800,800,800,800,800,800,{"$f":"SUM(L75:X75)","v":9600},{"$f":"VLOOKUP(A75,справочник!$E$2:$F$322,2,0)","v":0}]
[{"$f":"VLOOKUP(B76,справочник!$B$2:$E$322,4,0)","v":24},{"$f":"CONCATENATE(C76;D76)","v":{"$error":"#VALUE!"}},24,"Двойрина Юлия Владимировна","50:03:0070280:746","2012-08-20","2012-09-01",{"$f":"INT(($H$327-G76)/30)","v":40},{"$f":"H76*1000","v":40000},30000,null,{"$f":"I76-J76-K76","v":10000},800,800,800,800,800,800,800,800,800,800,800,800,{"$f":"SUM(L76:X76)","v":19600},{"$f":"VLOOKUP(A76,справочник!$E$2:$F$322,2,0)","v":0}]
[{"$f":"VLOOKUP(B77,справочник!$B$2:$E$322,4,0)","v":50},{"$f":"CONCATENATE(C77;D77)","v":{"$error":"#VALUE!"}},50,"Денисов Дмитрий Алексеевич","50:03:0070280:969","2011-09-07","2011-09-01",{"$f":"INT(($H$327-G77)/30)","v":52},{"$f":"H77*1000","v":52000},{"$f":"1000+41000","v":42000},null,{"$f":"I77-J77-K77","v":10000},800,800,800,800,800,800,800,800,800,800,800,800,{"$f":"SUM(L77:X77)","v":19600},{"$f":"VLOOKUP(A77,справочник!$E$2:$F$322,2,0)","v":0}]
[{"$f":"VLOOKUP(B78,справочник!$B$2:$E$322,4,0)","v":122},{"$f":"CONCATENATE(C78;D78)","v":{"$error":"#VALUE!"}},127,"Денисов Сергей Александрович","50:03:0070280:807","2012-01-30","2012-02-01",{"$f":"INT(($H$327-G78)/30)","v":47},{"$f":"H78*1000","v":47000},37000,10000,{"$f":"I78-J78-K78","v":0},800,800,800,800,800,800,800,800,800,800,800,800,{"$f":"SUM(L78:X78)","v":9600},{"$f":"VLOOKUP(A78,справочник!$E$2:$F$322,2,0)","v":0}]
[{"$f":"VLOOKUP(B79,справочник!$B$2:$E$322,4,0)","v":301},{"$f":"CONCATENATE(C79;D79)","v":{"$error":"#VALUE!"}},316,"Десюкова Марина Александровна","50:03:0070280:1007","2014-11-26","2014-12-01",{"$f":"INT(($H$327-G79)/30)","v":13},{"$f":"H79*1000","v":13000},1000,null,{"$f":"I79-J79-K79","v":12000},800,800,800,800,800,800,800,800,800,800,800,800,{"$f":"SUM(L79:X79)","v":21600},{"$f":"VLOOKUP(A79,справочник!$E$2:$F$322,2,0)","v":0}]
[{"$f":"VLOOKUP(B80,справочник!$B$2:$E$322,4,0)","v":18},{"$f":"CONCATENATE(C80;D80)","v":{"$error":"#VALUE!"}},18,"Дидушко Денис Васильевич (Василий)","50:03:0070280:822","2013-06-04","2013-08-01",{"$f":"INT(($H$327-G80)/30)","v":29},{"$f":"H80*1000","v":29000},29000,null,{"$f":"I80-J80-K80","v":0},800,800,800,800,800,800,800,800,800,800,800,800,{"$f":"SUM(L80:X80)","v":9600},{"$f":"VLOOKUP(A80,справочник!$E$2:$F$322,2,0)","v":0}]
[{"$f":"VLOOKUP(B81,справочник!$B$2:$E$322,4,0)","v":155},{"$f":"CONCATENATE(C81;D81)","v":{"$error":"#VALUE!"}},163,"Дорошенко Владимир Алексеевич","50:03:0070280:985","2013-08-05","2013-09-01",{"$f":"INT(($H$327-G81)/30)","v":28},{"$f":"H81*1000","v":28000},28000,2000,{"$f":"I81-J81-K81","v":-2000},800,800,800,800,800,800,800,800,800,800,800,800,{"$f":"SUM(L81:X81)","v":7600},{"$f":"VLOOKUP(A81,справочник!$E$2:$F$322,2,0)","v":0}]
[{"$f":"VLOOKUP(B82,справочник!$B$2:$E$322,4,0)","v":44},{"$f":"CONCATENATE(C82;D82)","v":{"$error":"#VALUE!"}},44,"Дубов Александр Сергеевич","50:03:0070280:802","2012-07-10","2012-07-01",{"$f":"INT(($H$327-G82)/30)","v":42},{"$f":"H82*1000","v":42000},{"$f":"21000+6000","v":27000},13000,{"$f":"I82-J82-K82","v":2000},800,800,800,800,800,800,800,800,800,800,800,800,{"$f":"SUM(L82:X82)","v":11600},{"$f":"VLOOKUP(A82,справочник!$E$2:$F$322,2,0)","v":0}]
[{"$f":"VLOOKUP(B83,справочник!$B$2:$E$322,4,0)","v":132},{"$f":"CONCATENATE(C83;D83)","v":{"$error":"#VALUE!"}},139,"Евглевская Ольга Борисовна","50:03:0070280:975","2011-05-27","2011-06-01",{"$f":"INT(($H$327-G83)/30)","v":55},{"$f":"H83*1000","v":55000},{"$f":"41000+1000","v":42000},null,{"$f":"I83-J83-K83","v":13000},800,800,800,800,800,800,800,800,800,800,800,800,{"$f":"SUM(L83:X83)","v":22600},{"$f":"VLOOKUP(A83,справочник!$E$2:$F$322,2,0)","v":0}]
[{"$f":"VLOOKUP(B84,справочник!$B$2:$E$322,4,0)","v":159},{"$f":"CONCATENATE(C84;D84)","v":{"$error":"#VALUE!"}},167,"Евсеев Александр Сергеевич","50:03:0070280:925","2012-05-15","2012-05-01",{"$f":"INT(($H$327-G84)/30)","v":44},{"$f":"H84*1000","v":44000},{"$f":"32000","v":32000},null,{"$f":"I84-J84-K84","v":12000},800,800,800,800,800,800,800,800,800,800,800,800,{"$f":"SUM(L84:X84)","v":21600},{"$f":"VLOOKUP(A84,справочник!$E$2:$F$322,2,0)","v":0}]
[{"$f":"VLOOKUP(B85,справочник!$B$2:$E$322,4,0)","v":181},{"$f":"CONCATENATE(C85;D85)","v":{"$error":"#VALUE!"}},189,"Елисеев Сергей Вячеславович","50:03:0070280:760","2014-04-05","2014-05-01",{"$f":"INT(($H$327-G85)/30)","v":20},{"$f":"H85*1000","v":20000},17000,null,{"$f":"I85-J85-K85","v":3000},800,800,800,800,800,800,800,800,800,800,800,800,{"$f":"SUM(L85:X85)","v":12600},{"$f":"VLOOKUP(A85,справочник!$E$2:$F$322,2,0)","v":0}]
[{"$f":"VLOOKUP(B86,справочник!$B$2:$E$322,4,0)","v":284},{"$f":"CONCATENATE(C86;D86)","v":{"$error":"#VALUE!"}},296,"Епанчинцева Людмила Филипповна","50:03:0070280:783","2013-10-02","2013-11-01",{"$f":"INT(($H$327-G86)/30)","v":26},{"$f":"H86*1000","v":26000},{"$f":"12000","v":12000},5000,{"$f":"I86-J86-K86","v":9000},800,800,800,800,800,800,800,800,800,800,800,800,{"$f":"SUM(L86:X86)","v":18600},{"$f":"VLOOKUP(A86,справочник!$E$2:$F$322,2,0)","v":0}]
[{"$f":"VLOOKUP(B87,справочник!$B$2:$E$322,4,0)","v":264},{"$f":"CONCATENATE(C87;D87)","v":{"$error":"#VALUE!"}},277,"Еременко Виктор Александрович (Валентина)","50:03:0070280:726","2012-07-03","2012-07-01",{"$f":"INT(($H$327-G87)/30)","v":42},{"$f":"H87*1000","v":42000},{"$f":"38000","v":38000},null,{"$f":"I87-J87-K87","v":4000},800,800,800,800,800,800,800,800,800,800,800,800,{"$f":"SUM(L87:X87)","v":13600},{"$f":"VLOOKUP(A87,справочник!$E$2:$F$322,2,0)","v":0}]
[{"$f":"VLOOKUP(B88,справочник!$B$2:$E$322,4,0)","v":32},{"$f":"CONCATENATE(C88;D88)","v":{"$error":"#VALUE!"}},32,"Ермакова Татьяна Викторовна","50:03:0070280:902","2011-06-01","2011-06-01",{"$f":"INT(($H$327-G88)/30)","v":55},{"$f":"H88*1000","v":55000},{"$f":"7000+48000","v":55000},null,{"$f":"I88-J88-K88","v":0},800,800,800,800,800,800,800,800,800,800,800,800,{"$f":"SUM(L88:X88)","v":9600},{"$f":"VLOOKUP(A88,справочник!$E$2:$F$322,2,0)","v":0}]
[{"$f":"VLOOKUP(B89,справочник!$B$2:$E$322,4,0)","v":49},{"$f":"CONCATENATE(C89;D89)","v":{"$error":"#VALUE!"}},49,"Ермолаева Виктория Александровна","50:03:0070280:968","2011-07-05","2011-08-01",{"$f":"INT(($H$327-G89)/30)","v":53},{"$f":"H89*1000","v":53000},{"$f":"42000","v":42000},null,{"$f":"I89-J89-K89","v":11000},800,800,800,800,800,800,800,800,800,800,800,800,{"$f":"SUM(L89:X89)","v":20600},{"$f":"VLOOKUP(A89,справочник!$E$2:$F$322,2,0)","v":0}]
[{"$f":"VLOOKUP(B90,справочник!$B$2:$E$322,4,0)","v":234},{"$f":"CONCATENATE(C90;D90)","v":{"$error":"#VALUE!"}},243,"Ермошина Татьяна Евгеньевна (Владимир)","50:03:0070280:1428","2012-12-05","2013-04-01",3,{"$f":"H90*1000","v":3000},null,3000,{"$f":"I90-J90-K90","v":0},{"$nulls":12},{"$f":"SUM(L90:X90)","v":0},{"$f":"VLOOKUP(A90,справочник!$E$2:$F$322,2,0)","v":1}]
[{"$f":"VLOOKUP(B91,справочник!$B$2:$E$322,4,0)","v":234},{"$f":"CONCATENATE(C91;D91)","v":{"$error":"#VALUE!"}},244,"Ермошина Татьяна Евгеньевна (Владимир)",null,"2012-12-05","2013-04-01",3,{"$f":"H91*1000","v":3000},null,3000,{"$f":"I91-J91-K91","v":0},{"$nulls":12},{"$f":"SUM(L91:X91)","v":0},{"$f":"VLOOKUP(A91,справочник!$E$2:$F$322,2,0)","v":1}]
[{"$f":"VLOOKUP(B92,справочник!$B$2:$E$322,4,0)","v":234},{"$f":"CONCATENATE(C92;D92)","v":{"$error":"#VALUE!"}},"243-244","Ермошина Татьяна Евгеньевна (Владимир)",null,"2013-07-01","2013-07-01",{"$f":"INT(($H$327-G92)/30)","v":30},{"$f":"H92*1000","v":30000},null,30000,{"$f":"I92-J92-K92","v":0},800,800,800,800,800,800,800,800,800,800,800,800,{"$f":"SUM(L92:X92)","v":9600},{"$f":"VLOOKUP(A92,справочник!$E$2:$F$322,2,0)","v":1}]
[{"$f":"VLOOKUP(B93,справочник!$B$2:$E$322,4,0)","v":254},{"$f":"CONCATENATE(C93;D93)","v":{"$error":"#VALUE!"}},267,"Ершова Виктория Львовна","50:03:0070280:736","2012-02-14","2012-02-01",{"$f":"INT(($H$327-G93)/30)","v":47},{"$f":"H93*1000","v":47000},{"$f":"39000+5000","v":44000},null,{"$f":"I93-J93-K93","v":3000},800,800,800,800,800,800,800,800,800,800,800,800,{"$f":"SUM(L93:X93)","v":12600},{"$f":"VLOOKUP(A93,справочник!$E$2:$F$322,2,0)","v":0}]
[{"$f":"VLOOKUP(B94,справочник!$B$2:$E$322,4,0)","v":230},{"$f":"CONCATENATE(C94;D94)","v":{"$error":"#VALUE!"}},239,"Жарикова Светлана Юрьевна","50:03:0070280:896","2013-11-12","2013-11-01",{"$f":"INT(($H$327-G94)/30)","v":26},{"$f":"H94*1000","v":26000},26000,null,{"$f":"I94-J94-K94","v":0},800,800,800,800,800,800,800,800,800,800,800,800,{"$f":"SUM(L94:X94)","v":9600},{"$f":"VLOOKUP(A94,справочник!$E$2:$F$322,2,0)","v":1}]
[{"$f":"VLOOKUP(B95,справочник!$B$2:$E$322,4,0)","v":230},{"$f":"CONCATENATE(C95;D95)","v":{"$error":"#VALUE!"}},257,"Жарикова Светлана Юрьевна","50:03:0070280:788","2014-08-31","2014-11-01",{"$f":"INT(($H$327-G95)/30)","v":14},{"$f":"H95*1000","v":14000},0,4000,{"$f":"I95-J95-K95","v":10000},{"$nulls":12},{"$f":"SUM(L95:X95)","v":10000},{"$f":"VLOOKUP(A95,справочник!$E$2:$F$322,2,0)","v":1}]
[{"$f":"VLOOKUP(B96,справочник!$B$2:$E$322,4,0)","v":4},{"$f":"CONCATENATE(C96;D96)","v":{"$error":"#VALUE!"}},4,"Жигунов Юрий Александрович","50:03:0070280:693","2013-06-11","2013-07-01",{"$f":"INT(($H$327-G96)/30)","v":30},{"$f":"H96*1000","v":30000},27000,null,{"$f":"I96-J96-K96","v":3000},800,800,800,800,800,800,800,800,800,800,800,800,{"$f":"SUM(L96:X96)","v":12600},{"$f":"VLOOKUP(A96,справочник!$E$2:$F$322,2,0)","v":0}]
[{"$f":"VLOOKUP(B97,справочник!$B$2:$E$322,4,0)","v":213},{"$f":"CONCATENATE(C97;D97)","v":{"$error":"#VALUE!"}},222,"Жирная Татьяна Сергеевна","50:03:0070280:841","2014-05-07","2014-06-01",{"$f":"INT(($H$327-G97)/30)","v":19},{"$f":"H97*1000","v":19000},500,null,{"$f":"I97-J97-K97","v":18500},800,800,800,800,800,800,800,800,800,800,800,800,{"$f":"SUM(L97:X97)","v":28100},{"$f":"VLOOKUP(A97,справочник!$E$2:$F$322,2,0)","v":0}]
[{"$f":"VLOOKUP(B98,справочник!$B$2:$E$322,4,0)","v":127},{"$f":"CONCATENATE(C98;D98)","v":{"$error":"#VALUE!"}},132,"Жохова Елена Сергеевна","50:03:0070280:981","2011-06-07","2011-06-01",{"$f":"INT(($H$327-G98)/30)","v":55},{"$f":"H98*1000","v":55000},{"$f":"36000+7000","v":43000},null,0,800,800,800,800,800,800,800,800,800,800,800,800,{"$f":"SUM(L98:X98)","v":9600},{"$f":"VLOOKUP(A98,справочник!$E$2:$F$322,2,0)","v":0}]
[{"$f":"VLOOKUP(B99,справочник!$B$2:$E$322,4,0)","v":66},{"$f":"CONCATENATE(C99;D99)","v":{"$error":"#VALUE!"}},68,"Заборская Светлана Анатольевна (Андрей)","50:03:0070280:937","2012-07-10","2012-07-01",{"$f":"INT(($H$327-G99)/30)","v":42},{"$f":"H99*1000","v":42000},39780,null,{"$f":"I99-J99-K99","v":2220},800,800,800,800,800,800,800,800,800,800,800,800,{"$f":"SUM(L99:X99)","v":11820},{"$f":"VLOOKUP(A99,справочник!$E$2:$F$322,2,0)","v":0}]
[{"$f":"VLOOKUP(B100,справочник!$B$2:$E$322,4,0)","v":36},{"$f":"CONCATENATE(C100;D100)","v":{"$error":"#VALUE!"}},36,"Закревская Марина Владимировна","50:03:0070280:906","2011-07-12","2011-08-01",{"$f":"INT(($H$327-G100)/30)","v":53},{"$f":"H100*1000","v":53000},{"$f":"42000+1000","v":43000},null,{"$f":"I100-J100-K100","v":10000},800,800,800,800,800,800,800,800,800,800,800,800,{"$f":"SUM(L100:X100)","v":19600},{"$f":"VLOOKUP(A100,справочник!$E$2:$F$322,2,0)","v":0}]
[{"$f":"VLOOKUP(B101,справочник!$B$2:$E$322,4,0)","v":38},{"$f":"CONCATENATE(C101;D101)","v":{"$error":"#VALUE!"}},255,"Заручинский Вячеслав Владимирович","50:03:0070280:790","2011-08-15","2011-09-01",{"$f":"INT(($H$327-G101)/30)","v":52},{"$f":"H101*1000","v":52000},{"$f":"5000+18000+29000","v":52000},null,{"$f":"I101-J101-K101","v":0},{"$nulls":12},{"$f":"SUM(L101:X101)","v":0},{"$f":"VLOOKUP(A101,справочник!$E$2:$F$322,2,0)","v":1}]
[{"$f":"VLOOKUP(B102,справочник!$B$2:$E$322,4,0)","v":38},{"$f":"CONCATENATE(C102;D102)","v":{"$error":"#VALUE!"}},38,"Заручинский Вячеслав Владимирович","50:03:0070280:908","2012-07-10","2012-07-01",{"$f":"INT(($H$327-G102)/30)","v":42},{"$f":"H102*1000","v":42000},35000,null,{"$f":"I102-J102-K102","v":7000},800,800,800,800,800,800,800,800,800,800,800,800,{"$f":"SUM(L102:X102)","v":16600},{"$f":"VLOOKUP(A102,справочник!$E$2:$F$322,2,0)","v":1}]
[{"$f":"VLOOKUP(B103,справочник!$B$2:$E$322,4,0)","v":12},{"$f":"CONCATENATE(C103;D103)","v":{"$error":"#VALUE!"}},12,"Захаренкова Светлана Евгеньевна","50:03:0070280:703","2013-05-20","2013-06-01",{"$f":"INT(($H$327-G103)/30)","v":31},{"$f":"H103*1000","v":31000},5000,null,{"$f":"I103-J103-K103","v":26000},800,800,800,800,800,800,800,800,800,800,800,800,{"$f":"SUM(L103:X103)","v":35600},{"$f":"VLOOKUP(A103,справочник!$E$2:$F$322,2,0)","v":0}]
[{"$f":"VLOOKUP(B104,справочник!$B$2:$E$322,4,0)","v":63},{"$f":"CONCATENATE(C104;D104)","v":{"$error":"#VALUE!"}},65,"Захаров Михаил Сергеевич","50:03:0070280:934","2013-08-27","2013-09-01",{"$f":"INT(($H$327-G104)/30)","v":28},{"$f":"H104*1000","v":28000},0,null,{"$f":"I104-J104-K104","v":28000},800,800,800,800,800,800,800,800,800,800,800,800,{"$f":"SUM(L104:X104)","v":37600},{"$f":"VLOOKUP(A104,справочник!$E$2:$F$322,2,0)","v":0}]
[{"$f":"VLOOKUP(B105,справочник!$B$2:$E$322,4,0)","v":16},{"$f":"CONCATENATE(C105;D105)","v":{"$error":"#VALUE!"}},16,"Захарова Людмила Захаровна","50:03:0070280:697","2012-12-11","2013-01-01",{"$f":"INT(($H$327-G105)/30)","v":36},{"$f":"H105*1000","v":36000},36000,null,{"$f":"I105-J105-K105","v":0},800,800,800,800,800,800,800,800,800,800,800,800,{"$f":"SUM(L105:X105)","v":9600},{"$f":"VLOOKUP(A105,справочник!$E$2:$F$322,2,0)","v":0}]
[{"$f":"VLOOKUP(B106,справочник!$B$2:$E$322,4,0)","v":121},{"$f":"CONCATENATE(C106;D106)","v":{"$error":"#VALUE!"}},126,"Зиннатов Рафаэль Шакурович","50:03:0070280:1026","2012-10-08","2012-11-01",{"$f":"INT(($H$327-G106)/30)","v":38},{"$f":"H106*1000","v":38000},32000,null,{"$f":"I106-J106-K106","v":6000},800,800,800,800,800,800,800,800,800,800,800,800,{"$f":"SUM(L106:X106)","v":15600},{"$f":"VLOOKUP(A106,справочник!$E$2:$F$322,2,0)","v":0}]
[{"$f":"VLOOKUP(B107,справочник!$B$2:$E$322,4,0)","v":156},{"$f":"CONCATENATE(C107;D107)","v":{"$error":"#VALUE!"}},164,"Иваненко Петр Олегович","50:03:0070280:928","2013-04-30","2013-06-01",{"$f":"INT(($H$327-G107)/30)","v":31},{"$f":"H107*1000","v":31000},28000,null,{"$f":"I107-J107-K107","v":3000},800,800,800,800,800,800,800,800,800,800,800,800,{"$f":"SUM(L107:X107)","v":12600},{"$f":"VLOOKUP(A107,справочник!$E$2:$F$322,2,0)","v":0}]
[{"$f":"VLOOKUP(B108,справочник!$B$2:$E$322,4,0)","v":5},{"$f":"CONCATENATE(C108;D108)","v":{"$error":"#VALUE!"}},5,"Иванов Владимир Николаевич","50:03:0070280:709","2012-06-11","2012-06-01",{"$f":"INT(($H$327-G108)/30)","v":43},{"$f":"H108*1000","v":43000},{"$f":"32000","v":32000},null,{"$f":"I108-J108-K108","v":11000},800,800,800,800,800,800,800,800,800,800,800,800,{"$f":"SUM(L108:X108)","v":20600},{"$f":"VLOOKUP(A108,справочник!$E$2:$F$322,2,0)","v":0}]
[{"$f":"VLOOKUP(B109,справочник!$B$2:$E$322,4,0)","v":214},{"$f":"CONCATENATE(C109;D109)","v":{"$error":"#VALUE!"}},223,"Иванов Денис Сильвестрович","50:03:0070280:840","2014-06-17","2014-06-01",{"$f":"INT(($H$327-G109)/30)","v":19},{"$f":"H109*1000","v":19000},19000,null,{"$f":"I109-J109-K109","v":0},800,800,800,800,800,800,800,800,800,800,800,800,{"$f":"SUM(L109:X109)","v":9600},{"$f":"VLOOKUP(A109,справочник!$E$2:$F$322,2,0)","v":0}]
[{"$f":"VLOOKUP(B110,справочник!$B$2:$E$322,4,0)","v":279},{"$f":"CONCATENATE(C110;D110)","v":{"$error":"#VALUE!"}},291,"Иванова Светлана Сергеевна","50:03:0070280:778","2011-12-13","2011-12-01",{"$f":"INT(($H$327-G110)/30)","v":49},{"$f":"H110*1000","v":49000},{"$f":"42000+1000","v":43000},null,{"$f":"I110-J110-K110","v":6000},800,800,800,800,800,800,800,800,800,800,800,800,{"$f":"SUM(L110:X110)","v":15600},{"$f":"VLOOKUP(A110,справочник!$E$2:$F$322,2,0)","v":0}]
[{"$f":"VLOOKUP(B111,справочник!$B$2:$E$322,4,0)","v":197},{"$f":"CONCATENATE(C111;D111)","v":{"$error":"#VALUE!"}},205,"Иванова Татьяна Викторовна","50:03:0070280:911","2011-11-15","2011-11-01",{"$f":"INT(($H$327-G111)/30)","v":50},{"$f":"H111*1000","v":50000},49000,null,{"$f":"I111-J111-K111","v":1000},800,800,800,800,800,800,800,800,800,800,800,800,{"$f":"SUM(L111:X111)","v":10600},{"$f":"VLOOKUP(A111,справочник!$E$2:$F$322,2,0)","v":0}]
[{"$f":"VLOOKUP(B112,справочник!$B$2:$E$322,4,0)","v":295},{"$f":"CONCATENATE(C112;D112)","v":{"$error":"#VALUE!"}},310,"Измайлов Михаил Михайлович","50:03:0070280:1001","2014-12-21","2015-01-01",{"$f":"INT(($H$327-G112)/30)","v":12},{"$f":"H112*1000","v":12000},null,null,{"$f":"I112-J112-K112","v":12000},800,800,800,800,800,800,800,800,800,800,800,800,{"$f":"SUM(L112:X112)","v":21600},{"$f":"VLOOKUP(A112,справочник!$E$2:$F$322,2,0)","v":0}]
[{"$f":"VLOOKUP(B113,справочник!$B$2:$E$322,4,0)","v":196},{"$f":"CONCATENATE(C113;D113)","v":{"$error":"#VALUE!"}},204,"Казарин Сергей Викторович","50:03:0070280:912","2012-02-06","2012-03-01",{"$f":"INT(($H$327-G113)/30)","v":46},{"$f":"H113*1000","v":46000},{"$f":"46000","v":46000},null,{"$f":"I113-J113-K113","v":0},800,800,800,800,800,800,800,800,800,800,800,800,{"$f":"SUM(L113:X113)","v":9600},{"$f":"VLOOKUP(A113,справочник!$E$2:$F$322,2,0)","v":0}]
[{"$f":"VLOOKUP(B114,справочник!$B$2:$E$322,4,0)","v":124},{"$f":"CONCATENATE(C114;D114)","v":{"$error":"#VALUE!"}},129,"Казымов Горхмаз Гамид/Лавренчук Александр Владиславович","50:03:0070280:811","2013-11-02","2013-12-01",{"$f":"INT(($H$327-G114)/30)","v":25},{"$f":"H114*1000","v":25000},{"$f":"5000+1500+5000","v":11500},null,{"$f":"I114-J114-K114","v":13500},800,800,800,800,800,800,800,800,800,800,800,800,{"$f":"SUM(L114:X114)","v":23100},{"$f":"VLOOKUP(A114,справочник!$E$2:$F$322,2,0)","v":0}]
[{"$f":"VLOOKUP(B115,справочник!$B$2:$E$322,4,0)","v":250},{"$f":"CONCATENATE(C115;D115)","v":{"$error":"#VALUE!"}},261,"Каляникова Наталья Сергеевна","50:03:0070280:742","2013-08-12","2013-09-01",{"$f":"INT(($H$327-G115)/30)","v":28},{"$f":"H115*1000","v":28000},13000,1000,{"$f":"I115-J115-K115","v":14000},800,800,800,800,800,800,800,800,800,800,800,800,{"$f":"SUM(L115:X115)","v":23600},{"$f":"VLOOKUP(A115,справочник!$E$2:$F$322,2,0)","v":0}]
[{"$f":"VLOOKUP(B116,справочник!$B$2:$E$322,4,0)","v":153},{"$f":"CONCATENATE(C116;D116)","v":{"$error":"#VALUE!"}},161,"Канышкина Юлия Юрьевна","50:03:0070280:756","2012-03-26","2012-04-01",{"$f":"INT(($H$327-G116)/30)","v":45},{"$f":"H116*1000","v":45000},41000,null,{"$f":"I116-J116-K116","v":4000},800,800,800,800,800,800,800,800,800,800,800,800,{"$f":"SUM(L116:X116)","v":13600},{"$f":"VLOOKUP(A116,справочник!$E$2:$F$322,2,0)","v":0}]
[{"$f":"VLOOKUP(B117,справочник!$B$2:$E$322,4,0)","v":106},{"$f":"CONCATENATE(C117;D117)","v":{"$error":"#VALUE!"}},111,"Карпекина Лилия Рафаэльевна","50:03:0070280:817","2013-07-08","2013-01-08",{"$f":"INT(($H$327-G117)/30)","v":36},{"$f":"H117*1000","v":36000},1000,null,{"$f":"I117-J117-K117","v":35000},800,800,800,800,800,800,800,800,800,800,800,800,{"$f":"SUM(L117:X117)","v":44600},{"$f":"VLOOKUP(A117,справочник!$E$2:$F$322,2,0)","v":0}]
[{"$f":"VLOOKUP(B118,справочник!$B$2:$E$322,4,0)","v":222},{"$f":"CONCATENATE(C118;D118)","v":{"$error":"#VALUE!"}},231,"Карпова Елена Витальевна","50:03:0070280:832","2013-06-04","2013-07-01",{"$f":"INT(($H$327-G118)/30)","v":30},{"$f":"H118*1000","v":30000},25000,5000,{"$f":"I118-J118-K118","v":0},800,800,800,800,800,800,800,800,800,800,800,800,{"$f":"SUM(L118:X118)","v":9600},{"$f":"VLOOKUP(A118,справочник!$E$2:$F$322,2,0)","v":0}]
[{"$f":"VLOOKUP(B119,справочник!$B$2:$E$322,4,0)","v":208},{"$f":"CONCATENATE(C119;D119)","v":{"$error":"#VALUE!"}},218,"Катушкин Роман Юрьевич","50:03:0070280:1422","2012-05-23","2012-06-01",{"$f":"INT(($H$327-G119)/30)","v":43},{"$f":"H119*1000","v":43000},{"$f":"40500","v":40500},null,{"$f":"I119-J119-K119","v":2500},800,800,800,800,800,800,800,800,800,800,800,800,{"$f":"SUM(L119:X119)","v":12100},{"$f":"VLOOKUP(A119,справочник!$E$2:$F$322,2,0)","v":0}]
[{"$f":"VLOOKUP(B120,справочник!$B$2:$E$322,4,0)","v":207},{"$f":"CONCATENATE(C120;D120)","v":{"$error":"#VALUE!"}},217,"Катушкин Роман Юрьевич//Валеев Артур Рашидович",{"$nulls":4},{"$f":"H120*1000","v":0},null,null,{"$f":"I120-J120-K120","v":0},800,800,800,800,800,800,800,800,800,800,800,800,{"$f":"SUM(L120:X120)","v":9600},{"$f":"VLOOKUP(A120,справочник!$E$2:$F$322,2,0)","v":0}]
[{"$f":"VLOOKUP(B121,справочник!$B$2:$E$322,4,0)","v":231},{"$f":"CONCATENATE(C121;D121)","v":{"$error":"#VALUE!"}},240,"Кашичкин Александр Борисович","50:03:0070280:895","2013-03-24","2013-04-01",{"$f":"INT(($H$327-G121)/30)","v":33},{"$f":"H121*1000","v":33000},28000,null,{"$f":"I121-J121-K121","v":5000},800,800,800,800,800,800,800,800,800,800,800,800,{"$f":"SUM(L121:X121)","v":14600},{"$f":"VLOOKUP(A121,справочник!$E$2:$F$322,2,0)","v":0}]
[{"$f":"VLOOKUP(B122,справочник!$B$2:$E$322,4,0)","v":76},{"$f":"CONCATENATE(C122;D122)","v":{"$error":"#VALUE!"}},82,"Киеня Валентина Александровна (Анатолий)","50:03:0070280:751","2011-05-19","2011-06-01",{"$f":"INT(($H$327-G122)/30)","v":55},{"$f":"H122*1000","v":55000},54000,3000,{"$f":"I122-J122-K122","v":-2000},800,800,800,800,800,800,800,800,800,800,800,800,{"$f":"SUM(L122:X122)","v":7600},{"$f":"VLOOKUP(A122,справочник!$E$2:$F$322,2,0)","v":0}]
[{"$f":"VLOOKUP(B123,справочник!$B$2:$E$322,4,0)","v":82},{"$f":"CONCATENATE(C123;D123)","v":{"$error":"#VALUE!"}},87,"Кикоть Наталья Петровна (Андрей)","50:03:0070280:863","2012-08-27","2012-09-01",{"$f":"INT(($H$327-G123)/30)","v":40},{"$f":"H123*1000","v":40000},35000,null,{"$f":"I123-J123-K123","v":5000},800,800,800,800,800,800,800,800,800,800,800,800,{"$f":"SUM(L123:X123)","v":14600},{"$f":"VLOOKUP(A123,справочник!$E$2:$F$322,2,0)","v":0}]
[{"$f":"VLOOKUP(B124,справочник!$B$2:$E$322,4,0)","v":8},{"$f":"CONCATENATE(C124;D124)","v":{"$error":"#VALUE!"}},8,"Кириенко Раиса Федоровна","50:03:0070280:692","2014-04-12","2014-05-01",{"$f":"INT(($H$327-G124)/30)","v":20},{"$f":"H124*1000","v":20000},18000,null,{"$f":"I124-J124-K124","v":2000},800,800,800,800,800,800,800,800,800,800,800,800,{"$f":"SUM(L124:X124)","v":11600},{"$f":"VLOOKUP(A124,справочник!$E$2:$F$322,2,0)","v":0}]
[{"$f":"VLOOKUP(B125,справочник!$B$2:$E$322,4,0)","v":149},{"$f":"CONCATENATE(C125;D125)","v":{"$error":"#VALUE!"}},157,"Кириллов Вадим Александрович","50:03:0070280:958","2011-10-04","2011-10-01",{"$f":"INT(($H$327-G125)/30)","v":51},{"$f":"H125*1000","v":51000},{"$f":"1000","v":1000},1000,{"$f":"I125-J125-K125","v":49000},800,800,800,800,800,800,800,800,800,800,800,800,{"$f":"SUM(L125:X125)","v":58600},{"$f":"VLOOKUP(A125,справочник!$E$2:$F$322,2,0)","v":0}]
[{"$f":"VLOOKUP(B126,справочник!$B$2:$E$322,4,0)","v":30},{"$f":"CONCATENATE(C126;D126)","v":{"$error":"#VALUE!"}},30,"Кириллов Дмитрий Александрович","50:03:0070280:859","2011-12-29","2012-01-01",{"$f":"INT(($H$327-G126)/30)","v":48},{"$f":"H126*1000","v":48000},{"$f":"1000","v":1000},null,{"$f":"I126-J126-K126","v":47000},800,800,800,800,800,800,800,800,800,800,800,800,{"$f":"SUM(L126:X126)","v":56600},{"$f":"VLOOKUP(A126,справочник!$E$2:$F$322,2,0)","v":0}]
[{"$f":"VLOOKUP(B127,справочник!$B$2:$E$322,4,0)","v":269},{"$f":"CONCATENATE(C127;D127)","v":{"$error":"#VALUE!"}},282,"Коваленко Ирина Леонидовна","50:03:0070280:718","2012-12-11","2013-01-01",{"$f":"INT(($H$327-G127)/30)","v":36},{"$f":"H127*1000","v":36000},18000,null,{"$f":"I127-J127-K127","v":18000},800,800,800,800,800,800,800,800,800,800,800,800,{"$f":"SUM(L127:X127)","v":27600},{"$f":"VLOOKUP(A127,справочник!$E$2:$F$322,2,0)","v":0}]
[{"$f":"VLOOKUP(B128,справочник!$B$2:$E$322,4,0)","v":271},{"$f":"CONCATENATE(C128;D128)","v":{"$error":"#VALUE!"}},284,"Кожемякин Сергей Владимирович","50:03:0070280:716","2015-02-09","2015-04-01",{"$f":"INT(($H$327-G128)/30)","v":9},{"$f":"H128*1000","v":9000},4000,5000,{"$f":"I128-J128-K128","v":0},800,800,800,800,800,800,800,800,800,800,800,800,{"$f":"SUM(L128:X128)","v":9600},{"$f":"VLOOKUP(A128,справочник!$E$2:$F$322,2,0)","v":0}]
[{"$f":"VLOOKUP(B129,справочник!$B$2:$E$322,4,0)","v":265},{"$f":"CONCATENATE(C129;D129)","v":{"$error":"#VALUE!"}},278,"Козловский Алексей Гаврилович","50:03:0070280:725","2011-09-26","2011-09-01",{"$f":"INT(($H$327-G129)/30)","v":52},{"$f":"H129*1000","v":52000},{"$f":"2000+27000","v":29000},null,{"$f":"I129-J129-K129","v":23000},800,800,800,800,800,800,800,800,800,800,800,800,{"$f":"SUM(L129:X129)","v":32600},{"$f":"VLOOKUP(A129,справочник!$E$2:$F$322,2,0)","v":0}]
[{"$f":"VLOOKUP(B130,справочник!$B$2:$E$322,4,0)","v":173},{"$f":"CONCATENATE(C130;D130)","v":{"$error":"#VALUE!"}},181,"Колесников Никита Олегович(у Кряжковой Виктория Сергеевна","50:03:0070280:764","2011-09-07","2011-09-01",{"$f":"INT(($H$327-G130)/30)","v":52},{"$f":"H130*1000","v":52000},1000,null,{"$f":"I130-J130-K130","v":51000},800,800,800,800,800,800,800,800,800,800,800,800,{"$f":"SUM(L130:X130)","v":60600},{"$f":"VLOOKUP(A130,справочник!$E$2:$F$322,2,0)","v":0}]
[{"$f":"VLOOKUP(B131,справочник!$B$2:$E$322,4,0)","v":305},{"$f":"CONCATENATE(C131;D131)","v":{"$error":"#VALUE!"}},320,"Колесов Вадим Владимирович","50:03:0070280:1011","2014-10-17","2014-11-01",{"$f":"INT(($H$327-G131)/30)","v":14},{"$f":"H131*1000","v":14000},1000,null,{"$f":"I131-J131-K131","v":13000},800,800,800,800,800,800,800,800,800,800,800,800,{"$f":"SUM(L131:X131)","v":22600},{"$f":"VLOOKUP(A131,справочник!$E$2:$F$322,2,0)","v":0}]
[{"$f":"VLOOKUP(B132,справочник!$B$2:$E$322,4,0)","v":69},{"$f":"CONCATENATE(C132;D132)","v":{"$error":"#VALUE!"}},75,"Колташ Анна Владимировна","50:03:0070280:882","23.08.2011","2011-09-01",{"$f":"INT(($H$327-G132)/30)","v":52},{"$f":"H132*1000","v":52000},{"$f":"3000+10000","v":13000},null,{"$f":"I132-J132-K132","v":39000},800,800,800,800,800,800,800,800,800,800,800,800,{"$f":"SUM(L132:X132)","v":48600},{"$f":"VLOOKUP(A132,справочник!$E$2:$F$322,2,0)","v":1}]
[{"$f":"VLOOKUP(B133,справочник!$B$2:$E$322,4,0)","v":69},{"$f":"CONCATENATE(C133;D133)","v":{"$error":"#VALUE!"}},76,"Колташ Анна Владимировна","50:03:0070280:804",null,null,null,{"$f":"H133*1000","v":0},{"$nulls":15},{"$f":"SUM(L133:X133)","v":0},{"$f":"VLOOKUP(A133,справочник!$E$2:$F$322,2,0)","v":1}]
[{"$f":"VLOOKUP(B134,справочник!$B$2:$E$322,4,0)","v":1},{"$f":"CONCATENATE(C134;D134)","v":{"$error":"#VALUE!"}},1,"Колыгина Нина Николаевна","50:03:0070280:711","2013-05-15","2013-10-01",{"$f":"INT(($H$327-G134)/30)","v":27},{"$f":"H134*1000","v":27000},24000,null,{"$f":"I134-J134-K134","v":3000},800,800,800,800,800,800,800,800,800,800,800,800,{"$f":"SUM(L134:X134)","v":12600},{"$f":"VLOOKUP(A134,справочник!$E$2:$F$322,2,0)","v":0}]
[{"$f":"VLOOKUP(B135,справочник!$B$2:$E$322,4,0)","v":302},{"$f":"CONCATENATE(C135;D135)","v":{"$error":"#VALUE!"}},317,"Колышкина Александра Сергеевна","50:03:0070280:1008","2012-03-29","2012-04-01",{"$f":"INT(($H$327-G135)/30)","v":45},{"$f":"H135*1000","v":45000},32000,null,{"$f":"I135-J135-K135","v":13000},800,800,800,800,800,800,800,800,800,800,800,800,{"$f":"SUM(L135:X135)","v":22600},{"$f":"VLOOKUP(A135,справочник!$E$2:$F$322,2,0)","v":0}]
[{"$f":"VLOOKUP(B136,справочник!$B$2:$E$322,4,0)","v":123},{"$f":"CONCATENATE(C136;D136)","v":{"$error":"#VALUE!"}},128,"Кондратьева Юлия Викторовна","50:03:0070280:810","2012-02-21","2012-02-01",{"$f":"INT(($H$327-G136)/30)","v":47},{"$f":"H136*1000","v":47000},34000,null,{"$f":"I136-J136-K136","v":13000},800,800,800,800,800,800,800,800,800,800,800,800,{"$f":"SUM(L136:X136)","v":22600},{"$f":"VLOOKUP(A136,справочник!$E$2:$F$322,2,0)","v":0}]
[{"$f":"VLOOKUP(B137,справочник!$B$2:$E$322,4,0)","v":163},{"$f":"CONCATENATE(C137;D137)","v":{"$error":"#VALUE!"}},171,"Кондратюк Наталья Петровна 1/2,  Соболев Олег Юрьевич 1/2",null,"2014-06-19","2014-07-01",{"$f":"INT(($H$327-G137)/30)","v":18},{"$f":"H137*1000","v":18000},{"$f":"5000+4000","v":9000},null,{"$f":"I137-J137-K137","v":9000},800,800,800,800,800,800,800,800,800,800,800,800,{"$f":"SUM(L137:X137)","v":18600},{"$f":"VLOOKUP(A137,справочник!$E$2:$F$322,2,0)","v":0}]
[{"$f":"VLOOKUP(B138,справочник!$B$2:$E$322,4,0)","v":110},{"$f":"CONCATENATE(C138;D138)","v":{"$error":"#VALUE!"}},115,"Кондрашов Роман Вячеславович","50:03:0070280:808","2012-07-11","2012-07-01",{"$f":"INT(($H$327-G138)/30)","v":42},{"$f":"H138*1000","v":42000},23000,null,{"$f":"I138-J138-K138","v":19000},800,800,800,800,800,800,800,800,800,800,800,800,{"$f":"SUM(L138:X138)","v":28600},{"$f":"VLOOKUP(A138,справочник!$E$2:$F$322,2,0)","v":0}]
[{"$f":"VLOOKUP(B139,справочник!$B$2:$E$322,4,0)","v":112},{"$f":"CONCATENATE(C139;D139)","v":{"$error":"#VALUE!"}},117,"Кондрашов Сергей Вячеславович//Балыкин Александр Иванович",null,"2012-07-11","2012-07-01",{"$f":"INT(($H$327-G139)/30)","v":42},{"$f":"H139*1000","v":42000},{"$f":"25000","v":25000},null,{"$f":"I139-J139-K139","v":17000},800,800,800,800,800,800,800,800,800,800,800,800,{"$f":"SUM(L139:X139)","v":26600},{"$f":"VLOOKUP(A139,справочник!$E$2:$F$322,2,0)","v":0}]
[{"$f":"VLOOKUP(B140,справочник!$B$2:$E$322,4,0)","v":190},{"$f":"CONCATENATE(C140;D140)","v":{"$error":"#VALUE!"}},198,"Коновальцев Олег Серафимович","50:03:0070280:984","2013-05-13","2013-06-01",{"$f":"INT(($H$327-G140)/30)","v":31},{"$f":"H140*1000","v":31000},15000,null,{"$f":"I140-J140-K140","v":16000},800,800,800,800,800,800,800,800,800,800,800,800,{"$f":"SUM(L140:X140)","v":25600},{"$f":"VLOOKUP(A140,справочник!$E$2:$F$322,2,0)","v":0}]
[{"$f":"VLOOKUP(B141,справочник!$B$2:$E$322,4,0)","v":83},{"$f":"CONCATENATE(C141;D141)","v":{"$error":"#VALUE!"}},88,"Кононенко Алла Николаевна (Александр)","50:03:0070280:869","2011-05-12","2011-06-01",{"$f":"INT(($H$327-G141)/30)","v":55},{"$f":"H141*1000","v":55000},{"$f":"1000+49000","v":50000},null,{"$f":"I141-J141-K141","v":5000},800,800,800,800,800,800,800,800,800,800,800,800,{"$f":"SUM(L141:X141)","v":14600},{"$f":"VLOOKUP(A141,справочник!$E$2:$F$322,2,0)","v":0}]
[{"$f":"VLOOKUP(B142,справочник!$B$2:$E$322,4,0)","v":133},{"$f":"CONCATENATE(C142;D142)","v":{"$error":"#VALUE!"}},140,"Короткевич Наталья Владимировна","50:03:0070280:892","2012-04-09","2012-04-01",{"$f":"INT(($H$327-G142)/30)","v":45},{"$f":"H142*1000","v":45000},41000,4000,{"$f":"I142-J142-K142","v":0},800,800,800,800,800,800,800,800,800,800,800,800,{"$f":"SUM(L142:X142)","v":9600},{"$f":"VLOOKUP(A142,справочник!$E$2:$F$322,2,0)","v":0}]
[{"$f":"VLOOKUP(B143,справочник!$B$2:$E$322,4,0)","v":202},{"$f":"CONCATENATE(C143;D143)","v":{"$error":"#VALUE!"}},212,"Корчинская Ирина Анатольевна","50:03:0070280:851","2012-07-10","2012-07-01",{"$f":"INT(($H$327-G143)/30)","v":42},{"$f":"H143*1000","v":42000},18000,null,{"$f":"I143-J143-K143","v":24000},800,800,800,800,800,800,800,800,800,800,800,800,{"$f":"SUM(L143:X143)","v":33600},{"$f":"VLOOKUP(A143,справочник!$E$2:$F$322,2,0)","v":0}]
[{"$f":"VLOOKUP(B144,справочник!$B$2:$E$322,4,0)","v":192},{"$f":"CONCATENATE(C144;D144)","v":{"$error":"#VALUE!"}},200,"Косенков Степан Фед-ч(Галактионова)","50:03:0070280:887","2014-07-09","2014-08-01",{"$f":"INT(($H$327-G144)/30)","v":17},{"$f":"H144*1000","v":17000},null,null,{"$f":"I144-J144-K144","v":17000},800,800,800,800,800,800,800,800,800,800,800,800,{"$f":"SUM(L144:X144)","v":26600},{"$f":"VLOOKUP(A144,справочник!$E$2:$F$322,2,0)","v":0}]
[{"$f":"VLOOKUP(B145,справочник!$B$2:$E$322,4,0)","v":289},{"$f":"CONCATENATE(C145;D145)","v":{"$error":"#VALUE!"}},301,"Косенкова Елизавета Евгеньевна","50:03:0070280:772","2014-12-03","2015-01-01",{"$f":"INT(($H$327-G145)/30)","v":12},{"$f":"H145*1000","v":12000},3000,null,{"$f":"I145-J145-K145","v":9000},800,800,800,800,800,800,800,800,800,800,800,800,{"$f":"SUM(L145:X145)","v":18600},{"$f":"VLOOKUP(A145,справочник!$E$2:$F$322,2,0)","v":0}]
[{"$f":"VLOOKUP(B146,справочник!$B$2:$E$322,4,0)","v":143},{"$f":"CONCATENATE(C146;D146)","v":{"$error":"#VALUE!"}},151,"Красникова Раиса Михайловна","50:03:0070280:952","2011-10-25","2011-11-01",{"$f":"INT(($H$327-G146)/30)","v":50},{"$f":"H146*1000","v":50000},37000,null,{"$f":"I146-J146-K146","v":13000},800,800,800,800,800,800,800,800,800,800,800,800,{"$f":"SUM(L146:X146)","v":22600},{"$f":"VLOOKUP(A146,справочник!$E$2:$F$322,2,0)","v":0}]
[{"$f":"VLOOKUP(B147,справочник!$B$2:$E$322,4,0)","v":62},{"$f":"CONCATENATE(C147;D147)","v":{"$error":"#VALUE!"}},64,"Кривой Владимир Аркадьевич","50:03:0070280:933","2011-09-30","2011-10-01",{"$f":"INT(($H$327-G147)/30)","v":51},{"$f":"H147*1000","v":51000},{"$f":"1000+47000","v":48000},3000,{"$f":"I147-J147-K147","v":0},800,800,800,800,800,800,800,800,800,800,800,800,{"$f":"SUM(L147:X147)","v":9600},{"$f":"VLOOKUP(A147,справочник!$E$2:$F$322,2,0)","v":0}]
[{"$f":"VLOOKUP(B148,справочник!$B$2:$E$322,4,0)","v":225},{"$f":"CONCATENATE(C148;D148)","v":{"$error":"#VALUE!"}},234,"Крупник Андрей Валерьевич","50:03:0070280:829","2014-08-20","2014-09-01",{"$f":"INT(($H$327-G148)/30)","v":16},{"$f":"H148*1000","v":16000},null,null,{"$f":"I148-J148-K148","v":16000},800,800,800,800,800,800,800,800,800,800,800,800,{"$f":"SUM(L148:X148)","v":25600},{"$f":"VLOOKUP(A148,справочник!$E$2:$F$322,2,0)","v":0}]
[{"$f":"VLOOKUP(B149,справочник!$B$2:$E$322,4,0)","v":266},{"$f":"CONCATENATE(C149;D149)","v":{"$error":"#VALUE!"}},279,"Кудревцев Евгений Александрович","50:03:0070280:724","2011-09-13","2011-09-01",{"$f":"INT(($H$327-G149)/30)","v":52},{"$f":"H149*1000","v":52000},{"$f":"40000+1000","v":41000},null,{"$f":"I149-J149-K149","v":11000},800,800,800,800,800,800,800,800,800,800,800,800,{"$f":"SUM(L149:X149)","v":20600},{"$f":"VLOOKUP(A149,справочник!$E$2:$F$322,2,0)","v":0}]
[{"$f":"VLOOKUP(B150,справочник!$B$2:$E$322,4,0)","v":157},{"$f":"CONCATENATE(C150;D150)","v":{"$error":"#VALUE!"}},165,"Кудрявцева Наталья Викторовна","50:03:0070280:927","2011-12-08","2011-12-01",{"$f":"INT(($H$327-G150)/30)","v":49},{"$f":"H150*1000","v":49000},{"$f":"12000+13000","v":25000},null,{"$f":"I150-J150-K150","v":24000},800,800,800,800,800,800,800,800,800,800,800,800,{"$f":"SUM(L150:X150)","v":33600},{"$f":"VLOOKUP(A150,справочник!$E$2:$F$322,2,0)","v":0}]
[{"$f":"VLOOKUP(B151,справочник!$B$2:$E$322,4,0)","v":194},{"$f":"CONCATENATE(C151;D151)","v":{"$error":"#VALUE!"}},202,"Куликов Александр Владимирович","50:03:0070280:886","2014-09-16","2014-10-01",{"$f":"INT(($H$327-G151)/30)","v":15},{"$f":"H151*1000","v":15000},11000,null,{"$f":"I151-J151-K151","v":4000},800,800,800,800,800,800,800,800,800,800,800,800,{"$f":"SUM(L151:X151)","v":13600},{"$f":"VLOOKUP(A151,справочник!$E$2:$F$322,2,0)","v":0}]
[{"$f":"VLOOKUP(B152,справочник!$B$2:$E$322,4,0)","v":65},{"$f":"CONCATENATE(C152;D152)","v":{"$error":"#VALUE!"}},67,"Куликова Наталья Александровна","50:03:0070280:936","2011-11-25","2011-11-01",{"$f":"INT(($H$327-G152)/30)","v":50},{"$f":"H152*1000","v":50000},{"$f":"30000","v":30000},null,{"$f":"I152-J152-K152","v":20000},800,800,800,800,800,800,800,800,800,800,800,800,{"$f":"SUM(L152:X152)","v":29600},{"$f":"VLOOKUP(A152,справочник!$E$2:$F$322,2,0)","v":0}]
[{"$f":"VLOOKUP(B153,справочник!$B$2:$E$322,4,0)","v":216},{"$f":"CONCATENATE(C153;D153)","v":{"$error":"#VALUE!"}},225,"Кулиш Сергей Александрович","50:03:0070280:838","2014-05-14","2014-05-01",{"$f":"INT(($H$327-G153)/30)","v":20},{"$f":"H153*1000","v":20000},20000,null,{"$f":"I153-J153-K153","v":0},800,800,800,800,800,800,800,800,800,800,800,800,{"$f":"SUM(L153:X153)","v":9600},{"$f":"VLOOKUP(A153,справочник!$E$2:$F$322,2,0)","v":1}]
[{"$f":"VLOOKUP(B154,справочник!$B$2:$E$322,4,0)","v":216},{"$f":"CONCATENATE(C154;D154)","v":{"$error":"#VALUE!"}},226,"Кулиш Сергей Александрович","50:03:0070280:837","2014-05-14","2014-05-01",{"$f":"INT(($H$327-G154)/30)","v":20},{"$f":"H154*1000","v":20000},20000,null,{"$f":"I154-J154-K154","v":0},{"$nulls":12},{"$f":"SUM(L154:X154)","v":0},{"$f":"VLOOKUP(A154,справочник!$E$2:$F$322,2,0)","v":1}]
[{"$f":"VLOOKUP(B155,справочник!$B$2:$E$322,4,0)","v":56},{"$f":"CONCATENATE(C155;D155)","v":{"$error":"#VALUE!"}},58,"Кушваха Виджай Шанкар","50:03:0070280:963","2011-06-21","2011-07-01",{"$f":"INT(($H$327-G155)/30)","v":54},{"$f":"H155*1000","v":54000},1000,null,{"$f":"I155-J155-K155","v":53000},800,800,800,800,800,800,800,800,800,800,800,800,{"$f":"SUM(L155:X155)","v":62600},{"$f":"VLOOKUP(A155,справочник!$E$2:$F$322,2,0)","v":0}]
[{"$f":"VLOOKUP(B156,справочник!$B$2:$E$322,4,0)","v":150},{"$f":"CONCATENATE(C156;D156)","v":{"$error":"#VALUE!"}},158,"Лайпанов Рустам Сеитбиевич","50:03:0070280:959","2011-08-15","2011-09-01",{"$f":"INT(($H$327-G156)/30)","v":52},{"$f":"H156*1000","v":52000},{"$f":"21000+1000","v":22000},null,{"$f":"I156-J156-K156","v":30000},800,800,800,800,800,800,800,800,800,800,800,800,{"$f":"SUM(L156:X156)","v":39600},{"$f":"VLOOKUP(A156,справочник!$E$2:$F$322,2,0)","v":0}]
[{"$f":"VLOOKUP(B157,справочник!$B$2:$E$322,4,0)","v":243},{"$f":"CONCATENATE(C157;D157)","v":{"$error":"#VALUE!"}},254,"Лапшин Сергей Николаевич","50:03:0070280:791","2011-09-05","2011-09-01",{"$f":"INT(($H$327-G157)/30)","v":52},{"$f":"H157*1000","v":52000},{"$f":"1000","v":1000},45000,{"$f":"I157-J157-K157","v":6000},800,800,800,800,800,800,800,800,800,800,800,800,{"$f":"SUM(L157:X157)","v":15600},{"$f":"VLOOKUP(A157,справочник!$E$2:$F$322,2,0)","v":0}]
[{"$f":"VLOOKUP(B158,справочник!$B$2:$E$322,4,0)","v":220},{"$f":"CONCATENATE(C158;D158)","v":{"$error":"#VALUE!"}},229,"Ларионова Наталья Владимировна","50:03:0070280:834","2014-06-10","2014-07-01",{"$f":"INT(($H$327-G158)/30)","v":18},{"$f":"H158*1000","v":18000},{"$f":"1000","v":1000},null,{"$f":"I158-J158-K158","v":17000},800,800,800,800,800,800,800,800,800,800,800,800,{"$f":"SUM(L158:X158)","v":26600},{"$f":"VLOOKUP(A158,справочник!$E$2:$F$322,2,0)","v":0}]
[{"$f":"VLOOKUP(B159,справочник!$B$2:$E$322,4,0)","v":3},{"$f":"CONCATENATE(C159;D159)","v":{"$error":"#VALUE!"}},3,"Лебедев Андрей Анатольевич","50:03:0070280:700","2014-11-11","2013-12-01",{"$f":"INT(($H$327-G159)/30)","v":25},{"$f":"H159*1000","v":25000},{"$f":"4000","v":4000},null,{"$f":"I159-J159-K159","v":21000},800,800,800,800,800,800,800,800,800,800,800,800,{"$f":"SUM(L159:X159)","v":30600},{"$f":"VLOOKUP(A159,справочник!$E$2:$F$322,2,0)","v":0}]
[{"$f":"VLOOKUP(B160,справочник!$B$2:$E$322,4,0)","v":158},{"$f":"CONCATENATE(C160;D160)","v":{"$error":"#VALUE!"}},166,"Лебедева Елена Александровна","50:03:0070280:926","2014-01-21","2014-02-01",{"$f":"INT(($H$327-G160)/30)","v":23},{"$f":"H160*1000","v":23000},{"$f":"1000","v":1000},null,{"$f":"I160-J160-K160","v":22000},800,800,800,800,800,800,800,800,800,800,800,800,{"$f":"SUM(L160:X160)","v":31600},{"$f":"VLOOKUP(A160,справочник!$E$2:$F$322,2,0)","v":0}]
[{"$f":"VLOOKUP(B161,справочник!$B$2:$E$322,4,0)","v":139},{"$f":"CONCATENATE(C161;D161)","v":{"$error":"#VALUE!"}},149,"Левина Елена Александровна (Дмитрий)","50:03:0070280:943","2011-06-21","2011-07-01",{"$f":"INT(($H$327-G161)/30)","v":54},{"$f":"H161*1000","v":54000},54000,null,{"$f":"I161-J161-K161","v":0},{"$nulls":12},{"$f":"SUM(L161:X161)","v":0},{"$f":"VLOOKUP(A161,справочник!$E$2:$F$322,2,0)","v":1}]
[{"$f":"VLOOKUP(B162,справочник!$B$2:$E$322,4,0)","v":139},{"$f":"CONCATENATE(C162;D162)","v":{"$error":"#VALUE!"}},147,"Левина Елена Александровна (Дмитрий)","50:03:0070280:941","2011-06-21","2011-07-01",{"$f":"INT(($H$327-G162)/30)","v":54},{"$f":"H162*1000","v":54000},54000,null,{"$f":"I162-J162-K162","v":0},{"$nulls":12},{"$f":"SUM(L162:X162)","v":0},{"$f":"VLOOKUP(A162,справочник!$E$2:$F$322,2,0)","v":1}]
[{"$f":"VLOOKUP(B163,справочник!$B$2:$E$322,4,0)","v":139},{"$f":"CONCATENATE(C163;D163)","v":{"$error":"#VALUE!"}},148,"Левина Елена Александровна (Дмитрий)","50:03:0070280:942","2011-06-21","2011-07-01",{"$f":"INT(($H$327-G163)/30)","v":54},{"$f":"H163*1000","v":54000},{"$f":"11000+4000","v":15000},null,{"$f":"I163-J163-K163","v":39000},800,800,800,800,800,800,800,800,800,800,800,800,{"$f":"SUM(L163:X163)","v":48600},{"$f":"VLOOKUP(A163,справочник!$E$2:$F$322,2,0)","v":1}]
[{"$f":"VLOOKUP(B164,справочник!$B$2:$E$322,4,0)","v":261},{"$f":"CONCATENATE(C164;D164)","v":{"$error":"#VALUE!"}},274,"Леськов Олег Петрович","50:03:0070280:1465","2013-04-09","2013-05-01",{"$f":"INT(($H$327-G164)/30)","v":32},{"$f":"H164*1000","v":32000},19000,null,{"$f":"I164-J164-K164","v":13000},{"$nulls":12},{"$f":"SUM(L164:X164)","v":13000},{"$f":"VLOOKUP(A164,справочник!$E$2:$F$322,2,0)","v":1}]
[{"$f":"VLOOKUP(B165,справочник!$B$2:$E$322,4,0)","v":261},{"$f":"CONCATENATE(C165;D165)","v":{"$error":"#VALUE!"}},275,"Леськов Олег Петрович",null,"2012-04-17","2012-04-01",{"$f":"INT(($H$327-G165)/30)","v":45},{"$f":"H165*1000","v":45000},{"$f":"9000+19000","v":28000},null,{"$f":"I165-J165-K165","v":17000},800,800,800,800,800,800,800,800,800,800,800,800,{"$f":"SUM(L165:X165)","v":26600},{"$f":"VLOOKUP(A165,справочник!$E$2:$F$322,2,0)","v":1}]
[{"$f":"VLOOKUP(B166,справочник!$B$2:$E$322,4,0)","v":288},{"$f":"CONCATENATE(C166;D166)","v":{"$error":"#VALUE!"}},300,"Ли Наталья Сергеевна","50:03:0070280:773","2013-08-27","2013-09-01",{"$f":"INT(($H$327-G166)/30)","v":28},{"$f":"H166*1000","v":28000},null,null,{"$f":"I166-J166-K166","v":28000},800,800,800,800,800,800,800,800,800,800,800,800,{"$f":"SUM(L166:X166)","v":37600},{"$f":"VLOOKUP(A166,справочник!$E$2:$F$322,2,0)","v":0}]
[{"$f":"VLOOKUP(B167,справочник!$B$2:$E$322,4,0)","v":166},{"$f":"CONCATENATE(C167;D167)","v":{"$error":"#VALUE!"}},174,"Ловыгина Татьяна Александровна","50:03:0070280:891","2014-07-09","2014-08-01",{"$f":"INT(($H$327-G167)/30)","v":17},{"$f":"H167*1000","v":17000},5000,null,{"$f":"I167-J167-K167","v":12000},800,800,800,800,800,800,800,800,800,800,800,800,{"$f":"SUM(L167:X167)","v":21600},{"$f":"VLOOKUP(A167,справочник!$E$2:$F$322,2,0)","v":0}]
[{"$f":"VLOOKUP(B168,справочник!$B$2:$E$322,4,0)","v":118},{"$f":"CONCATENATE(C168;D168)","v":{"$error":"#VALUE!"}},123,"Лопухинова Надежда Михайловна","50:03:0070280:1020","2013-06-10","2013-07-01",{"$f":"INT(($H$327-G168)/30)","v":30},{"$f":"H168*1000","v":30000},23000,null,{"$f":"I168-J168-K168","v":7000},800,800,800,800,800,800,800,800,800,800,800,800,{"$f":"SUM(L168:X168)","v":16600},{"$f":"VLOOKUP(A168,справочник!$E$2:$F$322,2,0)","v":0}]
[{"$f":"VLOOKUP(B169,справочник!$B$2:$E$322,4,0)","v":199},{"$f":"CONCATENATE(C169;D169)","v":{"$error":"#VALUE!"}},207,"Лошкарев Виктор Ильич","50:03:0070280:775","2012-05-07","2012-05-01",{"$f":"INT(($H$327-G169)/30)","v":44},{"$f":"H169*1000","v":44000},1000,null,{"$f":"I169-J169-K169","v":43000},800,800,800,800,800,800,800,800,800,800,800,800,{"$f":"SUM(L169:X169)","v":52600},{"$f":"VLOOKUP(A169,справочник!$E$2:$F$322,2,0)","v":1}]
[{"$f":"VLOOKUP(B170,справочник!$B$2:$E$322,4,0)","v":199},{"$f":"CONCATENATE(C170;D170)","v":{"$error":"#VALUE!"}},208,"Лошкарев Виктор Ильич","50:03:0070280:892","2012-05-07","2012-05-01",{"$f":"INT(($H$327-G170)/30)","v":44},{"$f":"H170*1000","v":44000},1000,null,{"$f":"I170-J170-K170","v":43000},{"$nulls":12},{"$f":"SUM(L170:X170)","v":43000},{"$f":"VLOOKUP(A170,справочник!$E$2:$F$322,2,0)","v":1}]
[{"$f":"VLOOKUP(B171,справочник!$B$2:$E$322,4,0)","v":164},{"$f":"CONCATENATE(C171;D171)","v":{"$error":"#VALUE!"}},172,"Лунёв Денис Александрович","50:03:0070280:769","2013-10-29","2013-11-01",{"$f":"INT(($H$327-G171)/30)","v":26},{"$f":"H171*1000","v":26000},1000,null,{"$f":"I171-J171-K171","v":25000},800,800,800,800,800,800,800,800,800,800,800,800,{"$f":"SUM(L171:X171)","v":34600},{"$f":"VLOOKUP(A171,справочник!$E$2:$F$322,2,0)","v":0}]
[{"$f":"VLOOKUP(B172,справочник!$B$2:$E$322,4,0)","v":34},{"$f":"CONCATENATE(C172;D172)","v":{"$error":"#VALUE!"}},34,"Лунева Ольга Петровна","50:03:0070280:904","2011-08-26","2011-09-01",{"$f":"INT(($H$327-G172)/30)","v":52},{"$f":"H172*1000","v":52000},55000,null,{"$f":"I172-J172-K172","v":-3000},800,800,800,800,800,800,800,800,800,800,800,800,{"$f":"SUM(L172:X172)","v":6600},{"$f":"VLOOKUP(A172,справочник!$E$2:$F$322,2,0)","v":0}]
[{"$f":"VLOOKUP(B173,справочник!$B$2:$E$322,4,0)","v":13},{"$f":"CONCATENATE(C173;D173)","v":{"$error":"#VALUE!"}},13,"Малов Алексей Викторович","50:03:0070280:702","2013-07-09","2013-08-01",{"$f":"INT(($H$327-G173)/30)","v":29},{"$f":"H173*1000","v":29000},13000,null,{"$f":"I173-J173-K173","v":16000},800,800,800,800,800,800,800,800,800,800,800,800,{"$f":"SUM(L173:X173)","v":25600},{"$f":"VLOOKUP(A173,справочник!$E$2:$F$322,2,0)","v":0}]
[{"$f":"VLOOKUP(B174,справочник!$B$2:$E$322,4,0)","v":273},{"$f":"CONCATENATE(C174;D174)","v":{"$error":"#VALUE!"}},286,"Маргиева Марина Евгеньевна","50:03:0070280:714","2014-12-19","2015-01-01",{"$f":"INT(($H$327-G174)/30)","v":12},{"$f":"H174*1000","v":12000},8000,null,{"$f":"I174-J174-K174","v":4000},800,800,800,800,800,800,800,800,800,800,800,800,{"$f":"SUM(L174:X174)","v":13600},{"$f":"VLOOKUP(A174,справочник!$E$2:$F$322,2,0)","v":0}]
[{"$f":"VLOOKUP(B175,справочник!$B$2:$E$322,4,0)","v":87},{"$f":"CONCATENATE(C175;D175)","v":{"$error":"#VALUE!"}},92,"Маркина Людмила Николаевна, Марина","50:03:0070280:865","2012-08-23","2012-09-01",{"$f":"INT(($H$327-G175)/30)","v":40},{"$f":"H175*1000","v":40000},37000,null,{"$f":"I175-J175-K175","v":3000},800,800,800,800,800,800,800,800,800,800,800,800,{"$f":"SUM(L175:X175)","v":12600},{"$f":"VLOOKUP(A175,справочник!$E$2:$F$322,2,0)","v":0}]
[{"$f":"VLOOKUP(B176,справочник!$B$2:$E$322,4,0)","v":154},{"$f":"CONCATENATE(C176;D176)","v":{"$error":"#VALUE!"}},162,"Марков Максим Юрьевич","50:03:0070280:959","2011-06-26","2011-07-01",{"$f":"INT(($H$327-G176)/30)","v":54},{"$f":"H176*1000","v":54000},50000,null,{"$f":"I176-J176-K176","v":4000},800,800,800,800,800,800,800,800,800,800,800,800,{"$f":"SUM(L176:X176)","v":13600},{"$f":"VLOOKUP(A176,справочник!$E$2:$F$322,2,0)","v":0}]
[{"$f":"VLOOKUP(B177,справочник!$B$2:$E$322,4,0)","v":270},{"$f":"CONCATENATE(C177;D177)","v":{"$error":"#VALUE!"}},283,"Маркова Тамара Ивановна","50:03:0070280:717","2013-05-28","2013-07-01",{"$f":"INT(($H$327-G177)/30)","v":30},{"$f":"H177*1000","v":30000},20000,null,{"$f":"I177-J177-K177","v":10000},800,800,800,800,800,800,800,800,800,800,800,800,{"$f":"SUM(L177:X177)","v":19600},{"$f":"VLOOKUP(A177,справочник!$E$2:$F$322,2,0)","v":0}]
[{"$f":"VLOOKUP(B178,справочник!$B$2:$E$322,4,0)","v":9},{"$f":"CONCATENATE(C178;D178)","v":{"$error":"#VALUE!"}},9,"Марковнина Светлана Викторовна","50:03:0070280:706","2012-07-24","2012-08-01",{"$f":"INT(($H$327-G178)/30)","v":41},{"$f":"H178*1000","v":41000},18000,null,{"$f":"I178-J178-K178","v":23000},800,800,800,800,800,800,800,800,800,800,800,800,{"$f":"SUM(L178:X178)","v":32600},{"$f":"VLOOKUP(A178,справочник!$E$2:$F$322,2,0)","v":0}]
[{"$f":"VLOOKUP(B179,справочник!$B$2:$E$322,4,0)","v":129},{"$f":"CONCATENATE(C179;D179)","v":{"$error":"#VALUE!"}},136,"Маслов Александр Александрович","50:03:0070280:978","2013-03-19","2013-04-01",{"$f":"INT(($H$327-G179)/30)","v":33},{"$f":"H179*1000","v":33000},31000,null,{"$f":"I179-J179-K179","v":2000},800,800,800,800,800,800,800,800,800,800,800,800,{"$f":"SUM(L179:X179)","v":11600},{"$f":"VLOOKUP(A179,справочник!$E$2:$F$322,2,0)","v":0}]
[{"$f":"VLOOKUP(B180,справочник!$B$2:$E$322,4,0)","v":42},{"$f":"CONCATENATE(C180;D180)","v":{"$error":"#VALUE!"}},42,"Маслов Андрей Геннадьевич (1/2)                 Щербакова Надежда Михайловна (1/2)","50:03:0070280:800","2011-08-30","2011-09-01",{"$f":"INT(($H$327-G180)/30)","v":52},{"$f":"H180*1000","v":52000},{"$f":"19500+500+4500+23500","v":48000},null,{"$f":"I180-J180-K180","v":4000},800,800,800,800,800,800,800,800,800,800,800,800,{"$f":"SUM(L180:X180)","v":13600},{"$f":"VLOOKUP(A180,справочник!$E$2:$F$322,2,0)","v":0}]
[{"$f":"VLOOKUP(B181,справочник!$B$2:$E$322,4,0)","v":96},{"$f":"CONCATENATE(C181;D181)","v":{"$error":"#VALUE!"}},101,"Маслова Валентина Петровна","50:03:0070280:1651","2011-06-14","2011-07-01",{"$f":"INT(($H$327-G181)/30)","v":54},{"$f":"H181*1000","v":54000},41012,null,{"$f":"I181-J181-K181","v":12988},{"$nulls":12},{"$f":"SUM(L181:X181)","v":12988},{"$f":"VLOOKUP(A181,справочник!$E$2:$F$322,2,0)","v":1}]
[{"$f":"VLOOKUP(B182,справочник!$B$2:$E$322,4,0)","v":96},{"$f":"CONCATENATE(C182;D182)","v":{"$error":"#VALUE!"}},102,"Маслова Валентина Петровна",null,"2011-06-14","2011-07-01",{"$f":"INT(($H$327-G182)/30)","v":54},{"$f":"H182*1000","v":54000},41000,null,{"$f":"I182-J182-K182","v":13000},800,800,800,800,800,800,800,800,800,800,800,800,{"$f":"SUM(L182:X182)","v":22600},{"$f":"VLOOKUP(A182,справочник!$E$2:$F$322,2,0)","v":1}]
[{"$f":"VLOOKUP(B183,справочник!$B$2:$E$322,4,0)","v":292},{"$f":"CONCATENATE(C183;D183)","v":{"$error":"#VALUE!"}},305,"Матвеев Денис Львович","50:03:0070280:996","2015-01-14","2015-02-01",{"$f":"INT(($H$327-G183)/30)","v":11},{"$f":"H183*1000","v":11000},null,null,{"$f":"I183-J183-K183","v":11000},800,800,800,800,800,800,800,800,800,800,800,800,{"$f":"SUM(L183:X183)","v":20600},{"$f":"VLOOKUP(A183,справочник!$E$2:$F$322,2,0)","v":0}]
[{"$f":"VLOOKUP(B184,справочник!$B$2:$E$322,4,0)","v":209},{"$f":"CONCATENATE(C184;D184)","v":{"$error":"#VALUE!"}},219,"Мельников Михаил Вячеславович / Диденко",null,"2012-12-05","2013-03-01",20,{"$f":"H184*1000","v":20000},null,null,{"$f":"I184-J184-K184","v":20000},800,800,800,800,800,800,800,800,800,800,800,800,{"$f":"SUM(L184:X184)","v":29600},{"$f":"VLOOKUP(A184,справочник!$E$2:$F$322,2,0)","v":0}]
[{"$f":"VLOOKUP(B185,справочник!$B$2:$E$322,4,0)","v":257},{"$f":"CONCATENATE(C185;D185)","v":{"$error":"#VALUE!"}},270,"Месхидзе Оксана Валерьевна","50:03:0070280:733","2013-09-09","2013-10-01",{"$f":"INT(($H$327-G185)/30)","v":27},{"$f":"H185*1000","v":27000},1000,null,{"$f":"I185-J185-K185","v":26000},800,800,800,800,800,800,800,800,800,800,800,800,{"$f":"SUM(L185:X185)","v":35600},{"$f":"VLOOKUP(A185,справочник!$E$2:$F$322,2,0)","v":0}]
[{"$f":"VLOOKUP(B186,справочник!$B$2:$E$322,4,0)","v":212},{"$f":"CONCATENATE(C186;D186)","v":{"$error":"#VALUE!"}},221,"Милишенко Надежда Ивановна","50:03:0070280:842","2013-10-05","2013-11-01",{"$f":"INT(($H$327-G186)/30)","v":26},{"$f":"H186*1000","v":26000},23000,null,{"$f":"I186-J186-K186","v":3000},800,800,800,800,800,800,800,800,800,800,800,800,{"$f":"SUM(L186:X186)","v":12600},{"$f":"VLOOKUP(A186,справочник!$E$2:$F$322,2,0)","v":0}]
[{"$f":"VLOOKUP(B187,справочник!$B$2:$E$322,4,0)","v":320},{"$f":"CONCATENATE(C187;D187)","v":{"$error":"#VALUE!"}},null,"Милоянин Алексей Леонидович",{"$nulls":8},800,800,800,800,800,800,800,800,800,800,800,800,{"$f":"SUM(L187:X187)","v":9600},{"$f":"VLOOKUP(A187,справочник!$E$2:$F$322,2,0)","v":1}]
[{"$f":"VLOOKUP(B188,справочник!$B$2:$E$322,4,0)","v":186},{"$f":"CONCATENATE(C188;D188)","v":{"$error":"#VALUE!"}},194,"Мирошниченко Андрей Иванович Захарова Елена Александровна","50:03:0070280:914","2014-08-21","2014-09-01",{"$f":"INT(($H$327-G188)/30)","v":16},{"$f":"H188*1000","v":16000},12000,null,{"$f":"I188-J188-K188","v":4000},800,800,800,800,800,800,800,800,800,800,800,800,{"$f":"SUM(L188:X188)","v":13600},{"$f":"VLOOKUP(A188,справочник!$E$2:$F$322,2,0)","v":0}]
[{"$f":"VLOOKUP(B189,справочник!$B$2:$E$322,4,0)","v":187},{"$f":"CONCATENATE(C189;D189)","v":{"$error":"#VALUE!"}},195,"Мирошниченко Екатерина Олеговна","50:03:0070280:913","2013-09-25","2013-10-01",{"$f":"INT(($H$327-G189)/30)","v":27},{"$f":"H189*1000","v":27000},null,null,{"$f":"I189-J189-K189","v":27000},800,800,800,800,800,800,800,800,800,800,800,800,{"$f":"SUM(L189:X189)","v":36600},{"$f":"VLOOKUP(A189,справочник!$E$2:$F$322,2,0)","v":0}]
[{"$f":"VLOOKUP(B190,справочник!$B$2:$E$322,4,0)","v":211},{"$f":"CONCATENATE(C190;D190)","v":{"$error":"#VALUE!"}},220,"Модин Игорь Николаевич","50:03:0070280:843","2013-05-23","2013-06-01",{"$f":"INT(($H$327-G190)/30)","v":31},{"$f":"H190*1000","v":31000},26000,7000,{"$f":"I190-J190-K190","v":-2000},800,800,800,800,800,800,800,800,800,800,800,800,{"$f":"SUM(L190:X190)","v":7600},{"$f":"VLOOKUP(A190,справочник!$E$2:$F$322,2,0)","v":0}]
[{"$f":"VLOOKUP(B191,справочник!$B$2:$E$322,4,0)","v":242},{"$f":"CONCATENATE(C191;D191)","v":{"$error":"#VALUE!"}},253,"Моисеев Андрей Валентинович","50:03:0070280:792","2013-03-19","2013-04-01",{"$f":"INT(($H$327-G191)/30)","v":33},{"$f":"H191*1000","v":33000},4000,null,{"$f":"I191-J191-K191","v":29000},800,800,800,800,800,800,800,800,800,800,800,800,{"$f":"SUM(L191:X191)","v":38600},{"$f":"VLOOKUP(A191,справочник!$E$2:$F$322,2,0)","v":0}]
[{"$f":"VLOOKUP(B192,справочник!$B$2:$E$322,4,0)","v":218},{"$f":"CONCATENATE(C192;D192)","v":{"$error":"#VALUE!"}},227,"Молчанова Ирина Владимировна","50:03:0070280:836","2011-09-07","2011-09-01",{"$f":"INT(($H$327-G192)/30)","v":52},{"$f":"H192*1000","v":52000},33000,5000,{"$f":"I192-J192-K192","v":14000},800,800,800,800,800,800,800,800,800,800,800,800,{"$f":"SUM(L192:X192)","v":23600},{"$f":"VLOOKUP(A192,справочник!$E$2:$F$322,2,0)","v":0}]
[{"$f":"VLOOKUP(B193,справочник!$B$2:$E$322,4,0)","v":120},{"$f":"CONCATENATE(C193;D193)","v":{"$error":"#VALUE!"}},125,"Мудрак Владимир Григорьевич (Марина)","50:03:0070280:1022","2013-05-23","2013-06-01",{"$f":"INT(($H$327-G193)/30)","v":31},{"$f":"H193*1000","v":31000},21000,null,{"$f":"I193-J193-K193","v":10000},800,800,800,800,800,800,800,800,800,800,800,800,{"$f":"SUM(L193:X193)","v":19600},{"$f":"VLOOKUP(A193,справочник!$E$2:$F$322,2,0)","v":0}]
[{"$f":"VLOOKUP(B194,справочник!$B$2:$E$322,4,0)","v":287},{"$f":"CONCATENATE(C194;D194)","v":{"$error":"#VALUE!"}},299,"Мурадова Альбина Сергеевна","50:03:0070280:774","2014-09-15","2014-10-01",{"$f":"INT(($H$327-G194)/30)","v":15},{"$f":"H194*1000","v":15000},13000,null,{"$f":"I194-J194-K194","v":2000},800,800,800,800,800,800,800,800,800,800,800,800,{"$f":"SUM(L194:X194)","v":11600},{"$f":"VLOOKUP(A194,справочник!$E$2:$F$322,2,0)","v":0}]
[{"$f":"VLOOKUP(B195,справочник!$B$2:$E$322,4,0)","v":170},{"$f":"CONCATENATE(C195;D195)","v":{"$error":"#VALUE!"}},178,"Науменко Дмитрий Александрович","50:03:0070280:767","2013-05-20","2013-07-01",{"$f":"INT(($H$327-G195)/30)","v":30},{"$f":"H195*1000","v":30000},29000,1000,{"$f":"I195-J195-K195","v":0},{"$nulls":12},{"$f":"SUM(L195:X195)","v":0},{"$f":"VLOOKUP(A195,справочник!$E$2:$F$322,2,0)","v":1}]
[{"$f":"VLOOKUP(B196,справочник!$B$2:$E$322,4,0)","v":170},{"$f":"CONCATENATE(C196;D196)","v":{"$error":"#VALUE!"}},179,"Науменко Дмитрий Александрович","50:03:0070280:766","2013-05-20","2013-07-01",{"$f":"INT(($H$327-G196)/30)","v":30},{"$f":"H196*1000","v":30000},29000,1000,{"$f":"I196-J196-K196","v":0},800,800,800,800,800,800,800,800,800,800,800,800,{"$f":"SUM(L196:X196)","v":9600},{"$f":"VLOOKUP(A196,справочник!$E$2:$F$322,2,0)","v":1}]
[{"$f":"VLOOKUP(B197,справочник!$B$2:$E$322,4,0)","v":290},{"$f":"CONCATENATE(C197;D197)","v":{"$error":"#VALUE!"}},303,"Недосенко Татьяна Сергеевна (Олег)","50:03:0070280:994","2012-02-20","2012-02-01",{"$f":"INT(($H$327-G197)/30)","v":47},{"$f":"H197*1000","v":47000},42000,5000,{"$f":"I197-J197-K197","v":0},800,800,800,800,800,800,800,800,800,800,800,800,{"$f":"SUM(L197:X197)","v":9600},{"$f":"VLOOKUP(A197,справочник!$E$2:$F$322,2,0)","v":0}]
[{"$f":"VLOOKUP(B198,справочник!$B$2:$E$322,4,0)","v":81},{"$f":"CONCATENATE(C198;D198)","v":{"$error":"#VALUE!"}},86,"Нелюбов Сергей Владимирович","50:03:0070280:879","2012-02-10","2012-02-01",{"$f":"INT(($H$327-G198)/30)","v":47},{"$f":"H198*1000","v":47000},44000,3000,{"$f":"I198-J198-K198","v":0},800,800,800,800,800,800,800,800,800,800,800,800,{"$f":"SUM(L198:X198)","v":9600},{"$f":"VLOOKUP(A198,справочник!$E$2:$F$322,2,0)","v":0}]
[{"$f":"VLOOKUP(B199,справочник!$B$2:$E$322,4,0)","v":31},{"$f":"CONCATENATE(C199;D199)","v":{"$error":"#VALUE!"}},31,"Нефедов Михаил Владимирович","50:03:0070280:901","2011-08-31","2011-09-01",{"$f":"INT(($H$327-G199)/30)","v":52},{"$f":"H199*1000","v":52000},{"$f":"10000+42000","v":52000},null,{"$f":"I199-J199-K199","v":0},800,800,800,800,800,800,800,800,800,800,800,800,{"$f":"SUM(L199:X199)","v":9600},{"$f":"VLOOKUP(A199,справочник!$E$2:$F$322,2,0)","v":0}]
[{"$f":"VLOOKUP(B200,справочник!$B$2:$E$322,4,0)","v":104},{"$f":"CONCATENATE(C200;D200)","v":{"$error":"#VALUE!"}},109,"Никифоров Андрей Леонидович","50:03:0070280:819","2011-12-16","2011-12-01",{"$f":"INT(($H$327-G200)/30)","v":49},{"$f":"H200*1000","v":49000},{"$f":"1000+45000","v":46000},null,{"$f":"I200-J200-K200","v":3000},800,800,800,800,800,800,800,800,800,800,800,800,{"$f":"SUM(L200:X200)","v":12600},{"$f":"VLOOKUP(A200,справочник!$E$2:$F$322,2,0)","v":0}]
[{"$f":"VLOOKUP(B201,справочник!$B$2:$E$322,4,0)","v":85},{"$f":"CONCATENATE(C201;D201)","v":{"$error":"#VALUE!"}},90,"Новиков Виктор Викторович","50:03:0070280:867","2011-06-01","2011-07-01",{"$f":"INT(($H$327-G201)/30)","v":54},{"$f":"H201*1000","v":54000},{"$f":"1000+53000","v":54000},null,{"$f":"I201-J201-K201","v":0},800,800,800,800,800,800,800,800,800,800,800,800,{"$f":"SUM(L201:X201)","v":9600},{"$f":"VLOOKUP(A201,справочник!$E$2:$F$322,2,0)","v":0}]
[{"$f":"VLOOKUP(B202,справочник!$B$2:$E$322,4,0)","v":300},{"$f":"CONCATENATE(C202;D202)","v":{"$error":"#VALUE!"}},315,"Новикова Наталья Петровна","50:03:0070280:1006","2014-12-26","2015-01-01",{"$f":"INT(($H$327-G202)/30)","v":12},{"$f":"H202*1000","v":12000},1000,null,{"$f":"I202-J202-K202","v":11000},800,800,800,800,800,800,800,800,800,800,800,800,{"$f":"SUM(L202:X202)","v":20600},{"$f":"VLOOKUP(A202,справочник!$E$2:$F$322,2,0)","v":0}]
[{"$f":"VLOOKUP(B203,справочник!$B$2:$E$322,4,0)","v":47},{"$f":"CONCATENATE(C203;D203)","v":{"$error":"#VALUE!"}},47,"Новикова Светлана Владимировна (Анатолий)","50:03:0070280:990","2013-04-11","2013-05-01",{"$f":"INT(($H$327-G203)/30)","v":32},{"$f":"H203*1000","v":32000},9000,null,{"$f":"I203-J203-K203","v":23000},800,800,800,800,800,800,800,800,800,800,800,800,{"$f":"SUM(L203:X203)","v":32600},{"$f":"VLOOKUP(A203,справочник!$E$2:$F$322,2,0)","v":0}]
[{"$f":"VLOOKUP(B204,справочник!$B$2:$E$322,4,0)","v":282},{"$f":"CONCATENATE(C204;D204)","v":{"$error":"#VALUE!"}},294,"Нормуротов Анваржон Абдирайимович","50:03:0070280:775","2014-03-18","2014-04-01",{"$f":"INT(($H$327-G204)/30)","v":21},{"$f":"H204*1000","v":21000},18000,null,{"$f":"I204-J204-K204","v":3000},800,800,800,800,800,800,800,800,800,800,800,800,{"$f":"SUM(L204:X204)","v":12600},{"$f":"VLOOKUP(A204,справочник!$E$2:$F$322,2,0)","v":0}]
[{"$f":"VLOOKUP(B205,справочник!$B$2:$E$322,4,0)","v":204},{"$f":"CONCATENATE(C205;D205)","v":{"$error":"#VALUE!"}},214,"Носикова Александра Васильевна","50:03:0070280:849",null,null,null,{"$f":"H205*1000","v":0},null,null,{"$f":"I205-J205-K205","v":0},800,800,800,800,800,800,800,800,800,800,800,800,{"$f":"SUM(L205:X205)","v":9600},{"$f":"VLOOKUP(A205,справочник!$E$2:$F$322,2,0)","v":0}]
[{"$f":"VLOOKUP(B206,справочник!$B$2:$E$322,4,0)","v":291},{"$f":"CONCATENATE(C206;D206)","v":{"$error":"#VALUE!"}},304,"Носикова Мария Леонидовна","50:03:0070280:995",null,null,null,{"$f":"H206*1000","v":0},null,null,{"$f":"I206-J206-K206","v":0},800,800,800,800,800,800,800,800,800,800,800,800,{"$f":"SUM(L206:X206)","v":9600},{"$f":"VLOOKUP(A206,справочник!$E$2:$F$322,2,0)","v":0}]
[{"$f":"VLOOKUP(B207,справочник!$B$2:$E$322,4,0)","v":89},{"$f":"CONCATENATE(C207;D207)","v":{"$error":"#VALUE!"}},94,"Олег (Гусев Николай Михайлович — был)","50:03:0070280:826","2012-07-16","2012-07-01",{"$f":"INT(($H$327-G207)/30)","v":42},{"$f":"H207*1000","v":42000},{"$f":"21000","v":21000},null,{"$f":"I207-J207-K207","v":21000},800,800,800,800,800,800,800,800,800,800,800,800,{"$f":"SUM(L207:X207)","v":30600},{"$f":"VLOOKUP(A207,справочник!$E$2:$F$322,2,0)","v":0}]
[{"$f":"VLOOKUP(B208,справочник!$B$2:$E$322,4,0)","v":26},{"$f":"CONCATENATE(C208;D208)","v":{"$error":"#VALUE!"}},26,"Олейников Дмитрий Александрович","50:03:0070280:855","2011-09-02","2011-09-01",{"$f":"INT(($H$327-G208)/30)","v":52},{"$f":"H208*1000","v":52000},null,null,{"$f":"I208-J208-K208","v":52000},800,800,800,800,800,800,800,800,800,800,800,800,{"$f":"SUM(L208:X208)","v":61600},{"$f":"VLOOKUP(A208,справочник!$E$2:$F$322,2,0)","v":0}]
[{"$f":"VLOOKUP(B209,справочник!$B$2:$E$322,4,0)","v":71},{"$f":"CONCATENATE(C209;D209)","v":{"$error":"#VALUE!"}},77,"Олейникова Евгения Александровна","50:03:0070280:803","2011-09-02","2011-09-01",{"$f":"INT(($H$327-G209)/30)","v":52},{"$f":"H209*1000","v":52000},{"$f":"36000+4000","v":40000},null,{"$f":"I209-J209-K209","v":12000},800,800,800,800,800,800,800,800,800,800,800,800,{"$f":"SUM(L209:X209)","v":21600},{"$f":"VLOOKUP(A209,справочник!$E$2:$F$322,2,0)","v":0}]
[{"$f":"VLOOKUP(B210,справочник!$B$2:$E$322,4,0)","v":6},{"$f":"CONCATENATE(C210;D210)","v":{"$error":"#VALUE!"}},6,"Осадчев Константин Владимирович","50:03:0070280:708","2014-10-27","2014-11-01",{"$f":"INT(($H$327-G210)/30)","v":14},{"$f":"H210*1000","v":14000},null,null,{"$f":"I210-J210-K210","v":14000},800,800,800,800,800,800,800,800,800,800,800,800,{"$f":"SUM(L210:X210)","v":23600},{"$f":"VLOOKUP(A210,справочник!$E$2:$F$322,2,0)","v":0}]
[{"$f":"VLOOKUP(B211,справочник!$B$2:$E$322,4,0)","v":80},{"$f":"CONCATENATE(C211;D211)","v":{"$error":"#VALUE!"}},85,"Острикова Наталья Львовна","50:03:0070280:880","2012-03-27","2012-04-01",{"$f":"INT(($H$327-G211)/30)","v":45},{"$f":"H211*1000","v":45000},45000,null,{"$f":"I211-J211-K211","v":0},800,800,800,800,800,800,800,800,800,800,800,800,{"$f":"SUM(L211:X211)","v":9600},{"$f":"VLOOKUP(A211,справочник!$E$2:$F$322,2,0)","v":0}]
[{"$f":"VLOOKUP(B212,справочник!$B$2:$E$322,4,0)","v":201},{"$f":"CONCATENATE(C212;D212)","v":{"$error":"#VALUE!"}},209,"Пархачева Эльвира Валентиновна (Алксандр)","50:03:0070280:871","2012-03-06","2012-03-01",{"$f":"INT(($H$327-G212)/30)","v":46},{"$f":"H212*1000","v":46000},38000,null,{"$f":"I212-J212-K212","v":8000},800,800,800,800,800,800,800,800,800,800,800,800,{"$f":"SUM(L212:X212)","v":17600},{"$f":"VLOOKUP(A212,справочник!$E$2:$F$322,2,0)","v":0}]
[{"$f":"VLOOKUP(B213,справочник!$B$2:$E$322,4,0)","v":147},{"$f":"CONCATENATE(C213;D213)","v":{"$error":"#VALUE!"}},155,"Пахарева Ольга Александровна (Дмитрий)","50:03:0070280:955","2012-02-13","2012-02-01",{"$f":"INT(($H$327-G213)/30)","v":47},{"$f":"H213*1000","v":47000},32000,null,{"$f":"I213-J213-K213","v":15000},800,800,800,800,800,800,800,800,800,800,800,800,{"$f":"SUM(L213:X213)","v":24600},{"$f":"VLOOKUP(A213,справочник!$E$2:$F$322,2,0)","v":0}]
[{"$f":"VLOOKUP(B214,справочник!$B$2:$E$322,4,0)","v":{"$error":"#VALUE!"}},{"$f":"CONCATENATE(C214;D214)","v":{"$error":"#VALUE!"}},"29_","Петрик Наталья Вячеславовна(ПродалаУстинова Ирина)","50:03:0070280:858","2012-01-15","2012-01-01",7,{"$f":"H214*1000","v":7000},7000,null,{"$f":"I214-J214-K214","v":0},{"$nulls":12},{"$f":"SUM(L214:X214)","v":0},{"$f":"VLOOKUP(A214,справочник!$E$2:$F$322,2,0)","v":{"$error":"#VALUE!"}}]
[{"$f":"VLOOKUP(B215,справочник!$B$2:$E$322,4,0)","v":33},{"$f":"CONCATENATE(C215;D215)","v":{"$error":"#VALUE!"}},33,"Петров Борис Викторович","50:03:0070280:903","2011-09-05","2011-09-01",{"$f":"INT(($H$327-G215)/30)","v":52},{"$f":"H215*1000","v":52000},{"$f":"1000+44000","v":45000},null,{"$f":"I215-J215-K215","v":7000},800,800,800,800,800,800,800,800,800,800,800,800,{"$f":"SUM(L215:X215)","v":16600},{"$f":"VLOOKUP(A215,справочник!$E$2:$F$322,2,0)","v":0}]
[{"$f":"VLOOKUP(B216,справочник!$B$2:$E$322,4,0)","v":169},{"$f":"CONCATENATE(C216;D216)","v":{"$error":"#VALUE!"}},177,"Петрова Елена Николаевна","50:03:0070280:768","2013-11-20","2013-12-01",{"$f":"INT(($H$327-G216)/30)","v":25},{"$f":"H216*1000","v":25000},21000,null,{"$f":"I216-J216-K216","v":4000},800,800,800,800,800,800,800,800,800,800,800,800,{"$f":"SUM(L216:X216)","v":13600},{"$f":"VLOOKUP(A216,справочник!$E$2:$F$322,2,0)","v":0}]
[{"$f":"VLOOKUP(B217,справочник!$B$2:$E$322,4,0)","v":185},{"$f":"CONCATENATE(C217;D217)","v":{"$error":"#VALUE!"}},193,"Петункин Игорь Минович","50:03:0070280:915","2013-08-20","2013-09-01",{"$f":"INT(($H$327-G217)/30)","v":28},{"$f":"H217*1000","v":28000},14000,null,{"$f":"I217-J217-K217","v":14000},800,800,800,800,800,800,800,800,800,800,800,800,{"$f":"SUM(L217:X217)","v":23600},{"$f":"VLOOKUP(A217,справочник!$E$2:$F$322,2,0)","v":0}]
[{"$f":"VLOOKUP(B218,справочник!$B$2:$E$322,4,0)","v":176},{"$f":"CONCATENATE(C218;D218)","v":{"$error":"#VALUE!"}},184,"Пикалёва Алла Григорьевна (Юрий)","50:03:0070280:920","2014-04-05","2014-05-01",{"$f":"INT(($H$327-G218)/30)","v":20},{"$f":"H218*1000","v":20000},3000,null,{"$f":"I218-J218-K218","v":17000},800,800,800,800,800,800,800,800,800,800,800,800,{"$f":"SUM(L218:X218)","v":26600},{"$f":"VLOOKUP(A218,справочник!$E$2:$F$322,2,0)","v":0}]
[{"$f":"VLOOKUP(B219,справочник!$B$2:$E$322,4,0)","v":307},{"$f":"CONCATENATE(C219;D219)","v":{"$error":"#VALUE!"}},322,"Поликарпова Наталья Дмитриевна","50:03:0070280:1012","2012-07-24","2012-08-01",{"$f":"INT(($H$327-G219)/30)","v":41},{"$f":"H219*1000","v":41000},27000,null,{"$f":"I219-J219-K219","v":14000},800,800,800,800,800,800,800,800,800,800,800,800,{"$f":"SUM(L219:X219)","v":23600},{"$f":"VLOOKUP(A219,справочник!$E$2:$F$322,2,0)","v":0}]
[{"$f":"VLOOKUP(B220,справочник!$B$2:$E$322,4,0)","v":177},{"$f":"CONCATENATE(C220;D220)","v":{"$error":"#VALUE!"}},185,"Полякова Марина Александровна","50:03:0070280:762","2014-09-16","2014-10-01",{"$f":"INT(($H$327-G220)/30)","v":15},{"$f":"H220*1000","v":15000},12000,null,{"$f":"I220-J220-K220","v":3000},800,800,800,800,800,800,800,800,800,800,800,800,{"$f":"SUM(L220:X220)","v":12600},{"$f":"VLOOKUP(A220,справочник!$E$2:$F$322,2,0)","v":0}]
[{"$f":"VLOOKUP(B221,справочник!$B$2:$E$322,4,0)","v":160},{"$f":"CONCATENATE(C221;D221)","v":{"$error":"#VALUE!"}},168,"Пономарева Олеся Сергеевна","50:03:0070280:924","2012-06-19","2012-07-01",{"$f":"INT(($H$327-G221)/30)","v":42},{"$f":"H221*1000","v":42000},21000,null,{"$f":"I221-J221-K221","v":21000},800,800,800,800,800,800,800,800,800,800,800,800,{"$f":"SUM(L221:X221)","v":30600},{"$f":"VLOOKUP(A221,справочник!$E$2:$F$322,2,0)","v":0}]
[{"$f":"VLOOKUP(B222,справочник!$B$2:$E$322,4,0)","v":53},{"$f":"CONCATENATE(C222;D222)","v":{"$error":"#VALUE!"}},55,"Попова Нина Ивановна","50:03:0070280:944","2014-12-22","2015-01-01",{"$f":"INT(($H$327-G222)/30)","v":12},{"$f":"H222*1000","v":12000},12000,null,{"$f":"I222-J222-K222","v":0},800,800,800,800,800,800,800,800,800,800,800,800,{"$f":"SUM(L222:X222)","v":9600},{"$f":"VLOOKUP(A222,справочник!$E$2:$F$322,2,0)","v":0}]
[{"$f":"VLOOKUP(B223,справочник!$B$2:$E$322,4,0)","v":102},{"$f":"CONCATENATE(C223;D223)","v":{"$error":"#VALUE!"}},107,"Постернак Татьяна Николаевна","50:03:0070280:821","2011-08-02","2011-08-01",{"$f":"INT(($H$327-G223)/30)","v":53},{"$f":"H223*1000","v":53000},{"$f":"52000+1000","v":53000},null,{"$f":"I223-J223-K223","v":0},800,800,800,800,800,800,800,800,800,800,800,800,{"$f":"SUM(L223:X223)","v":9600},{"$f":"VLOOKUP(A223,справочник!$E$2:$F$322,2,0)","v":0}]
[{"$f":"VLOOKUP(B224,справочник!$B$2:$E$322,4,0)","v":174},{"$f":"CONCATENATE(C224;D224)","v":{"$error":"#VALUE!"}},182,"Просянов Александр Александрович","50:03:0070280:763","2013-03-19","2013-04-01",{"$f":"INT(($H$327-G224)/30)","v":33},{"$f":"H224*1000","v":33000},33000,null,{"$f":"I224-J224-K224","v":0},800,800,800,800,800,800,800,800,800,800,800,800,{"$f":"SUM(L224:X224)","v":9600},{"$f":"VLOOKUP(A224,справочник!$E$2:$F$322,2,0)","v":0}]
[{"$f":"VLOOKUP(B225,справочник!$B$2:$E$322,4,0)","v":165},{"$f":"CONCATENATE(C225;D225)","v":{"$error":"#VALUE!"}},173,"Прохоров Владимир Михайлович","50:03:0070280:922",null,null,17,{"$f":"H225*1000","v":17000},17000,null,{"$f":"I225-J225-K225","v":0},800,800,800,800,800,800,800,800,800,800,800,800,{"$f":"SUM(L225:X225)","v":9600},{"$f":"VLOOKUP(A225,справочник!$E$2:$F$322,2,0)","v":0}]
[{"$f":"VLOOKUP(B226,справочник!$B$2:$E$322,4,0)","v":251},{"$f":"CONCATENATE(C226;D226)","v":{"$error":"#VALUE!"}},262,"Пузанова Екатерина Вячеславовна","50:03:0070280:741","2014-04-22","2014-05-01",{"$f":"INT(($H$327-G226)/30)","v":20},{"$f":"H226*1000","v":20000},null,null,{"$f":"I226-J226-K226","v":20000},800,800,800,800,800,800,800,800,800,800,800,800,{"$f":"SUM(L226:X226)","v":29600},{"$f":"VLOOKUP(A226,справочник!$E$2:$F$322,2,0)","v":0}]
[{"$f":"VLOOKUP(B227,справочник!$B$2:$E$322,4,0)","v":315},{"$f":"CONCATENATE(C227;D227)","v":{"$error":"#VALUE!"}},"265-266","Ратников Алексей Сергеевич","50:03:0070280:738","2011-12-13","2011-12-01",{"$f":"INT(($H$327-G227)/30)","v":49},{"$f":"H227*1000","v":49000},{"$f":"28000+2000","v":30000},null,{"$f":"I227-J227-K227","v":19000},800,800,800,800,800,800,800,800,800,800,800,800,{"$f":"SUM(L227:X227)","v":28600},{"$f":"VLOOKUP(A227,справочник!$E$2:$F$322,2,0)","v":0}]
[{"$f":"VLOOKUP(B228,справочник!$B$2:$E$322,4,0)","v":{"$error":"#VALUE!"}},{"$f":"CONCATENATE(C228;D228)","v":{"$error":"#VALUE!"}},"210-211","Решетов Владимир Генадьевич","50:03:0070280:1464","2011-09-30","2011-10-01",{"$f":"INT(($H$327-G228)/30)","v":51},61000,{"$f":"2000+55000","v":57000},4000,{"$f":"I228-J228-K228","v":0},800,800,800,800,800,800,800,800,800,800,800,800,{"$f":"SUM(L228:X228)","v":9600},{"$f":"VLOOKUP(A228,справочник!$E$2:$F$322,2,0)","v":{"$error":"#VALUE!"}}]
[{"$f":"VLOOKUP(B229,справочник!$B$2:$E$322,4,0)","v":{"$error":"#VALUE!"}},{"$f":"CONCATENATE(C229;D229)","v":{"$error":"#VALUE!"}},"210-211","Решетов Владимир Генадьевич","50:03:0070280:1464","2011-09-30","2011-10-01",{"$f":"INT(($H$327-G229)/30)","v":51},61000,58000,3000,{"$f":"I229-J229-K229","v":0},{"$nulls":12},{"$f":"SUM(L229:X229)","v":0},{"$f":"VLOOKUP(A229,справочник!$E$2:$F$322,2,0)","v":{"$error":"#VALUE!"}}]
[{"$f":"VLOOKUP(B230,справочник!$B$2:$E$322,4,0)","v":195},{"$f":"CONCATENATE(C230;D230)","v":{"$error":"#VALUE!"}},203,"Родичева Наталья Николаевна - Завилевская Е.И. ???","50:03:0070280:885","2013-11-21","2013-12-01",{"$f":"INT(($H$327-G230)/30)","v":25},{"$f":"H230*1000","v":25000},1000,null,{"$f":"I230-J230-K230","v":24000},800,800,800,800,800,800,800,800,800,800,800,800,{"$f":"SUM(L230:X230)","v":33600},{"$f":"VLOOKUP(A230,справочник!$E$2:$F$322,2,0)","v":0}]
[{"$f":"VLOOKUP(B231,справочник!$B$2:$E$322,4,0)","v":144},{"$f":"CONCATENATE(C231;D231)","v":{"$error":"#VALUE!"}},152,"Рожкова Глафира Андреевна","50:03:0070280:1031","2011-09-02","2011-09-01",{"$f":"INT(($H$327-G231)/30)","v":52},{"$f":"H231*1000","v":52000},1000,null,{"$f":"I231-J231-K231","v":51000},{"$nulls":12},{"$f":"SUM(L231:X231)","v":51000},{"$f":"VLOOKUP(A231,справочник!$E$2:$F$322,2,0)","v":1}]
[{"$f":"VLOOKUP(B232,справочник!$B$2:$E$322,4,0)","v":144},{"$f":"CONCATENATE(C232;D232)","v":{"$error":"#VALUE!"}},153,"Рожкова Глафира Андреевна",null,"2011-09-02","2011-09-01",{"$f":"INT(($H$327-G232)/30)","v":52},{"$f":"H232*1000","v":52000},1000,null,{"$f":"I232-J232-K232","v":51000},800,800,800,800,800,800,800,800,800,800,800,800,{"$f":"SUM(L232:X232)","v":60600},{"$f":"VLOOKUP(A232,справочник!$E$2:$F$322,2,0)","v":1}]
[{"$f":"VLOOKUP(B233,справочник!$B$2:$E$322,4,0)","v":74},{"$f":"CONCATENATE(C233;D233)","v":{"$error":"#VALUE!"}},80,"Розова Татьяна Викторовна","50:03:0070280:749","2013-02-05","2013-03-01",{"$f":"INT(($H$327-G233)/30)","v":34},{"$f":"H233*1000","v":34000},31000,null,{"$f":"I233-J233-K233","v":3000},{"$nulls":12},{"$f":"SUM(L233:X233)","v":3000},{"$f":"VLOOKUP(A233,справочник!$E$2:$F$322,2,0)","v":1}]
[{"$f":"VLOOKUP(B234,справочник!$B$2:$E$322,4,0)","v":74},{"$f":"CONCATENATE(C234;D234)","v":{"$error":"#VALUE!"}},81,"Розова Татьяна Викторовна","50:03:0070280:750","2011-05-19","2011-06-01",{"$f":"INT(($H$327-G234)/30)","v":55},{"$f":"H234*1000","v":55000},{"$f":"7000+48000-3000","v":52000},null,{"$f":"I234-J234-K234","v":3000},800,800,800,800,800,800,800,800,800,800,800,800,{"$f":"SUM(L234:X234)","v":12600},{"$f":"VLOOKUP(A234,справочник!$E$2:$F$322,2,0)","v":1}]
[{"$f":"VLOOKUP(B235,справочник!$B$2:$E$322,4,0)","v":68},{"$f":"CONCATENATE(C235;D235)","v":{"$error":"#VALUE!"}},70,"Рощина Ирина Михайловна","50:03:0070280:754","2011-05-24","2011-05-01",{"$f":"INT(($H$327-G235)/30)","v":56},{"$f":"H235*1000","v":56000},{"$f":"12000+44000","v":56000},null,{"$f":"I235-J235-K235","v":0},800,800,800,800,800,800,800,800,800,800,800,800,{"$f":"SUM(L235:X235)","v":9600},{"$f":"VLOOKUP(A235,справочник!$E$2:$F$322,2,0)","v":0}]
[{"$f":"VLOOKUP(B236,справочник!$B$2:$E$322,4,0)","v":224},{"$f":"CONCATENATE(C236;D236)","v":{"$error":"#VALUE!"}},233,"Рудая Наталья Викторовна","50:03:0070280:830","2014-04-22","2014-05-01",{"$f":"INT(($H$327-G236)/30)","v":20},{"$f":"H236*1000","v":20000},null,null,{"$f":"I236-J236-K236","v":20000},800,800,800,800,800,800,800,800,800,800,800,800,{"$f":"SUM(L236:X236)","v":29600},{"$f":"VLOOKUP(A236,справочник!$E$2:$F$322,2,0)","v":0}]
[{"$f":"VLOOKUP(B237,справочник!$B$2:$E$322,4,0)","v":134},{"$f":"CONCATENATE(C237;D237)","v":{"$error":"#VALUE!"}},141,"Рыбалкин Андрей Сергеевич","50:03:0070280:893","2011-12-16","2011-12-01",{"$f":"INT(($H$327-G237)/30)","v":49},{"$f":"H237*1000","v":49000},{"$f":"37000","v":37000},null,{"$f":"I237-J237-K237","v":12000},800,800,800,800,800,800,800,800,800,800,800,800,{"$f":"SUM(L237:X237)","v":21600},{"$f":"VLOOKUP(A237,справочник!$E$2:$F$322,2,0)","v":0}]
[{"$f":"VLOOKUP(B238,справочник!$B$2:$E$322,4,0)","v":267},{"$f":"CONCATENATE(C238;D238)","v":{"$error":"#VALUE!"}},280,"Рыжов Андрей Николаевич","50:03:0070280:721","2012-04-24","2012-04-01",{"$f":"INT(($H$327-G238)/30)","v":45},{"$f":"H238*1000","v":45000},{"$f":"41000","v":41000},null,{"$f":"I238-J238-K238","v":4000},800,800,800,800,800,800,800,800,800,800,800,800,{"$f":"SUM(L238:X238)","v":13600},{"$f":"VLOOKUP(A238,справочник!$E$2:$F$322,2,0)","v":0}]
[{"$f":"VLOOKUP(B239,справочник!$B$2:$E$322,4,0)","v":258},{"$f":"CONCATENATE(C239;D239)","v":{"$error":"#VALUE!"}},271,"Савина Нина Ивановна","50:03:0070280:732","2012-05-10","2012-05-01",{"$f":"INT(($H$327-G239)/30)","v":44},{"$f":"H239*1000","v":44000},44000,null,{"$f":"I239-J239-K239","v":0},800,800,800,800,800,800,800,800,800,800,800,800,{"$f":"SUM(L239:X239)","v":9600},{"$f":"VLOOKUP(A239,справочник!$E$2:$F$322,2,0)","v":0}]
[{"$f":"VLOOKUP(B240,справочник!$B$2:$E$322,4,0)","v":299},{"$f":"CONCATENATE(C240;D240)","v":{"$error":"#VALUE!"}},314,"Садовников Алексей Владимирович(Рошка Александр Николаевич)",null,"2015-01-13","2013-01-01",{"$f":"INT(($H$327-G240)/30)","v":36},{"$f":"H240*1000","v":36000},{"$f":"1000","v":1000},3000,{"$f":"I240-J240-K240","v":32000},800,800,800,800,800,800,800,800,800,800,800,800,{"$f":"SUM(L240:X240)","v":41600},{"$f":"VLOOKUP(A240,справочник!$E$2:$F$322,2,0)","v":0}]
[]
[{"$f":"VLOOKUP(B242,справочник!$B$2:$E$322,4,0)","v":239},{"$f":"CONCATENATE(C242;D242)","v":{"$error":"#VALUE!"}},250,"Салопаева Татьяна Сергеевна","50:03:0070280:722","2012-03-05","2012-03-01",{"$f":"INT(($H$327-G242)/30)","v":46},{"$f":"H242*1000","v":46000},26000,null,{"$f":"I242-J242-K242","v":20000},800,800,800,800,800,800,800,800,800,800,800,800,{"$f":"SUM(L242:X242)","v":29600},{"$f":"VLOOKUP(A242,справочник!$E$2:$F$322,2,0)","v":0}]
[{"$f":"VLOOKUP(B243,справочник!$B$2:$E$322,4,0)","v":238},{"$f":"CONCATENATE(C243;D243)","v":{"$error":"#VALUE!"}},249,"Самоволькина Ирина Владимировна","50:03:0070280:723","2012-06-19","2012-06-01",{"$f":"INT(($H$327-G243)/30)","v":43},{"$f":"H243*1000","v":43000},null,null,{"$f":"I243-J243-K243","v":43000},800,800,800,800,800,800,800,800,800,800,800,800,{"$f":"SUM(L243:X243)","v":52600},{"$f":"VLOOKUP(A243,справочник!$E$2:$F$322,2,0)","v":0}]
[{"$f":"VLOOKUP(B244,справочник!$B$2:$E$322,4,0)","v":297},{"$f":"CONCATENATE(C244;D244)","v":{"$error":"#VALUE!"}},312,"Саргсян Оганнес Ншанович","50:03:0070280:1003","2014-12-31","2015-01-01",{"$f":"INT(($H$327-G244)/30)","v":12},{"$f":"H244*1000","v":12000},null,null,{"$f":"I244-J244-K244","v":12000},800,800,800,800,800,800,800,800,800,800,800,800,{"$f":"SUM(L244:X244)","v":21600},{"$f":"VLOOKUP(A244,справочник!$E$2:$F$322,2,0)","v":0}]
[{"$f":"VLOOKUP(B245,справочник!$B$2:$E$322,4,0)","v":128},{"$f":"CONCATENATE(C245;D245)","v":{"$error":"#VALUE!"}},135,"Сафронова Наталья Михайловна (у Дедков Илья Егорьевич купила)","50:03:0070280:976","2013-03-25","2013-04-01",{"$f":"INT(($H$327-G245)/30)","v":33},{"$f":"H245*1000","v":33000},26000,null,{"$f":"I245-J245-K245","v":7000},800,800,800,800,800,800,800,800,800,800,800,800,{"$f":"SUM(L245:X245)","v":16600},{"$f":"VLOOKUP(A245,справочник!$E$2:$F$322,2,0)","v":0}]
[{"$f":"VLOOKUP(B246,справочник!$B$2:$E$322,4,0)","v":67},{"$f":"CONCATENATE(C246;D246)","v":{"$error":"#VALUE!"}},69,"Сбитнева Юлия Сергеевна","50:03:0070280:881","2012-04-13","2012-04-01",{"$f":"INT(($H$327-G246)/30)","v":45},{"$f":"H246*1000","v":45000},1000,null,{"$f":"I246-J246-K246","v":44000},800,800,800,800,800,800,800,800,800,800,800,800,{"$f":"SUM(L246:X246)","v":53600},{"$f":"VLOOKUP(A246,справочник!$E$2:$F$322,2,0)","v":0}]
[{"$f":"VLOOKUP(B247,справочник!$B$2:$E$322,4,0)","v":{"$error":"#VALUE!"}},{"$f":"CONCATENATE(C247;D247)","v":{"$error":"#VALUE!"}},"290_","Севастьянов Михаил Григорьевич","50:03:0070280:779","2011-12-20","2011-12-01",{"$f":"INT(($H$327-G247)/30)","v":49},{"$f":"H247*1000","v":49000},1000,{"$nulls":14},{"$f":"SUM(L247:X247)","v":0},{"$f":"VLOOKUP(A247,справочник!$E$2:$F$322,2,0)","v":{"$error":"#VALUE!"}}]
[{"$f":"VLOOKUP(B248,справочник!$B$2:$E$322,4,0)","v":280},{"$f":"CONCATENATE(C248;D248)","v":{"$error":"#VALUE!"}},292,"Севрюгина Ольга Викторовна","50:03:0070280:777","2011-12-20","2011-12-01",{"$f":"INT(($H$327-G248)/30)","v":49},{"$f":"H248*1000","v":49000},{"$f":"43000+1000","v":44000},null,{"$f":"I248-J248-K248","v":5000},800,800,800,800,800,800,800,800,800,800,800,800,{"$f":"SUM(L248:X248)","v":14600},{"$f":"VLOOKUP(A248,справочник!$E$2:$F$322,2,0)","v":0}]
[{"$f":"VLOOKUP(B249,справочник!$B$2:$E$322,4,0)","v":215},{"$f":"CONCATENATE(C249;D249)","v":{"$error":"#VALUE!"}},224,"Семенова Рима Прановна","50:03:0070280:839","2014-05-13","2014-06-01",{"$f":"INT(($H$327-G249)/30)","v":19},{"$f":"H249*1000","v":19000},16000,null,{"$f":"I249-J249-K249","v":3000},800,800,800,800,800,800,800,800,800,800,800,800,{"$f":"SUM(L249:X249)","v":12600},{"$f":"VLOOKUP(A249,справочник!$E$2:$F$322,2,0)","v":0}]
[{"$f":"VLOOKUP(B250,справочник!$B$2:$E$322,4,0)","v":241},{"$f":"CONCATENATE(C250;D250)","v":{"$error":"#VALUE!"}},252,"Сёмин Александр Иванович","50:03:0070280:793","2011-05-14","2011-06-01",{"$f":"INT(($H$327-G250)/30)","v":55},{"$f":"H250*1000","v":55000},{"$f":"7000+41000+4800","v":52800},null,{"$f":"I250-J250-K250","v":2200},800,800,800,800,800,800,800,800,800,800,800,800,{"$f":"SUM(L250:X250)","v":11800},{"$f":"VLOOKUP(A250,справочник!$E$2:$F$322,2,0)","v":0}]
[{"$f":"VLOOKUP(B251,справочник!$B$2:$E$322,4,0)","v":161},{"$f":"CONCATENATE(C251;D251)","v":{"$error":"#VALUE!"}},169,"Сергиенко Николай Михайлович","50:03:0070280:923","2012-05-10","2012-05-01",{"$f":"INT(($H$327-G251)/30)","v":44},{"$f":"H251*1000","v":44000},38000,null,{"$f":"I251-J251-K251","v":6000},800,800,800,800,800,800,800,800,800,800,800,800,{"$f":"SUM(L251:X251)","v":15600},{"$f":"VLOOKUP(A251,справочник!$E$2:$F$322,2,0)","v":0}]
[{"$f":"VLOOKUP(B252,справочник!$B$2:$E$322,4,0)","v":272},{"$f":"CONCATENATE(C252;D252)","v":{"$error":"#VALUE!"}},285,"Серебряков Игорь Васильевич","50:03:0070280:715","2015-02-09","2015-03-01",{"$f":"INT(($H$327-G252)/30)","v":10},{"$f":"H252*1000","v":10000},5000,null,{"$f":"I252-J252-K252","v":5000},800,800,800,800,800,800,800,800,800,800,800,800,{"$f":"SUM(L252:X252)","v":14600},{"$f":"VLOOKUP(A252,справочник!$E$2:$F$322,2,0)","v":0}]
[{"$f":"VLOOKUP(B253,справочник!$B$2:$E$322,4,0)","v":19},{"$f":"CONCATENATE(C253;D253)","v":{"$error":"#VALUE!"}},19,"Серкин Сергей Львовович","50:03:0070280:743","2013-05-27","2013-07-01",{"$f":"INT(($H$327-G253)/30)","v":30},{"$f":"H253*1000","v":30000},30000,null,{"$f":"I253-J253-K253","v":0},800,800,800,800,800,800,800,800,800,800,800,800,{"$f":"SUM(L253:X253)","v":9600},{"$f":"VLOOKUP(A253,справочник!$E$2:$F$322,2,0)","v":0}]
[{"$f":"VLOOKUP(B254,справочник!$B$2:$E$322,4,0)","v":310},{"$f":"CONCATENATE(C254;D254)","v":{"$error":"#VALUE!"}},"133-134","Сидельникова Ольга Петровна","50:03:0070280:979","2011-08-23","2011-09-01",{"$f":"INT(($H$327-G254)/30)","v":52},{"$f":"H254*1000","v":52000},12000,null,{"$f":"I254-J254-K254","v":40000},800,800,800,800,800,800,800,800,800,800,800,800,{"$f":"SUM(L254:X254)","v":49600},{"$f":"VLOOKUP(A254,справочник!$E$2:$F$322,2,0)","v":0}]
[{"$f":"VLOOKUP(B255,справочник!$B$2:$E$322,4,0)","v":205},{"$f":"CONCATENATE(C255;D255)","v":{"$error":"#VALUE!"}},215,"Сидоров Александр Юрьевич","50:03:0070280:848","2012-04-24","2012-04-01",{"$f":"INT(($H$327-G255)/30)","v":45},{"$f":"H255*1000","v":45000},33000,null,{"$f":"I255-J255-K255","v":12000},800,800,800,800,800,800,800,800,800,800,800,800,{"$f":"SUM(L255:X255)","v":21600},{"$f":"VLOOKUP(A255,справочник!$E$2:$F$322,2,0)","v":0}]
[{"$f":"VLOOKUP(B256,справочник!$B$2:$E$322,4,0)","v":107},{"$f":"CONCATENATE(C256;D256)","v":{"$error":"#VALUE!"}},112,"Сиротин Дмитрий Борисович (Приставалова)","50:03:0070280:816","2012-01-24","2012-01-01",{"$f":"INT(($H$327-G256)/30)","v":48},{"$f":"H256*1000","v":48000},40000,4000,{"$f":"I256-J256-K256","v":4000},800,800,800,800,800,800,800,800,800,800,800,800,{"$f":"SUM(L256:X256)","v":13600},{"$f":"VLOOKUP(A256,справочник!$E$2:$F$322,2,0)","v":0}]
[{"$f":"VLOOKUP(B257,справочник!$B$2:$E$322,4,0)","v":48},{"$f":"CONCATENATE(C257;D257)","v":{"$error":"#VALUE!"}},48,"Сломов Константин Витальевич","50:03:0070280:989","2011-08-31","2011-09-01",{"$f":"INT(($H$327-G257)/30)","v":52},{"$f":"H257*1000","v":52000},{"$f":"1000+22000","v":23000},null,{"$f":"I257-J257-K257","v":29000},800,800,800,800,800,800,800,800,800,800,800,800,{"$f":"SUM(L257:X257)","v":38600},{"$f":"VLOOKUP(A257,справочник!$E$2:$F$322,2,0)","v":0}]
[{"$f":"VLOOKUP(B258,справочник!$B$2:$E$322,4,0)","v":237},{"$f":"CONCATENATE(C258;D258)","v":{"$error":"#VALUE!"}},248,"Смирнов Максим Анатольевич, Светлана","50:03:0070280:870","2012-05-07","2012-05-01",{"$f":"INT(($H$327-G258)/30)","v":44},{"$f":"H258*1000","v":44000},13000,null,{"$f":"I258-J258-K258","v":31000},800,800,800,800,800,800,800,800,800,800,800,800,{"$f":"SUM(L258:X258)","v":40600},{"$f":"VLOOKUP(A258,справочник!$E$2:$F$322,2,0)","v":0}]
[{"$f":"VLOOKUP(B259,справочник!$B$2:$E$322,4,0)","v":263},{"$f":"CONCATENATE(C259;D259)","v":{"$error":"#VALUE!"}},276,"Соколова Ирина Анатольевна","50:03:0070280:727","2013-01-15","2013-02-01",{"$f":"INT(($H$327-G259)/30)","v":35},{"$f":"H259*1000","v":35000},32000,null,{"$f":"I259-J259-K259","v":3000},800,800,800,800,800,800,800,800,800,800,800,800,{"$f":"SUM(L259:X259)","v":12600},{"$f":"VLOOKUP(A259,справочник!$E$2:$F$322,2,0)","v":0}]
[{"$f":"VLOOKUP(B260,справочник!$B$2:$E$322,4,0)","v":100},{"$f":"CONCATENATE(C260;D260)","v":{"$error":"#VALUE!"}},105,"Солодкий Дмитрий Павлович","50:03:0070280:771","2012-06-05","2012-06-01",{"$f":"INT(($H$327-G260)/30)","v":43},{"$f":"H260*1000","v":43000},28000,null,{"$f":"I260-J260-K260","v":15000},800,800,800,800,800,800,800,800,800,800,800,800,{"$f":"SUM(L260:X260)","v":24600},{"$f":"VLOOKUP(A260,справочник!$E$2:$F$322,2,0)","v":0}]
[{"$f":"VLOOKUP(B261,справочник!$B$2:$E$322,4,0)","v":131},{"$f":"CONCATENATE(C261;D261)","v":{"$error":"#VALUE!"}},138,"Спивак Сергей Николаевич","50:03:0070280:974","2012-07-24","2012-08-01",{"$f":"INT(($H$327-G261)/30)","v":41},{"$f":"H261*1000","v":41000},23000,6000,{"$f":"I261-J261-K261","v":12000},800,800,800,800,800,800,800,800,800,800,800,800,{"$f":"SUM(L261:X261)","v":21600},{"$f":"VLOOKUP(A261,справочник!$E$2:$F$322,2,0)","v":0}]
[{"$f":"VLOOKUP(B262,справочник!$B$2:$E$322,4,0)","v":183},{"$f":"CONCATENATE(C262;D262)","v":{"$error":"#VALUE!"}},191,"Спиридонов Андрей Владимирович","50:03:0070280:917","2013-08-19","2013-09-01",{"$f":"INT(($H$327-G262)/30)","v":28},{"$f":"H262*1000","v":28000},1000,null,{"$f":"I262-J262-K262","v":27000},800,800,800,800,800,800,800,800,800,800,800,800,{"$f":"SUM(L262:X262)","v":36600},{"$f":"VLOOKUP(A262,справочник!$E$2:$F$322,2,0)","v":1}]
[{"$f":"VLOOKUP(B263,справочник!$B$2:$E$322,4,0)","v":183},{"$f":"CONCATENATE(C263;D263)","v":{"$error":"#VALUE!"}},192,"Спиридонов Андрей Владимирович","50:03:0070280:916","2013-08-19","2013-09-01",{"$f":"INT(($H$327-G263)/30)","v":28},{"$f":"H263*1000","v":28000},1000,null,{"$f":"I263-J263-K263","v":27000},{"$nulls":12},{"$f":"SUM(L263:X263)","v":27000},{"$f":"VLOOKUP(A263,справочник!$E$2:$F$322,2,0)","v":1}]
[{"$f":"VLOOKUP(B264,справочник!$B$2:$E$322,4,0)","v":21},{"$f":"CONCATENATE(C264;D264)","v":{"$error":"#VALUE!"}},21,"Старостин Виктор Вячеславович","50:03:0070280:745","2012-07-17","2012-07-01",{"$f":"INT(($H$327-G264)/30)","v":42},{"$f":"H264*1000","v":42000},40000,null,{"$f":"I264-J264-K264","v":2000},800,800,800,800,800,800,800,800,800,800,800,800,{"$f":"SUM(L264:X264)","v":11600},{"$f":"VLOOKUP(A264,справочник!$E$2:$F$322,2,0)","v":0}]
[{"$f":"VLOOKUP(B265,справочник!$B$2:$E$322,4,0)","v":298},{"$f":"CONCATENATE(C265;D265)","v":{"$error":"#VALUE!"}},313,"Степанов Валерий Владимирович","50:03:0070280:1004","2014-12-21","2015-01-01",{"$f":"INT(($H$327-G265)/30)","v":12},{"$f":"H265*1000","v":12000},12000,null,{"$f":"I265-J265-K265","v":0},800,800,800,800,800,800,800,800,800,800,800,800,{"$f":"SUM(L265:X265)","v":9600},{"$f":"VLOOKUP(A265,справочник!$E$2:$F$322,2,0)","v":0}]
[{"$f":"VLOOKUP(B266,справочник!$B$2:$E$322,4,0)","v":91},{"$f":"CONCATENATE(C266;D266)","v":{"$error":"#VALUE!"}},96,"Степанова Марина Николаевна (Артем)","50:03:0070280:824","2012-06-10","2012-06-01",{"$f":"INT(($H$327-G266)/30)","v":43},{"$f":"H266*1000","v":43000},12000,null,{"$f":"I266-J266-K266","v":31000},800,800,800,800,800,800,800,800,800,800,800,800,{"$f":"SUM(L266:X266)","v":40600},{"$f":"VLOOKUP(A266,справочник!$E$2:$F$322,2,0)","v":0}]
[317,{"$f":"CONCATENATE(C267;D267)","v":{"$error":"#VALUE!"}},"51-52","Стрелков Андрей Вячеславович","50:03:0070280:965","2012-10-02","2012-11-01",{"$f":"INT(($H$327-G267)/30)","v":38},{"$f":"H267*1000","v":38000},38000,null,{"$f":"I267-J267-K267","v":0},800,800,800,800,800,800,800,800,800,800,800,800,{"$f":"SUM(L267:X267)","v":9600},{"$f":"VLOOKUP(A267,справочник!$E$2:$F$322,2,0)","v":0}]
[{"$f":"VLOOKUP(B268,справочник!$B$2:$E$322,4,0)","v":317},{"$f":"CONCATENATE(C268;D268)","v":{"$error":"#VALUE!"}},"51-52","Стрелков Андрей Вячеславович","50:03:0070280:970","2012-10-02","2012-11-01",{"$f":"INT(($H$327-G268)/30)*2","v":76},89000,89000,null,{"$f":"I268-J268-K268","v":0},{"$nulls":12},{"$f":"SUM(L268:X268)","v":0},{"$f":"VLOOKUP(A268,справочник!$E$2:$F$322,2,0)","v":0}]
[{"$f":"VLOOKUP(B269,справочник!$B$2:$E$322,4,0)","v":268},{"$f":"CONCATENATE(C269;D269)","v":{"$error":"#VALUE!"}},281,"Стрелков Николай Валентинович","50:03:0070280:719","2012-10-02","2012-11-01",{"$f":"INT(($H$327-G269)/30)","v":38},{"$f":"H269*1000","v":38000},28000,null,{"$f":"I269-J269-K269","v":10000},800,800,800,800,800,800,800,800,800,800,800,800,{"$f":"SUM(L269:X269)","v":19600},{"$f":"VLOOKUP(A269,справочник!$E$2:$F$322,2,0)","v":0}]
[{"$f":"VLOOKUP(B270,справочник!$B$2:$E$322,4,0)","v":172},{"$f":"CONCATENATE(C270;D270)","v":{"$error":"#VALUE!"}},180,"Ступнев Евгений  Романович","50:03:0070280:765","2011-09-23","2011-09-01",{"$f":"INT(($H$327-G270)/30)","v":52},{"$f":"H270*1000","v":52000},{"$f":"13000+1000","v":14000},null,{"$f":"I270-J270-K270","v":38000},800,800,800,800,800,800,800,800,800,800,800,800,{"$f":"SUM(L270:X270)","v":47600},{"$f":"VLOOKUP(A270,справочник!$E$2:$F$322,2,0)","v":0}]
[{"$f":"VLOOKUP(B271,справочник!$B$2:$E$322,4,0)","v":116},{"$f":"CONCATENATE(C271;D271)","v":{"$error":"#VALUE!"}},121,"Суворов Сергей Анатольевич","50:03:0070280:1018","2013-09-14","2013-09-01",{"$f":"INT(($H$327-G271)/30)","v":28},{"$f":"H271*1000","v":28000},20000,null,{"$f":"I271-J271-K271","v":8000},800,800,800,800,800,800,800,800,800,800,800,800,{"$f":"SUM(L271:X271)","v":17600},{"$f":"VLOOKUP(A271,справочник!$E$2:$F$322,2,0)","v":0}]
[{"$f":"VLOOKUP(B272,справочник!$B$2:$E$322,4,0)","v":57},{"$f":"CONCATENATE(C272;D272)","v":{"$error":"#VALUE!"}},59,"Суркова Татьяна Александровна","50:03:0070280:962","2012-05-15","2012-05-01",{"$f":"INT(($H$327-G272)/30)","v":44},{"$f":"H272*1000","v":44000},34000,null,{"$f":"I272-J272-K272","v":10000},800,800,800,800,800,800,800,800,800,800,800,800,{"$f":"SUM(L272:X272)","v":19600},{"$f":"VLOOKUP(A272,справочник!$E$2:$F$322,2,0)","v":0}]
[{"$f":"VLOOKUP(B273,справочник!$B$2:$E$322,4,0)","v":46},{"$f":"CONCATENATE(C273;D273)","v":{"$error":"#VALUE!"}},46,"Сысоев Евгений Анатольевич","50:03:0070280:971","2013-04-18","2013-05-01",{"$f":"INT(($H$327-G273)/30)","v":32},{"$f":"H273*1000","v":32000},17000,null,{"$f":"I273-J273-K273","v":15000},800,800,800,800,800,800,800,800,800,800,800,800,{"$f":"SUM(L273:X273)","v":24600},{"$f":"VLOOKUP(A273,справочник!$E$2:$F$322,2,0)","v":0}]
[{"$f":"VLOOKUP(B274,справочник!$B$2:$E$322,4,0)","v":73},{"$f":"CONCATENATE(C274;D274)","v":{"$error":"#VALUE!"}},79,"Сысоев Семен Евгеньевич","50:03:0070280:748","2013-04-18","2013-05-01",{"$f":"INT(($H$327-G274)/30)","v":32},{"$f":"H274*1000","v":32000},21000,null,{"$f":"I274-J274-K274","v":11000},800,800,800,800,800,800,800,800,800,800,800,800,{"$f":"SUM(L274:X274)","v":20600},{"$f":"VLOOKUP(A274,справочник!$E$2:$F$322,2,0)","v":0}]
[{"$f":"VLOOKUP(B275,справочник!$B$2:$E$322,4,0)","v":162},{"$f":"CONCATENATE(C275;D275)","v":{"$error":"#VALUE!"}},170,"Тадлов Виталий Петрович","50:03:0070280:770","2014-06-10","2014-07-01",{"$f":"INT(($H$327-G275)/30)","v":18},{"$f":"H275*1000","v":18000},12000,null,{"$f":"I275-J275-K275","v":6000},800,800,800,800,800,800,800,800,800,800,800,800,{"$f":"SUM(L275:X275)","v":15600},{"$f":"VLOOKUP(A275,справочник!$E$2:$F$322,2,0)","v":0}]
[{"$f":"VLOOKUP(B276,справочник!$B$2:$E$322,4,0)","v":252},{"$f":"CONCATENATE(C276;D276)","v":{"$error":"#VALUE!"}},263,"Тарасенко Анатолий Семенович","50:03:0070280:740","2014-11-24","2014-12-01",{"$f":"INT(($H$327-G276)/30)","v":13},{"$f":"H276*1000","v":13000},8000,null,{"$f":"I276-J276-K276","v":5000},800,800,800,800,800,800,800,800,800,800,800,800,{"$f":"SUM(L276:X276)","v":14600},{"$f":"VLOOKUP(A276,справочник!$E$2:$F$322,2,0)","v":1}]
[{"$f":"VLOOKUP(B277,справочник!$B$2:$E$322,4,0)","v":252},{"$f":"CONCATENATE(C277;D277)","v":{"$error":"#VALUE!"}},264,"Тарасенко Анатолий Семенович","50:03:0070280:739","2014-11-24","2014-12-01",{"$f":"INT(($H$327-G277)/30)","v":13},{"$f":"H277*1000","v":13000},8000,null,{"$f":"I277-J277-K277","v":5000},{"$nulls":12},{"$f":"SUM(L277:X277)","v":5000},{"$f":"VLOOKUP(A277,справочник!$E$2:$F$322,2,0)","v":1}]
[{"$f":"VLOOKUP(B278,справочник!$B$2:$E$322,4,0)","v":45},{"$f":"CONCATENATE(C278;D278)","v":{"$error":"#VALUE!"}},45,"Темникова Елена Станиславовна","50:03:0070280:988","2012-05-15","2012-05-01",{"$f":"INT(($H$327-G278)/30)","v":44},{"$f":"H278*1000","v":44000},{"$f":"27000+8000","v":35000},9000,{"$f":"I278-J278-K278","v":0},800,800,800,800,800,800,800,800,800,800,800,800,{"$f":"SUM(L278:X278)","v":9600},{"$f":"VLOOKUP(A278,справочник!$E$2:$F$322,2,0)","v":0}]
[{"$f":"VLOOKUP(B279,справочник!$B$2:$E$322,4,0)","v":319},{"$f":"CONCATENATE(C279;D279)","v":{"$error":"#VALUE!"}},"73-74","Тимофеева Лариса Викторовна","50:03:0070280:884","2011-08-19","2011-09-01",{"$f":"INT(($H$327-G279)/30)","v":52},76000,{"$f":"8000+68000","v":76000},null,{"$f":"I279-J279-K279","v":0},800,800,800,800,800,800,800,800,800,800,800,800,{"$f":"SUM(L279:X279)","v":9600},{"$f":"VLOOKUP(A279,справочник!$E$2:$F$322,2,0)","v":0}]
[{"$f":"VLOOKUP(B280,справочник!$B$2:$E$322,4,0)","v":93},{"$f":"CONCATENATE(C280;D280)","v":{"$error":"#VALUE!"}},98,"Тимофеева Татьяна Александровна (Денис)","50:03:0070280:828","2011-08-19","2011-09-01",{"$f":"INT(($H$327-G280)/30)","v":52},{"$f":"H280*1000","v":52000},{"$f":"4000+30000","v":34000},null,{"$f":"I280-J280-K280","v":18000},800,800,800,800,800,800,800,800,800,800,800,800,{"$f":"SUM(L280:X280)","v":27600},{"$f":"VLOOKUP(A280,справочник!$E$2:$F$322,2,0)","v":0}]
[{"$f":"VLOOKUP(B281,справочник!$B$2:$E$322,4,0)","v":255},{"$f":"CONCATENATE(C281;D281)","v":{"$error":"#VALUE!"}},268,"Толкова Елена Анатольевна (Олег)","50:03:0070280:735","2012-02-20","2012-03-01",{"$f":"INT(($H$327-G281)/30)","v":46},{"$f":"H281*1000","v":46000},{"$f":"37000+9000","v":46000},null,{"$f":"I281-J281-K281","v":0},800,800,800,800,800,800,800,800,800,800,800,800,{"$f":"SUM(L281:X281)","v":9600},{"$f":"VLOOKUP(A281,справочник!$E$2:$F$322,2,0)","v":0}]
[{"$f":"VLOOKUP(B282,справочник!$B$2:$E$322,4,0)","v":167},{"$f":"CONCATENATE(C282;D282)","v":{"$error":"#VALUE!"}},175,"Трубченко Петр Александрович","50:03:0070280:890","2013-12-05","2014-01-01",{"$f":"INT(($H$327-G282)/30)","v":24},{"$f":"H282*1000","v":24000},12000,null,{"$f":"I282-J282-K282","v":12000},800,800,800,800,800,800,800,800,800,800,800,800,{"$f":"SUM(L282:X282)","v":21600},{"$f":"VLOOKUP(A282,справочник!$E$2:$F$322,2,0)","v":0}]
[{"$f":"VLOOKUP(B283,справочник!$B$2:$E$322,4,0)","v":99},{"$f":"CONCATENATE(C283;D283)","v":{"$error":"#VALUE!"}},104,"Трыкин Евгений Викторович","50:03:0070280:796","2012-07-14","2012-07-01",{"$f":"INT(($H$327-G283)/30)","v":42},{"$f":"H283*1000","v":42000},13000,null,{"$f":"I283-J283-K283","v":29000},800,800,800,800,800,800,800,800,800,800,800,800,{"$f":"SUM(L283:X283)","v":38600},{"$f":"VLOOKUP(A283,справочник!$E$2:$F$322,2,0)","v":0}]
[{"$f":"VLOOKUP(B284,справочник!$B$2:$E$322,4,0)","v":146},{"$f":"CONCATENATE(C284;D284)","v":{"$error":"#VALUE!"}},154,"Тюленев Вячеслав Рудольфович","50:03:0070280:956","2011-08-02","2011-08-01",{"$f":"INT(($H$327-G284)/30)","v":53},{"$f":"H284*1000","v":53000},{"$f":"31000","v":31000},null,{"$f":"I284-J284-K284","v":22000},800,800,800,800,800,800,800,800,800,800,800,800,{"$f":"SUM(L284:X284)","v":31600},{"$f":"VLOOKUP(A284,справочник!$E$2:$F$322,2,0)","v":0}]
[{"$f":"VLOOKUP(B285,справочник!$B$2:$E$322,4,0)","v":29},{"$f":"CONCATENATE(C285;D285)","v":{"$error":"#VALUE!"}},29,"Петрик Наталья Вячеславовна",null,"2012-08-09","2012-08-01",{"$f":"INT(($H$327-G285)/30)","v":41},{"$f":"H285*1000","v":41000},32000,null,{"$f":"I285-J285-K285","v":9000},800,800,800,800,800,800,800,800,800,800,800,800,{"$f":"SUM(L285:X285)","v":18600},{"$f":"VLOOKUP(A285,справочник!$E$2:$F$322,2,0)","v":0}]
[{"$f":"VLOOKUP(B286,справочник!$B$2:$E$322,4,0)","v":28},{"$f":"CONCATENATE(C286;D286)","v":{"$error":"#VALUE!"}},28,"Федорова Наталья Владимировна","50:03:0070280:857","2012-05-10","2012-05-01",{"$f":"INT(($H$327-G286)/30)","v":44},{"$f":"H286*1000","v":44000},{"$f":"33000+8000","v":41000},null,{"$f":"I286-J286-K286","v":3000},800,800,800,800,800,800,800,800,800,800,800,800,{"$f":"SUM(L286:X286)","v":12600},{"$f":"VLOOKUP(A286,справочник!$E$2:$F$322,2,0)","v":0}]
[{"$f":"VLOOKUP(B287,справочник!$B$2:$E$322,4,0)","v":27},{"$f":"CONCATENATE(C287;D287)","v":{"$error":"#VALUE!"}},27,"Федорова Юлия Владимировна","50:03:0070280:856","2012-12-17","2013-01-01",{"$f":"INT(($H$327-G287)/30)","v":36},{"$f":"H287*1000","v":36000},24000,null,{"$f":"I287-J287-K287","v":12000},800,800,800,800,800,800,800,800,800,800,800,800,{"$f":"SUM(L287:X287)","v":21600},{"$f":"VLOOKUP(A287,справочник!$E$2:$F$322,2,0)","v":0}]
[{"$f":"VLOOKUP(B288,справочник!$B$2:$E$322,4,0)","v":135},{"$f":"CONCATENATE(C288;D288)","v":{"$error":"#VALUE!"}},"142-143","Финогин Сергей Александрович","50:03:0070280:1413","2011-10-18","2011-10-01",11,{"$f":"H288*1000","v":11000},1000,null,{"$f":"I288-J288-K288","v":10000},800,800,800,800,800,800,800,800,800,800,800,800,{"$f":"SUM(L288:X288)","v":19600},{"$f":"VLOOKUP(A288,справочник!$E$2:$F$322,2,0)","v":1}]
[{"$f":"VLOOKUP(B289,справочник!$B$2:$E$322,4,0)","v":135},{"$f":"CONCATENATE(C289;D289)","v":{"$error":"#VALUE!"}},"142-143","Финогин Сергей Александрович",null,"2011-10-18","2011-10-01",11,{"$f":"H289*1000","v":11000},1000,null,{"$f":"I289-J289-K289","v":10000},{"$nulls":12},{"$f":"SUM(L289:X289)","v":10000},{"$f":"VLOOKUP(A289,справочник!$E$2:$F$322,2,0)","v":1}]
[{"$f":"VLOOKUP(B290,справочник!$B$2:$E$322,4,0)","v":135},{"$f":"CONCATENATE(C290;D290)","v":{"$error":"#VALUE!"}},"142-143","Финогин Сергей Александрович",null,"2012-10-01","2012-10-01",{"$f":"INT(($H$327-G290)/30)","v":39},{"$f":"H290*1000","v":39000},null,null,{"$f":"I290-J290-K290","v":39000},{"$nulls":12},{"$f":"SUM(L290:X290)","v":39000},{"$f":"VLOOKUP(A290,справочник!$E$2:$F$322,2,0)","v":1}]
[{"$f":"VLOOKUP(B291,справочник!$B$2:$E$322,4,0)","v":59},{"$f":"CONCATENATE(C291;D291)","v":{"$error":"#VALUE!"}},61,"Фисенко Вадим Петрович","50:03:0070280:930","2011-11-21","2011-11-01",{"$f":"INT(($H$327-G291)/30)","v":50},{"$f":"H291*1000","v":50000},{"$f":"1000+49000","v":50000},null,{"$f":"I291-J291-K291","v":0},800,800,800,800,800,800,800,800,800,800,800,800,{"$f":"SUM(L291:X291)","v":9600},{"$f":"VLOOKUP(A291,справочник!$E$2:$F$322,2,0)","v":0}]
[{"$f":"VLOOKUP(B292,справочник!$B$2:$E$322,4,0)","v":60},{"$f":"CONCATENATE(C292;D292)","v":{"$error":"#VALUE!"}},62,"Фисенко Дмитрий Петрович","50:03:0070280:931","2011-12-08","2011-12-01",{"$f":"INT(($H$327-G292)/30)","v":49},{"$f":"H292*1000","v":49000},{"$f":"8000+54000","v":62000},null,{"$f":"I292-J292-K292","v":-13000},800,800,800,800,800,800,800,800,800,800,800,800,{"$f":"SUM(L292:X292)","v":-3400},{"$f":"VLOOKUP(A292,справочник!$E$2:$F$322,2,0)","v":0}]
[{"$f":"VLOOKUP(B293,справочник!$B$2:$E$322,4,0)","v":248},{"$f":"CONCATENATE(C293;D293)","v":{"$error":"#VALUE!"}},259,"Фомин Андрей Анатольевич","50:03:0070280:786","2013-12-20","2014-01-01",{"$f":"INT(($H$327-G293)/30)","v":24},{"$f":"H293*1000","v":24000},21300,null,{"$f":"I293-J293-K293","v":2700},800,800,800,800,800,800,800,800,800,800,800,800,{"$f":"SUM(L293:X293)","v":12300},{"$f":"VLOOKUP(A293,справочник!$E$2:$F$322,2,0)","v":0}]
[{"$f":"VLOOKUP(B294,справочник!$B$2:$E$322,4,0)","v":247},{"$f":"CONCATENATE(C294;D294)","v":{"$error":"#VALUE!"}},258,"Фомин Игорь Анатольевич","50:03:0070280:787","2013-12-20","2014-01-01",{"$f":"INT(($H$327-G294)/30)","v":24},{"$f":"H294*1000","v":24000},13000,null,{"$f":"I294-J294-K294","v":11000},800,800,800,800,800,800,800,800,800,800,800,800,{"$f":"SUM(L294:X294)","v":20600},{"$f":"VLOOKUP(A294,справочник!$E$2:$F$322,2,0)","v":0}]
[{"$f":"VLOOKUP(B295,справочник!$B$2:$E$322,4,0)","v":103},{"$f":"CONCATENATE(C295;D295)","v":{"$error":"#VALUE!"}},108,"Фомичев Александр Петрович","50:03:0070280:820","2011-06-21","2011-07-01",{"$f":"INT(($H$327-G295)/30)","v":54},{"$f":"H295*1000","v":54000},{"$f":"2000+45000","v":47000},null,{"$f":"I295-J295-K295","v":7000},800,800,800,800,800,800,800,800,800,800,800,800,{"$f":"SUM(L295:X295)","v":16600},{"$f":"VLOOKUP(A295,справочник!$E$2:$F$322,2,0)","v":0}]
[{"$f":"VLOOKUP(B296,справочник!$B$2:$E$322,4,0)","v":275},{"$f":"CONCATENATE(C296;D296)","v":{"$error":"#VALUE!"}},288,"Хайлов Алексей Анатольевич","50:03:0070280:712","2014-12-26","2015-01-01",{"$f":"INT(($H$327-G296)/30)","v":12},{"$f":"H296*1000","v":12000},null,null,{"$f":"I296-J296-K296","v":12000},800,800,800,800,800,800,800,800,800,800,800,800,{"$f":"SUM(L296:X296)","v":21600},{"$f":"VLOOKUP(A296,справочник!$E$2:$F$322,2,0)","v":0}]
[{"$f":"VLOOKUP(B297,справочник!$B$2:$E$322,4,0)","v":22},{"$f":"CONCATENATE(C297;D297)","v":{"$error":"#VALUE!"}},22,"Хан Виталий Борисович","50:03:0070280:823","2012-07-17","2012-07-01",{"$f":"INT(($H$327-G297)/30)","v":42},{"$f":"H297*1000","v":42000},{"$f":"34000+6000","v":40000},null,{"$f":"I297-J297-K297","v":2000},800,800,800,800,800,800,800,800,800,800,800,800,{"$f":"SUM(L297:X297)","v":11600},{"$f":"VLOOKUP(A297,справочник!$E$2:$F$322,2,0)","v":0}]
[{"$f":"VLOOKUP(B298,справочник!$B$2:$E$322,4,0)","v":20},{"$f":"CONCATENATE(C298;D298)","v":{"$error":"#VALUE!"}},20,"Харинкина Танзиля Гарафутдиновна","50:03:0070280:744","2013-06-18","2013-08-01",{"$f":"INT(($H$327-G298)/30)","v":29},{"$f":"H298*1000","v":29000},12000,null,{"$f":"I298-J298-K298","v":17000},800,800,800,800,800,800,800,800,800,800,800,800,{"$f":"SUM(L298:X298)","v":26600},{"$f":"VLOOKUP(A298,справочник!$E$2:$F$322,2,0)","v":0}]
[{"$f":"VLOOKUP(B299,справочник!$B$2:$E$322,4,0)","v":233},{"$f":"CONCATENATE(C299;D299)","v":{"$error":"#VALUE!"}},242,"Хаустова Люция Егоровна","50:03:0070280:878","2013-04-18","2013-05-01",{"$f":"INT(($H$327-G299)/30)","v":32},{"$f":"H299*1000","v":32000},29000,null,{"$f":"I299-J299-K299","v":3000},800,800,800,800,800,800,800,800,800,800,800,800,{"$f":"SUM(L299:X299)","v":12600},{"$f":"VLOOKUP(A299,справочник!$E$2:$F$322,2,0)","v":0}]
[{"$f":"VLOOKUP(B300,справочник!$B$2:$E$322,4,0)","v":256},{"$f":"CONCATENATE(C300;D300)","v":{"$error":"#VALUE!"}},269,"Хачатрян Алла Самвеловна","50:03:0070280:734","2012-04-13","2012-04-01",{"$f":"INT(($H$327-G300)/30)","v":45},{"$f":"H300*1000","v":45000},{"$f":"32000+7000","v":39000},8000,{"$f":"I300-J300-K300","v":-2000},800,800,800,800,800,800,800,800,800,800,800,800,{"$f":"SUM(L300:X300)","v":7600},{"$f":"VLOOKUP(A300,справочник!$E$2:$F$322,2,0)","v":0}]
[{"$f":"VLOOKUP(B301,справочник!$B$2:$E$322,4,0)","v":113},{"$f":"CONCATENATE(C301;D301)","v":{"$error":"#VALUE!"}},"116+118+120","Хрупало Николай Алексеевич","50:03:0070280:1427","2012-07-17","2012-08-01",{"$f":"INT(($H$327-G301)/30)","v":41},{"$f":"H301*1000","v":41000},41000,null,{"$f":"I301-J301-K301","v":0},800,800,800,800,800,800,800,800,800,800,800,800,{"$f":"SUM(L301:X301)","v":9600},{"$f":"VLOOKUP(A301,справочник!$E$2:$F$322,2,0)","v":1}]
[{"$f":"VLOOKUP(B302,справочник!$B$2:$E$322,4,0)","v":113},{"$f":"CONCATENATE(C302;D302)","v":{"$error":"#VALUE!"}},"116+118+120","Хрупало Николай Алексеевич","50:03:0070280:1427","2012-07-17","2012-08-01",{"$f":"INT(($H$327-G302)/30)","v":41},{"$f":"H302*1000","v":41000},20000,null,{"$f":"I302-J302-K302","v":21000},{"$nulls":12},{"$f":"SUM(L302:X302)","v":21000},{"$f":"VLOOKUP(A302,справочник!$E$2:$F$322,2,0)","v":1}]
[{"$f":"VLOOKUP(B303,справочник!$B$2:$E$322,4,0)","v":113},{"$f":"CONCATENATE(C303;D303)","v":{"$error":"#VALUE!"}},"116+118+120","Хрупало Николай Алексеевич","50:03:0070280:1427","2012-07-17","2012-08-01",{"$f":"INT(($H$327-G303)/30)","v":41},{"$f":"H303*1000","v":41000},null,null,{"$f":"I303-J303-K303","v":41000},{"$nulls":12},{"$f":"SUM(L303:X303)","v":41000},{"$f":"VLOOKUP(A303,справочник!$E$2:$F$322,2,0)","v":1}]
[{"$f":"VLOOKUP(B304,справочник!$B$2:$E$322,4,0)","v":180},{"$f":"CONCATENATE(C304;D304)","v":{"$error":"#VALUE!"}},188,"Черешнева Виктория Викторовна","50:03:0070280:918","2014-05-27","2014-06-01",{"$f":"INT(($H$327-G304)/30)","v":19},{"$f":"H304*1000","v":19000},19000,null,{"$f":"I304-J304-K304","v":0},800,800,800,800,800,800,800,800,800,800,800,800,{"$f":"SUM(L304:X304)","v":9600},{"$f":"VLOOKUP(A304,справочник!$E$2:$F$322,2,0)","v":0}]
[{"$f":"VLOOKUP(B305,справочник!$B$2:$E$322,4,0)","v":2},{"$f":"CONCATENATE(C305;D305)","v":{"$error":"#VALUE!"}},2,"Чернявская Оксана Юрьевна","50:03:0070280:710","2014-04-08","2014-05-01",{"$f":"INT(($H$327-G305)/30)","v":20},{"$f":"H305*1000","v":20000},11000,null,{"$f":"I305-J305-K305","v":9000},800,800,800,800,800,800,800,800,800,800,800,800,{"$f":"SUM(L305:X305)","v":18600},{"$f":"VLOOKUP(A305,справочник!$E$2:$F$322,2,0)","v":0}]
[{"$f":"VLOOKUP(B306,справочник!$B$2:$E$322,4,0)","v":23},{"$f":"CONCATENATE(C306;D306)","v":{"$error":"#VALUE!"}},23,"Чигрины Анна Анатольевна и Геннадий Иванович","50:03:0070280:747","2013-05-28","2013-07-01",{"$f":"INT(($H$327-G306)/30)","v":30},{"$f":"H306*1000","v":30000},30000,null,{"$f":"I306-J306-K306","v":0},800,800,800,800,800,800,800,800,800,800,800,800,{"$f":"SUM(L306:X306)","v":9600},{"$f":"VLOOKUP(A306,справочник!$E$2:$F$322,2,0)","v":0}]
[{"$f":"VLOOKUP(B307,справочник!$B$2:$E$322,4,0)","v":168},{"$f":"CONCATENATE(C307;D307)","v":{"$error":"#VALUE!"}},176,"Чикачёв Сергей Иванович","50:03:0070280:889","2014-10-27","2014-12-01",{"$f":"INT(($H$327-G307)/30)","v":13},{"$f":"H307*1000","v":13000},11000,2000,{"$f":"I307-J307-K307","v":0},800,800,800,800,800,800,800,800,800,800,800,800,{"$f":"SUM(L307:X307)","v":9600},{"$f":"VLOOKUP(A307,справочник!$E$2:$F$322,2,0)","v":0}]
[{"$f":"VLOOKUP(B308,справочник!$B$2:$E$322,4,0)","v":84},{"$f":"CONCATENATE(C308;D308)","v":{"$error":"#VALUE!"}},89,"Шабунина Светлана Николаевна","50:03:0070280:868","2011-08-30","2011-09-01",{"$f":"INT(($H$327-G308)/30)","v":52},{"$f":"H308*1000","v":52000},{"$f":"1000+51000","v":52000},null,{"$f":"I308-J308-K308","v":0},800,800,800,800,800,800,800,800,800,800,800,800,{"$f":"SUM(L308:X308)","v":9600},{"$f":"VLOOKUP(A308,справочник!$E$2:$F$322,2,0)","v":0}]
[{"$f":"VLOOKUP(B309,справочник!$B$2:$E$322,4,0)","v":88},{"$f":"CONCATENATE(C309;D309)","v":{"$error":"#VALUE!"}},"97+93","Шалинов Андрей Вадимович","50:03:0070280:827","2012-01-17","2012-01-01",{"$f":"INT(($H$327-G309)/30)","v":48},{"$f":"H309*1000","v":48000},44000,null,{"$f":"I309-J309-K309","v":4000},{"$nulls":12},{"$f":"SUM(L309:X309)","v":4000},{"$f":"VLOOKUP(A309,справочник!$E$2:$F$322,2,0)","v":1}]
[{"$f":"VLOOKUP(B310,справочник!$B$2:$E$322,4,0)","v":88},{"$f":"CONCATENATE(C310;D310)","v":{"$error":"#VALUE!"}},"97+93","Шалинов Андрей Вадимович","50:03:0070280:864","2012-01-17","2012-01-01",{"$f":"INT(($H$327-G310)/30)","v":48},{"$f":"H310*1000","v":48000},44000,null,{"$f":"I310-J310-K310","v":4000},800,800,800,800,800,800,800,800,800,800,800,800,{"$f":"SUM(L310:X310)","v":13600},{"$f":"VLOOKUP(A310,справочник!$E$2:$F$322,2,0)","v":1}]
[{"$f":"VLOOKUP(B311,справочник!$B$2:$E$322,4,0)","v":78},{"$f":"CONCATENATE(C311;D311)","v":{"$error":"#VALUE!"}},83,"Шелухина Мария Сергеевна",null,"2013-07-01","2013-07-02",{"$f":"INT(($H$327-G311)/30)","v":30},30000,0,null,30000,800,800,800,800,800,800,800,800,800,800,800,800,{"$f":"SUM(L311:X311)","v":39600},{"$f":"VLOOKUP(A311,справочник!$E$2:$F$322,2,0)","v":0}]
[{"$f":"VLOOKUP(B312,справочник!$B$2:$E$322,4,0)","v":77},{"$f":"CONCATENATE(C312;D312)","v":{"$error":"#VALUE!"}},83,"Самородов","50:03:0070280:752","2012-01-24","2012-01-01",{"$f":"INT(($H$327-G312)/30)","v":48},{"$f":"H312*1000","v":48000},15000,null,{"$f":"I312-J312-K312","v":33000},800,800,800,800,800,800,800,800,800,800,800,800,{"$f":"SUM(L312:X312)","v":42600},{"$f":"VLOOKUP(A312,справочник!$E$2:$F$322,2,0)","v":0}]
[{"$f":"VLOOKUP(B313,справочник!$B$2:$E$322,4,0)","v":306},{"$f":"CONCATENATE(C313;D313)","v":{"$error":"#VALUE!"}},321,"Шептухина Александра Борисовна","50:03:0070280:1013","2012-07-03","2012-07-01",{"$f":"INT(($H$327-G313)/30)","v":42},{"$f":"H313*1000","v":42000},11000,null,{"$f":"I313-J313-K313","v":31000},800,800,800,800,800,800,800,800,800,800,800,800,{"$f":"SUM(L313:X313)","v":40600},{"$f":"VLOOKUP(A313,справочник!$E$2:$F$322,2,0)","v":0}]
[{"$f":"VLOOKUP(B314,справочник!$B$2:$E$322,4,0)","v":182},{"$f":"CONCATENATE(C314;D314)","v":{"$error":"#VALUE!"}},190,"Широков Евгений Александрович","50:03:0070280:759","2014-04-05","2014-05-01",{"$f":"INT(($H$327-G314)/30)","v":20},{"$f":"H314*1000","v":20000},14000,null,{"$f":"I314-J314-K314","v":6000},800,800,800,800,800,800,800,800,800,800,800,800,{"$f":"SUM(L314:X314)","v":15600},{"$f":"VLOOKUP(A314,справочник!$E$2:$F$322,2,0)","v":0}]
[{"$f":"VLOOKUP(B315,справочник!$B$2:$E$322,4,0)","v":95},{"$f":"CONCATENATE(C315;D315)","v":{"$error":"#VALUE!"}},100,"Шорахматов Мухаммадхуджа Замшоевич","50:03:0070280:861","2013-05-07","2013-12-01",{"$f":"INT(($H$327-G315)/30)","v":25},{"$f":"H315*1000","v":25000},20000,null,{"$f":"I315-J315-K315","v":5000},800,800,800,800,800,800,800,800,800,800,800,800,{"$f":"SUM(L315:X315)","v":14600},{"$f":"VLOOKUP(A315,справочник!$E$2:$F$322,2,0)","v":0}]
[{"$f":"VLOOKUP(B316,справочник!$B$2:$E$322,4,0)","v":108},{"$f":"CONCATENATE(C316;D316)","v":{"$error":"#VALUE!"}},113,"Шурдук Лариса Анатольевна (Игорь)","50:03:0070280:815","2012-01-30","2012-02-01",{"$f":"INT(($H$327-G316)/30)","v":47},{"$f":"H316*1000","v":47000},{"$f":"24000+11000","v":35000},8000,{"$f":"I316-J316-K316","v":4000},800,800,800,800,800,800,800,800,800,800,800,800,{"$f":"SUM(L316:X316)","v":13600},{"$f":"VLOOKUP(A316,справочник!$E$2:$F$322,2,0)","v":0}]
[{"$f":"VLOOKUP(B317,справочник!$B$2:$E$322,4,0)","v":41},{"$f":"CONCATENATE(C317;D317)","v":{"$error":"#VALUE!"}},41,"Шустов Василий Александрович","50:03:0070280:799","2011-08-17","2011-08-01",{"$f":"INT(($H$327-G317)/30)","v":53},{"$f":"H317*1000","v":53000},{"$f":"1000+37000","v":38000},null,{"$f":"I317-J317-K317","v":15000},800,800,800,800,800,800,800,800,800,800,800,800,{"$f":"SUM(L317:X317)","v":24600},{"$f":"VLOOKUP(A317,справочник!$E$2:$F$322,2,0)","v":0}]
[{"$f":"VLOOKUP(B318,справочник!$B$2:$E$322,4,0)","v":152},{"$f":"CONCATENATE(C318;D318)","v":{"$error":"#VALUE!"}},160,"Щербаков Павел Евгеньевич","50:03:0070280:757","2011-11-03","2011-11-01",{"$f":"INT(($H$327-G318)/30)","v":50},{"$f":"H318*1000","v":50000},{"$f":"46000+1000","v":47000},null,{"$f":"I318-J318-K318","v":3000},800,800,800,800,800,800,800,800,800,800,800,800,{"$f":"SUM(L318:X318)","v":12600},{"$f":"VLOOKUP(A318,справочник!$E$2:$F$322,2,0)","v":0}]
[{"$f":"VLOOKUP(B319,справочник!$B$2:$E$322,4,0)","v":227},{"$f":"CONCATENATE(C319;D319)","v":{"$error":"#VALUE!"}},236,"Щербакова Татьяна Дмитриевна","50:03:0070280:899","2014-04-09","2014-05-01",{"$f":"INT(($H$327-G319)/30)","v":20},{"$f":"H319*1000","v":20000},9000,null,{"$f":"I319-J319-K319","v":11000},800,800,800,800,800,800,800,800,800,800,800,800,{"$f":"SUM(L319:X319)","v":20600},{"$f":"VLOOKUP(A319,справочник!$E$2:$F$322,2,0)","v":0}]
[{"$f":"VLOOKUP(B320,справочник!$B$2:$E$322,4,0)","v":15},{"$f":"CONCATENATE(C320;D320)","v":{"$error":"#VALUE!"}},15,"Элефтерова Евгения Викторовна (Михаил)","50:03:0070280:698","2012-12-18","2013-01-01",{"$f":"INT(($H$327-G320)/30)","v":36},{"$f":"H320*1000","v":36000},32000,null,{"$f":"I320-J320-K320","v":4000},800,800,800,800,800,800,800,800,800,800,800,800,{"$f":"SUM(L320:X320)","v":13600},{"$f":"VLOOKUP(A320,справочник!$E$2:$F$322,2,0)","v":0}]
[{"$f":"VLOOKUP(B321,справочник!$B$2:$E$322,4,0)","v":240},{"$f":"CONCATENATE(C321;D321)","v":{"$error":"#VALUE!"}},251,"Якиманский Александр Александрович","50:03:0070280:794","2011-09-13","2011-09-01",{"$f":"INT(($H$327-G321)/30)","v":52},{"$f":"H321*1000","v":52000},{"$f":"1000+49000","v":50000},3000,{"$f":"I321-J321-K321","v":-1000},800,800,800,800,800,800,800,800,800,800,800,800,{"$f":"SUM(L321:X321)","v":8600},{"$f":"VLOOKUP(A321,справочник!$E$2:$F$322,2,0)","v":0}]
[{"$f":"VLOOKUP(B322,справочник!$B$2:$E$322,4,0)","v":10},{"$f":"CONCATENATE(C322;D322)","v":{"$error":"#VALUE!"}},10,"Якушина Любовь Викторовна","50:03:0070280:705","2015-01-19",null,0,{"$f":"H322*1000","v":0},null,null,{"$f":"I322-J322-K322","v":0},800,800,800,800,800,800,800,800,800,800,800,800,{"$f":"SUM(L322:X322)","v":9600},{"$f":"VLOOKUP(A322,справочник!$E$2:$F$322,2,0)","v":0}]
[{"$f":"VLOOKUP(B323,справочник!$B$2:$E$322,4,0)","v":55},{"$f":"CONCATENATE(C323;D323)","v":{"$error":"#VALUE!"}},57,"Янковская Елена Александровна","50:03:0070280:964","2011-08-17","2011-08-01",{"$f":"INT(($H$327-G323)/30)","v":53},{"$f":"H323*1000","v":53000},{"$f":"1000+53000","v":54000},3000,{"$f":"I323-J323-K323","v":-4000},800,800,800,800,800,800,800,800,800,800,800,800,{"$f":"SUM(L323:X323)","v":5600},{"$f":"VLOOKUP(A323,справочник!$E$2:$F$322,2,0)","v":0}]
[{"$f":"VLOOKUP(B324,справочник!$B$2:$E$322,4,0)","v":309},{"$f":"CONCATENATE(C324;D324)","v":{"$error":"#VALUE!"}},324,"Янковская Яна Валерьевна","50:03:0070280:1016","2012-04-03","2012-04-01",{"$f":"INT(($H$327-G324)/30)","v":45},{"$f":"H324*1000","v":45000},{"$f":"17000+1000","v":18000},5000,{"$f":"I324-J324-K324","v":22000},800,800,800,800,800,800,800,800,800,800,800,800,{"$f":"SUM(L324:X324)","v":31600},{"$f":"VLOOKUP(A324,справочник!$E$2:$F$322,2,0)","v":0}]
[{"$f":"VLOOKUP(B325,справочник!$B$2:$E$322,4,0)","v":17},{"$f":"CONCATENATE(C325;D325)","v":{"$error":"#VALUE!"}},17,"Яструб Валерий Викторович","50:03:0070280:696","2012-12-11","2013-01-01",{"$f":"INT(($H$327-G325)/30)","v":36},{"$f":"H325*1000","v":36000},31000,null,{"$f":"I325-J325-K325","v":5000},800,800,800,800,800,800,800,800,800,800,800,800,{"$f":"SUM(L325:X325)","v":14600},{"$f":"VLOOKUP(A325,справочник!$E$2:$F$322,2,0)","v":0}]
[{"$f":"VLOOKUP(B326,справочник!$B$2:$E$322,4,0)","v":40},{"$f":"CONCATENATE(C326;D326)","v":{"$error":"#VALUE!"}},40,"Яшин Евгений Иванович","50:03:0070280:910","2011-08-17","2011-08-01",{"$f":"INT(($H$327-G326)/30)","v":53},{"$f":"H326*1000","v":53000},{"$f":"1000+37000","v":38000},null,{"$f":"I326-J326-K326","v":15000},800,800,800,800,800,800,800,800,800,800,800,800,{"$f":"SUM(L326:X326)","v":24600},{"$f":"VLOOKUP(A326,справочник!$E$2:$F$322,2,0)","v":0}]
[{"$nulls":7},"2015-12-31",null,null,null,{"$f":"SUM(L5:L326)","v":3600608},{"$f":"SUM(M5:M326)","v":232800},{"$f":"SUM(N5:N326)","v":232800},{"$f":"SUM(O5:O326)","v":232800},{"$f":"SUM(P5:P326)","v":232800},{"$f":"SUM(Q5:Q326)","v":232800},{"$f":"SUM(R5:R326)","v":232800},{"$f":"SUM(S5:S326)","v":232800},{"$f":"SUM(T5:T326)","v":232800},{"$f":"SUM(U5:U326)","v":232800},{"$f":"SUM(V5:V326)","v":232800},{"$f":"SUM(W5:W326)","v":232800},{"$f":"SUM(X5:X326)","v":232800},{"$f":"SUM(Y5:Y326)","v":6394208}]

{"sheet":"членские взносы","index":3,"n_rows":328,"n_cols":40,"rows_kept":328,"cut":false,"hidden":false,"merged":[[2,4,3,4],[2,7,2,11],[15,30,16,30],[15,33,16,33],[15,36,16,36],[15,39,16,39],[29,27,30,27],[29,33,30,33],[29,36,30,36],[29,39,30,39],[37,30,38,30],[37,33,38,33],[37,36,38,36],[37,39,38,39],[44,30,45,30],[44,33,45,33],[44,36,45,36],[44,39,45,39],[46,30,47,30],[46,33,47,33],[46,36,47,36],[46,39,47,39],[48,30,49,30],[48,33,49,33],[48,36,49,36],[48,39,49,39],[100,30,101,30],[100,33,101,33],[100,36,101,36],[100,39,101,39],[131,30,132,30],[131,33,132,33],[131,36,132,36],[131,39,132,39],[152,30,153,30],[152,33,153,33],[152,36,153,36],[152,39,153,39],[160,30,162,30],[160,33,162,33],[160,36,162,36],[160,39,162,39],[163,30,164,30],[163,33,164,33],[163,36,164,36],[163,39,164,39],[168,30,169,30],[168,33,169,33],[168,36,169,36],[168,39,169,39],[180,30,181,30],[180,33,181,33],[180,36,181,36],[180,39,181,39],[194,30,195,30],[194,33,195,33],[194,36,195,36],[194,39,195,39],[229,30,230,30],[229,33,230,33],[229,36,230,36],[229,39,230,39],[231,30,232,30],[231,33,232,33],[231,36,232,36],[231,39,232,39],[259,30,260,30],[259,33,260,33],[259,36,260,36],[259,39,260,39],[273,30,274,30],[273,33,274,33],[273,36,274,36],[273,39,274,39],[285,30,287,30],[285,33,287,33],[285,36,287,36],[285,39,287,39],[299,30,300,30],[299,33,300,33],[299,36,300,36],[299,39,300,39],[306,30,307,30],[306,33,307,33],[306,36,307,36],[306,39,307,39]]}
[null,null,"НП СЗУ \"Высокое\""]
[null,null,"Отчет по членским взносам за 2015-2016 гг"]
[null,null,"Номер участка","Ф.И.О.","Кадастр. номер участка",null,null,"Расчеты по членским взносам",{"$nulls":4},{"$f":"COUNTA(M5:M324)","v":44},{"$f":"COUNTA(N5:N324)","v":53},{"$f":"COUNTA(O5:O324)","v":50},{"$f":"COUNTA(P5:P324)","v":39},{"$f":"COUNTA(Q5:Q324)","v":43},{"$f":"COUNTA(R5:R324)","v":64},{"$f":"COUNTA(S5:S324)","v":63},{"$f":"COUNTA(T5:T324)","v":55},{"$f":"COUNTA(U5:U324)","v":65},{"$f":"COUNTA(V5:V324)","v":53},{"$f":"COUNTA(W5:W324)","v":49},{"$f":"COUNTA(X5:X324)","v":52}]
["ID","Сцепка","Номер участка","Ф.И.О.",null,"Дата вступления в НП СЗУ \"Высокое\"","1-ый расчетный месяц","Кол-во месяцев","Сумма членских взносов, которые должны быть уплачены на 01.01.2016 г (исходя из кол-ва месяцев)","Сумма оплаченных членских взносов на 01.11.2015","Оплата членских взносов за декабрь 2015","Остаток задолженности по членским взносам на 01.01.2016","оплата членских взносов за январь 2016","оплата членских взносов зафевраль 2016","оплата членских взносов за март 2016","оплата членских взносов за апрель 2016","оплата членских взносов за май 2016","оплата членских взносов за июнь 2016","оплата членских взносов за июль2016","оплата членских взносов за август 2016","оплата членских взносов за сентябрь 2016","оплата членских взносов за октябрь 2016","оплата членских взносов за ноябрь 2016","оплата членских взносов за декабрь 2016","ИТОГО оплачено членских взносов за 2016 г.","Количество месяцев 2016","Сумма начисленных членских взносов в 2016 г.","Задолженность  на 01.01.2017","Начислено членскх взносов за январь 2017","Оплата членских взносов в январе 2017","Задолженность по членским взносам на 01.02.2017","Начислено членких взносов за февраль 2017","Оплата членских взносов в февраль 2017","Задолженность по членским взносам на 01.03.2017","Начислено членких взносов за март 2017","Оплата членских взносов в марте 2017","Задолженность по членским взносам на 01.04.2017","Начислено членких взносов за апрель 2017","Оплата членских взносов в апреле 2017","Задолженность по членским взносам на 01.05.2017"]
[{"$f":"VLOOKUP(B5,справочник!$B$2:$E$322,4,0)","v":79},{"$f":"CONCATENATE(C5,D5)","v":"84Абу Махади Мохаммед Ибрагим"},84,"Абу Махади Мохаммед Ибрагим","50:03:0070280:947","2011-06-22","2011-07-01",{"$f":"INT(($H$325-G5)/30)","v":54},{"$f":"H5*1000","v":54000},{"$f":"49000+1000","v":50000},null,{"$f":"I5-J5-K5","v":4000},null,4000,null,2400,{"$nulls":4},4800,null,null,null,{"$f":"SUM(M5:X5)","v":11200},12,{"$f":"Z5*800","v":9600},{"$f":"L5+AA5-Y5","v":2400},800,null,{"$f":"AB5+AC5-AD5","v":3200},800,null,{"$f":"AE5+AF5-AG5","v":4000},800,4800,{"$f":"AH5+AI5-AJ5","v":0},800,null,{"$f":"AK5+AL5-AM5","v":800}]
[{"$f":"VLOOKUP(B6,справочник!$B$2:$E$322,4,0)","v":35},{"$f":"CONCATENATE(C6;D6)","v":{"$error":"#VALUE!"}},35,"Абушаев Роман Шамильевич","50:03:0070280:905","2012-03-02","2012-03-01",{"$f":"INT(($H$325-G6)/30)","v":46},{"$f":"H6*1000","v":46000},30000,null,{"$f":"I6-J6-K6","v":16000},{"$nulls":12},{"$f":"SUM(M6:X6)","v":0},12,{"$f":"Z6*800","v":9600},{"$f":"L6+AA6-Y6","v":25600},800,null,{"$f":"AB6+AC6-AD6","v":26400},800,null,{"$f":"AE6+AF6-AG6","v":27200},800,null,{"$f":"AH6+AI6-AJ6","v":28000},800,null,{"$f":"AK6+AL6-AM6","v":28800}]
[{"$f":"VLOOKUP(B7,справочник!$B$2:$E$322,4,0)","v":260},{"$f":"CONCATENATE(C7;D7)","v":{"$error":"#VALUE!"}},273,"Аксенов Дмитрий Викторович","50:03:0070280:730","2013-09-23","2013-10-01",{"$f":"INT(($H$325-G7)/30)","v":27},{"$f":"H7*1000","v":27000},19000,null,{"$f":"I7-J7-K7","v":8000},null,2000,null,null,1000,2000,2000,3000,2000,2000,2000,2000,{"$f":"SUM(M7:X7)","v":18000},12,{"$f":"Z7*800","v":9600},{"$f":"L7+AA7-Y7","v":-400},800,null,{"$f":"AB7+AC7-AD7","v":400},800,null,{"$f":"AE7+AF7-AG7","v":1200},800,null,{"$f":"AH7+AI7-AJ7","v":2000},800,2000,{"$f":"AK7+AL7-AM7","v":800}]
[{"$f":"VLOOKUP(B8,справочник!$B$2:$E$322,4,0)","v":203},{"$f":"CONCATENATE(C8;D8)","v":{"$error":"#VALUE!"}},213,"Александров Владимир Александрович","50:03:0070280:850","2013-09-03","2013-10-01",{"$f":"INT(($H$325-G8)/30)","v":27},{"$f":"H8*1000","v":27000},26000,null,{"$f":"I8-J8-K8","v":1000},2600,null,null,null,4200,null,3200,{"$nulls":5},{"$f":"SUM(M8:X8)","v":10000},12,{"$f":"Z8*800","v":9600},{"$f":"L8+AA8-Y8","v":600},800,2400,{"$f":"AB8+AC8-AD8","v":-1000},800,null,{"$f":"AE8+AF8-AG8","v":-200},800,null,{"$f":"AH8+AI8-AJ8","v":600},800,1977.8,{"$f":"AK8+AL8-AM8","v":-577.8}]
[{"$f":"VLOOKUP(B9,справочник!$B$2:$E$322,4,0)","v":316},{"$f":"CONCATENATE(C9;D9)","v":{"$error":"#VALUE!"}},"306-307","Алексеев Андрей Олегович","50:03:0070280:997","2011-12-16","2011-12-01",{"$f":"INT(($H$325-G9)/30)","v":49},{"$f":"H9*1000","v":49000},{"$f":"30000+1000+1000","v":32000},null,{"$f":"I9-J9-K9","v":17000},800,{"$nulls":11},{"$f":"SUM(M9:X9)","v":800},12,{"$f":"Z9*800","v":9600},{"$f":"L9+AA9-Y9","v":25800},800,null,{"$f":"AB9+AC9-AD9","v":26600},800,null,{"$f":"AE9+AF9-AG9","v":27400},800,null,{"$f":"AH9+AI9-AJ9","v":28200},800,null,{"$f":"AK9+AL9-AM9","v":29000}]
[{"$f":"VLOOKUP(B10,справочник!$B$2:$E$322,4,0)","v":232},{"$f":"CONCATENATE(C10;D10)","v":{"$error":"#VALUE!"}},241,"Амплеева Мария Александровна","50:03:0070280:894","2013-06-04","2013-07-01",{"$f":"INT(($H$325-G10)/30)","v":30},{"$f":"H10*1000","v":30000},6000,null,{"$f":"I10-J10-K10","v":24000},{"$nulls":12},{"$f":"SUM(M10:X10)","v":0},12,{"$f":"Z10*800","v":9600},{"$f":"L10+AA10-Y10","v":33600},800,null,{"$f":"AB10+AC10-AD10","v":34400},800,null,{"$f":"AE10+AF10-AG10","v":35200},800,null,{"$f":"AH10+AI10-AJ10","v":36000},800,null,{"$f":"AK10+AL10-AM10","v":36800}]
[{"$f":"VLOOKUP(B11,справочник!$B$2:$E$322,4,0)","v":277},{"$f":"CONCATENATE(C11;D11)","v":{"$error":"#VALUE!"}},290,"Андреева Любовь Ивановна(у Севастьянова)",null,"2014-07-07","2014-07-01",{"$f":"INT(($H$325-G11)/30)","v":18},{"$f":"H11*1000","v":18000},20000,null,{"$f":"I11-J11-K11","v":-2000},{"$nulls":6},1000,null,2000,null,null,null,{"$f":"SUM(M11:X11)","v":3000},12,{"$f":"Z11*800","v":9600},{"$f":"L11+AA11-Y11","v":4600},800,null,{"$f":"AB11+AC11-AD11","v":5400},800,2000,{"$f":"AE11+AF11-AG11","v":4200},800,1000,{"$f":"AH11+AI11-AJ11","v":4000},800,1000,{"$f":"AK11+AL11-AM11","v":3800}]
[{"$f":"VLOOKUP(B12,справочник!$B$2:$E$322,4,0)","v":221},{"$f":"CONCATENATE(C12;D12)","v":{"$error":"#VALUE!"}},230,"Анисимова (Корнеева) Татьяна Николаевна",null,"2014-09-30","2014-10-01",{"$f":"INT(($H$325-G12)/30)","v":15},{"$f":"H12*1000","v":15000},1000,null,{"$f":"I12-J12-K12","v":14000},12000,{"$nulls":11},{"$f":"SUM(M12:X12)","v":12000},12,{"$f":"Z12*800","v":9600},{"$f":"L12+AA12-Y12","v":11600},800,null,{"$f":"AB12+AC12-AD12","v":12400},800,12000,{"$f":"AE12+AF12-AG12","v":1200},800,null,{"$f":"AH12+AI12-AJ12","v":2000},800,null,{"$f":"AK12+AL12-AM12","v":2800}]
[{"$f":"VLOOKUP(B13,справочник!$B$2:$E$322,4,0)","v":259},{"$f":"CONCATENATE(C13;D13)","v":{"$error":"#VALUE!"}},272,"Анисимова Елена Анатольевна","50:03:0070280:731","2013-07-02","2013-08-01",{"$f":"INT(($H$325-G13)/30)","v":29},{"$f":"H13*1000","v":29000},25000,null,{"$f":"I13-J13-K13","v":4000},{"$nulls":6},3000,null,5000,2400,null,null,{"$f":"SUM(M13:X13)","v":10400},12,{"$f":"Z13*800","v":9600},{"$f":"L13+AA13-Y13","v":3200},800,null,{"$f":"AB13+AC13-AD13","v":4000},800,2400,{"$f":"AE13+AF13-AG13","v":2400},800,null,{"$f":"AH13+AI13-AJ13","v":3200},800,null,{"$f":"AK13+AL13-AM13","v":4000}]
[{"$f":"VLOOKUP(B14,справочник!$B$2:$E$322,4,0)","v":109},{"$f":"CONCATENATE(C14;D14)","v":{"$error":"#VALUE!"}},114,"Антипова Жанна Михайловна","50:03:0070280:814","2013-05-20","2013-06-01",{"$f":"INT(($H$325-G14)/30)","v":31},{"$f":"H14*1000","v":31000},10000,null,{"$f":"I14-J14-K14","v":21000},null,1000,1000,{"$nulls":9},{"$f":"SUM(M14:X14)","v":2000},12,{"$f":"Z14*800","v":9600},{"$f":"L14+AA14-Y14","v":28600},800,null,{"$f":"AB14+AC14-AD14","v":29400},800,null,{"$f":"AE14+AF14-AG14","v":30200},800,null,{"$f":"AH14+AI14-AJ14","v":31000},800,null,{"$f":"AK14+AL14-AM14","v":31800}]
[{"$f":"VLOOKUP(B15,справочник!$B$2:$E$322,4,0)","v":130},{"$f":"CONCATENATE(C15;D15)","v":{"$error":"#VALUE!"}},137,"Анциферов Алексей Сергеевич","50:03:0070280:973","2011-10-25","2011-11-01",{"$f":"INT(($H$325-G15)/30)","v":50},{"$f":"H15*1000","v":50000},{"$f":"44000+1000","v":45000},5000,{"$f":"I15-J15-K15","v":0},null,800,null,null,null,3200,null,null,8000,null,null,null,{"$f":"SUM(M15:X15)","v":12000},12,{"$f":"Z15*800","v":9600},{"$f":"L15+AA15-Y15","v":-2400},800,null,{"$f":"AB15+AC15-AD15","v":-1600},800,null,{"$f":"AE15+AF15-AG15","v":-800},800,null,{"$f":"AH15+AI15-AJ15","v":0},800,800,{"$f":"AK15+AL15-AM15","v":0}]
[{"$f":"VLOOKUP(B16,справочник!$B$2:$E$322,4,0)","v":7},{"$f":"CONCATENATE(C16;D16)","v":{"$error":"#VALUE!"}},7,"Артемьев Сергей Иванович","50:03:0070280:707","2013-07-12","2013-09-01",{"$f":"INT(($H$325-G16)/30)","v":28},{"$f":"H16*1000","v":28000},null,null,{"$f":"I16-J16-K16","v":28000},{"$nulls":12},{"$f":"SUM(M16:X16)","v":0},12,{"$f":"Z16*800","v":9600},{"$f":"L16+AA16-Y16","v":37600},800,null,{"$f":"SUM(AB16:AB17)+SUM(AC16:AC17)-SUM(AD16:AD17)","v":49400},800,null,{"$f":"SUM(AE16:AE17)+SUM(AF16:AF17)-SUM(AG16:AG17)","v":50200},800,null,{"$f":"SUM(AH16:AH17)+SUM(AI16:AI17)-SUM(AJ16:AJ17)","v":51000},800,null,{"$f":"SUM(AK16:AK17)+SUM(AL16:AL17)-SUM(AM16:AM17)","v":51800}]
[{"$f":"VLOOKUP(B17,справочник!$B$2:$E$322,4,0)","v":7},{"$f":"CONCATENATE(C17;D17)","v":{"$error":"#VALUE!"}},14,"Артемьев Сергей Иванович","50:03:0070280:701","2012-10-22","2012-11-01",{"$f":"INT(($H$325-G17)/30)","v":38},{"$f":"H17*1000","v":38000},27000,null,{"$f":"I17-J17-K17","v":11000},{"$nulls":12},{"$f":"SUM(M17:X17)","v":0},0,{"$f":"Z17*800","v":0},{"$f":"L17+AA17-Y17","v":11000},0,null,null,0,null,null,0,null,null,0]
[{"$f":"VLOOKUP(B18,справочник!$B$2:$E$322,4,0)","v":193},{"$f":"CONCATENATE(C18;D18)","v":{"$error":"#VALUE!"}},201,"Асташкин Павел Александрович(продал???)","50:03:0070280:758",null,null,null,{"$f":"H18*1000","v":0},null,null,{"$f":"I18-J18-K18","v":0},{"$nulls":12},{"$f":"SUM(M18:X18)","v":0},12,{"$f":"Z18*800","v":9600},{"$f":"L18+AA18-Y18","v":9600},800,null,{"$f":"AB18+AC18-AD18","v":10400},800,null,{"$f":"AE18+AF18-AG18","v":11200},800,null,{"$f":"AH18+AI18-AJ18","v":12000},800,null,{"$f":"AK18+AL18-AM18","v":12800}]
[{"$f":"VLOOKUP(B19,справочник!$B$2:$E$322,4,0)","v":178},{"$f":"CONCATENATE(C19;D19)","v":{"$error":"#VALUE!"}},186,"Афанасьева Злата Сергеевна","50:03:0070280:761","2014-09-16","2014-11-01",{"$f":"INT(($H$325-G19)/30)","v":14},{"$f":"H19*1000","v":14000},1000,null,{"$f":"I19-J19-K19","v":13000},{"$nulls":10},10000,null,{"$f":"SUM(M19:X19)","v":10000},12,{"$f":"Z19*800","v":9600},{"$f":"L19+AA19-Y19","v":12600},800,13000,{"$f":"AB19+AC19-AD19","v":400},800,null,{"$f":"AE19+AF19-AG19","v":1200},800,null,{"$f":"AH19+AI19-AJ19","v":2000},800,null,{"$f":"AK19+AL19-AM19","v":2800}]
[{"$f":"VLOOKUP(B20,справочник!$B$2:$E$322,4,0)","v":119},{"$f":"CONCATENATE(C20;D20)","v":{"$error":"#VALUE!"}},124,"Афян Сасун Аркадиевич","50:03:0070280:1021","2013-05-07","2013-06-01",{"$f":"INT(($H$325-G20)/30)","v":31},{"$f":"H20*1000","v":31000},11000,null,{"$f":"I20-J20-K20","v":20000},null,null,3000,{"$nulls":9},{"$f":"SUM(M20:X20)","v":3000},12,{"$f":"Z20*800","v":9600},{"$f":"L20+AA20-Y20","v":26600},800,null,{"$f":"AB20+AC20-AD20","v":27400},800,null,{"$f":"AE20+AF20-AG20","v":28200},800,null,{"$f":"AH20+AI20-AJ20","v":29000},800,null,{"$f":"AK20+AL20-AM20","v":29800}]
[{"$f":"VLOOKUP(B21,справочник!$B$2:$E$322,4,0)","v":293},{"$f":"CONCATENATE(C21;D21)","v":{"$error":"#VALUE!"}},308,"Ахромеев Андрей Владимирович","50:03:0070280:999","2012-01-20","2012-01-01",{"$f":"INT(($H$325-G21)/30)","v":48},{"$f":"H21*1000","v":48000},{"$f":"11500+24500","v":36000},null,{"$f":"I21-J21-K21","v":12000},{"$nulls":12},{"$f":"SUM(M21:X21)","v":0},12,{"$f":"Z21*800","v":9600},{"$f":"L21+AA21-Y21","v":21600},800,null,{"$f":"AB21+AC21-AD21","v":22400},800,null,{"$f":"AE21+AF21-AG21","v":23200},800,null,{"$f":"AH21+AI21-AJ21","v":24000},800,null,{"$f":"AK21+AL21-AM21","v":24800}]
[{"$f":"VLOOKUP(B22,справочник!$B$2:$E$322,4,0)","v":191},{"$f":"CONCATENATE(C22;D22)","v":{"$error":"#VALUE!"}},199,"Бадирьян Тамара Викторовна","50:03:0070280:888",null,null,null,{"$f":"H22*1000","v":0},null,null,{"$f":"I22-J22-K22","v":0},{"$nulls":12},{"$f":"SUM(M22:X22)","v":0},12,{"$f":"Z22*800","v":9600},{"$f":"L22+AA22-Y22","v":9600},800,null,{"$f":"AB22+AC22-AD22","v":10400},800,null,{"$f":"AE22+AF22-AG22","v":11200},800,null,{"$f":"AH22+AI22-AJ22","v":12000},800,null,{"$f":"AK22+AL22-AM22","v":12800}]
[{"$f":"VLOOKUP(B23,справочник!$B$2:$E$322,4,0)","v":249},{"$f":"CONCATENATE(C23;D23)","v":{"$error":"#VALUE!"}},260,"Байбикова Рузалия Равилевна / Байбикова Руфия Равилевна","50:03:0070280:785","2013-11-26","2013-12-01",{"$f":"INT(($H$325-G23)/30)","v":25},{"$f":"H23*1000","v":25000},{"$f":"1000","v":1000},null,{"$f":"I23-J23-K23","v":24000},{"$nulls":12},{"$f":"SUM(M23:X23)","v":0},12,{"$f":"Z23*800","v":9600},{"$f":"L23+AA23-Y23","v":33600},800,null,{"$f":"AB23+AC23-AD23","v":34400},800,null,{"$f":"AE23+AF23-AG23","v":35200},800,15000,{"$f":"AH23+AI23-AJ23","v":21000},800,null,{"$f":"AK23+AL23-AM23","v":21800}]
[{"$f":"VLOOKUP(B24,справочник!$B$2:$E$322,4,0)","v":72},{"$f":"CONCATENATE(C24;D24)","v":{"$error":"#VALUE!"}},78,"Лещёва Ольга Владимировна","50:03:0070280:802","2011-09-07","2011-09-01",{"$f":"INT(($H$325-G24)/30)","v":52},{"$f":"H24*1000","v":52000},{"$f":"19000+1500+2500+23000","v":46000},null,{"$f":"I24-J24-K24","v":6000},{"$nulls":12},{"$f":"SUM(M24:X24)","v":0},12,{"$f":"Z24*800","v":9600},{"$f":"L24+AA24-Y24","v":15600},800,null,{"$f":"AB24+AC24-AD24","v":16400},800,null,{"$f":"AE24+AF24-AG24","v":17200},800,null,{"$f":"AH24+AI24-AJ24","v":18000},800,null,{"$f":"AK24+AL24-AM24","v":18800}]
[{"$f":"VLOOKUP(B25,справочник!$B$2:$E$322,4,0)","v":125},{"$f":"CONCATENATE(C25;D25)","v":{"$error":"#VALUE!"}},130,"Безбородова Людмила Михайловна","50:03:0070280:812","2014-11-05","2014-12-01",{"$f":"INT(($H$325-G25)/30)","v":13},{"$f":"H25*1000","v":13000},8000,null,{"$f":"I25-J25-K25","v":5000},{"$nulls":5},3000,null,null,3000,null,3000,null,{"$f":"SUM(M25:X25)","v":9000},12,{"$f":"Z25*800","v":9600},{"$f":"L25+AA25-Y25","v":5600},800,null,{"$f":"AB25+AC25-AD25","v":6400},800,null,{"$f":"AE25+AF25-AG25","v":7200},800,null,{"$f":"AH25+AI25-AJ25","v":8000},800,null,{"$f":"AK25+AL25-AM25","v":8800}]
[{"$f":"VLOOKUP(B26,справочник!$B$2:$E$322,4,0)","v":229},{"$f":"CONCATENATE(C26;D26)","v":{"$error":"#VALUE!"}},238,"Безменова Татьяна Игоревна","50:03:0070280:897","2013-04-09","2013-05-01",{"$f":"INT(($H$325-G26)/30)","v":32},{"$f":"H26*1000","v":32000},9000,null,{"$f":"I26-J26-K26","v":23000},{"$nulls":12},{"$f":"SUM(M26:X26)","v":0},12,{"$f":"Z26*800","v":9600},{"$f":"L26+AA26-Y26","v":32600},800,null,{"$f":"AB26+AC26-AD26","v":33400},800,null,{"$f":"AE26+AF26-AG26","v":34200},800,null,{"$f":"AH26+AI26-AJ26","v":35000},800,null,{"$f":"AK26+AL26-AM26","v":35800}]
[{"$f":"VLOOKUP(B27,справочник!$B$2:$E$322,4,0)","v":296},{"$f":"CONCATENATE(C27;D27)","v":{"$error":"#VALUE!"}},311,"Бекмансурова Динара Василевна","50:03:0070280:1002","2012-04-09","2012-04-01",{"$f":"INT(($H$325-G27)/30)","v":45},{"$f":"H27*1000","v":45000},1000,null,{"$f":"I27-J27-K27","v":44000},{"$nulls":12},{"$f":"SUM(M27:X27)","v":0},12,{"$f":"Z27*800","v":9600},{"$f":"L27+AA27-Y27","v":53600},800,null,{"$f":"AB27+AC27-AD27","v":54400},800,null,{"$f":"AE27+AF27-AG27","v":55200},800,null,{"$f":"AH27+AI27-AJ27","v":56000},800,null,{"$f":"AK27+AL27-AM27","v":56800}]
[{"$f":"VLOOKUP(B28,справочник!$B$2:$E$322,4,0)","v":281},{"$f":"CONCATENATE(C28;D28)","v":{"$error":"#VALUE!"}},293,"Белов Семён Иванович","50:03:0070280:776","2014-05-07","2014-06-01",{"$f":"INT(($H$325-G28)/30)","v":19},{"$f":"H28*1000","v":19000},1000,null,{"$f":"I28-J28-K28","v":18000},{"$nulls":8},10000,null,null,null,{"$f":"SUM(M28:X28)","v":10000},12,{"$f":"Z28*800","v":9600},{"$f":"L28+AA28-Y28","v":17600},800,15000,{"$f":"AB28+AC28-AD28","v":3400},800,null,{"$f":"AE28+AF28-AG28","v":4200},800,null,{"$f":"AH28+AI28-AJ28","v":5000},800,null,{"$f":"AK28+AL28-AM28","v":5800}]
[{"$f":"VLOOKUP(B29,справочник!$B$2:$E$322,4,0)","v":198},{"$f":"CONCATENATE(C29;D29)","v":{"$error":"#VALUE!"}},206,"Белоглазова Людмила Ивановна","50:03:0070280:983","2011-09-30","2011-09-01",{"$f":"INT(($H$325-G29)/30)","v":52},{"$f":"H29*1000","v":52000},{"$f":"50000+1000","v":51000},1000,{"$f":"I29-J29-K29","v":0},null,null,3200,null,800,null,null,3200,null,800,1600,null,{"$f":"SUM(M29:X29)","v":9600},12,{"$f":"Z29*800","v":9600},{"$f":"L29+AA29-Y29","v":0},800,null,{"$f":"AB29+AC29-AD29","v":800},800,1600,{"$f":"AE29+AF29-AG29","v":0},800,null,{"$f":"AH29+AI29-AJ29","v":800},800,1600,{"$f":"AK29+AL29-AM29","v":0}]
[{"$f":"VLOOKUP(B30,справочник!$B$2:$E$322,4,0)","v":52},{"$f":"CONCATENATE(C30;D30)","v":{"$error":"#VALUE!"}},54,"Бельская Светлана Александровна (Владимир)","50:03:0070280:945","2012-04-17","2012-04-01",{"$f":"INT(($H$325-G30)/30)","v":45},{"$f":"H30*1000","v":45000},40000,5000,5000,3000,2000,800,null,1600,null,null,1600,null,800,800,null,{"$f":"SUM(M30:X30)","v":10600},12,{"$f":"Z30*800","v":9600},{"$f":"SUM(L30:L31)+SUM(AA30:AA31)-SUM(Y30:Y31)","v":-1600},800,null,{"$f":"AB30+AC30-AD30","v":-800},800,null,{"$f":"AE30+AF30-AG30","v":0},800,{"$f":"800+1600","v":2400},{"$f":"AH30+AI30-AJ30","v":-1600},800,null,{"$f":"AK30+AL30-AM30","v":-800}]
[{"$f":"VLOOKUP(B31,справочник!$B$2:$E$322,4,0)","v":51},{"$f":"CONCATENATE(C31;D31)","v":{"$error":"#VALUE!"}},53,"Бельский Владимир Владимирович (Светлана)","50:03:0070280:966","2012-04-17","2012-04-01",{"$f":"INT(($H$325-G31)/30)","v":45},{"$f":"H31*1000","v":45000},28000,7000,5000,3000,2000,800,null,1600,null,null,1600,800,null,800,null,{"$f":"SUM(M31:X31)","v":10600},0,{"$f":"Z31*800","v":0},null,0,null,{"$f":"AB31+AC31-AD31","v":0},0,null,null,0,null,null,0]
[{"$f":"VLOOKUP(B32,справочник!$B$2:$E$322,4,0)","v":136},{"$f":"CONCATENATE(C32;D32)","v":{"$error":"#VALUE!"}},144,"Беляков Виктор Михайлович","50:03:0070280:940","2012-10-22","2012-11-01",{"$f":"INT(($H$325-G32)/30)","v":38},{"$f":"H32*1000","v":38000},28000,null,{"$f":"I32-J32-K32","v":10000},{"$nulls":6},6000,4800,null,null,null,4800,{"$f":"SUM(M32:X32)","v":15600},12,{"$f":"Z32*800","v":9600},{"$f":"L32+AA32-Y32","v":4000},800,null,{"$f":"AB32+AC32-AD32","v":4800},800,null,{"$f":"AE32+AF32-AG32","v":5600},800,null,{"$f":"AH32+AI32-AJ32","v":6400},800,null,{"$f":"AK32+AL32-AM32","v":7200}]
[{"$f":"VLOOKUP(B33,справочник!$B$2:$E$322,4,0)","v":11},{"$f":"CONCATENATE(C33;D33)","v":{"$error":"#VALUE!"}},11,"Бенгя Владимир Михайлович (Диана)","50:03:0070280:704","2012-10-22","2012-11-01",{"$f":"INT(($H$325-G33)/30)","v":38},{"$f":"H33*1000","v":38000},26000,null,{"$f":"I33-J33-K33","v":12000},{"$nulls":12},{"$f":"SUM(M33:X33)","v":0},12,{"$f":"Z33*800","v":9600},{"$f":"L33+AA33-Y33","v":21600},800,null,{"$f":"AB33+AC33-AD33","v":22400},800,null,{"$f":"AE33+AF33-AG33","v":23200},800,null,{"$f":"AH33+AI33-AJ33","v":24000},800,null,{"$f":"AK33+AL33-AM33","v":24800}]
[{"$f":"VLOOKUP(B34,справочник!$B$2:$E$322,4,0)","v":114},{"$f":"CONCATENATE(C34;D34)","v":{"$error":"#VALUE!"}},119,"Беспаленко Зинаида Александровна","50:03:0070280:1024","2012-12-19","2013-01-01",{"$f":"INT(($H$325-G34)/30)","v":36},{"$f":"H34*1000","v":36000},1000,null,{"$f":"I34-J34-K34","v":35000},{"$nulls":12},{"$f":"SUM(M34:X34)","v":0},12,{"$f":"Z34*800","v":9600},{"$f":"L34+AA34-Y34","v":44600},800,null,{"$f":"AB34+AC34-AD34","v":45400},800,null,{"$f":"AE34+AF34-AG34","v":46200},800,null,{"$f":"AH34+AI34-AJ34","v":47000},800,null,{"$f":"AK34+AL34-AM34","v":47800}]
[{"$f":"VLOOKUP(B35,справочник!$B$2:$E$322,4,0)","v":151},{"$f":"CONCATENATE(C35;D35)","v":{"$error":"#VALUE!"}},159,"Бирюков Александр Сергеевич","50:03:0070280:960","2012-07-31","2012-08-01",{"$f":"INT(($H$325-G35)/30)","v":41},{"$f":"H35*1000","v":41000},17000,null,{"$f":"I35-J35-K35","v":24000},{"$nulls":12},{"$f":"SUM(M35:X35)","v":0},12,{"$f":"Z35*800","v":9600},{"$f":"L35+AA35-Y35","v":33600},800,null,{"$f":"AB35+AC35-AD35","v":34400},800,null,{"$f":"AE35+AF35-AG35","v":35200},800,null,{"$f":"AH35+AI35-AJ35","v":36000},800,null,{"$f":"AK35+AL35-AM35","v":36800}]
[{"$f":"VLOOKUP(B36,справочник!$B$2:$E$322,4,0)","v":142},{"$f":"CONCATENATE(C36;D36)","v":{"$error":"#VALUE!"}},150,"Блинков Анатолий Сергеевич","50:03:0070280:951","2011-08-16","2011-09-01",{"$f":"INT(($H$325-G36)/30)","v":52},{"$f":"H36*1000","v":52000},{"$f":"32000+1000","v":33000},19000,{"$f":"I36-J36-K36","v":0},{"$nulls":6},6400,{"$nulls":5},{"$f":"SUM(M36:X36)","v":6400},12,{"$f":"Z36*800","v":9600},{"$f":"L36+AA36-Y36","v":3200},800,null,{"$f":"AB36+AC36-AD36","v":4000},800,null,{"$f":"AE36+AF36-AG36","v":4800},800,null,{"$f":"AH36+AI36-AJ36","v":5600},800,null,{"$f":"AK36+AL36-AM36","v":6400}]
[{"$f":"VLOOKUP(B37,справочник!$B$2:$E$322,4,0)","v":245},{"$f":"CONCATENATE(C37;D37)","v":{"$error":"#VALUE!"}},256,"Бондарев Станислав Дмитриевич","50:03:0070280:789","2014-10-18","2014-11-01",{"$f":"INT(($H$325-G37)/30)","v":14},{"$f":"H37*1000","v":14000},9000,null,{"$f":"I37-J37-K37","v":5000},{"$nulls":5},9000,{"$nulls":6},{"$f":"SUM(M37:X37)","v":9000},12,{"$f":"Z37*800","v":9600},{"$f":"L37+AA37-Y37","v":5600},800,null,{"$f":"AB37+AC37-AD37","v":6400},800,null,{"$f":"AE37+AF37-AG37","v":7200},800,null,{"$f":"AH37+AI37-AJ37","v":8000},800,3500,{"$f":"AK37+AL37-AM37","v":5300}]
[{"$f":"VLOOKUP(B38,справочник!$B$2:$E$322,4,0)","v":188},{"$f":"CONCATENATE(C38;D38)","v":{"$error":"#VALUE!"}},196,"Бондаренко Владимир Иванович","50:03:0070280:1773","2014-02-04","2014-03-01",{"$f":"INT(($H$325-G38)/30)","v":22},{"$f":"H38*1000","v":22000},10000,null,{"$f":"I38-J38-K38","v":12000},{"$nulls":12},{"$f":"SUM(M38:X38)","v":0},12,{"$f":"Z38*800","v":9600},{"$f":"L38+AA38-Y38","v":21600},800,null,{"$f":"SUM(AB38:AB39)+SUM(AC38:AC39)-SUM(AD38:AD39)","v":44400},800,null,{"$f":"SUM(AE38:AE39)+SUM(AF38:AF39)-SUM(AG38:AG39)","v":45200},800,null,{"$f":"SUM(AH38:AH39)+SUM(AI38:AI39)-SUM(AJ38:AJ39)","v":46000},800,null,{"$f":"SUM(AK38:AK39)+SUM(AL38:AL39)-SUM(AM38:AM39)","v":14200}]
[{"$f":"VLOOKUP(B39,справочник!$B$2:$E$322,4,0)","v":188},{"$f":"CONCATENATE(C39;D39)","v":{"$error":"#VALUE!"}},197,"Бондаренко Владимир Иванович",null,"2014-02-04","2014-03-01",{"$f":"INT(($H$325-G39)/30)","v":22},{"$f":"H39*1000","v":22000},null,null,{"$f":"I39-J39-K39","v":22000},{"$nulls":12},{"$f":"SUM(M39:X39)","v":0},0,{"$f":"Z39*800","v":0},{"$f":"L39+AA39-Y39","v":22000},0,null,null,0,null,null,0,null,null,0,32600]
[{"$f":"VLOOKUP(B40,справочник!$B$2:$E$322,4,0)","v":219},{"$f":"CONCATENATE(C40;D40)","v":{"$error":"#VALUE!"}},228,"Бондарь Василий Дмитриевич","50:03:0070280:835","2014-07-28","2014-09-01",{"$f":"INT(($H$325-G40)/30)","v":16},{"$f":"H40*1000","v":16000},13000,3000,{"$f":"I40-J40-K40","v":0},null,null,3000,null,null,3000,null,null,3000,600,null,null,{"$f":"SUM(M40:X40)","v":9600},12,{"$f":"Z40*800","v":9600},{"$f":"L40+AA40-Y40","v":0},800,null,{"$f":"AB40+AC40-AD40","v":800},800,800,{"$f":"AE40+AF40-AG40","v":800},800,800,{"$f":"AH40+AI40-AJ40","v":800},800,800,{"$f":"AK40+AL40-AM40","v":800}]
[{"$f":"VLOOKUP(B41,справочник!$B$2:$E$322,4,0)","v":223},{"$f":"CONCATENATE(C41;D41)","v":{"$error":"#VALUE!"}},232,"Борисов Олег Александрович","50:03:0070280:831","2012-02-16","2012-02-01",{"$f":"INT(($H$325-G41)/30)","v":47},{"$f":"H41*1000","v":47000},1000,45000,{"$f":"I41-J41-K41","v":1000},{"$nulls":8},10000,null,null,null,{"$f":"SUM(M41:X41)","v":10000},12,{"$f":"Z41*800","v":9600},{"$f":"L41+AA41-Y41","v":600},800,null,{"$f":"AB41+AC41-AD41","v":1400},800,null,{"$f":"AE41+AF41-AG41","v":2200},800,1500,{"$f":"AH41+AI41-AJ41","v":1500},800,null,{"$f":"AK41+AL41-AM41","v":2300}]
[{"$f":"VLOOKUP(B42,справочник!$B$2:$E$322,4,0)","v":137},{"$f":"CONCATENATE(C42;D42)","v":{"$error":"#VALUE!"}},145,"Бранцова Татьяна Валерьевна","50:03:0070280:986","2012-05-01","2012-05-01",{"$f":"INT(($H$325-G42)/30)","v":44},{"$f":"H42*1000","v":44000},44000,null,{"$f":"I42-J42-K42","v":0},null,1600,null,null,null,800,{"$nulls":6},{"$f":"SUM(M42:X42)","v":2400},12,{"$f":"Z42*800","v":9600},{"$f":"L42+AA42-Y42","v":7200},800,null,{"$f":"AB42+AC42-AD42","v":8000},800,null,{"$f":"AE42+AF42-AG42","v":8800},800,null,{"$f":"AH42+AI42-AJ42","v":9600},800,null,{"$f":"AK42+AL42-AM42","v":10400}]
[{"$f":"VLOOKUP(B43,справочник!$B$2:$E$322,4,0)","v":105},{"$f":"CONCATENATE(C43;D43)","v":{"$error":"#VALUE!"}},110,"Брылёв Андрей Вячеславович","50:03:0070280:818","2012-01-17","2012-01-01",{"$f":"INT(($H$325-G43)/30)","v":48},{"$f":"H43*1000","v":48000},28000,null,{"$f":"I43-J43-K43","v":20000},3000,{"$nulls":4},800,null,null,1600,null,null,800,{"$f":"SUM(M43:X43)","v":6200},12,{"$f":"Z43*800","v":9600},{"$f":"L43+AA43-Y43","v":23400},800,null,{"$f":"AB43+AC43-AD43","v":24200},800,null,{"$f":"AE43+AF43-AG43","v":25000},800,800,{"$f":"AH43+AI43-AJ43","v":25000},800,null,{"$f":"AK43+AL43-AM43","v":25800}]
[{"$f":"VLOOKUP(B44,справочник!$B$2:$E$322,4,0)","v":98},{"$f":"CONCATENATE(C44;D44)","v":{"$error":"#VALUE!"}},103,"Бугрова Вероника Артуровна","50:03:0070280:797","2011-12-20","2011-12-01",{"$f":"INT(($H$325-G44)/30)","v":49},{"$f":"H44*1000","v":49000},{"$f":"29000+1000","v":30000},null,{"$f":"I44-J44-K44","v":19000},{"$nulls":7},4000,{"$nulls":4},{"$f":"SUM(M44:X44)","v":4000},12,{"$f":"Z44*800","v":9600},{"$f":"L44+AA44-Y44","v":24600},800,null,{"$f":"AB44+AC44-AD44","v":25400},800,null,{"$f":"AE44+AF44-AG44","v":26200},800,null,{"$f":"AH44+AI44-AJ44","v":27000},800,null,{"$f":"AK44+AL44-AM44","v":27800}]
[{"$f":"VLOOKUP(B45,справочник!$B$2:$E$322,4,0)","v":274},{"$f":"CONCATENATE(C45;D45)","v":{"$error":"#VALUE!"}},287,"Будаев Андрей Анатольевич",null,"2015-01-19","2015-02-01",{"$f":"INT(($H$325-G45)/30)","v":11},{"$f":"H45*1000","v":11000},2000,null,{"$f":"I45-J45-K45","v":9000},null,null,1600,null,null,26800,800,{"$nulls":5},{"$f":"SUM(M45:X45)","v":29200},12,{"$f":"Z45*800","v":9600},{"$f":"L45+AA45-Y45","v":-10600},0,null,{"$f":"SUM(AB45:AB46)+SUM(AC45:AC46)-SUM(AD45:AD46)","v":-2800},0,null,{"$f":"SUM(AE45:AE46)+SUM(AF45:AF46)-SUM(AG45:AG46)","v":-2800},0,null,{"$f":"SUM(AH45:AH46)+SUM(AI45:AI46)-SUM(AJ45:AJ46)","v":-2800},0,null,{"$f":"SUM(AK45:AK46)+SUM(AL45:AL46)-SUM(AM45:AM46)","v":-2000}]
[{"$f":"VLOOKUP(B46,справочник!$B$2:$E$322,4,0)","v":274},{"$f":"CONCATENATE(C46;D46)","v":{"$error":"#VALUE!"}},295,"Будаев Андрей Анатольевич",null,"2015-01-19","2015-02-01",{"$f":"INT(($H$325-G46)/30)","v":11},{"$f":"H46*1000","v":11000},null,null,{"$f":"I46-J46-K46","v":11000},{"$nulls":8},1600,800,800,800,{"$f":"SUM(M46:X46)","v":4000},0,{"$f":"Z46*800","v":0},{"$f":"L46+AA46-Y46","v":7000},800,null,null,800,800,null,800,800,null,800]
[{"$f":"VLOOKUP(B47,справочник!$B$2:$E$322,4,0)","v":175},{"$f":"CONCATENATE(C47;D47)","v":{"$error":"#VALUE!"}},183,"Буланова Лилия Михайловна","50:03:0070280:921","2014-08-14","2014-09-01",{"$f":"INT(($H$325-G47)/30)","v":16},{"$f":"H47*1000","v":16000},null,null,{"$f":"I47-J47-K47","v":16000},{"$nulls":4},21600,null,null,null,20000,null,null,null,{"$f":"SUM(M47:X47)","v":41600},12,{"$f":"Z47*800","v":9600},{"$f":"L47+AA47-Y47","v":-16000},800,null,{"$f":"SUM(AB47:AB48)+SUM(AC47:AC48)","v":800},800,null,{"$f":"SUM(AE47:AE48)+SUM(AF47:AF48)","v":1600},800,null,{"$f":"SUM(AH47:AH48)+SUM(AI47:AI48)","v":2400},800,null,{"$f":"SUM(AK47:AK48)+SUM(AL47:AL48)","v":3200}]
[{"$f":"VLOOKUP(B48,справочник!$B$2:$E$322,4,0)","v":175},{"$f":"CONCATENATE(C48;D48)","v":{"$error":"#VALUE!"}},187,"Буланова Лилия Михайловна","50:03:0070280:919","2014-08-14","2014-09-01",{"$f":"INT(($H$325-G48)/30)","v":16},{"$f":"H48*1000","v":16000},null,null,{"$f":"I48-J48-K48","v":16000},{"$nulls":12},{"$f":"SUM(M48:X48)","v":0},0,{"$f":"Z48*800","v":0},{"$f":"L48+AA48-Y48","v":16000},0,null,null,0,null,null,0,null,null,0]
[{"$f":"VLOOKUP(B49,справочник!$B$2:$E$322,4,0)","v":303},{"$f":"CONCATENATE(C49;D49)","v":{"$error":"#VALUE!"}},318,"Бурдух Юрие","50:03:0070280:1009","2014-12-29","2015-01-01",{"$f":"INT(($H$325-G49)/30)","v":12},{"$f":"H49*1000","v":12000},null,null,{"$f":"I49-J49-K49","v":12000},{"$nulls":12},{"$f":"SUM(M49:X49)","v":0},12,{"$f":"Z49*800","v":9600},{"$f":"L49+AA49-Y49","v":21600},800,null,{"$f":"SUM(AB49:AB50)+SUM(AC49:AC50)-SUM(AD49:AD50)","v":34400},800,null,{"$f":"SUM(AE49:AE50)+SUM(AF49:AF50)-SUM(AG49:AG50)","v":35200},800,null,{"$f":"SUM(AH49:AH50)+SUM(AI49:AI50)-SUM(AJ49:AJ50)","v":36000},800,null,{"$f":"SUM(AK49:AK50)+SUM(AL49:AL50)-SUM(AM49:AM50)","v":36800}]
[{"$f":"VLOOKUP(B50,справочник!$B$2:$E$322,4,0)","v":303},{"$f":"CONCATENATE(C50;D50)","v":{"$error":"#VALUE!"}},319,"Бурдух Юрие","50:03:0070280:1010","2014-12-29","2015-01-01",{"$f":"INT(($H$325-G50)/30)","v":12},{"$f":"H50*1000","v":12000},null,null,{"$f":"I50-J50-K50","v":12000},{"$nulls":12},{"$f":"SUM(M50:X50)","v":0},0,{"$f":"Z50*800","v":0},{"$f":"L50+AA50-Y50","v":12000},0,null,null,0,null,null,0,null,null,0]
[{"$f":"VLOOKUP(B51,справочник!$B$2:$E$322,4,0)","v":90},{"$f":"CONCATENATE(C51;D51)","v":{"$error":"#VALUE!"}},95,"Быданцева Нина Юрьевна","50:03:0070280:825","2011-09-09","2011-09-01",{"$f":"INT(($H$325-G51)/30)","v":52},{"$f":"H51*1000","v":52000},{"$f":"36000+4000+12000","v":52000},null,{"$f":"I51-J51-K51","v":0},null,null,null,4800,{"$nulls":4},4800,null,null,null,{"$f":"SUM(M51:X51)","v":9600},12,{"$f":"Z51*800","v":9600},{"$f":"L51+AA51-Y51","v":0},800,null,{"$f":"AB51+AC51-AD51","v":800},800,null,{"$f":"AE51+AF51-AG51","v":1600},800,4800,{"$f":"AH51+AI51-AJ51","v":-2400},800,null,{"$f":"AK51+AL51-AM51","v":-1600}]
[{"$f":"VLOOKUP(B52,справочник!$B$2:$E$322,4,0)","v":206},{"$f":"CONCATENATE(C52;D52)","v":{"$error":"#VALUE!"}},216,"Валеев Артур Рашидович","50:03:0070280:1423","2012-02-14","2012-02-01",{"$f":"INT(($H$325-G52)/30)","v":47},{"$f":"H52*1000","v":47000},38000,null,{"$f":"I52-J52-K52","v":9000},{"$nulls":11},10000,{"$f":"SUM(M52:X52)","v":10000},12,{"$f":"Z52*800","v":9600},{"$f":"L52+AA52-Y52","v":8600},800,null,{"$f":"AB52+AC52-AD52","v":9400},800,null,{"$f":"AE52+AF52-AG52","v":10200},800,null,{"$f":"AH52+AI52-AJ52","v":11000},800,null,{"$f":"AK52+AL52-AM52","v":11800}]
[{"$f":"VLOOKUP(B53,справочник!$B$2:$E$322,4,0)","v":101},{"$f":"CONCATENATE(C53;D53)","v":{"$error":"#VALUE!"}},106,"Васильев Николай Владимирович","50:03:0070280:798","2011-09-30","2011-09-01",{"$f":"INT(($H$325-G53)/30)","v":52},{"$f":"H53*1000","v":52000},{"$f":"42000+1000","v":43000},null,{"$f":"I53-J53-K53","v":9000},7000,{"$nulls":11},{"$f":"SUM(M53:X53)","v":7000},12,{"$f":"Z53*800","v":9600},{"$f":"L53+AA53-Y53","v":11600},800,null,{"$f":"AB53+AC53-AD53","v":12400},800,null,{"$f":"AE53+AF53-AG53","v":13200},800,{"$f":"2400+4800","v":7200},{"$f":"AH53+AI53-AJ53","v":6800},800,null,{"$f":"AK53+AL53-AM53","v":7600}]
[{"$f":"VLOOKUP(B54,справочник!$B$2:$E$322,4,0)","v":86},{"$f":"CONCATENATE(C54;D54)","v":{"$error":"#VALUE!"}},91,"Васильева Ольга Александровна","50:03:0070280:866","2011-10-31","2011-11-01",{"$f":"INT(($H$325-G54)/30)","v":50},{"$f":"H54*1000","v":50000},{"$f":"34000+13000","v":47000},4000,{"$f":"I54-J54-K54","v":-1000},null,2000,null,1000,null,1600,null,800,800,null,2400,null,{"$f":"SUM(M54:X54)","v":8600},12,{"$f":"Z54*800","v":9600},{"$f":"L54+AA54-Y54","v":0},800,null,{"$f":"AB54+AC54-AD54","v":800},800,800,{"$f":"AE54+AF54-AG54","v":800},800,1600,{"$f":"AH54+AI54-AJ54","v":0},800,null,{"$f":"AK54+AL54-AM54","v":800}]
[{"$f":"VLOOKUP(B55,справочник!$B$2:$E$322,4,0)","v":43},{"$f":"CONCATENATE(C55;D55)","v":{"$error":"#VALUE!"}},43,"Васильцова Елена Владимировна","50:03:0070280:972","2011-08-31","2011-09-01",{"$f":"INT(($H$325-G55)/30)","v":52},{"$f":"H55*1000","v":52000},{"$f":"27000+2000","v":29000},null,{"$f":"I55-J55-K55","v":23000},{"$nulls":5},2000,null,2000,2000,null,null,null,{"$f":"SUM(M55:X55)","v":6000},12,{"$f":"Z55*800","v":9600},{"$f":"L55+AA55-Y55","v":26600},800,null,{"$f":"AB55+AC55-AD55","v":27400},800,null,{"$f":"AE55+AF55-AG55","v":28200},800,null,{"$f":"AH55+AI55-AJ55","v":29000},800,null,{"$f":"AK55+AL55-AM55","v":29800}]
[{"$f":"VLOOKUP(B56,справочник!$B$2:$E$322,4,0)","v":25},{"$f":"CONCATENATE(C56;D56)","v":{"$error":"#VALUE!"}},25,"Вершинина Елена Анатольевна","50:03:0070280:854","2012-02-16","2012-02-01",{"$f":"INT(($H$325-G56)/30)","v":47},{"$f":"H56*1000","v":47000},{"$f":"33000+11000","v":44000},3000,{"$f":"I56-J56-K56","v":0},null,null,3000,null,3000,800,null,3000,null,3000,null,null,{"$f":"SUM(M56:X56)","v":12800},12,{"$f":"Z56*800","v":9600},{"$f":"L56+AA56-Y56","v":-3200},800,null,{"$f":"AB56+AC56-AD56","v":-2400},800,null,{"$f":"AE56+AF56-AG56","v":-1600},800,null,{"$f":"AH56+AI56-AJ56","v":-800},800,null,{"$f":"AK56+AL56-AM56","v":0}]
[{"$f":"VLOOKUP(B57,справочник!$B$2:$E$322,4,0)","v":138},{"$f":"CONCATENATE(C57;D57)","v":{"$error":"#VALUE!"}},146,"Виноградова Наталья Дмитриевна (Николай)","50:03:0070280:987","2011-08-29","2011-08-01",{"$f":"INT(($H$325-G57)/30)","v":53},{"$f":"H57*1000","v":53000},{"$f":"53000","v":53000},null,{"$f":"I57-J57-K57","v":0},null,3000,null,null,null,2900,{"$nulls":4},5000,null,{"$f":"SUM(M57:X57)","v":10900},12,{"$f":"Z57*800","v":9600},{"$f":"L57+AA57-Y57","v":-1300},800,null,{"$f":"AB57+AC57-AD57","v":-500},800,null,{"$f":"AE57+AF57-AG57","v":300},800,null,{"$f":"AH57+AI57-AJ57","v":1100},800,null,{"$f":"AK57+AL57-AM57","v":1900}]
[{"$f":"VLOOKUP(B58,справочник!$B$2:$E$322,4,0)","v":228},{"$f":"CONCATENATE(C58;D58)","v":{"$error":"#VALUE!"}},237,"Виртилецкий Денис Вячеславович","50:03:0070280:898","2014-03-05","2014-04-01",{"$f":"INT(($H$325-G58)/30)","v":21},{"$f":"H58*1000","v":21000},null,null,{"$f":"I58-J58-K58","v":21000},{"$nulls":6},25800,{"$nulls":5},{"$f":"SUM(M58:X58)","v":25800},12,{"$f":"Z58*800","v":9600},{"$f":"L58+AA58-Y58","v":4800},800,null,{"$f":"AB58+AC58-AD58","v":5600},800,null,{"$f":"AE58+AF58-AG58","v":6400},800,null,{"$f":"AH58+AI58-AJ58","v":7200},800,null,{"$f":"AK58+AL58-AM58","v":8000}]
[{"$f":"VLOOKUP(B59,справочник!$B$2:$E$322,4,0)","v":37},{"$f":"CONCATENATE(C59;D59)","v":{"$error":"#VALUE!"}},37,"Водянова Ольга Александровна","50:03:0070280:907","2011-09-09","2011-09-01",{"$f":"INT(($H$325-G59)/30)","v":52},{"$f":"H59*1000","v":52000},{"$f":"48000+4000","v":52000},null,{"$f":"I59-J59-K59","v":0},{"$nulls":6},5600,null,4000,null,null,null,{"$f":"SUM(M59:X59)","v":9600},12,{"$f":"Z59*800","v":9600},{"$f":"L59+AA59-Y59","v":0},800,9600,{"$f":"AB59+AC59-AD59","v":-8800},800,null,{"$f":"AE59+AF59-AG59","v":-8000},800,null,{"$f":"AH59+AI59-AJ59","v":-7200},800,null,{"$f":"AK59+AL59-AM59","v":-6400}]
[{"$f":"VLOOKUP(B60,справочник!$B$2:$E$322,4,0)","v":126},{"$f":"CONCATENATE(C60;D60)","v":{"$error":"#VALUE!"}},131,"Волгушев Дмитрий Геннадиевич","50:03:0070280:813","2012-10-01","2012-12-01",{"$f":"INT(($H$325-G60)/30)","v":37},{"$f":"H60*1000","v":37000},{"$f":"24000","v":24000},13000,{"$f":"I60-J60-K60","v":0},null,null,2400,{"$nulls":9},{"$f":"SUM(M60:X60)","v":2400},12,{"$f":"Z60*800","v":9600},{"$f":"L60+AA60-Y60","v":7200},800,null,{"$f":"AB60+AC60-AD60","v":8000},800,null,{"$f":"AE60+AF60-AG60","v":8800},800,8800,{"$f":"AH60+AI60-AJ60","v":800},800,null,{"$f":"AK60+AL60-AM60","v":1600}]
[{"$f":"VLOOKUP(B61,справочник!$B$2:$E$322,4,0)","v":58},{"$f":"CONCATENATE(C61;D61)","v":{"$error":"#VALUE!"}},60,"Володина Инна Александровна","50:03:0070280:961","2013-01-29","2013-02-01",{"$f":"INT(($H$325-G61)/30)","v":35},{"$f":"H61*1000","v":35000},{"$f":"31000","v":31000},null,{"$f":"I61-J61-K61","v":4000},null,null,2400,null,null,5600,{"$nulls":6},{"$f":"SUM(M61:X61)","v":8000},12,{"$f":"Z61*800","v":9600},{"$f":"L61+AA61-Y61","v":5600},800,8000,{"$f":"AB61+AC61-AD61","v":-1600},800,null,{"$f":"AE61+AF61-AG61","v":-800},800,null,{"$f":"AH61+AI61-AJ61","v":0},800,null,{"$f":"AK61+AL61-AM61","v":800}]
[{"$f":"VLOOKUP(B62,справочник!$B$2:$E$322,4,0)","v":117},{"$f":"CONCATENATE(C62;D62)","v":{"$error":"#VALUE!"}},122,"Вольский Андрей Юрьевич","50:03:0070280:1019","2013-05-13","2013-06-01",{"$f":"INT(($H$325-G62)/30)","v":31},{"$f":"H62*1000","v":31000},{"$f":"12000","v":12000},null,{"$f":"I62-J62-K62","v":19000},{"$nulls":12},{"$f":"SUM(M62:X62)","v":0},12,{"$f":"Z62*800","v":9600},{"$f":"L62+AA62-Y62","v":28600},800,null,{"$f":"AB62+AC62-AD62","v":29400},800,null,{"$f":"AE62+AF62-AG62","v":30200},800,null,{"$f":"AH62+AI62-AJ62","v":31000},800,null,{"$f":"AK62+AL62-AM62","v":31800}]
[{"$f":"VLOOKUP(B63,справочник!$B$2:$E$322,4,0)","v":61},{"$f":"CONCATENATE(C63;D63)","v":{"$error":"#VALUE!"}},63,"Высоких Антон Маркович","50:03:0070280:932","2012-01-13","2012-01-01",{"$f":"INT(($H$325-G63)/30)","v":48},{"$f":"H63*1000","v":48000},{"$f":"27000","v":27000},null,{"$f":"I63-J63-K63","v":21000},{"$nulls":12},{"$f":"SUM(M63:X63)","v":0},12,{"$f":"Z63*800","v":9600},{"$f":"L63+AA63-Y63","v":30600},800,null,{"$f":"AB63+AC63-AD63","v":31400},800,null,{"$f":"AE63+AF63-AG63","v":32200},800,null,{"$f":"AH63+AI63-AJ63","v":33000},800,null,{"$f":"AK63+AL63-AM63","v":33800}]
[{"$f":"VLOOKUP(B64,справочник!$B$2:$E$322,4,0)","v":294},{"$f":"CONCATENATE(C64;D64)","v":{"$error":"#VALUE!"}},309,"Гайкова (Дьякова) Мария Викторовна","50:03:0070280:1000","2012-02-14","2012-02-01",{"$f":"INT(($H$325-G64)/30)","v":47},{"$f":"H64*1000","v":47000},47000,null,{"$f":"I64-J64-K64","v":0},9600,{"$nulls":11},{"$f":"SUM(M64:X64)","v":9600},12,{"$f":"Z64*800","v":9600},{"$f":"L64+AA64-Y64","v":0},800,null,{"$f":"AB64+AC64-AD64","v":800},800,9600,{"$f":"AE64+AF64-AG64","v":-8000},800,null,{"$f":"AH64+AI64-AJ64","v":-7200},800,null,{"$f":"AK64+AL64-AM64","v":-6400}]
[{"$f":"VLOOKUP(B65,справочник!$B$2:$E$322,4,0)","v":286},{"$f":"CONCATENATE(C65;D65)","v":{"$error":"#VALUE!"}},298,"Ганин Александр Борисович","50:03:0070280:781","2014-06-01","2014-06-01",{"$f":"INT(($H$325-G65)/30)","v":19},{"$f":"H65*1000","v":19000},19000,null,{"$f":"I65-J65-K65","v":0},null,8000,null,null,null,4000,3000,{"$nulls":4},6000,{"$f":"SUM(M65:X65)","v":21000},12,{"$f":"Z65*800","v":9600},{"$f":"L65+AA65-Y65","v":-11400},800,null,{"$f":"AB65+AC65-AD65","v":-10600},800,null,{"$f":"AE65+AF65-AG65","v":-9800},800,null,{"$f":"AH65+AI65-AJ65","v":-9000},800,null,{"$f":"AK65+AL65-AM65","v":-8200}]
[{"$f":"VLOOKUP(B66,справочник!$B$2:$E$322,4,0)","v":64},{"$f":"CONCATENATE(C66;D66)","v":{"$error":"#VALUE!"}},66,"Горбунов Владимир Александрович","50:03:0070280:935","2011-08-17","2011-08-01",{"$f":"INT(($H$325-G66)/30)","v":53},{"$f":"H66*1000","v":53000},{"$f":"1000+45000","v":46000},null,{"$f":"I66-J66-K66","v":7000},3000,null,1600,null,null,1600,4000,null,800,800,800,{"$f":"800+800","v":1600},{"$f":"SUM(M66:X66)","v":14200},12,{"$f":"Z66*800","v":9600},{"$f":"L66+AA66-Y66","v":2400},800,800,{"$f":"AB66+AC66-AD66","v":2400},800,800,{"$f":"AE66+AF66-AG66","v":2400},800,null,{"$f":"AH66+AI66-AJ66","v":3200},800,null,{"$f":"AK66+AL66-AM66","v":4000}]
[{"$f":"VLOOKUP(B67,справочник!$B$2:$E$322,4,0)","v":94},{"$f":"CONCATENATE(C67;D67)","v":{"$error":"#VALUE!"}},99,"Горбунов Максим Николаевич","50:03:0070280:860","2011-08-19","2011-08-01",{"$f":"INT(($H$325-G67)/30)","v":53},{"$f":"H67*1000","v":53000},{"$f":"42000+5000","v":47000},null,{"$f":"I67-J67-K67","v":6000},{"$nulls":12},{"$f":"SUM(M67:X67)","v":0},12,{"$f":"Z67*800","v":9600},{"$f":"L67+AA67-Y67","v":15600},800,null,{"$f":"AB67+AC67-AD67","v":16400},800,null,{"$f":"AE67+AF67-AG67","v":17200},800,null,{"$f":"AH67+AI67-AJ67","v":18000},800,null,{"$f":"AK67+AL67-AM67","v":18800}]
[{"$f":"VLOOKUP(B68,справочник!$B$2:$E$322,4,0)","v":39},{"$f":"CONCATENATE(C68;D68)","v":{"$error":"#VALUE!"}},39,"Гордейчик Игорь Борисович","50:03:0070280:909","2011-06-04","2011-06-01",{"$f":"INT(($H$325-G68)/30)","v":55},{"$f":"H68*1000","v":55000},{"$f":"1000+42000","v":43000},null,{"$f":"I68-J68-K68","v":12000},{"$nulls":8},9600,null,null,null,{"$f":"SUM(M68:X68)","v":9600},12,{"$f":"Z68*800","v":9600},{"$f":"L68+AA68-Y68","v":12000},800,null,{"$f":"AB68+AC68-AD68","v":12800},800,null,{"$f":"AE68+AF68-AG68","v":13600},800,null,{"$f":"AH68+AI68-AJ68","v":14400},800,null,{"$f":"AK68+AL68-AM68","v":15200}]
[{"$f":"VLOOKUP(B69,справочник!$B$2:$E$322,4,0)","v":276},{"$f":"CONCATENATE(C69;D69)","v":{"$error":"#VALUE!"}},289,"Горянов Михаил Андреевич","50:03:0070280:780","2011-12-13","2011-12-01",{"$f":"INT(($H$325-G69)/30)","v":49},{"$f":"H69*1000","v":49000},{"$f":"1000+36000","v":37000},null,{"$f":"I69-J69-K69","v":12000},{"$nulls":5},21600,{"$nulls":6},{"$f":"SUM(M69:X69)","v":21600},12,{"$f":"Z69*800","v":9600},{"$f":"L69+AA69-Y69","v":0},800,null,{"$f":"AB69+AC69-AD69","v":800},800,null,{"$f":"AE69+AF69-AG69","v":1600},800,null,{"$f":"AH69+AI69-AJ69","v":2400},800,null,{"$f":"AK69+AL69-AM69","v":3200}]
[{"$f":"VLOOKUP(B70,справочник!$B$2:$E$322,4,0)","v":148},{"$f":"CONCATENATE(C70;D70)","v":{"$error":"#VALUE!"}},156,"Горячев Дмитрий Николаевич","50:03:0070280:957","2012-04-09","2012-04-01",{"$f":"INT(($H$325-G70)/30)","v":45},{"$f":"H70*1000","v":45000},{"$f":"12000","v":12000},null,{"$f":"I70-J70-K70","v":33000},null,1800,1800,1800,{"$nulls":8},{"$f":"SUM(M70:X70)","v":5400},12,{"$f":"Z70*800","v":9600},{"$f":"L70+AA70-Y70","v":37200},800,null,{"$f":"AB70+AC70-AD70","v":38000},800,null,{"$f":"AE70+AF70-AG70","v":38800},800,null,{"$f":"AH70+AI70-AJ70","v":39600},800,null,{"$f":"AK70+AL70-AM70","v":40400}]
[{"$f":"VLOOKUP(B71,справочник!$B$2:$E$322,4,0)","v":308},{"$f":"CONCATENATE(C71;D71)","v":{"$error":"#VALUE!"}},323,"Губарева Татьяна Григорьевна","50:03:0070280:1017","2015-01-21","2015-02-01",{"$f":"INT(($H$325-G71)/30)","v":11},{"$f":"H71*1000","v":11000},3000,null,{"$f":"I71-J71-K71","v":8000},{"$nulls":6},4800,{"$nulls":5},{"$f":"SUM(M71:X71)","v":4800},12,{"$f":"Z71*800","v":9600},{"$f":"L71+AA71-Y71","v":12800},800,null,{"$f":"AB71+AC71-AD71","v":13600},800,null,{"$f":"AE71+AF71-AG71","v":14400},800,15000,{"$f":"AH71+AI71-AJ71","v":200},800,null,{"$f":"AK71+AL71-AM71","v":1000}]
[{"$f":"VLOOKUP(B72,справочник!$B$2:$E$322,4,0)","v":318},{"$f":"CONCATENATE(C72;D72)","v":{"$error":"#VALUE!"}},"71-72","Гусева Светлана Григорьевна","50:03:0070280:753","2011-05-31","2011-07-01",{"$f":"INT(($H$325-G72)/30)","v":54},{"$f":"H72*1000*2","v":108000},{"$f":"2000+102000","v":104000},4000,{"$f":"I72-J72-K72","v":0},null,4800,null,4800,null,null,4800,null,null,4800,null,null,{"$f":"SUM(M72:X72)","v":19200},12,{"$f":"Z72*800","v":9600},{"$f":"L72+AA72-Y72","v":-9600},800,4800,{"$f":"AB72+AC72-AD72","v":-13600},800,null,{"$f":"AE72+AF72-AG72","v":-12800},800,null,{"$f":"AH72+AI72-AJ72","v":-12000},800,4800,{"$f":"AK72+AL72-AM72","v":-16000}]
[{"$f":"VLOOKUP(B73,справочник!$B$2:$E$322,4,0)","v":236},{"$f":"CONCATENATE(C73;D73)","v":{"$error":"#VALUE!"}},245,"Давыдова Анна Сергеевна","50:03:0070280:875","2012-02-06","2012-02-01",{"$f":"INT(($H$325-G73)/30)","v":47},{"$f":"H73*1000","v":47000},{"$f":"18000+11000","v":29000},null,{"$f":"I73-J73-K73","v":18000},{"$nulls":4},25000,{"$nulls":4},2600,null,null,{"$f":"SUM(M73:X73)","v":27600},12,{"$f":"Z73*800","v":9600},{"$f":"L73+AA73-Y73","v":0},800,null,{"$f":"AB73+AC73-AD73","v":800},800,null,{"$f":"AE73+AF73-AG73","v":1600},800,null,{"$f":"AH73+AI73-AJ73","v":2400},800,4800,{"$f":"AK73+AL73-AM73","v":-1600}]
[{"$f":"VLOOKUP(B74,справочник!$B$2:$E$322,4,0)","v":226},{"$f":"CONCATENATE(C74;D74)","v":{"$error":"#VALUE!"}},235,"Данильянц Юрий Константинович","50:03:0070280:900","2014-04-10","2014-05-01",{"$f":"INT(($H$325-G74)/30)","v":20},{"$f":"H74*1000","v":20000},null,null,{"$f":"I74-J74-K74","v":20000},{"$nulls":8},4000,null,null,null,{"$f":"SUM(M74:X74)","v":4000},12,{"$f":"Z74*800","v":9600},{"$f":"L74+AA74-Y74","v":25600},800,null,{"$f":"AB74+AC74-AD74","v":26400},800,2400,{"$f":"AE74+AF74-AG74","v":24800},800,2000,{"$f":"AH74+AI74-AJ74","v":23600},800,5000,{"$f":"AK74+AL74-AM74","v":19400}]
[{"$f":"VLOOKUP(B75,справочник!$B$2:$E$322,4,0)","v":285},{"$f":"CONCATENATE(C75;D75)","v":{"$error":"#VALUE!"}},297,"Даточный Алексей Валерьевич","50:03:0070280:782",null,null,null,19000,19000,null,{"$f":"I75-J75-K75","v":0},null,8000,null,null,null,4000,{"$nulls":5},6000,{"$f":"SUM(M75:X75)","v":18000},12,{"$f":"Z75*800","v":9600},{"$f":"L75+AA75-Y75","v":-8400},800,null,{"$f":"AB75+AC75-AD75","v":-7600},800,null,{"$f":"AE75+AF75-AG75","v":-6800},800,null,{"$f":"AH75+AI75-AJ75","v":-6000},800,null,{"$f":"AK75+AL75-AM75","v":-5200}]
[{"$f":"VLOOKUP(B76,справочник!$B$2:$E$322,4,0)","v":24},{"$f":"CONCATENATE(C76;D76)","v":{"$error":"#VALUE!"}},24,"Двойрина Юлия Владимировна","50:03:0070280:746","2012-08-20","2012-09-01",{"$f":"INT(($H$325-G76)/30)","v":40},{"$f":"H76*1000","v":40000},30000,null,{"$f":"I76-J76-K76","v":10000},{"$nulls":12},{"$f":"SUM(M76:X76)","v":0},12,{"$f":"Z76*800","v":9600},{"$f":"L76+AA76-Y76","v":19600},800,null,{"$f":"AB76+AC76-AD76","v":20400},800,null,{"$f":"AE76+AF76-AG76","v":21200},800,null,{"$f":"AH76+AI76-AJ76","v":22000},800,null,{"$f":"AK76+AL76-AM76","v":22800}]
[{"$f":"VLOOKUP(B77,справочник!$B$2:$E$322,4,0)","v":50},{"$f":"CONCATENATE(C77;D77)","v":{"$error":"#VALUE!"}},50,"Денисов Дмитрий Алексеевич","50:03:0070280:969","2011-09-07","2011-09-01",{"$f":"INT(($H$325-G77)/30)","v":52},{"$f":"H77*1000","v":52000},{"$f":"1000+41000","v":42000},null,{"$f":"I77-J77-K77","v":10000},null,null,12000,null,null,null,3200,{"$nulls":5},{"$f":"SUM(M77:X77)","v":15200},12,{"$f":"Z77*800","v":9600},{"$f":"L77+AA77-Y77","v":4400},800,null,{"$f":"AB77+AC77-AD77","v":5200},800,null,{"$f":"AE77+AF77-AG77","v":6000},800,null,{"$f":"AH77+AI77-AJ77","v":6800},800,null,{"$f":"AK77+AL77-AM77","v":7600}]
[{"$f":"VLOOKUP(B78,['file://SERVER/clipart_old/ALEX_DIS_1/Doks/Участок/ПРАВЛЕНИЕ_2017/членские взносы  апрель2017 (1).xlsx']справочник!$B$2:$E$322,4,0)","v":122},{"$f":"CONCATENATE(C78;D78)","v":"127Денисов Сергей Александрович"},127,"Денисов Сергей Александрович","50:03:0070280:807","2012-01-30","2012-02-01",{"$f":"INT(($H$325-G78)/30)","v":47},{"$f":"H78*1000","v":47000},{"$f":"37000+5000","v":42000},5000,{"$f":"I78-J78-K78","v":0},null,2000,null,2000,{"$nulls":4},3200,null,null,2400,{"$f":"SUM(M78:X78)","v":9600},12,{"$f":"Z78*800","v":9600},{"$f":"L78+AA78-Y78","v":0},800,null,{"$f":"AB78+AC78-AD78","v":800},800,1600,{"$f":"AE78+AF78-AG78","v":0},800,null,{"$f":"AH78+AI78-AJ78","v":800},800,null,{"$f":"AK78+AL78-AM78","v":1600}]
[{"$f":"VLOOKUP(B79,справочник!$B$2:$E$322,4,0)","v":301},{"$f":"CONCATENATE(C79;D79)","v":{"$error":"#VALUE!"}},316,"Десюкова Марина Александровна","50:03:0070280:1007","2014-11-26","2014-12-01",{"$f":"INT(($H$325-G79)/30)","v":13},{"$f":"H79*1000","v":13000},1000,null,{"$f":"I79-J79-K79","v":12000},{"$nulls":12},{"$f":"SUM(M79:X79)","v":0},12,{"$f":"Z79*800","v":9600},{"$f":"L79+AA79-Y79","v":21600},800,null,{"$f":"AB79+AC79-AD79","v":22400},800,null,{"$f":"AE79+AF79-AG79","v":23200},800,null,{"$f":"AH79+AI79-AJ79","v":24000},800,25000,{"$f":"AK79+AL79-AM79","v":-200}]
[{"$f":"VLOOKUP(B80,справочник!$B$2:$E$322,4,0)","v":18},{"$f":"CONCATENATE(C80;D80)","v":{"$error":"#VALUE!"}},18,"Дидушко Денис Васильевич (Василий)","50:03:0070280:822","2013-06-04","2013-08-01",{"$f":"INT(($H$325-G80)/30)","v":29},{"$f":"H80*1000","v":29000},29000,null,{"$f":"I80-J80-K80","v":0},{"$nulls":12},{"$f":"SUM(M80:X80)","v":0},12,{"$f":"Z80*800","v":9600},{"$f":"L80+AA80-Y80","v":9600},800,null,{"$f":"AB80+AC80-AD80","v":10400},800,null,{"$f":"AE80+AF80-AG80","v":11200},800,null,{"$f":"AH80+AI80-AJ80","v":12000},800,14400,{"$f":"AK80+AL80-AM80","v":-1600}]
[{"$f":"VLOOKUP(B81,справочник!$B$2:$E$322,4,0)","v":155},{"$f":"CONCATENATE(C81;D81)","v":{"$error":"#VALUE!"}},163,"Дорошенко Владимир Алексеевич","50:03:0070280:985","2013-08-05","2013-09-01",{"$f":"INT(($H$325-G81)/30)","v":28},{"$f":"H81*1000","v":28000},28000,2000,{"$f":"I81-J81-K81","v":-2000},null,600,1600,null,1600,null,1600,null,null,1600,1600,null,{"$f":"SUM(M81:X81)","v":8600},12,{"$f":"Z81*800","v":9600},{"$f":"L81+AA81-Y81","v":-1000},800,1600,{"$f":"AB81+AC81-AD81","v":-1800},800,null,{"$f":"AE81+AF81-AG81","v":-1000},800,null,{"$f":"AH81+AI81-AJ81","v":-200},800,null,{"$f":"AK81+AL81-AM81","v":600}]
[{"$f":"VLOOKUP(B82,справочник!$B$2:$E$322,4,0)","v":44},{"$f":"CONCATENATE(C82;D82)","v":{"$error":"#VALUE!"}},44,"Дубов Александр Сергеевич","50:03:0070280:802","2012-07-10","2012-07-01",{"$f":"INT(($H$325-G82)/30)","v":42},{"$f":"H82*1000","v":42000},{"$f":"21000+6000","v":27000},13000,{"$f":"I82-J82-K82","v":2000},{"$nulls":12},{"$f":"SUM(M82:X82)","v":0},12,{"$f":"Z82*800","v":9600},{"$f":"L82+AA82-Y82","v":11600},800,null,{"$f":"AB82+AC82-AD82","v":12400},800,null,{"$f":"AE82+AF82-AG82","v":13200},800,7200,{"$f":"AH82+AI82-AJ82","v":6800},800,null,{"$f":"AK82+AL82-AM82","v":7600}]
[{"$f":"VLOOKUP(B83,справочник!$B$2:$E$322,4,0)","v":132},{"$f":"CONCATENATE(C83;D83)","v":{"$error":"#VALUE!"}},139,"Евглевская Ольга Борисовна","50:03:0070280:975","2011-05-27","2011-06-01",{"$f":"INT(($H$325-G83)/30)","v":55},{"$f":"H83*1000","v":55000},{"$f":"41000+1000","v":42000},null,{"$f":"I83-J83-K83","v":13000},{"$nulls":12},{"$f":"SUM(M83:X83)","v":0},12,{"$f":"Z83*800","v":9600},{"$f":"L83+AA83-Y83","v":22600},800,null,{"$f":"AB83+AC83-AD83","v":23400},800,null,{"$f":"AE83+AF83-AG83","v":24200},800,null,{"$f":"AH83+AI83-AJ83","v":25000},800,null,{"$f":"AK83+AL83-AM83","v":25800}]
[{"$f":"VLOOKUP(B84,справочник!$B$2:$E$322,4,0)","v":159},{"$f":"CONCATENATE(C84;D84)","v":{"$error":"#VALUE!"}},167,"Евсеев Александр Сергеевич","50:03:0070280:925","2012-05-15","2012-05-01",{"$f":"INT(($H$325-G84)/30)","v":44},{"$f":"H84*1000","v":44000},{"$f":"32000","v":32000},null,{"$f":"I84-J84-K84","v":12000},null,12000,{"$nulls":4},5600,{"$nulls":4},4000,{"$f":"SUM(M84:X84)","v":21600},12,{"$f":"Z84*800","v":9600},{"$f":"L84+AA84-Y84","v":0},800,null,{"$f":"AB84+AC84-AD84","v":800},800,null,{"$f":"AE84+AF84-AG84","v":1600},800,null,{"$f":"AH84+AI84-AJ84","v":2400},800,null,{"$f":"AK84+AL84-AM84","v":3200}]
[{"$f":"VLOOKUP(B85,справочник!$B$2:$E$322,4,0)","v":181},{"$f":"CONCATENATE(C85;D85)","v":{"$error":"#VALUE!"}},189,"Елисеев Сергей Вячеславович","50:03:0070280:760","2014-04-05","2014-05-01",{"$f":"INT(($H$325-G85)/30)","v":20},{"$f":"H85*1000","v":20000},17000,null,{"$f":"I85-J85-K85","v":3000},{"$nulls":4},7000,{"$nulls":7},{"$f":"SUM(M85:X85)","v":7000},12,{"$f":"Z85*800","v":9600},{"$f":"L85+AA85-Y85","v":5600},800,null,{"$f":"AB85+AC85-AD85","v":6400},800,null,{"$f":"AE85+AF85-AG85","v":7200},800,null,{"$f":"AH85+AI85-AJ85","v":8000},800,null,{"$f":"AK85+AL85-AM85","v":8800}]
[{"$f":"VLOOKUP(B86,справочник!$B$2:$E$322,4,0)","v":284},{"$f":"CONCATENATE(C86;D86)","v":{"$error":"#VALUE!"}},296,"Епанчинцева Людмила Филипповна","50:03:0070280:783","2013-10-02","2013-11-01",{"$f":"INT(($H$325-G86)/30)","v":26},{"$f":"H86*1000","v":26000},{"$f":"12000","v":12000},5000,{"$f":"I86-J86-K86","v":9000},null,null,6000,null,null,null,2400,null,null,3200,null,null,{"$f":"SUM(M86:X86)","v":11600},12,{"$f":"Z86*800","v":9600},{"$f":"L86+AA86-Y86","v":7000},800,null,{"$f":"AB86+AC86-AD86","v":7800},800,null,{"$f":"AE86+AF86-AG86","v":8600},800,null,{"$f":"AH86+AI86-AJ86","v":9400},800,5000,{"$f":"AK86+AL86-AM86","v":5200}]
[{"$f":"VLOOKUP(B87,справочник!$B$2:$E$322,4,0)","v":264},{"$f":"CONCATENATE(C87;D87)","v":{"$error":"#VALUE!"}},277,"Еременко Виктор Александрович (Валентина)","50:03:0070280:726","2012-07-03","2012-07-01",{"$f":"INT(($H$325-G87)/30)","v":42},{"$f":"H87*1000","v":42000},{"$f":"38000","v":38000},null,{"$f":"I87-J87-K87","v":4000},4000,null,2000,null,null,null,6000,{"$nulls":5},{"$f":"SUM(M87:X87)","v":12000},12,{"$f":"Z87*800","v":9600},{"$f":"L87+AA87-Y87","v":1600},800,null,{"$f":"AB87+AC87-AD87","v":2400},800,2400,{"$f":"AE87+AF87-AG87","v":800},800,2400,{"$f":"AH87+AI87-AJ87","v":-800},800,null,{"$f":"AK87+AL87-AM87","v":0}]
[{"$f":"VLOOKUP(B88,справочник!$B$2:$E$322,4,0)","v":32},{"$f":"CONCATENATE(C88;D88)","v":{"$error":"#VALUE!"}},32,"Ермакова Татьяна Викторовна","50:03:0070280:902","2011-06-01","2011-06-01",{"$f":"INT(($H$325-G88)/30)","v":55},{"$f":"H88*1000","v":55000},{"$f":"7000+48000","v":55000},null,{"$f":"I88-J88-K88","v":0},2400,{"$nulls":4},2400,4800,{"$nulls":5},{"$f":"SUM(M88:X88)","v":9600},12,{"$f":"Z88*800","v":9600},{"$f":"L88+AA88-Y88","v":0},800,null,{"$f":"AB88+AC88-AD88","v":800},800,null,{"$f":"AE88+AF88-AG88","v":1600},800,2400,{"$f":"AH88+AI88-AJ88","v":0},800,null,{"$f":"AK88+AL88-AM88","v":800}]
[{"$f":"VLOOKUP(B89,справочник!$B$2:$E$322,4,0)","v":49},{"$f":"CONCATENATE(C89;D89)","v":{"$error":"#VALUE!"}},49,"Ермолаева Виктория Александровна","50:03:0070280:968","2011-07-05","2011-08-01",{"$f":"INT(($H$325-G89)/30)","v":53},{"$f":"H89*1000","v":53000},{"$f":"42000","v":42000},null,{"$f":"I89-J89-K89","v":11000},{"$nulls":4},4800,10200,{"$nulls":5},4800,{"$f":"SUM(M89:X89)","v":19800},12,{"$f":"Z89*800","v":9600},{"$f":"L89+AA89-Y89","v":800},800,null,{"$f":"AB89+AC89-AD89","v":1600},800,2400,{"$f":"AE89+AF89-AG89","v":0},800,null,{"$f":"AH89+AI89-AJ89","v":800},800,{"$f":"2000+400","v":2400},{"$f":"AK89+AL89-AM89","v":-800}]
[{"$f":"VLOOKUP(B90,справочник!$B$2:$E$322,4,0)","v":234},{"$f":"CONCATENATE(C90;D90)","v":{"$error":"#VALUE!"}},243,"Ермошина Татьяна Евгеньевна (Владимир)","50:03:0070280:1428","2012-12-05","2013-04-01",3,{"$f":"H90*1000","v":3000},null,3000,{"$f":"I90-J90-K90","v":0},null,4800,{"$nulls":5},2500,2300,null,null,null,{"$f":"SUM(M90:X90)","v":9600},12,{"$f":"Z90*800","v":9600},{"$f":"L90+AA90-Y90","v":0},800,null,{"$f":"AB90+AC90-AD90","v":800},800,null,{"$f":"AE90+AF90-AG90","v":1600},800,3200,{"$f":"AH90+AI90-AJ90","v":-800},800,null,{"$f":"AK90+AL90-AM90","v":0}]
[{"$f":"VLOOKUP(B91,справочник!$B$2:$E$322,4,0)","v":234},{"$f":"CONCATENATE(C91;D91)","v":{"$error":"#VALUE!"}},244,"Ермошина Татьяна Евгеньевна (Владимир)",null,"2012-12-05","2013-04-01",3,{"$f":"H91*1000","v":3000},null,3000,{"$f":"I91-J91-K91","v":0},{"$nulls":12},{"$f":"SUM(M91:X91)","v":0},0,{"$f":"Z91*800","v":0},{"$f":"L91+AA91-Y91","v":0},0,null,{"$f":"AB91+AC91-AD91","v":0},0,null,{"$f":"AE91+AF91-AG91","v":0},0,null,{"$f":"AH91+AI91-AJ91","v":0},0,null,{"$f":"AK91+AL91-AM91","v":0}]
[{"$f":"VLOOKUP(B92,справочник!$B$2:$E$322,4,0)","v":234},{"$f":"CONCATENATE(C92;D92)","v":{"$error":"#VALUE!"}},"243-244","Ермошина Татьяна Евгеньевна (Владимир)",null,"2013-07-01","2013-07-01",{"$f":"INT(($H$325-G92)/30)","v":30},{"$f":"H92*1000","v":30000},null,30000,{"$f":"I92-J92-K92","v":0},{"$nulls":12},{"$f":"SUM(M92:X92)","v":0},0,{"$f":"Z92*800","v":0},{"$f":"L92+AA92-Y92","v":0},0,null,{"$f":"AB92+AC92-AD92","v":0},0,null,{"$f":"AE92+AF92-AG92","v":0},0,null,{"$f":"AH92+AI92-AJ92","v":0},0,null,{"$f":"AK92+AL92-AM92","v":0}]
[{"$f":"VLOOKUP(B93,справочник!$B$2:$E$322,4,0)","v":254},{"$f":"CONCATENATE(C93;D93)","v":{"$error":"#VALUE!"}},267,"Ершова Виктория Львовна","50:03:0070280:736","2012-02-14","2012-02-01",{"$f":"INT(($H$325-G93)/30)","v":47},{"$f":"H93*1000","v":47000},{"$f":"39000+5000","v":44000},null,{"$f":"I93-J93-K93","v":3000},{"$nulls":12},{"$f":"SUM(M93:X93)","v":0},12,{"$f":"Z93*800","v":9600},{"$f":"L93+AA93-Y93","v":12600},800,null,{"$f":"AB93+AC93-AD93","v":13400},800,null,{"$f":"AE93+AF93-AG93","v":14200},800,null,{"$f":"AH93+AI93-AJ93","v":15000},800,null,{"$f":"AK93+AL93-AM93","v":15800}]
[{"$f":"VLOOKUP(B94,справочник!$B$2:$E$322,4,0)","v":230},{"$f":"CONCATENATE(C94;D94)","v":{"$error":"#VALUE!"}},239,"Жарикова Светлана Юрьевна","50:03:0070280:896","2013-11-12","2013-11-01",{"$f":"INT(($H$325-G94)/30)","v":26},{"$f":"H94*1000","v":26000},26000,null,{"$f":"I94-J94-K94","v":0},{"$nulls":12},{"$f":"SUM(M94:X94)","v":0},0,{"$f":"Z94*800","v":0},{"$f":"L94+AA94-Y94","v":0},0,null,{"$f":"AB94+AC94-AD94","v":0},0,null,{"$f":"AE94+AF94-AG94","v":0},0,null,{"$f":"AH94+AI94-AJ94","v":0},0,null,{"$f":"AK94+AL94-AM94","v":0}]
[{"$f":"VLOOKUP(B95,справочник!$B$2:$E$322,4,0)","v":230},{"$f":"CONCATENATE(C95;D95)","v":{"$error":"#VALUE!"}},257,"Жарикова Светлана Юрьевна","50:03:0070280:788","2014-08-31","2014-11-01",{"$f":"INT(($H$325-G95)/30)","v":14},{"$f":"H95*1000","v":14000},0,4000,{"$f":"I95-J95-K95","v":10000},null,{"$f":"11900+200","v":12100},null,null,3500,null,null,2700,{"$nulls":4},{"$f":"SUM(M95:X95)","v":18300},12,{"$f":"Z95*800","v":9600},{"$f":"L95+AA95-Y95","v":1300},800,null,{"$f":"AB95+AC95-AD95","v":2100},800,null,{"$f":"AE95+AF95-AG95","v":2900},800,2100,{"$f":"AH95+AI95-AJ95","v":1600},800,null,{"$f":"AK95+AL95-AM95","v":2400}]
[{"$f":"VLOOKUP(B96,справочник!$B$2:$E$322,4,0)","v":4},{"$f":"CONCATENATE(C96;D96)","v":{"$error":"#VALUE!"}},4,"Жигунов Юрий Александрович","50:03:0070280:693","2013-06-11","2013-07-01",{"$f":"INT(($H$325-G96)/30)","v":30},{"$f":"H96*1000","v":30000},27000,null,{"$f":"I96-J96-K96","v":3000},{"$nulls":4},5000,{"$nulls":7},{"$f":"SUM(M96:X96)","v":5000},12,{"$f":"Z96*800","v":9600},{"$f":"L96+AA96-Y96","v":7600},800,null,{"$f":"AB96+AC96-AD96","v":8400},800,null,{"$f":"AE96+AF96-AG96","v":9200},800,null,{"$f":"AH96+AI96-AJ96","v":10000},800,null,{"$f":"AK96+AL96-AM96","v":10800}]
[{"$f":"VLOOKUP(B97,справочник!$B$2:$E$322,4,0)","v":213},{"$f":"CONCATENATE(C97;D97)","v":{"$error":"#VALUE!"}},222,"Жирная Татьяна Сергеевна","50:03:0070280:841","2014-05-07","2014-06-01",{"$f":"INT(($H$325-G97)/30)","v":19},{"$f":"H97*1000","v":19000},500,null,{"$f":"I97-J97-K97","v":18500},{"$nulls":12},{"$f":"SUM(M97:X97)","v":0},12,{"$f":"Z97*800","v":9600},{"$f":"L97+AA97-Y97","v":28100},800,null,{"$f":"AB97+AC97-AD97","v":28900},800,null,{"$f":"AE97+AF97-AG97","v":29700},800,null,{"$f":"AH97+AI97-AJ97","v":30500},800,null,{"$f":"AK97+AL97-AM97","v":31300}]
[{"$f":"VLOOKUP(B98,справочник!$B$2:$E$322,4,0)","v":127},{"$f":"CONCATENATE(C98;D98)","v":{"$error":"#VALUE!"}},132,"Жохова Елена Сергеевна","50:03:0070280:981","2011-06-07","2011-06-01",{"$f":"INT(($H$325-G98)/30)","v":55},{"$f":"H98*1000","v":55000},{"$f":"36000+7000","v":43000},null,0,null,1600,{"$nulls":5},2400,{"$nulls":4},{"$f":"SUM(M98:X98)","v":4000},12,{"$f":"Z98*800","v":9600},{"$f":"L98+AA98-Y98","v":5600},800,null,{"$f":"AB98+AC98-AD98","v":6400},800,null,{"$f":"AE98+AF98-AG98","v":7200},800,null,{"$f":"AH98+AI98-AJ98","v":8000},800,null,{"$f":"AK98+AL98-AM98","v":8800}]
[{"$f":"VLOOKUP(B99,справочник!$B$2:$E$322,4,0)","v":66},{"$f":"CONCATENATE(C99;D99)","v":{"$error":"#VALUE!"}},68,"Заборская Светлана Анатольевна (Андрей)","50:03:0070280:937","2012-07-10","2012-07-01",{"$f":"INT(($H$325-G99)/30)","v":42},{"$f":"H99*1000","v":42000},39780,null,{"$f":"I99-J99-K99","v":2220},{"$nulls":10},8000,null,{"$f":"SUM(M99:X99)","v":8000},12,{"$f":"Z99*800","v":9600},{"$f":"L99+AA99-Y99","v":3820},800,null,{"$f":"AB99+AC99-AD99","v":4620},800,null,{"$f":"AE99+AF99-AG99","v":5420},800,1600,{"$f":"AH99+AI99-AJ99","v":4620},800,null,{"$f":"AK99+AL99-AM99","v":5420}]
[{"$f":"VLOOKUP(B100,справочник!$B$2:$E$322,4,0)","v":36},{"$f":"CONCATENATE(C100;D100)","v":{"$error":"#VALUE!"}},36,"Закревская Марина Владимировна","50:03:0070280:906","2011-07-12","2011-08-01",{"$f":"INT(($H$325-G100)/30)","v":53},{"$f":"H100*1000","v":53000},{"$f":"42000+1000","v":43000},null,{"$f":"I100-J100-K100","v":10000},{"$nulls":7},4000,null,null,null,2800,{"$f":"SUM(M100:X100)","v":6800},12,{"$f":"Z100*800","v":9600},{"$f":"L100+AA100-Y100","v":12800},800,null,{"$f":"AB100+AC100-AD100","v":13600},800,null,{"$f":"AE100+AF100-AG100","v":14400},800,null,{"$f":"AH100+AI100-AJ100","v":15200},800,null,{"$f":"AK100+AL100-AM100","v":16000}]
[{"$f":"VLOOKUP(B101,справочник!$B$2:$E$322,4,0)","v":38},{"$f":"CONCATENATE(C101;D101)","v":{"$error":"#VALUE!"}},255,"Заручинский Вячеслав Владимирович","50:03:0070280:790","2011-08-15","2011-09-01",{"$f":"INT(($H$325-G101)/30)","v":52},{"$f":"H101*1000","v":52000},{"$f":"5000+18000+29000","v":52000},null,{"$f":"I101-J101-K101","v":0},{"$nulls":5},1600,800,1600,2161.78,null,800,800,{"$f":"SUM(M101:X101)","v":7761.78},12,{"$f":"Z101*800","v":9600},{"$f":"L101+AA101-Y101","v":1838.22},800,800,{"$f":"SUM(AB101:AB102)+SUM(AC101:AC102)-SUM(AD101:AD102)","v":7000},800,{"$f":"500+800","v":1300},{"$f":"SUM(AE101:AE102)+SUM(AF101:AF102)-SUM(AG101:AG102)","v":6500},800,null,{"$f":"SUM(AH101:AH102)+SUM(AI101:AI102)-SUM(AJ101:AJ102)","v":7300},800,null,{"$f":"SUM(AK101:AK102)+SUM(AL101:AL102)-SUM(AM101:AM102)","v":7100}]
[{"$f":"VLOOKUP(B102,справочник!$B$2:$E$322,4,0)","v":38},{"$f":"CONCATENATE(C102;D102)","v":{"$error":"#VALUE!"}},38,"Заручинский Вячеслав Владимирович","50:03:0070280:908","2012-07-10","2012-07-01",{"$f":"INT(($H$325-G102)/30)","v":42},{"$f":"H102*1000","v":42000},35000,null,{"$f":"I102-J102-K102","v":7000},{"$nulls":9},1138.22,null,700,{"$f":"SUM(M102:X102)","v":1838.22},0,{"$f":"Z102*800","v":0},{"$f":"L102+AA102-Y102","v":5161.78},0,null,null,0,null,null,0,null,null,0,1000]
[{"$f":"VLOOKUP(B103,справочник!$B$2:$E$322,4,0)","v":12},{"$f":"CONCATENATE(C103;D103)","v":{"$error":"#VALUE!"}},12,"Захаренкова Светлана Евгеньевна","50:03:0070280:703","2013-05-20","2013-06-01",{"$f":"INT(($H$325-G103)/30)","v":31},{"$f":"H103*1000","v":31000},5000,null,{"$f":"I103-J103-K103","v":26000},{"$nulls":7},4000,{"$nulls":4},{"$f":"SUM(M103:X103)","v":4000},12,{"$f":"Z103*800","v":9600},{"$f":"L103+AA103-Y103","v":31600},800,null,{"$f":"AB103+AC103-AD103","v":32400},800,null,{"$f":"AE103+AF103-AG103","v":33200},800,null,{"$f":"AH103+AI103-AJ103","v":34000},800,null,{"$f":"AK103+AL103-AM103","v":34800}]
[{"$f":"VLOOKUP(B104,справочник!$B$2:$E$322,4,0)","v":63},{"$f":"CONCATENATE(C104;D104)","v":{"$error":"#VALUE!"}},65,"Захаров Михаил Сергеевич","50:03:0070280:934","2013-08-27","2013-09-01",0,{"$f":"H104*1000","v":0},0,null,{"$f":"I104-J104-K104","v":0},{"$nulls":5},800,{"$nulls":5},800,{"$f":"SUM(M104:X104)","v":1600},1,{"$f":"Z104*800","v":800},{"$f":"L104+AA104-Y104","v":-800},800,null,{"$f":"AB104+AC104-AD104","v":0},800,null,{"$f":"AE104+AF104-AG104","v":800},800,4800,{"$f":"AH104+AI104-AJ104","v":-3200},800,null,{"$f":"AK104+AL104-AM104","v":-2400}]
[{"$f":"VLOOKUP(B105,справочник!$B$2:$E$322,4,0)","v":16},{"$f":"CONCATENATE(C105;D105)","v":{"$error":"#VALUE!"}},16,"Захарова Людмила Захаровна","50:03:0070280:697","2012-12-11","2013-01-01",{"$f":"INT(($H$325-G105)/30)","v":36},{"$f":"H105*1000","v":36000},36000,null,{"$f":"I105-J105-K105","v":0},{"$nulls":5},12000,{"$nulls":6},{"$f":"SUM(M105:X105)","v":12000},12,{"$f":"Z105*800","v":9600},{"$f":"L105+AA105-Y105","v":-2400},800,null,{"$f":"AB105+AC105-AD105","v":-1600},800,null,{"$f":"AE105+AF105-AG105","v":-800},800,null,{"$f":"AH105+AI105-AJ105","v":0},800,null,{"$f":"AK105+AL105-AM105","v":800}]
[{"$f":"VLOOKUP(B106,справочник!$B$2:$E$322,4,0)","v":121},{"$f":"CONCATENATE(C106;D106)","v":{"$error":"#VALUE!"}},126,"Зиннатов Рафаэль Шакурович","50:03:0070280:1026","2012-10-08","2012-11-01",{"$f":"INT(($H$325-G106)/30)","v":38},{"$f":"H106*1000","v":38000},32000,null,{"$f":"I106-J106-K106","v":6000},3000,null,null,3200,null,null,null,3200,null,4000,null,null,{"$f":"SUM(M106:X106)","v":13400},12,{"$f":"Z106*800","v":9600},{"$f":"L106+AA106-Y106","v":2200},800,null,{"$f":"AB106+AC106-AD106","v":3000},800,null,{"$f":"AE106+AF106-AG106","v":3800},800,null,{"$f":"AH106+AI106-AJ106","v":4600},800,null,{"$f":"AK106+AL106-AM106","v":5400}]
[{"$f":"VLOOKUP(B107,справочник!$B$2:$E$322,4,0)","v":156},{"$f":"CONCATENATE(C107;D107)","v":{"$error":"#VALUE!"}},164,"Иваненко Петр Олегович","50:03:0070280:928","2013-04-30","2013-06-01",{"$f":"INT(($H$325-G107)/30)","v":31},{"$f":"H107*1000","v":31000},28000,null,{"$f":"I107-J107-K107","v":3000},null,5000,1000,1000,1000,1000,1000,1000,1000,1000,1000,1000,{"$f":"SUM(M107:X107)","v":15000},12,{"$f":"Z107*800","v":9600},{"$f":"L107+AA107-Y107","v":-2400},800,1000,{"$f":"AB107+AC107-AD107","v":-2600},800,1000,{"$f":"AE107+AF107-AG107","v":-2800},800,1000,{"$f":"AH107+AI107-AJ107","v":-3000},800,1000,{"$f":"AK107+AL107-AM107","v":-3200}]
[{"$f":"VLOOKUP(B108,справочник!$B$2:$E$322,4,0)","v":5},{"$f":"CONCATENATE(C108;D108)","v":{"$error":"#VALUE!"}},5,"Иванов Владимир Николаевич","50:03:0070280:709","2012-06-11","2012-06-01",{"$f":"INT(($H$325-G108)/30)","v":43},{"$f":"H108*1000","v":43000},{"$f":"32000","v":32000},null,{"$f":"I108-J108-K108","v":11000},{"$nulls":12},{"$f":"SUM(M108:X108)","v":0},12,{"$f":"Z108*800","v":9600},{"$f":"L108+AA108-Y108","v":20600},800,null,{"$f":"AB108+AC108-AD108","v":21400},800,null,{"$f":"AE108+AF108-AG108","v":22200},800,null,{"$f":"AH108+AI108-AJ108","v":23000},800,4000,{"$f":"AK108+AL108-AM108","v":19800}]
[{"$f":"VLOOKUP(B109,справочник!$B$2:$E$322,4,0)","v":214},{"$f":"CONCATENATE(C109;D109)","v":{"$error":"#VALUE!"}},223,"Иванов Денис Сильвестрович","50:03:0070280:840","2014-06-17","2014-06-01",{"$f":"INT(($H$325-G109)/30)","v":19},{"$f":"H109*1000","v":19000},19000,null,{"$f":"I109-J109-K109","v":0},null,3000,null,null,null,2000,null,null,2200,null,800,1600,{"$f":"SUM(M109:X109)","v":9600},12,{"$f":"Z109*800","v":9600},{"$f":"L109+AA109-Y109","v":0},800,1600,{"$f":"AB109+AC109-AD109","v":-800},800,null,{"$f":"AE109+AF109-AG109","v":0},800,null,{"$f":"AH109+AI109-AJ109","v":800},800,1600,{"$f":"AK109+AL109-AM109","v":0}]
[{"$f":"VLOOKUP(B110,справочник!$B$2:$E$322,4,0)","v":279},{"$f":"CONCATENATE(C110;D110)","v":{"$error":"#VALUE!"}},291,"Иванова Светлана Сергеевна","50:03:0070280:778","2011-12-13","2011-12-01",{"$f":"INT(($H$325-G110)/30)","v":49},{"$f":"H110*1000","v":49000},{"$f":"42000+1000","v":43000},null,{"$f":"I110-J110-K110","v":6000},{"$nulls":12},{"$f":"SUM(M110:X110)","v":0},12,{"$f":"Z110*800","v":9600},{"$f":"L110+AA110-Y110","v":15600},800,null,{"$f":"AB110+AC110-AD110","v":16400},800,null,{"$f":"AE110+AF110-AG110","v":17200},800,null,{"$f":"AH110+AI110-AJ110","v":18000},800,null,{"$f":"AK110+AL110-AM110","v":18800}]
[{"$f":"VLOOKUP(B111,справочник!$B$2:$E$322,4,0)","v":197},{"$f":"CONCATENATE(C111;D111)","v":{"$error":"#VALUE!"}},205,"Иванова Татьяна Викторовна","50:03:0070280:911","2011-11-15","2011-11-01",{"$f":"INT(($H$325-G111)/30)","v":50},{"$f":"H111*1000","v":50000},16000,null,{"$f":"I111-J111-K111","v":34000},{"$nulls":6},6600,{"$nulls":5},{"$f":"SUM(M111:X111)","v":6600},12,{"$f":"Z111*800","v":9600},{"$f":"L111+AA111-Y111","v":37000},800,null,{"$f":"AB111+AC111-AD111","v":37800},800,null,{"$f":"AE111+AF111-AG111","v":38600},800,null,{"$f":"AH111+AI111-AJ111","v":39400},800,8000,{"$f":"AK111+AL111-AM111","v":32200}]
[{"$f":"VLOOKUP(B112,справочник!$B$2:$E$322,4,0)","v":295},{"$f":"CONCATENATE(C112;D112)","v":{"$error":"#VALUE!"}},310,"Измайлов Михаил Михайлович","50:03:0070280:1001","2014-12-21","2015-01-01",{"$f":"INT(($H$325-G112)/30)","v":12},{"$f":"H112*1000","v":12000},null,null,{"$f":"I112-J112-K112","v":12000},{"$nulls":7},18150,{"$nulls":4},{"$f":"SUM(M112:X112)","v":18150},12,{"$f":"Z112*800","v":9600},{"$f":"L112+AA112-Y112","v":3450},800,null,{"$f":"AB112+AC112-AD112","v":4250},800,null,{"$f":"AE112+AF112-AG112","v":5050},800,5000,{"$f":"AH112+AI112-AJ112","v":850},800,null,{"$f":"AK112+AL112-AM112","v":1650}]
[{"$f":"VLOOKUP(B113,справочник!$B$2:$E$322,4,0)","v":196},{"$f":"CONCATENATE(C113;D113)","v":{"$error":"#VALUE!"}},204,"Казарин Сергей Викторович","50:03:0070280:912","2012-02-06","2012-03-01",{"$f":"INT(($H$325-G113)/30)","v":46},{"$f":"H113*1000","v":46000},{"$f":"46000","v":46000},null,{"$f":"I113-J113-K113","v":0},null,null,4800,{"$nulls":4},2400,null,null,2400,null,{"$f":"SUM(M113:X113)","v":9600},12,{"$f":"Z113*800","v":9600},{"$f":"L113+AA113-Y113","v":0},800,null,{"$f":"AB113+AC113-AD113","v":800},800,3200,{"$f":"AE113+AF113-AG113","v":-1600},800,null,{"$f":"AH113+AI113-AJ113","v":-800},800,null,{"$f":"AK113+AL113-AM113","v":0}]
[{"$f":"VLOOKUP(B114,справочник!$B$2:$E$322,4,0)","v":124},{"$f":"CONCATENATE(C114;D114)","v":{"$error":"#VALUE!"}},129,"Казымов Горхмаз Гамид/Лавренчук Александр Владиславович","50:03:0070280:811","2013-11-02","2013-12-01",{"$f":"INT(($H$325-G114)/30)","v":25},{"$f":"H114*1000","v":25000},{"$f":"5000+1500+5000","v":11500},null,{"$f":"I114-J114-K114","v":13500},{"$nulls":12},{"$f":"SUM(M114:X114)","v":0},12,{"$f":"Z114*800","v":9600},{"$f":"L114+AA114-Y114","v":23100},800,null,{"$f":"AB114+AC114-AD114","v":23900},800,null,{"$f":"AE114+AF114-AG114","v":24700},800,null,{"$f":"AH114+AI114-AJ114","v":25500},800,null,{"$f":"AK114+AL114-AM114","v":26300}]
[{"$f":"VLOOKUP(B115,справочник!$B$2:$E$322,4,0)","v":250},{"$f":"CONCATENATE(C115;D115)","v":{"$error":"#VALUE!"}},261,"Каляникова Наталья Сергеевна","50:03:0070280:742","2013-08-12","2013-09-01",{"$f":"INT(($H$325-G115)/30)","v":28},{"$f":"H115*1000","v":28000},13000,1000,{"$f":"I115-J115-K115","v":14000},null,null,1000,1000,1000,null,1000,null,2500,1000,2000,null,{"$f":"SUM(M115:X115)","v":9500},12,{"$f":"Z115*800","v":9600},{"$f":"L115+AA115-Y115","v":14100},800,2000,{"$f":"AB115+AC115-AD115","v":12900},800,null,{"$f":"AE115+AF115-AG115","v":13700},800,null,{"$f":"AH115+AI115-AJ115","v":14500},800,2000,{"$f":"AK115+AL115-AM115","v":13300}]
[{"$f":"VLOOKUP(B116,справочник!$B$2:$E$322,4,0)","v":153},{"$f":"CONCATENATE(C116;D116)","v":{"$error":"#VALUE!"}},161,"Канышкина Юлия Юрьевна","50:03:0070280:756","2012-03-26","2012-04-01",{"$f":"INT(($H$325-G116)/30)","v":45},{"$f":"H116*1000","v":45000},41000,null,{"$f":"I116-J116-K116","v":4000},null,null,null,7200,null,null,1600,null,null,null,4000,null,{"$f":"SUM(M116:X116)","v":12800},12,{"$f":"Z116*800","v":9600},{"$f":"L116+AA116-Y116","v":800},800,null,{"$f":"AB116+AC116-AD116","v":1600},800,null,{"$f":"AE116+AF116-AG116","v":2400},800,null,{"$f":"AH116+AI116-AJ116","v":3200},800,2400,{"$f":"AK116+AL116-AM116","v":1600}]
[{"$f":"VLOOKUP(B117,справочник!$B$2:$E$322,4,0)","v":106},{"$f":"CONCATENATE(C117;D117)","v":{"$error":"#VALUE!"}},111,"Карпекина Лилия Рафаэльевна","50:03:0070280:817","2013-07-08","2013-01-08",{"$f":"INT(($H$325-G117)/30)","v":36},{"$f":"H117*1000","v":36000},1000,null,{"$f":"I117-J117-K117","v":35000},{"$nulls":12},{"$f":"SUM(M117:X117)","v":0},12,{"$f":"Z117*800","v":9600},{"$f":"L117+AA117-Y117","v":44600},800,null,{"$f":"AB117+AC117-AD117","v":45400},800,null,{"$f":"AE117+AF117-AG117","v":46200},800,5000,{"$f":"AH117+AI117-AJ117","v":42000},800,null,{"$f":"AK117+AL117-AM117","v":42800}]
[{"$f":"VLOOKUP(B118,справочник!$B$2:$E$322,4,0)","v":222},{"$f":"CONCATENATE(C118;D118)","v":{"$error":"#VALUE!"}},231,"Карпова Елена Витальевна","50:03:0070280:832","2013-06-04","2013-07-01",{"$f":"INT(($H$325-G118)/30)","v":30},{"$f":"H118*1000","v":30000},25000,5000,{"$f":"I118-J118-K118","v":0},null,3200,null,null,4000,{"$nulls":4},2400,null,null,{"$f":"SUM(M118:X118)","v":9600},12,{"$f":"Z118*800","v":9600},{"$f":"L118+AA118-Y118","v":0},800,null,{"$f":"AB118+AC118-AD118","v":800},800,null,{"$f":"AE118+AF118-AG118","v":1600},800,null,{"$f":"AH118+AI118-AJ118","v":2400},800,null,{"$f":"AK118+AL118-AM118","v":3200}]
[{"$f":"VLOOKUP(B119,справочник!$B$2:$E$322,4,0)","v":208},{"$f":"CONCATENATE(C119;D119)","v":{"$error":"#VALUE!"}},218,"Катушкин Роман Юрьевич","50:03:0070280:1422","2012-05-23","2012-06-01",{"$f":"INT(($H$325-G119)/30)","v":43},{"$f":"H119*1000","v":43000},{"$f":"40500","v":40500},null,{"$f":"I119-J119-K119","v":2500},{"$nulls":7},3600,{"$nulls":4},{"$f":"SUM(M119:X119)","v":3600},12,{"$f":"Z119*800","v":9600},{"$f":"L119+AA119-Y119","v":8500},800,3000,{"$f":"AB119+AC119-AD119","v":6300},800,null,{"$f":"AE119+AF119-AG119","v":7100},800,null,{"$f":"AH119+AI119-AJ119","v":7900},800,null,{"$f":"AK119+AL119-AM119","v":8700}]
[{"$f":"VLOOKUP(B120,справочник!$B$2:$E$322,4,0)","v":207},{"$f":"CONCATENATE(C120;D120)","v":{"$error":"#VALUE!"}},217,"Катушкин Роман Юрьевич//Валеев Артур Рашидович",{"$nulls":4},{"$f":"H120*1000","v":0},null,null,{"$f":"I120-J120-K120","v":0},{"$nulls":12},{"$f":"SUM(M120:X120)","v":0},12,{"$f":"Z120*800","v":9600},{"$f":"L120+AA120-Y120","v":9600},800,null,{"$f":"AB120+AC120-AD120","v":10400},800,null,{"$f":"AE120+AF120-AG120","v":11200},800,null,{"$f":"AH120+AI120-AJ120","v":12000},800,null,{"$f":"AK120+AL120-AM120","v":12800}]
[{"$f":"VLOOKUP(B121,справочник!$B$2:$E$322,4,0)","v":231},{"$f":"CONCATENATE(C121;D121)","v":{"$error":"#VALUE!"}},240,"Кашичкин Александр Борисович","50:03:0070280:895","2013-03-24","2013-04-01",{"$f":"INT(($H$325-G121)/30)","v":33},{"$f":"H121*1000","v":33000},28000,null,{"$f":"I121-J121-K121","v":5000},null,5000,null,1000,{"$nulls":8},{"$f":"SUM(M121:X121)","v":6000},12,{"$f":"Z121*800","v":9600},{"$f":"L121+AA121-Y121","v":8600},800,null,{"$f":"AB121+AC121-AD121","v":9400},800,null,{"$f":"AE121+AF121-AG121","v":10200},800,null,{"$f":"AH121+AI121-AJ121","v":11000},800,null,{"$f":"AK121+AL121-AM121","v":11800}]
[{"$f":"VLOOKUP(B122,справочник!$B$2:$E$322,4,0)","v":76},{"$f":"CONCATENATE(C122;D122)","v":{"$error":"#VALUE!"}},82,"Киеня Валентина Александровна (Анатолий)","50:03:0070280:751","2011-05-19","2011-06-01",{"$f":"INT(($H$325-G122)/30)","v":55},{"$f":"H122*1000","v":55000},54000,3000,{"$f":"I122-J122-K122","v":-2000},null,2400,null,2400,null,null,null,2400,null,null,2400,null,{"$f":"SUM(M122:X122)","v":9600},12,{"$f":"Z122*800","v":9600},{"$f":"L122+AA122-Y122","v":-2000},800,null,{"$f":"AB122+AC122-AD122","v":-1200},800,null,{"$f":"AE122+AF122-AG122","v":-400},800,400,{"$f":"AH122+AI122-AJ122","v":0},800,null,{"$f":"AK122+AL122-AM122","v":800}]
[{"$f":"VLOOKUP(B123,справочник!$B$2:$E$322,4,0)","v":82},{"$f":"CONCATENATE(C123;D123)","v":{"$error":"#VALUE!"}},87,"Кикоть Наталья Петровна (Андрей)","50:03:0070280:863","2012-08-27","2012-09-01",{"$f":"INT(($H$325-G123)/30)","v":40},{"$f":"H123*1000","v":40000},35000,null,{"$f":"I123-J123-K123","v":5000},3000,null,3000,{"$nulls":6},2000,null,null,{"$f":"SUM(M123:X123)","v":8000},12,{"$f":"Z123*800","v":9600},{"$f":"L123+AA123-Y123","v":6600},800,null,{"$f":"AB123+AC123-AD123","v":7400},800,null,{"$f":"AE123+AF123-AG123","v":8200},800,3200,{"$f":"AH123+AI123-AJ123","v":5800},800,2000,{"$f":"AK123+AL123-AM123","v":4600}]
[{"$f":"VLOOKUP(B124,справочник!$B$2:$E$322,4,0)","v":8},{"$f":"CONCATENATE(C124;D124)","v":{"$error":"#VALUE!"}},8,"Кириенко Раиса Федоровна","50:03:0070280:692","2014-04-12","2014-05-01",{"$f":"INT(($H$325-G124)/30)","v":20},{"$f":"H124*1000","v":20000},18000,null,{"$f":"I124-J124-K124","v":2000},{"$nulls":5},4000,null,null,null,7600,null,null,{"$f":"SUM(M124:X124)","v":11600},12,{"$f":"Z124*800","v":9600},{"$f":"L124+AA124-Y124","v":0},800,null,{"$f":"AB124+AC124-AD124","v":800},800,null,{"$f":"AE124+AF124-AG124","v":1600},800,4000,{"$f":"AH124+AI124-AJ124","v":-1600},800,null,{"$f":"AK124+AL124-AM124","v":-800}]
[{"$f":"VLOOKUP(B125,справочник!$B$2:$E$322,4,0)","v":149},{"$f":"CONCATENATE(C125;D125)","v":{"$error":"#VALUE!"}},157,"Кириллов Вадим Александрович","50:03:0070280:958","2011-10-04","2011-10-01",{"$f":"INT(($H$325-G125)/30)","v":51},{"$f":"H125*1000","v":51000},{"$f":"1000","v":1000},1000,{"$f":"I125-J125-K125","v":49000},null,null,1000,null,1000,{"$nulls":7},{"$f":"SUM(M125:X125)","v":2000},12,{"$f":"Z125*800","v":9600},{"$f":"L125+AA125-Y125","v":56600},800,3000,{"$f":"AB125+AC125-AD125","v":54400},800,3000,{"$f":"AE125+AF125-AG125","v":52200},800,null,{"$f":"AH125+AI125-AJ125","v":53000},800,3000,{"$f":"AK125+AL125-AM125","v":50800}]
[{"$f":"VLOOKUP(B126,справочник!$B$2:$E$322,4,0)","v":30},{"$f":"CONCATENATE(C126;D126)","v":{"$error":"#VALUE!"}},30,"Кириллов Дмитрий Александрович","50:03:0070280:859","2011-12-29","2012-01-01",{"$f":"INT(($H$325-G126)/30)","v":48},{"$f":"H126*1000","v":48000},{"$f":"1000","v":1000},null,{"$f":"I126-J126-K126","v":47000},{"$nulls":12},{"$f":"SUM(M126:X126)","v":0},12,{"$f":"Z126*800","v":9600},{"$f":"L126+AA126-Y126","v":56600},800,1000,{"$f":"AB126+AC126-AD126","v":56400},800,3000,{"$f":"AE126+AF126-AG126","v":54200},800,2000,{"$f":"AH126+AI126-AJ126","v":53000},800,null,{"$f":"AK126+AL126-AM126","v":53800}]
[{"$f":"VLOOKUP(B127,справочник!$B$2:$E$322,4,0)","v":269},{"$f":"CONCATENATE(C127;D127)","v":{"$error":"#VALUE!"}},282,"Коваленко Ирина Леонидовна","50:03:0070280:718","2012-12-11","2013-01-01",{"$f":"INT(($H$325-G127)/30)","v":36},{"$f":"H127*1000","v":36000},18000,null,{"$f":"I127-J127-K127","v":18000},{"$nulls":10},12000,null,{"$f":"SUM(M127:X127)","v":12000},12,{"$f":"Z127*800","v":9600},{"$f":"L127+AA127-Y127","v":15600},800,null,{"$f":"AB127+AC127-AD127","v":16400},800,null,{"$f":"AE127+AF127-AG127","v":17200},800,null,{"$f":"AH127+AI127-AJ127","v":18000},800,null,{"$f":"AK127+AL127-AM127","v":18800}]
[{"$f":"VLOOKUP(B128,справочник!$B$2:$E$322,4,0)","v":271},{"$f":"CONCATENATE(C128;D128)","v":{"$error":"#VALUE!"}},284,"Кожемякин Сергей Владимирович","50:03:0070280:716","2015-02-09","2015-04-01",{"$f":"INT(($H$325-G128)/30)","v":9},{"$f":"H128*1000","v":9000},4000,5000,{"$f":"I128-J128-K128","v":0},{"$nulls":5},5000,{"$nulls":5},3000,{"$f":"SUM(M128:X128)","v":8000},12,{"$f":"Z128*800","v":9600},{"$f":"L128+AA128-Y128","v":1600},800,null,{"$f":"AB128+AC128-AD128","v":2400},800,null,{"$f":"AE128+AF128-AG128","v":3200},800,null,{"$f":"AH128+AI128-AJ128","v":4000},800,null,{"$f":"AK128+AL128-AM128","v":4800}]
[{"$f":"VLOOKUP(B129,справочник!$B$2:$E$322,4,0)","v":265},{"$f":"CONCATENATE(C129;D129)","v":{"$error":"#VALUE!"}},278,"Козловский Алексей Гаврилович","50:03:0070280:725","2011-09-26","2011-09-01",{"$f":"INT(($H$325-G129)/30)","v":52},{"$f":"H129*1000","v":52000},{"$f":"2000+27000","v":29000},null,{"$f":"I129-J129-K129","v":23000},null,null,3000,null,null,null,3000,null,3000,null,3000,null,{"$f":"SUM(M129:X129)","v":12000},12,{"$f":"Z129*800","v":9600},{"$f":"L129+AA129-Y129","v":20600},800,null,{"$f":"AB129+AC129-AD129","v":21400},800,null,{"$f":"AE129+AF129-AG129","v":22200},800,null,{"$f":"AH129+AI129-AJ129","v":23000},800,null,{"$f":"AK129+AL129-AM129","v":23800}]
[{"$f":"VLOOKUP(B130,справочник!$B$2:$E$322,4,0)","v":173},{"$f":"CONCATENATE(C130;D130)","v":{"$error":"#VALUE!"}},181,"Колесников Никита Олегович(у Кряжковой Виктория Сергеевна","50:03:0070280:764","2011-09-07","2011-09-01",{"$f":"INT(($H$325-G130)/30)","v":52},{"$f":"H130*1000","v":52000},1000,null,{"$f":"I130-J130-K130","v":51000},{"$nulls":12},{"$f":"SUM(M130:X130)","v":0},12,{"$f":"Z130*800","v":9600},{"$f":"L130+AA130-Y130","v":60600},800,null,{"$f":"AB130+AC130-AD130","v":61400},800,null,{"$f":"AE130+AF130-AG130","v":62200},800,null,{"$f":"AH130+AI130-AJ130","v":63000},800,null,{"$f":"AK130+AL130-AM130","v":63800}]
[{"$f":"VLOOKUP(B131,справочник!$B$2:$E$322,4,0)","v":305},{"$f":"CONCATENATE(C131;D131)","v":{"$error":"#VALUE!"}},320,"Колесов Вадим Владимирович","50:03:0070280:1011","2014-10-17","2014-11-01",{"$f":"INT(($H$325-G131)/30)","v":14},{"$f":"H131*1000","v":14000},1000,null,{"$f":"I131-J131-K131","v":13000},{"$nulls":12},{"$f":"SUM(M131:X131)","v":0},12,{"$f":"Z131*800","v":9600},{"$f":"L131+AA131-Y131","v":22600},800,null,{"$f":"AB131+AC131-AD131","v":23400},800,null,{"$f":"AE131+AF131-AG131","v":24200},800,null,{"$f":"AH131+AI131-AJ131","v":25000},800,null,{"$f":"AK131+AL131-AM131","v":25800}]
[{"$f":"VLOOKUP(B132,справочник!$B$2:$E$322,4,0)","v":69},{"$f":"CONCATENATE(C132;D132)","v":{"$error":"#VALUE!"}},75,"Колташ Анна Владимировна","50:03:0070280:882","23.08.2011","2011-09-01",{"$f":"INT(($H$325-G132)/30)","v":52},{"$f":"H132*1000","v":52000},{"$f":"3000+10000","v":13000},null,{"$f":"I132-J132-K132","v":39000},{"$nulls":12},{"$f":"SUM(M132:X132)","v":0},12,{"$f":"Z132*800","v":9600},{"$f":"L132+AA132-Y132","v":48600},800,null,{"$f":"SUM(AB132:AB133)+SUM(AC132:AC133)-SUM(AD132:AD133)","v":49400},800,null,{"$f":"SUM(AE132:AE133)+SUM(AF132:AF133)-SUM(AG132:AG133)","v":50200},800,null,{"$f":"SUM(AH132:AH133)+SUM(AI132:AI133)-SUM(AJ132:AJ133)","v":51000},800,null,{"$f":"SUM(AK132:AK133)+SUM(AL132:AL133)-SUM(AM132:AM133)","v":51800}]
[{"$f":"VLOOKUP(B133,справочник!$B$2:$E$322,4,0)","v":69},{"$f":"CONCATENATE(C133;D133)","v":{"$error":"#VALUE!"}},76,"Колташ Анна Владимировна","50:03:0070280:804",null,null,null,{"$f":"H133*1000","v":0},{"$nulls":15},{"$f":"SUM(M133:X133)","v":0},null,{"$f":"Z133*800","v":0},{"$f":"L133+AA133-Y133","v":0},0,null,null,0,null,null,0,null,null,0]
[{"$f":"VLOOKUP(B134,справочник!$B$2:$E$322,4,0)","v":1},{"$f":"CONCATENATE(C134;D134)","v":{"$error":"#VALUE!"}},1,"Колыгина Нина Николаевна","50:03:0070280:711","2013-05-15","2013-10-01",{"$f":"INT(($H$325-G134)/30)","v":27},{"$f":"H134*1000","v":27000},24000,5600,{"$f":"I134-J134-K134","v":-2600},null,4200,{"$nulls":9},5600,{"$f":"SUM(M134:X134)","v":9800},12,{"$f":"Z134*800","v":9600},{"$f":"L134+AA134-Y134","v":-2800},800,null,{"$f":"AB134+AC134-AD134","v":-2000},800,null,{"$f":"AE134+AF134-AG134","v":-1200},800,null,{"$f":"AH134+AI134-AJ134","v":-400},800,null,{"$f":"AK134+AL134-AM134","v":400}]
[{"$f":"VLOOKUP(B135,справочник!$B$2:$E$322,4,0)","v":302},{"$f":"CONCATENATE(C135;D135)","v":{"$error":"#VALUE!"}},317,"Колышкина Александра Сергеевна","50:03:0070280:1008","2012-03-29","2012-04-01",{"$f":"INT(($H$325-G135)/30)","v":45},{"$f":"H135*1000","v":45000},32000,null,{"$f":"I135-J135-K135","v":13000},{"$nulls":12},{"$f":"SUM(M135:X135)","v":0},12,{"$f":"Z135*800","v":9600},{"$f":"L135+AA135-Y135","v":22600},800,null,{"$f":"AB135+AC135-AD135","v":23400},800,null,{"$f":"AE135+AF135-AG135","v":24200},800,null,{"$f":"AH135+AI135-AJ135","v":25000},800,null,{"$f":"AK135+AL135-AM135","v":25800}]
[{"$f":"VLOOKUP(B136,справочник!$B$2:$E$322,4,0)","v":123},{"$f":"CONCATENATE(C136;D136)","v":{"$error":"#VALUE!"}},128,"Кондратьева Юлия Викторовна","50:03:0070280:810","2012-02-21","2012-02-01",{"$f":"INT(($H$325-G136)/30)","v":47},{"$f":"H136*1000","v":47000},34000,null,{"$f":"I136-J136-K136","v":13000},{"$nulls":6},20000,{"$nulls":5},{"$f":"SUM(M136:X136)","v":20000},12,{"$f":"Z136*800","v":9600},{"$f":"L136+AA136-Y136","v":2600},800,5000,{"$f":"AB136+AC136-AD136","v":-1600},800,null,{"$f":"AE136+AF136-AG136","v":-800},800,null,{"$f":"AH136+AI136-AJ136","v":0},800,null,{"$f":"AK136+AL136-AM136","v":800}]
[{"$f":"VLOOKUP(B137,справочник!$B$2:$E$322,4,0)","v":163},{"$f":"CONCATENATE(C137;D137)","v":{"$error":"#VALUE!"}},171,"Кондратюк Наталья Петровна 1/2,  Соболев Олег Юрьевич 1/2",null,"2014-06-19","2014-07-01",{"$f":"INT(($H$325-G137)/30)","v":18},{"$f":"H137*1000","v":18000},{"$f":"5000+4000","v":9000},null,{"$f":"I137-J137-K137","v":9000},{"$nulls":7},6100,{"$nulls":4},{"$f":"SUM(M137:X137)","v":6100},12,{"$f":"Z137*800","v":9600},{"$f":"L137+AA137-Y137","v":12500},800,4000,{"$f":"AB137+AC137-AD137","v":9300},800,null,{"$f":"AE137+AF137-AG137","v":10100},800,null,{"$f":"AH137+AI137-AJ137","v":10900},800,null,{"$f":"AK137+AL137-AM137","v":11700}]
[{"$f":"VLOOKUP(B138,справочник!$B$2:$E$322,4,0)","v":110},{"$f":"CONCATENATE(C138;D138)","v":{"$error":"#VALUE!"}},115,"Кондрашов Роман Вячеславович","50:03:0070280:808","2012-07-11","2012-07-01",{"$f":"INT(($H$325-G138)/30)","v":42},{"$f":"H138*1000","v":42000},23000,null,{"$f":"I138-J138-K138","v":19000},{"$nulls":6},2400,3600,null,1600,null,{"$f":"4000+5000","v":9000},{"$f":"SUM(M138:X138)","v":16600},12,{"$f":"Z138*800","v":9600},{"$f":"L138+AA138-Y138","v":12000},800,1800,{"$f":"AB138+AC138-AD138","v":11000},800,null,{"$f":"AE138+AF138-AG138","v":11800},800,null,{"$f":"AH138+AI138-AJ138","v":12600},800,{"$f":"1000+2400","v":3400},{"$f":"AK138+AL138-AM138","v":10000}]
[{"$f":"VLOOKUP(B139,справочник!$B$2:$E$322,4,0)","v":112},{"$f":"CONCATENATE(C139;D139)","v":{"$error":"#VALUE!"}},117,"Кондрашов Сергей Вячеславович//Балыкин Александр Иванович",null,"2012-07-11","2012-07-01",{"$f":"INT(($H$325-G139)/30)","v":42},{"$f":"H139*1000","v":42000},{"$f":"25000","v":25000},null,{"$f":"I139-J139-K139","v":17000},null,4800,{"$nulls":4},4800,{"$nulls":4},4800,{"$f":"SUM(M139:X139)","v":14400},12,{"$f":"Z139*800","v":9600},{"$f":"L139+AA139-Y139","v":12200},800,null,{"$f":"AB139+AC139-AD139","v":13000},800,null,{"$f":"AE139+AF139-AG139","v":13800},800,null,{"$f":"AH139+AI139-AJ139","v":14600},800,null,{"$f":"AK139+AL139-AM139","v":15400}]
[{"$f":"VLOOKUP(B140,справочник!$B$2:$E$322,4,0)","v":190},{"$f":"CONCATENATE(C140;D140)","v":{"$error":"#VALUE!"}},198,"Коновальцев Олег Серафимович","50:03:0070280:984","2013-05-13","2013-06-01",{"$f":"INT(($H$325-G140)/30)","v":31},{"$f":"H140*1000","v":31000},15000,null,{"$f":"I140-J140-K140","v":16000},{"$nulls":5},800,{"$nulls":6},{"$f":"SUM(M140:X140)","v":800},12,{"$f":"Z140*800","v":9600},{"$f":"L140+AA140-Y140","v":24800},800,null,{"$f":"AB140+AC140-AD140","v":25600},800,null,{"$f":"AE140+AF140-AG140","v":26400},800,null,{"$f":"AH140+AI140-AJ140","v":27200},800,null,{"$f":"AK140+AL140-AM140","v":28000}]
[{"$f":"VLOOKUP(B141,справочник!$B$2:$E$322,4,0)","v":83},{"$f":"CONCATENATE(C141;D141)","v":{"$error":"#VALUE!"}},88,"Кононенко Алла Николаевна (Александр)","50:03:0070280:869","2011-05-12","2011-06-01",{"$f":"INT(($H$325-G141)/30)","v":55},{"$f":"H141*1000","v":55000},{"$f":"1000+49000","v":50000},null,{"$f":"I141-J141-K141","v":5000},2800,800,800,800,800,800,800,800,null,1600,800,800,{"$f":"SUM(M141:X141)","v":11600},12,{"$f":"Z141*800","v":9600},{"$f":"L141+AA141-Y141","v":3000},800,800,{"$f":"AB141+AC141-AD141","v":3000},800,null,{"$f":"AE141+AF141-AG141","v":3800},800,1600,{"$f":"AH141+AI141-AJ141","v":3000},800,{"$f":"3000+800","v":3800},{"$f":"AK141+AL141-AM141","v":0}]
[{"$f":"VLOOKUP(B142,справочник!$B$2:$E$322,4,0)","v":133},{"$f":"CONCATENATE(C142;D142)","v":{"$error":"#VALUE!"}},140,"Короткевич Наталья Владимировна","50:03:0070280:892","2012-04-09","2012-04-01",{"$f":"INT(($H$325-G142)/30)","v":45},{"$f":"H142*1000","v":45000},41000,4000,{"$f":"I142-J142-K142","v":0},null,1000,1000,1000,1000,1000,1000,1000,1000,1000,null,null,{"$f":"SUM(M142:X142)","v":9000},12,{"$f":"Z142*800","v":9600},{"$f":"L142+AA142-Y142","v":600},800,800,{"$f":"AB142+AC142-AD142","v":600},800,800,{"$f":"AE142+AF142-AG142","v":600},800,null,{"$f":"AH142+AI142-AJ142","v":1400},800,1400,{"$f":"AK142+AL142-AM142","v":800}]
[{"$f":"VLOOKUP(B143,справочник!$B$2:$E$322,4,0)","v":202},{"$f":"CONCATENATE(C143;D143)","v":{"$error":"#VALUE!"}},212,"Корчинская Ирина Анатольевна","50:03:0070280:851","2012-07-10","2012-07-01",{"$f":"INT(($H$325-G143)/30)","v":42},{"$f":"H143*1000","v":42000},18000,null,{"$f":"I143-J143-K143","v":24000},{"$nulls":12},{"$f":"SUM(M143:X143)","v":0},12,{"$f":"Z143*800","v":9600},{"$f":"L143+AA143-Y143","v":33600},800,null,{"$f":"AB143+AC143-AD143","v":34400},800,null,{"$f":"AE143+AF143-AG143","v":35200},800,null,{"$f":"AH143+AI143-AJ143","v":36000},800,null,{"$f":"AK143+AL143-AM143","v":36800}]
[{"$f":"VLOOKUP(B144,справочник!$B$2:$E$322,4,0)","v":192},{"$f":"CONCATENATE(C144;D144)","v":{"$error":"#VALUE!"}},200,"Косенков Степан Фед-ч(Галактионова)","50:03:0070280:887","2014-07-09","2014-08-01",{"$f":"INT(($H$325-G144)/30)","v":17},{"$f":"H144*1000","v":17000},null,null,{"$f":"I144-J144-K144","v":17000},{"$nulls":12},{"$f":"SUM(M144:X144)","v":0},12,{"$f":"Z144*800","v":9600},{"$f":"L144+AA144-Y144","v":26600},800,null,{"$f":"AB144+AC144-AD144","v":27400},800,null,{"$f":"AE144+AF144-AG144","v":28200},800,null,{"$f":"AH144+AI144-AJ144","v":29000},800,null,{"$f":"AK144+AL144-AM144","v":29800}]
[{"$f":"VLOOKUP(B145,справочник!$B$2:$E$322,4,0)","v":289},{"$f":"CONCATENATE(C145;D145)","v":{"$error":"#VALUE!"}},301,"Косенкова Елизавета Евгеньевна","50:03:0070280:772","2014-12-03","2015-01-01",{"$f":"INT(($H$325-G145)/30)","v":12},{"$f":"H145*1000","v":12000},3000,null,{"$f":"I145-J145-K145","v":9000},{"$nulls":9},10000,null,null,{"$f":"SUM(M145:X145)","v":10000},12,{"$f":"Z145*800","v":9600},{"$f":"L145+AA145-Y145","v":8600},800,null,{"$f":"AB145+AC145-AD145","v":9400},800,null,{"$f":"AE145+AF145-AG145","v":10200},800,5000,{"$f":"AH145+AI145-AJ145","v":6000},800,null,{"$f":"AK145+AL145-AM145","v":6800}]
[{"$f":"VLOOKUP(B146,справочник!$B$2:$E$322,4,0)","v":143},{"$f":"CONCATENATE(C146;D146)","v":{"$error":"#VALUE!"}},151,"Красникова Раиса Михайловна","50:03:0070280:952","2011-10-25","2011-11-01",{"$f":"INT(($H$325-G146)/30)","v":50},{"$f":"H146*1000","v":50000},37000,null,{"$f":"I146-J146-K146","v":13000},{"$nulls":5},4800,null,null,null,2900,null,2400,{"$f":"SUM(M146:X146)","v":10100},12,{"$f":"Z146*800","v":9600},{"$f":"L146+AA146-Y146","v":12500},800,null,{"$f":"AB146+AC146-AD146","v":13300},800,null,{"$f":"AE146+AF146-AG146","v":14100},800,2400,{"$f":"AH146+AI146-AJ146","v":12500},800,null,{"$f":"AK146+AL146-AM146","v":13300}]
[{"$f":"VLOOKUP(B147,справочник!$B$2:$E$322,4,0)","v":62},{"$f":"CONCATENATE(C147;D147)","v":{"$error":"#VALUE!"}},64,"Кривой Владимир Аркадьевич","50:03:0070280:933","2011-09-30","2011-10-01",{"$f":"INT(($H$325-G147)/30)","v":51},{"$f":"H147*1000","v":51000},{"$f":"1000+47000","v":48000},3000,{"$f":"I147-J147-K147","v":0},null,null,3200,{"$nulls":4},3200,null,null,null,3200,{"$f":"SUM(M147:X147)","v":9600},12,{"$f":"Z147*800","v":9600},{"$f":"L147+AA147-Y147","v":0},800,null,{"$f":"AB147+AC147-AD147","v":800},800,null,{"$f":"AE147+AF147-AG147","v":1600},800,null,{"$f":"AH147+AI147-AJ147","v":2400},800,4000,{"$f":"AK147+AL147-AM147","v":-800}]
[{"$f":"VLOOKUP(B148,справочник!$B$2:$E$322,4,0)","v":225},{"$f":"CONCATENATE(C148;D148)","v":{"$error":"#VALUE!"}},234,"Крупник Андрей Валерьевич","50:03:0070280:829","2014-08-20","2014-09-01",{"$f":"INT(($H$325-G148)/30)","v":16},{"$f":"H148*1000","v":16000},null,null,{"$f":"I148-J148-K148","v":16000},{"$nulls":6},16000,{"$nulls":5},{"$f":"SUM(M148:X148)","v":16000},12,{"$f":"Z148*800","v":9600},{"$f":"L148+AA148-Y148","v":9600},800,null,{"$f":"AB148+AC148-AD148","v":10400},800,null,{"$f":"AE148+AF148-AG148","v":11200},800,6400,{"$f":"AH148+AI148-AJ148","v":5600},800,null,{"$f":"AK148+AL148-AM148","v":6400}]
[{"$f":"VLOOKUP(B149,справочник!$B$2:$E$322,4,0)","v":266},{"$f":"CONCATENATE(C149;D149)","v":{"$error":"#VALUE!"}},279,"Кудревцев Евгений Александрович","50:03:0070280:724","2011-09-13","2011-09-01",{"$f":"INT(($H$325-G149)/30)","v":52},{"$f":"H149*1000","v":52000},{"$f":"40000+1000","v":41000},null,{"$f":"I149-J149-K149","v":11000},{"$nulls":10},18000,null,{"$f":"SUM(M149:X149)","v":18000},12,{"$f":"Z149*800","v":9600},{"$f":"L149+AA149-Y149","v":2600},800,null,{"$f":"AB149+AC149-AD149","v":3400},800,null,{"$f":"AE149+AF149-AG149","v":4200},800,null,{"$f":"AH149+AI149-AJ149","v":5000},800,5000,{"$f":"AK149+AL149-AM149","v":800}]
[{"$f":"VLOOKUP(B150,справочник!$B$2:$E$322,4,0)","v":157},{"$f":"CONCATENATE(C150;D150)","v":{"$error":"#VALUE!"}},165,"Кудрявцева Наталья Викторовна","50:03:0070280:927","2011-12-08","2011-12-01",{"$f":"INT(($H$325-G150)/30)","v":49},{"$f":"H150*1000","v":49000},{"$f":"12000+13000","v":25000},null,{"$f":"I150-J150-K150","v":24000},1000,{"$nulls":6},12000,12000,null,null,null,{"$f":"SUM(M150:X150)","v":25000},12,{"$f":"Z150*800","v":9600},{"$f":"L150+AA150-Y150","v":8600},800,null,{"$f":"AB150+AC150-AD150","v":9400},800,null,{"$f":"AE150+AF150-AG150","v":10200},800,null,{"$f":"AH150+AI150-AJ150","v":11000},800,null,{"$f":"AK150+AL150-AM150","v":11800}]
[{"$f":"VLOOKUP(B151,справочник!$B$2:$E$322,4,0)","v":194},{"$f":"CONCATENATE(C151;D151)","v":{"$error":"#VALUE!"}},202,"Куликов Александр Владимирович","50:03:0070280:886","2014-09-16","2014-10-01",{"$f":"INT(($H$325-G151)/30)","v":15},{"$f":"H151*1000","v":15000},11000,null,{"$f":"I151-J151-K151","v":4000},null,5000,{"$nulls":6},9600,null,null,null,{"$f":"SUM(M151:X151)","v":14600},12,{"$f":"Z151*800","v":9600},{"$f":"L151+AA151-Y151","v":-1000},800,null,{"$f":"AB151+AC151-AD151","v":-200},800,null,{"$f":"AE151+AF151-AG151","v":600},800,null,{"$f":"AH151+AI151-AJ151","v":1400},800,null,{"$f":"AK151+AL151-AM151","v":2200}]
[{"$f":"VLOOKUP(B152,справочник!$B$2:$E$322,4,0)","v":65},{"$f":"CONCATENATE(C152;D152)","v":{"$error":"#VALUE!"}},67,"Куликова Наталья Александровна","50:03:0070280:936","2011-11-25","2011-11-01",{"$f":"INT(($H$325-G152)/30)","v":50},{"$f":"H152*1000","v":50000},{"$f":"30000","v":30000},null,{"$f":"I152-J152-K152","v":20000},{"$nulls":12},{"$f":"SUM(M152:X152)","v":0},12,{"$f":"Z152*800","v":9600},{"$f":"L152+AA152-Y152","v":29600},800,null,{"$f":"AB152+AC152-AD152","v":30400},800,null,{"$f":"AE152+AF152-AG152","v":31200},800,null,{"$f":"AH152+AI152-AJ152","v":32000},800,null,{"$f":"AK152+AL152-AM152","v":32800}]
[{"$f":"VLOOKUP(B153,справочник!$B$2:$E$322,4,0)","v":216},{"$f":"CONCATENATE(C153;D153)","v":{"$error":"#VALUE!"}},225,"Кулиш Сергей Александрович","50:03:0070280:838","2014-05-14","2014-05-01",{"$f":"INT(($H$325-G153)/30)","v":20},{"$f":"H153*1000","v":20000},20000,null,{"$f":"I153-J153-K153","v":0},null,5200,{"$nulls":8},4400,null,{"$f":"SUM(M153:X153)","v":9600},12,{"$f":"Z153*800","v":9600},{"$f":"L153+AA153-Y153","v":0},0,null,{"$f":"SUM(AB153:AB154)+SUM(AC153:AC154)-SUM(AD153:AD154)","v":800},0,null,{"$f":"SUM(AE153:AE154)+SUM(AF153:AF154)-SUM(AG153:AG154)","v":1600},0,null,{"$f":"SUM(AH153:AH154)+SUM(AI153:AI154)-SUM(AJ153:AJ154)","v":2400},0,null,{"$f":"SUM(AK153:AK154)+SUM(AL153:AL154)-SUM(AM153:AM154)","v":-800}]
[{"$f":"VLOOKUP(B154,справочник!$B$2:$E$322,4,0)","v":216},{"$f":"CONCATENATE(C154;D154)","v":{"$error":"#VALUE!"}},226,"Кулиш Сергей Александрович","50:03:0070280:837","2014-05-14","2014-05-01",{"$f":"INT(($H$325-G154)/30)","v":20},{"$f":"H154*1000","v":20000},20000,null,{"$f":"I154-J154-K154","v":0},{"$nulls":12},{"$f":"SUM(M154:X154)","v":0},0,{"$f":"Z154*800","v":0},{"$f":"L154+AA154-Y154","v":0},800,null,null,800,null,null,800,null,null,800,4000]
[{"$f":"VLOOKUP(B155,справочник!$B$2:$E$322,4,0)","v":56},{"$f":"CONCATENATE(C155;D155)","v":{"$error":"#VALUE!"}},58,"Кушваха Виджай Шанкар","50:03:0070280:963","2011-06-21","2011-07-01",{"$f":"INT(($H$325-G155)/30)","v":54},{"$f":"H155*1000","v":54000},1000,null,{"$f":"I155-J155-K155","v":53000},{"$nulls":12},{"$f":"SUM(M155:X155)","v":0},12,{"$f":"Z155*800","v":9600},{"$f":"L155+AA155-Y155","v":62600},800,null,{"$f":"AB155+AC155-AD155","v":63400},800,null,{"$f":"AE155+AF155-AG155","v":64200},800,null,{"$f":"AH155+AI155-AJ155","v":65000},800,null,{"$f":"AK155+AL155-AM155","v":65800}]
[{"$f":"VLOOKUP(B156,справочник!$B$2:$E$322,4,0)","v":150},{"$f":"CONCATENATE(C156;D156)","v":{"$error":"#VALUE!"}},158,"Лайпанов Рустам Сеитбиевич","50:03:0070280:959","2011-08-15","2011-09-01",{"$f":"INT(($H$325-G156)/30)","v":52},{"$f":"H156*1000","v":52000},{"$f":"21000+1000","v":22000},null,{"$f":"I156-J156-K156","v":30000},{"$nulls":7},4800,6000,null,null,4800,{"$f":"SUM(M156:X156)","v":15600},12,{"$f":"Z156*800","v":9600},{"$f":"L156+AA156-Y156","v":24000},800,null,{"$f":"AB156+AC156-AD156","v":24800},800,null,{"$f":"AE156+AF156-AG156","v":25600},800,null,{"$f":"AH156+AI156-AJ156","v":26400},800,null,{"$f":"AK156+AL156-AM156","v":27200}]
[{"$f":"VLOOKUP(B157,справочник!$B$2:$E$322,4,0)","v":243},{"$f":"CONCATENATE(C157;D157)","v":{"$error":"#VALUE!"}},254,"Лапшин Сергей Николаевич","50:03:0070280:791","2011-09-05","2011-09-01",{"$f":"INT(($H$325-G157)/30)","v":52},{"$f":"H157*1000","v":52000},{"$f":"1000","v":1000},45000,{"$f":"I157-J157-K157","v":6000},5000,4800,null,null,null,4800,{"$nulls":6},{"$f":"SUM(M157:X157)","v":14600},12,{"$f":"Z157*800","v":9600},{"$f":"L157+AA157-Y157","v":1000},800,1600,{"$f":"AB157+AC157-AD157","v":200},800,null,{"$f":"AE157+AF157-AG157","v":1000},800,800,{"$f":"AH157+AI157-AJ157","v":1000},800,null,{"$f":"AK157+AL157-AM157","v":1800}]
[{"$f":"VLOOKUP(B158,справочник!$B$2:$E$322,4,0)","v":220},{"$f":"CONCATENATE(C158;D158)","v":{"$error":"#VALUE!"}},229,"Ларионова Наталья Владимировна","50:03:0070280:834","2014-06-10","2014-07-01",{"$f":"INT(($H$325-G158)/30)","v":18},{"$f":"H158*1000","v":18000},{"$f":"1000","v":1000},null,{"$f":"I158-J158-K158","v":17000},{"$nulls":12},{"$f":"SUM(M158:X158)","v":0},12,{"$f":"Z158*800","v":9600},{"$f":"L158+AA158-Y158","v":26600},800,null,{"$f":"AB158+AC158-AD158","v":27400},800,null,{"$f":"AE158+AF158-AG158","v":28200},800,null,{"$f":"AH158+AI158-AJ158","v":29000},800,null,{"$f":"AK158+AL158-AM158","v":29800}]
[{"$f":"VLOOKUP(B159,справочник!$B$2:$E$322,4,0)","v":3},{"$f":"CONCATENATE(C159;D159)","v":{"$error":"#VALUE!"}},3,"Лебедев Андрей Анатольевич","50:03:0070280:700","2014-11-11","2013-12-01",{"$f":"INT(($H$325-G159)/30)","v":25},{"$f":"H159*1000","v":25000},{"$f":"4000","v":4000},null,{"$f":"I159-J159-K159","v":21000},{"$nulls":8},15000,null,null,null,{"$f":"SUM(M159:X159)","v":15000},12,{"$f":"Z159*800","v":9600},{"$f":"L159+AA159-Y159","v":15600},800,null,{"$f":"AB159+AC159-AD159","v":16400},800,null,{"$f":"AE159+AF159-AG159","v":17200},800,null,{"$f":"AH159+AI159-AJ159","v":18000},800,null,{"$f":"AK159+AL159-AM159","v":18800}]
[{"$f":"VLOOKUP(B160,справочник!$B$2:$E$322,4,0)","v":158},{"$f":"CONCATENATE(C160;D160)","v":{"$error":"#VALUE!"}},166,"Лебедева Елена Александровна","50:03:0070280:926","2014-01-21","2014-02-01",{"$f":"INT(($H$325-G160)/30)","v":23},{"$f":"H160*1000","v":23000},{"$f":"1000","v":1000},null,{"$f":"I160-J160-K160","v":22000},{"$nulls":12},{"$f":"SUM(M160:X160)","v":0},12,{"$f":"Z160*800","v":9600},{"$f":"L160+AA160-Y160","v":31600},800,null,{"$f":"AB160+AC160-AD160","v":32400},800,null,{"$f":"AE160+AF160-AG160","v":33200},800,null,{"$f":"AH160+AI160-AJ160","v":34000},800,null,{"$f":"AK160+AL160-AM160","v":34800}]
[{"$f":"VLOOKUP(B161,справочник!$B$2:$E$322,4,0)","v":139},{"$f":"CONCATENATE(C161;D161)","v":{"$error":"#VALUE!"}},149,"Левина Елена Александровна (Дмитрий)","50:03:0070280:943","2011-06-21","2011-07-01",{"$f":"INT(($H$325-G161)/30)","v":54},{"$f":"H161*1000","v":54000},54000,null,{"$f":"I161-J161-K161","v":0},{"$nulls":4},4800,null,null,4800,{"$nulls":4},{"$f":"SUM(M161:X161)","v":9600},12,{"$f":"Z161*800","v":9600},{"$f":"L161+AA161-Y161","v":0},0,null,{"$f":"AB163+AC163-AD163","v":39800},0,null,{"$f":"AE161+AF163-AG163","v":35800},0,null,{"$f":"AH161+AI163-AJ163","v":31800},0,null,{"$f":"AK161+AL163-AM163","v":19600}]
[{"$f":"VLOOKUP(B162,справочник!$B$2:$E$322,4,0)","v":139},{"$f":"CONCATENATE(C162;D162)","v":{"$error":"#VALUE!"}},147,"Левина Елена Александровна (Дмитрий)","50:03:0070280:941","2011-06-21","2011-07-01",{"$f":"INT(($H$325-G162)/30)","v":54},{"$f":"H162*1000","v":54000},54000,null,{"$f":"I162-J162-K162","v":0},{"$nulls":12},{"$f":"SUM(M162:X162)","v":0},0,{"$f":"Z162*800","v":0},{"$f":"L162+AA162-Y162","v":0},0,null,null,0,null,null,0,null,null,0]
[{"$f":"VLOOKUP(B163,справочник!$B$2:$E$322,4,0)","v":139},{"$f":"CONCATENATE(C163;D163)","v":{"$error":"#VALUE!"}},148,"Левина Елена Александровна (Дмитрий)","50:03:0070280:942","2011-06-21","2011-07-01",{"$f":"INT(($H$325-G163)/30)","v":54},{"$f":"H163*1000","v":54000},{"$f":"11000+4000","v":15000},null,{"$f":"I163-J163-K163","v":39000},{"$nulls":12},{"$f":"SUM(M163:X163)","v":0},0,{"$f":"Z163*800","v":0},{"$f":"L163+AA163-Y163","v":39000},800,null,null,800,4800,null,800,4800,null,800,13000]
[{"$f":"VLOOKUP(B164,справочник!$B$2:$E$322,4,0)","v":261},{"$f":"CONCATENATE(C164;D164)","v":{"$error":"#VALUE!"}},274,"Леськов Олег Петрович","50:03:0070280:1465","2013-04-09","2013-05-01",{"$f":"INT(($H$325-G164)/30)","v":32},{"$f":"H164*1000","v":32000},19000,null,{"$f":"I164-J164-K164","v":13000},2400,null,null,2400,null,null,3200,{"$nulls":4},4000,{"$f":"SUM(M164:X164)","v":12000},12,{"$f":"Z164*800","v":9600},{"$f":"L164+AA164-Y164","v":10600},800,null,{"$f":"SUM(AB164:AB165)+SUM(AC164:AC165)","v":28400},800,null,{"$f":"SUM(AE164:AE165)+SUM(AF164:AF165)","v":29200},800,null,{"$f":"SUM(AH164:AH165)+SUM(AI164:AI165)","v":30000},800,null,{"$f":"SUM(AK164:AK165)+SUM(AL164:AL165)","v":30800}]
[{"$f":"VLOOKUP(B165,справочник!$B$2:$E$322,4,0)","v":261},{"$f":"CONCATENATE(C165;D165)","v":{"$error":"#VALUE!"}},275,"Леськов Олег Петрович",null,"2012-04-17","2012-04-01",{"$f":"INT(($H$325-G165)/30)","v":45},{"$f":"H165*1000","v":45000},{"$f":"9000+19000","v":28000},null,{"$f":"I165-J165-K165","v":17000},{"$nulls":12},{"$f":"SUM(M165:X165)","v":0},0,{"$f":"Z165*800","v":0},{"$f":"L165+AA165-Y165","v":17000},0,null,null,0,null,null,0,null,null,0]
[{"$f":"VLOOKUP(B166,справочник!$B$2:$E$322,4,0)","v":288},{"$f":"CONCATENATE(C166;D166)","v":{"$error":"#VALUE!"}},300,"Ли Наталья Сергеевна","50:03:0070280:773","2013-08-27","2013-09-01",{"$f":"INT(($H$325-G166)/30)","v":28},{"$f":"H166*1000","v":28000},null,null,{"$f":"I166-J166-K166","v":28000},{"$nulls":12},{"$f":"SUM(M166:X166)","v":0},12,{"$f":"Z166*800","v":9600},{"$f":"L166+AA166-Y166","v":37600},800,null,{"$f":"AB166+AC166-AD166","v":38400},800,null,{"$f":"AE166+AF166-AG166","v":39200},800,null,{"$f":"AH166+AI166-AJ166","v":40000},800,null,{"$f":"AK166+AL166-AM166","v":40800}]
[{"$f":"VLOOKUP(B167,справочник!$B$2:$E$322,4,0)","v":166},{"$f":"CONCATENATE(C167;D167)","v":{"$error":"#VALUE!"}},174,"Ловыгина Татьяна Александровна","50:03:0070280:891","2014-07-09","2014-08-01",{"$f":"INT(($H$325-G167)/30)","v":17},{"$f":"H167*1000","v":17000},5000,null,{"$f":"I167-J167-K167","v":12000},{"$nulls":6},6800,5000,2400,null,null,null,{"$f":"SUM(M167:X167)","v":14200},12,{"$f":"Z167*800","v":9600},{"$f":"L167+AA167-Y167","v":7400},800,null,{"$f":"AB167+AC167-AD167","v":8200},800,4000,{"$f":"AE167+AF167-AG167","v":5000},800,null,{"$f":"AH167+AI167-AJ167","v":5800},800,null,{"$f":"AK167+AL167-AM167","v":6600}]
[{"$f":"VLOOKUP(B168,справочник!$B$2:$E$322,4,0)","v":118},{"$f":"CONCATENATE(C168;D168)","v":{"$error":"#VALUE!"}},123,"Лопухинова Надежда Михайловна","50:03:0070280:1020","2013-06-10","2013-07-01",{"$f":"INT(($H$325-G168)/30)","v":30},{"$f":"H168*1000","v":30000},23000,null,{"$f":"I168-J168-K168","v":7000},{"$nulls":6},12000,{"$nulls":5},{"$f":"SUM(M168:X168)","v":12000},12,{"$f":"Z168*800","v":9600},{"$f":"L168+AA168-Y168","v":4600},800,null,{"$f":"AB168+AC168-AD168","v":5400},800,null,{"$f":"AE168+AF168-AG168","v":6200},800,null,{"$f":"AH168+AI168-AJ168","v":7000},800,null,{"$f":"AK168+AL168-AM168","v":7800}]
[{"$f":"VLOOKUP(B169,справочник!$B$2:$E$322,4,0)","v":199},{"$f":"CONCATENATE(C169;D169)","v":{"$error":"#VALUE!"}},207,"Лошкарев Виктор Ильич","50:03:0070280:775","2012-05-07","2012-05-01",{"$f":"INT(($H$325-G169)/30)","v":44},{"$f":"H169*1000","v":44000},1000,null,{"$f":"I169-J169-K169","v":43000},{"$nulls":12},{"$f":"SUM(M169:X169)","v":0},12,{"$f":"Z169*800","v":9600},{"$f":"L169+AA169-Y169","v":52600},800,null,{"$f":"SUM(AB169:AB170)+SUM(AC169:AC170)","v":96400},800,null,{"$f":"SUM(AE169:AE170)+SUM(AF169:AF170)","v":97200},800,null,{"$f":"SUM(AH169:AH170)+SUM(AI169:AI170)","v":98000},800,null,{"$f":"SUM(AK169:AK170)+SUM(AL169:AL170)","v":98800}]
[{"$f":"VLOOKUP(B170,справочник!$B$2:$E$322,4,0)","v":199},{"$f":"CONCATENATE(C170;D170)","v":{"$error":"#VALUE!"}},208,"Лошкарев Виктор Ильич","50:03:0070280:892","2012-05-07","2012-05-01",{"$f":"INT(($H$325-G170)/30)","v":44},{"$f":"H170*1000","v":44000},1000,null,{"$f":"I170-J170-K170","v":43000},{"$nulls":12},{"$f":"SUM(M170:X170)","v":0},0,{"$f":"Z170*800","v":0},{"$f":"L170+AA170-Y170","v":43000},0,null,null,0,null,null,0,null,null,0]
[{"$f":"VLOOKUP(B171,справочник!$B$2:$E$322,4,0)","v":164},{"$f":"CONCATENATE(C171;D171)","v":{"$error":"#VALUE!"}},172,"Лунёв Денис Александрович","50:03:0070280:769","2013-10-29","2013-11-01",{"$f":"INT(($H$325-G171)/30)","v":26},{"$f":"H171*1000","v":26000},1000,null,{"$f":"I171-J171-K171","v":25000},{"$nulls":10},10600,null,{"$f":"SUM(M171:X171)","v":10600},12,{"$f":"Z171*800","v":9600},{"$f":"L171+AA171-Y171","v":24000},800,null,{"$f":"AB171+AC171-AD171","v":24800},800,null,{"$f":"AE171+AF171-AG171","v":25600},800,null,{"$f":"AH171+AI171-AJ171","v":26400},800,null,{"$f":"AK171+AL171-AM171","v":27200}]
[{"$f":"VLOOKUP(B172,справочник!$B$2:$E$322,4,0)","v":34},{"$f":"CONCATENATE(C172;D172)","v":{"$error":"#VALUE!"}},34,"Лунева Ольга Петровна","50:03:0070280:904","2011-08-26","2011-09-01",{"$f":"INT(($H$325-G172)/30)","v":52},{"$f":"H172*1000","v":52000},55000,null,{"$f":"I172-J172-K172","v":-3000},{"$nulls":12},{"$f":"SUM(M172:X172)","v":0},12,{"$f":"Z172*800","v":9600},{"$f":"L172+AA172-Y172","v":6600},800,null,{"$f":"AB172+AC172-AD172","v":7400},800,null,{"$f":"AE172+AF172-AG172","v":8200},800,null,{"$f":"AH172+AI172-AJ172","v":9000},800,null,{"$f":"AK172+AL172-AM172","v":9800}]
[{"$f":"VLOOKUP(B173,справочник!$B$2:$E$322,4,0)","v":13},{"$f":"CONCATENATE(C173;D173)","v":{"$error":"#VALUE!"}},13,"Малов Алексей Викторович","50:03:0070280:702","2013-07-09","2013-08-01",{"$f":"INT(($H$325-G173)/30)","v":29},{"$f":"H173*1000","v":29000},13000,null,{"$f":"I173-J173-K173","v":16000},{"$nulls":6},20000,{"$nulls":5},{"$f":"SUM(M173:X173)","v":20000},12,{"$f":"Z173*800","v":9600},{"$f":"L173+AA173-Y173","v":5600},800,null,{"$f":"AB173+AC173-AD173","v":6400},800,null,{"$f":"AE173+AF173-AG173","v":7200},800,null,{"$f":"AH173+AI173-AJ173","v":8000},800,null,{"$f":"AK173+AL173-AM173","v":8800}]
[{"$f":"VLOOKUP(B174,справочник!$B$2:$E$322,4,0)","v":273},{"$f":"CONCATENATE(C174;D174)","v":{"$error":"#VALUE!"}},286,"Маргиева Марина Евгеньевна","50:03:0070280:714","2014-12-19","2015-01-01",{"$f":"INT(($H$325-G174)/30)","v":12},{"$f":"H174*1000","v":12000},8000,null,{"$f":"I174-J174-K174","v":4000},{"$nulls":5},8000,null,null,1600,null,null,{"$f":"800+800+1600","v":3200},{"$f":"SUM(M174:X174)","v":12800},12,{"$f":"Z174*800","v":9600},{"$f":"L174+AA174-Y174","v":800},800,null,{"$f":"AB174+AC174-AD174","v":1600},800,null,{"$f":"AE174+AF174-AG174","v":2400},800,{"$f":"1600+800","v":2400},{"$f":"AH174+AI174-AJ174","v":800},800,null,{"$f":"AK174+AL174-AM174","v":1600}]
[{"$f":"VLOOKUP(B175,справочник!$B$2:$E$322,4,0)","v":87},{"$f":"CONCATENATE(C175;D175)","v":{"$error":"#VALUE!"}},92,"Маркина Людмила Николаевна, Марина","50:03:0070280:865","2012-08-23","2012-09-01",{"$f":"INT(($H$325-G175)/30)","v":40},{"$f":"H175*1000","v":40000},37000,null,{"$f":"I175-J175-K175","v":3000},{"$nulls":12},{"$f":"SUM(M175:X175)","v":0},12,{"$f":"Z175*800","v":9600},{"$f":"L175+AA175-Y175","v":12600},800,1600,{"$f":"AB175+AC175-AD175","v":11800},800,null,{"$f":"AE175+AF175-AG175","v":12600},800,null,{"$f":"AH175+AI175-AJ175","v":13400},800,null,{"$f":"AK175+AL175-AM175","v":14200}]
[{"$f":"VLOOKUP(B176,справочник!$B$2:$E$322,4,0)","v":154},{"$f":"CONCATENATE(C176;D176)","v":{"$error":"#VALUE!"}},162,"Марков Максим Юрьевич","50:03:0070280:959","2011-06-26","2011-07-01",{"$f":"INT(($H$325-G176)/30)","v":54},{"$f":"H176*1000","v":54000},50000,null,{"$f":"I176-J176-K176","v":4000},null,null,null,2400,800,1600,800,800,800,800,800,800,{"$f":"SUM(M176:X176)","v":9600},12,{"$f":"Z176*800","v":9600},{"$f":"L176+AA176-Y176","v":4000},800,800,{"$f":"AB176+AC176-AD176","v":4000},800,null,{"$f":"AE176+AF176-AG176","v":4800},800,null,{"$f":"AH176+AI176-AJ176","v":5600},800,800,{"$f":"AK176+AL176-AM176","v":5600}]
[{"$f":"VLOOKUP(B177,справочник!$B$2:$E$322,4,0)","v":270},{"$f":"CONCATENATE(C177;D177)","v":{"$error":"#VALUE!"}},283,"Маркова Тамара Ивановна","50:03:0070280:717","2013-05-28","2013-07-01",{"$f":"INT(($H$325-G177)/30)","v":30},{"$f":"H177*1000","v":30000},20000,null,{"$f":"I177-J177-K177","v":10000},{"$nulls":7},14800,{"$nulls":4},{"$f":"SUM(M177:X177)","v":14800},12,{"$f":"Z177*800","v":9600},{"$f":"L177+AA177-Y177","v":4800},800,null,{"$f":"AB177+AC177-AD177","v":5600},800,null,{"$f":"AE177+AF177-AG177","v":6400},800,null,{"$f":"AH177+AI177-AJ177","v":7200},800,null,{"$f":"AK177+AL177-AM177","v":8000}]
[{"$f":"VLOOKUP(B178,справочник!$B$2:$E$322,4,0)","v":9},{"$f":"CONCATENATE(C178;D178)","v":{"$error":"#VALUE!"}},9,"Марковнина Светлана Викторовна","50:03:0070280:706","2012-07-24","2012-08-01",{"$f":"INT(($H$325-G178)/30)","v":41},{"$f":"H178*1000","v":41000},18000,null,{"$f":"I178-J178-K178","v":23000},{"$nulls":4},9000,1600,1000,11000,null,7000,null,3000,{"$f":"SUM(M178:X178)","v":32600},12,{"$f":"Z178*800","v":9600},{"$f":"L178+AA178-Y178","v":0},800,4800,{"$f":"AB178+AC178-AD178","v":-4000},800,null,{"$f":"AE178+AF178-AG178","v":-3200},800,null,{"$f":"AH178+AI178-AJ178","v":-2400},800,null,{"$f":"AK178+AL178-AM178","v":-1600}]
[{"$f":"VLOOKUP(B179,справочник!$B$2:$E$322,4,0)","v":129},{"$f":"CONCATENATE(C179;D179)","v":{"$error":"#VALUE!"}},136,"Маслов Александр Александрович","50:03:0070280:978","2013-03-19","2013-04-01",{"$f":"INT(($H$325-G179)/30)","v":33},{"$f":"H179*1000","v":33000},31000,null,{"$f":"I179-J179-K179","v":2000},null,3000,null,3000,null,null,3000,{"$nulls":5},{"$f":"SUM(M179:X179)","v":9000},12,{"$f":"Z179*800","v":9600},{"$f":"L179+AA179-Y179","v":2600},800,null,{"$f":"AB179+AC179-AD179","v":3400},800,3000,{"$f":"AE179+AF179-AG179","v":1200},800,null,{"$f":"AH179+AI179-AJ179","v":2000},800,null,{"$f":"AK179+AL179-AM179","v":2800}]
[{"$f":"VLOOKUP(B180,справочник!$B$2:$E$322,4,0)","v":42},{"$f":"CONCATENATE(C180;D180)","v":{"$error":"#VALUE!"}},42,"Маслов Андрей Геннадьевич (1/2)                 Щербакова Надежда Михайловна (1/2)","50:03:0070280:800","2011-08-30","2011-09-01",{"$f":"INT(($H$325-G180)/30)","v":52},{"$f":"H180*1000","v":52000},{"$f":"19500+500+4500+23500","v":48000},null,{"$f":"I180-J180-K180","v":4000},5000,1400,null,1600,null,1600,null,null,null,2400,null,1600,{"$f":"SUM(M180:X180)","v":13600},12,{"$f":"Z180*800","v":9600},{"$f":"L180+AA180-Y180","v":0},800,null,{"$f":"AB180+AC180-AD180","v":800},800,800,{"$f":"AE180+AF180-AG180","v":800},800,800,{"$f":"AH180+AI180-AJ180","v":800},800,null,{"$f":"AK180+AL180-AM180","v":1600}]
[{"$f":"VLOOKUP(B181,справочник!$B$2:$E$322,4,0)","v":96},{"$f":"CONCATENATE(C181;D181)","v":{"$error":"#VALUE!"}},101,"Маслова Валентина Петровна","50:03:0070280:1651","2011-06-14","2011-07-01",32,{"$f":"H181*1000","v":32000},41012,null,{"$f":"I181-J181-K181","v":-9012},9000,null,null,2000,null,2000,null,2000,null,2000,null,2000,{"$f":"SUM(M181:X181)","v":19000},12,{"$f":"Z181*800","v":9600},{"$f":"L181+AA181-Y181","v":-18412},800,null,{"$f":"SUM(AB181:AB182)+SUM(AC181:AC182)-SUM(AD181:AD182)","v":-7612},800,2000,{"$f":"SUM(AE181:AE182)+SUM(AF181:AF182)-SUM(AG181:AG182)","v":-8812},800,null,{"$f":"SUM(AH181:AH182)+SUM(AI181:AI182)-SUM(AJ181:AJ182)","v":-8012},800,null,{"$f":"SUM(AK181:AK182)+SUM(AL181:AL182)-SUM(AM181:AM182)","v":-7212}]
[{"$f":"VLOOKUP(B182,справочник!$B$2:$E$322,4,0)","v":96},{"$f":"CONCATENATE(C182;D182)","v":{"$error":"#VALUE!"}},102,"Маслова Валентина Петровна",null,"2011-06-14","2011-07-01",51,{"$f":"H182*1000","v":51000},41000,null,{"$f":"I182-J182-K182","v":10000},{"$nulls":12},{"$f":"SUM(M182:X182)","v":0},0,{"$f":"Z182*800","v":0},{"$f":"L182+AA182-Y182","v":10000},0,null,null,0,null,null,0,null,null,0]
[{"$f":"VLOOKUP(B183,справочник!$B$2:$E$322,4,0)","v":292},{"$f":"CONCATENATE(C183;D183)","v":{"$error":"#VALUE!"}},305,"Матвеев Денис Львович","50:03:0070280:996","2015-01-14","2015-02-01",{"$f":"INT(($H$325-G183)/30)","v":11},{"$f":"H183*1000","v":11000},null,null,{"$f":"I183-J183-K183","v":11000},{"$nulls":12},{"$f":"SUM(M183:X183)","v":0},12,{"$f":"Z183*800","v":9600},{"$f":"L183+AA183-Y183","v":20600},800,null,{"$f":"AB183+AC183-AD183","v":21400},800,null,{"$f":"AE183+AF183-AG183","v":22200},800,null,{"$f":"AH183+AI183-AJ183","v":23000},800,null,{"$f":"AK183+AL183-AM183","v":23800}]
[{"$f":"VLOOKUP(B184,справочник!$B$2:$E$322,4,0)","v":209},{"$f":"CONCATENATE(C184;D184)","v":{"$error":"#VALUE!"}},219,"Мельников Михаил Вячеславович / Диденко",null,"2012-12-05","2013-03-01",20,{"$f":"H184*1000","v":20000},null,null,{"$f":"I184-J184-K184","v":20000},{"$nulls":4},2000,3000,null,3000,null,3000,2000,null,{"$f":"SUM(M184:X184)","v":13000},12,{"$f":"Z184*800","v":9600},{"$f":"L184+AA184-Y184","v":16600},800,null,{"$f":"AB184+AC184-AD184","v":17400},800,null,{"$f":"AE184+AF184-AG184","v":18200},800,null,{"$f":"AH184+AI184-AJ184","v":19000},800,null,{"$f":"AK184+AL184-AM184","v":19800}]
[{"$f":"VLOOKUP(B185,справочник!$B$2:$E$322,4,0)","v":257},{"$f":"CONCATENATE(C185;D185)","v":{"$error":"#VALUE!"}},270,"Месхидзе Оксана Валерьевна","50:03:0070280:733","2013-09-09","2013-10-01",{"$f":"INT(($H$325-G185)/30)","v":27},{"$f":"H185*1000","v":27000},1000,null,{"$f":"I185-J185-K185","v":26000},{"$nulls":12},{"$f":"SUM(M185:X185)","v":0},12,{"$f":"Z185*800","v":9600},{"$f":"L185+AA185-Y185","v":35600},800,null,{"$f":"AB185+AC185-AD185","v":36400},800,null,{"$f":"AE185+AF185-AG185","v":37200},800,null,{"$f":"AH185+AI185-AJ185","v":38000},800,null,{"$f":"AK185+AL185-AM185","v":38800}]
[{"$f":"VLOOKUP(B186,справочник!$B$2:$E$322,4,0)","v":212},{"$f":"CONCATENATE(C186;D186)","v":{"$error":"#VALUE!"}},221,"Милишенко Надежда Ивановна","50:03:0070280:842","2013-10-05","2013-11-01",{"$f":"INT(($H$325-G186)/30)","v":26},{"$f":"H186*1000","v":26000},23000,null,{"$f":"I186-J186-K186","v":3000},600,null,1600,800,null,null,800,800,null,1600,null,1600,{"$f":"SUM(M186:X186)","v":7800},12,{"$f":"Z186*800","v":9600},{"$f":"L186+AA186-Y186","v":4800},800,null,{"$f":"AB186+AC186-AD186","v":5600},800,null,{"$f":"AE186+AF186-AG186","v":6400},800,1600,{"$f":"AH186+AI186-AJ186","v":5600},800,800,{"$f":"AK186+AL186-AM186","v":5600}]
[{"$f":"VLOOKUP(B187,справочник!$B$2:$E$322,4,0)","v":{"$error":"#VALUE!"}},{"$f":"CONCATENATE(C187;D187)","v":{"$error":"#VALUE!"}},59,"Милоянин Алексей Леонидович",{"$nulls":11},3200,{"$nulls":6},6400,null,{"$f":"SUM(M187:X187)","v":9600},12,{"$f":"Z187*800","v":9600},{"$f":"L187+AA187-Y187","v":0},800,null,{"$f":"AB187+AC187-AD187","v":800},800,null,{"$f":"AE187+AF187-AG187","v":1600},800,3200,{"$f":"AH187+AI187-AJ187","v":-800},800,null,{"$f":"AK187+AL187-AM187","v":0}]
[{"$f":"VLOOKUP(B188,справочник!$B$2:$E$322,4,0)","v":186},{"$f":"CONCATENATE(C188;D188)","v":{"$error":"#VALUE!"}},194,"Мирошниченко Андрей Иванович Захарова Елена Александровна","50:03:0070280:914","2014-08-21","2014-09-01",{"$f":"INT(($H$325-G188)/30)","v":16},{"$f":"H188*1000","v":16000},12000,null,{"$f":"I188-J188-K188","v":4000},null,null,null,5000,{"$nulls":8},{"$f":"SUM(M188:X188)","v":5000},12,{"$f":"Z188*800","v":9600},{"$f":"L188+AA188-Y188","v":8600},800,null,{"$f":"AB188+AC188-AD188","v":9400},800,null,{"$f":"AE188+AF188-AG188","v":10200},800,null,{"$f":"AH188+AI188-AJ188","v":11000},800,null,{"$f":"AK188+AL188-AM188","v":11800}]
[{"$f":"VLOOKUP(B189,справочник!$B$2:$E$322,4,0)","v":187},{"$f":"CONCATENATE(C189;D189)","v":{"$error":"#VALUE!"}},195,"Мирошниченко Екатерина Олеговна","50:03:0070280:913","2013-09-25","2013-10-01",{"$f":"INT(($H$325-G189)/30)","v":27},{"$f":"H189*1000","v":27000},null,null,{"$f":"I189-J189-K189","v":27000},null,null,null,5000,null,null,null,5000,{"$nulls":4},{"$f":"SUM(M189:X189)","v":10000},12,{"$f":"Z189*800","v":9600},{"$f":"L189+AA189-Y189","v":26600},800,null,{"$f":"AB189+AC189-AD189","v":27400},800,null,{"$f":"AE189+AF189-AG189","v":28200},800,null,{"$f":"AH189+AI189-AJ189","v":29000},800,null,{"$f":"AK189+AL189-AM189","v":29800}]
[{"$f":"VLOOKUP(B190,справочник!$B$2:$E$322,4,0)","v":211},{"$f":"CONCATENATE(C190;D190)","v":{"$error":"#VALUE!"}},220,"Модин Игорь Николаевич","50:03:0070280:843","2013-05-23","2013-06-01",{"$f":"INT(($H$325-G190)/30)","v":31},{"$f":"H190*1000","v":31000},26000,7000,{"$f":"I190-J190-K190","v":-2000},{"$nulls":9},9600,null,null,{"$f":"SUM(M190:X190)","v":9600},12,{"$f":"Z190*800","v":9600},{"$f":"L190+AA190-Y190","v":-2000},800,null,{"$f":"AB190+AC190-AD190","v":-1200},800,null,{"$f":"AE190+AF190-AG190","v":-400},800,null,{"$f":"AH190+AI190-AJ190","v":400},800,null,{"$f":"AK190+AL190-AM190","v":1200}]
[{"$f":"VLOOKUP(B191,справочник!$B$2:$E$322,4,0)","v":242},{"$f":"CONCATENATE(C191;D191)","v":{"$error":"#VALUE!"}},253,"Моисеев Андрей Валентинович","50:03:0070280:792","2013-03-19","2013-04-01",{"$f":"INT(($H$325-G191)/30)","v":33},{"$f":"H191*1000","v":33000},4000,null,{"$f":"I191-J191-K191","v":29000},{"$nulls":12},{"$f":"SUM(M191:X191)","v":0},12,{"$f":"Z191*800","v":9600},{"$f":"L191+AA191-Y191","v":38600},800,null,{"$f":"AB191+AC191-AD191","v":39400},800,null,{"$f":"AE191+AF191-AG191","v":40200},800,null,{"$f":"AH191+AI191-AJ191","v":41000},800,null,{"$f":"AK191+AL191-AM191","v":41800}]
[{"$f":"VLOOKUP(B192,справочник!$B$2:$E$322,4,0)","v":218},{"$f":"CONCATENATE(C192;D192)","v":{"$error":"#VALUE!"}},227,"Молчанова Ирина Владимировна","50:03:0070280:836","2011-09-07","2011-09-01",{"$f":"INT(($H$325-G192)/30)","v":52},{"$f":"H192*1000","v":52000},33000,5000,{"$f":"I192-J192-K192","v":14000},null,null,1000,null,null,5000,12000,null,3200,null,null,2400,{"$f":"SUM(M192:X192)","v":23600},12,{"$f":"Z192*800","v":9600},{"$f":"L192+AA192-Y192","v":0},800,null,{"$f":"AB192+AC192-AD192","v":800},800,800,{"$f":"AE192+AF192-AG192","v":800},800,800,{"$f":"AH192+AI192-AJ192","v":800},800,null,{"$f":"AK192+AL192-AM192","v":1600}]
[{"$f":"VLOOKUP(B193,справочник!$B$2:$E$322,4,0)","v":120},{"$f":"CONCATENATE(C193;D193)","v":{"$error":"#VALUE!"}},125,"Мудрак Владимир Григорьевич (Марина)","50:03:0070280:1022","2013-05-23","2013-06-01",{"$f":"INT(($H$325-G193)/30)","v":31},{"$f":"H193*1000","v":31000},21000,null,{"$f":"I193-J193-K193","v":10000},5000,6600,2000,null,null,1200,null,null,null,3200,null,1600,{"$f":"SUM(M193:X193)","v":19600},12,{"$f":"Z193*800","v":9600},{"$f":"L193+AA193-Y193","v":0},800,null,{"$f":"AB193+AC193-AD193","v":800},800,null,{"$f":"AE193+AF193-AG193","v":1600},800,null,{"$f":"AH193+AI193-AJ193","v":2400},800,null,{"$f":"AK193+AL193-AM193","v":3200}]
[{"$f":"VLOOKUP(B194,справочник!$B$2:$E$322,4,0)","v":287},{"$f":"CONCATENATE(C194;D194)","v":{"$error":"#VALUE!"}},299,"Мурадова Альбина Сергеевна","50:03:0070280:774","2014-09-15","2014-10-01",{"$f":"INT(($H$325-G194)/30)","v":15},{"$f":"H194*1000","v":15000},13000,null,{"$f":"I194-J194-K194","v":2000},{"$nulls":6},5200,{"$nulls":4},5600,{"$f":"SUM(M194:X194)","v":10800},12,{"$f":"Z194*800","v":9600},{"$f":"L194+AA194-Y194","v":800},800,null,{"$f":"AB194+AC194-AD194","v":1600},800,{"$f":"1600","v":1600},{"$f":"AE194+AF194-AG194","v":800},800,1800,{"$f":"AH194+AI194-AJ194","v":-200},800,null,{"$f":"AK194+AL194-AM194","v":600}]
[{"$f":"VLOOKUP(B195,справочник!$B$2:$E$322,4,0)","v":170},{"$f":"CONCATENATE(C195;D195)","v":{"$error":"#VALUE!"}},178,"Науменко Дмитрий Александрович","50:03:0070280:767","2013-05-20","2013-07-01",{"$f":"INT(($H$325-G195)/30)","v":30},{"$f":"H195*1000","v":30000},29000,1000,{"$f":"I195-J195-K195","v":0},2400,null,2400,null,null,2400,null,null,null,2400,null,2400,{"$f":"SUM(M195:X195)","v":12000},12,{"$f":"Z195*800","v":9600},{"$f":"L195+AA195-Y195","v":-2400},800,null,{"$f":"SUM(AB195:AB196)+SUM(AC195:AC196)-SUM(AD195:AD196)","v":-1600},800,null,{"$f":"SUM(AE195:AE196)+SUM(AF195:AF196)-SUM(AG195:AG196)","v":-800},800,null,{"$f":"SUM(AH195:AH196)+SUM(AI195:AI196)-SUM(AJ195:AJ196)","v":0},800,3200,{"$f":"SUM(AK195:AK196)+SUM(AL195:AL196)-SUM(AM195:AM196)","v":-2400}]
[{"$f":"VLOOKUP(B196,справочник!$B$2:$E$322,4,0)","v":170},{"$f":"CONCATENATE(C196;D196)","v":{"$error":"#VALUE!"}},179,"Науменко Дмитрий Александрович","50:03:0070280:766","2013-05-20","2013-07-01",{"$f":"INT(($H$325-G196)/30)","v":30},{"$f":"H196*1000","v":30000},29000,1000,{"$f":"I196-J196-K196","v":0},{"$nulls":12},{"$f":"SUM(M196:X196)","v":0},0,{"$f":"Z196*800","v":0},{"$f":"L196+AA196-Y196","v":0},0,null,null,0,null,null,0,null,null,0]
[{"$f":"VLOOKUP(B197,справочник!$B$2:$E$322,4,0)","v":290},{"$f":"CONCATENATE(C197;D197)","v":{"$error":"#VALUE!"}},303,"Недосенко Татьяна Сергеевна (Олег)","50:03:0070280:994","2012-02-20","2012-02-01",{"$f":"INT(($H$325-G197)/30)","v":47},{"$f":"H197*1000","v":47000},42000,5000,{"$f":"I197-J197-K197","v":0},{"$nulls":4},5000,null,null,null,5000,null,null,null,{"$f":"SUM(M197:X197)","v":10000},12,{"$f":"Z197*800","v":9600},{"$f":"L197+AA197-Y197","v":-400},800,null,{"$f":"AB197+AC197-AD197","v":400},800,null,{"$f":"AE197+AF197-AG197","v":1200},800,5000,{"$f":"AH197+AI197-AJ197","v":-3000},800,null,{"$f":"AK197+AL197-AM197","v":-2200}]
[{"$f":"VLOOKUP(B198,справочник!$B$2:$E$322,4,0)","v":81},{"$f":"CONCATENATE(C198;D198)","v":{"$error":"#VALUE!"}},86,"Нелюбов Сергей Владимирович","50:03:0070280:879","2012-02-10","2012-02-01",{"$f":"INT(($H$325-G198)/30)","v":47},{"$f":"H198*1000","v":47000},44000,3000,{"$f":"I198-J198-K198","v":0},null,null,3200,{"$nulls":4},3200,null,null,null,3200,{"$f":"SUM(M198:X198)","v":9600},12,{"$f":"Z198*800","v":9600},{"$f":"L198+AA198-Y198","v":0},800,null,{"$f":"AB198+AC198-AD198","v":800},800,null,{"$f":"AE198+AF198-AG198","v":1600},800,null,{"$f":"AH198+AI198-AJ198","v":2400},800,null,{"$f":"AK198+AL198-AM198","v":3200}]
[{"$f":"VLOOKUP(B199,справочник!$B$2:$E$322,4,0)","v":31},{"$f":"CONCATENATE(C199;D199)","v":{"$error":"#VALUE!"}},31,"Нефедов Михаил Владимирович","50:03:0070280:901","2011-08-31","2011-09-01",{"$f":"INT(($H$325-G199)/30)","v":52},{"$f":"H199*1000","v":52000},{"$f":"10000+42000","v":52000},null,{"$f":"I199-J199-K199","v":0},null,null,null,2400,2400,null,null,4800,{"$nulls":4},{"$f":"SUM(M199:X199)","v":9600},12,{"$f":"Z199*800","v":9600},{"$f":"L199+AA199-Y199","v":0},800,4800,{"$f":"AB199+AC199-AD199","v":-4000},800,null,{"$f":"AE199+AF199-AG199","v":-3200},800,null,{"$f":"AH199+AI199-AJ199","v":-2400},800,null,{"$f":"AK199+AL199-AM199","v":-1600}]
[{"$f":"VLOOKUP(B200,справочник!$B$2:$E$322,4,0)","v":104},{"$f":"CONCATENATE(C200;D200)","v":{"$error":"#VALUE!"}},109,"Никифоров Андрей Леонидович","50:03:0070280:819","2011-12-16","2011-12-01",{"$f":"INT(($H$325-G200)/30)","v":49},{"$f":"H200*1000","v":49000},{"$f":"1000+45000","v":46000},null,{"$f":"I200-J200-K200","v":3000},{"$nulls":12},{"$f":"SUM(M200:X200)","v":0},12,{"$f":"Z200*800","v":9600},{"$f":"L200+AA200-Y200","v":12600},800,null,{"$f":"AB200+AC200-AD200","v":13400},800,null,{"$f":"AE200+AF200-AG200","v":14200},800,null,{"$f":"AH200+AI200-AJ200","v":15000},800,null,{"$f":"AK200+AL200-AM200","v":15800}]
[{"$f":"VLOOKUP(B201,справочник!$B$2:$E$322,4,0)","v":85},{"$f":"CONCATENATE(C201;D201)","v":{"$error":"#VALUE!"}},90,"Новиков Виктор Викторович","50:03:0070280:867","2011-06-01","2011-07-01",{"$f":"INT(($H$325-G201)/30)","v":54},{"$f":"H201*1000","v":54000},{"$f":"1000+53000","v":54000},null,{"$f":"I201-J201-K201","v":0},null,null,null,4800,{"$nulls":8},{"$f":"SUM(M201:X201)","v":4800},12,{"$f":"Z201*800","v":9600},{"$f":"L201+AA201-Y201","v":4800},800,null,{"$f":"AB201+AC201-AD201","v":5600},800,null,{"$f":"AE201+AF201-AG201","v":6400},800,null,{"$f":"AH201+AI201-AJ201","v":7200},800,null,{"$f":"AK201+AL201-AM201","v":8000}]
[{"$f":"VLOOKUP(B202,справочник!$B$2:$E$322,4,0)","v":300},{"$f":"CONCATENATE(C202;D202)","v":{"$error":"#VALUE!"}},315,"Новикова Наталья Петровна","50:03:0070280:1006","2014-12-26","2015-01-01",{"$f":"INT(($H$325-G202)/30)","v":12},{"$f":"H202*1000","v":12000},1000,null,{"$f":"I202-J202-K202","v":11000},{"$nulls":12},{"$f":"SUM(M202:X202)","v":0},12,{"$f":"Z202*800","v":9600},{"$f":"L202+AA202-Y202","v":20600},800,null,{"$f":"AB202+AC202-AD202","v":21400},800,null,{"$f":"AE202+AF202-AG202","v":22200},800,null,{"$f":"AH202+AI202-AJ202","v":23000},800,null,{"$f":"AK202+AL202-AM202","v":23800}]
[{"$f":"VLOOKUP(B203,справочник!$B$2:$E$322,4,0)","v":47},{"$f":"CONCATENATE(C203;D203)","v":{"$error":"#VALUE!"}},47,"Новикова Светлана Владимировна (Анатолий)","50:03:0070280:990","2013-04-11","2013-05-01",{"$f":"INT(($H$325-G203)/30)","v":32},{"$f":"H203*1000","v":32000},9000,null,{"$f":"I203-J203-K203","v":23000},{"$nulls":12},{"$f":"SUM(M203:X203)","v":0},12,{"$f":"Z203*800","v":9600},{"$f":"L203+AA203-Y203","v":32600},800,null,{"$f":"AB203+AC203-AD203","v":33400},800,null,{"$f":"AE203+AF203-AG203","v":34200},800,null,{"$f":"AH203+AI203-AJ203","v":35000},800,null,{"$f":"AK203+AL203-AM203","v":35800}]
[{"$f":"VLOOKUP(B204,справочник!$B$2:$E$322,4,0)","v":282},{"$f":"CONCATENATE(C204;D204)","v":{"$error":"#VALUE!"}},294,"Нормуротов Анваржон Абдирайимович","50:03:0070280:775","2014-03-18","2014-04-01",{"$f":"INT(($H$325-G204)/30)","v":21},{"$f":"H204*1000","v":21000},18000,null,{"$f":"I204-J204-K204","v":3000},{"$nulls":12},{"$f":"SUM(M204:X204)","v":0},12,{"$f":"Z204*800","v":9600},{"$f":"L204+AA204-Y204","v":12600},800,null,{"$f":"AB204+AC204-AD204","v":13400},800,null,{"$f":"AE204+AF204-AG204","v":14200},800,null,{"$f":"AH204+AI204-AJ204","v":15000},800,null,{"$f":"AK204+AL204-AM204","v":15800}]
[{"$f":"VLOOKUP(B205,справочник!$B$2:$E$322,4,0)","v":204},{"$f":"CONCATENATE(C205;D205)","v":{"$error":"#VALUE!"}},214,"Носикова Александра Васильевна","50:03:0070280:849",null,null,null,{"$f":"H205*1000","v":0},null,null,{"$f":"I205-J205-K205","v":0},{"$nulls":12},{"$f":"SUM(M205:X205)","v":0},12,{"$f":"Z205*800","v":9600},{"$f":"L205+AA205-Y205","v":9600},800,null,{"$f":"AB205+AC205-AD205","v":10400},800,null,{"$f":"AE205+AF205-AG205","v":11200},800,null,{"$f":"AH205+AI205-AJ205","v":12000},800,null,{"$f":"AK205+AL205-AM205","v":12800}]
[{"$f":"VLOOKUP(B206,справочник!$B$2:$E$322,4,0)","v":291},{"$f":"CONCATENATE(C206;D206)","v":{"$error":"#VALUE!"}},304,"Носикова Мария Леонидовна","50:03:0070280:995",null,null,null,{"$f":"H206*1000","v":0},null,null,{"$f":"I206-J206-K206","v":0},{"$nulls":12},{"$f":"SUM(M206:X206)","v":0},12,{"$f":"Z206*800","v":9600},{"$f":"L206+AA206-Y206","v":9600},800,null,{"$f":"AB206+AC206-AD206","v":10400},800,null,{"$f":"AE206+AF206-AG206","v":11200},800,null,{"$f":"AH206+AI206-AJ206","v":12000},800,null,{"$f":"AK206+AL206-AM206","v":12800}]
[{"$f":"VLOOKUP(B207,справочник!$B$2:$E$322,4,0)","v":89},{"$f":"CONCATENATE(C207;D207)","v":{"$error":"#VALUE!"}},94,"Олег (Гусев Николай Михайлович — был)","50:03:0070280:826","2012-07-16","2012-07-01",{"$f":"INT(($H$325-G207)/30)","v":42},{"$f":"H207*1000","v":42000},{"$f":"21000","v":21000},null,{"$f":"I207-J207-K207","v":21000},{"$nulls":12},{"$f":"SUM(M207:X207)","v":0},12,{"$f":"Z207*800","v":9600},{"$f":"L207+AA207-Y207","v":30600},800,null,{"$f":"AB207+AC207-AD207","v":31400},800,null,{"$f":"AE207+AF207-AG207","v":32200},800,null,{"$f":"AH207+AI207-AJ207","v":33000},800,null,{"$f":"AK207+AL207-AM207","v":33800}]
[{"$f":"VLOOKUP(B208,справочник!$B$2:$E$322,4,0)","v":26},{"$f":"CONCATENATE(C208;D208)","v":{"$error":"#VALUE!"}},26,"Олейников Дмитрий Александрович","50:03:0070280:855","2011-09-02","2011-09-01",{"$f":"INT(($H$325-G208)/30)","v":52},{"$f":"H208*1000","v":52000},null,null,{"$f":"I208-J208-K208","v":52000},{"$nulls":12},{"$f":"SUM(M208:X208)","v":0},12,{"$f":"Z208*800","v":9600},{"$f":"L208+AA208-Y208","v":61600},800,null,{"$f":"AB208+AC208-AD208","v":62400},800,null,{"$f":"AE208+AF208-AG208","v":63200},800,null,{"$f":"AH208+AI208-AJ208","v":64000},800,null,{"$f":"AK208+AL208-AM208","v":64800}]
[{"$f":"VLOOKUP(B209,справочник!$B$2:$E$322,4,0)","v":71},{"$f":"CONCATENATE(C209;D209)","v":{"$error":"#VALUE!"}},77,"Олейникова Евгения Александровна","50:03:0070280:803","2011-09-02","2011-09-01",{"$f":"INT(($H$325-G209)/30)","v":52},{"$f":"H209*1000","v":52000},{"$f":"36000+4000","v":40000},null,{"$f":"I209-J209-K209","v":12000},{"$nulls":12},{"$f":"SUM(M209:X209)","v":0},12,{"$f":"Z209*800","v":9600},{"$f":"L209+AA209-Y209","v":21600},800,null,{"$f":"AB209+AC209-AD209","v":22400},800,null,{"$f":"AE209+AF209-AG209","v":23200},800,null,{"$f":"AH209+AI209-AJ209","v":24000},800,null,{"$f":"AK209+AL209-AM209","v":24800}]
[{"$f":"VLOOKUP(B210,справочник!$B$2:$E$322,4,0)","v":6},{"$f":"CONCATENATE(C210;D210)","v":{"$error":"#VALUE!"}},6,"Осадчев Константин Владимирович","50:03:0070280:708","2014-10-27","2014-11-01",{"$f":"INT(($H$325-G210)/30)","v":14},{"$f":"H210*1000","v":14000},null,null,{"$f":"I210-J210-K210","v":14000},{"$nulls":4},4000,{"$nulls":6},18000,{"$f":"SUM(M210:X210)","v":22000},12,{"$f":"Z210*800","v":9600},{"$f":"L210+AA210-Y210","v":1600},800,null,{"$f":"AB210+AC210-AD210","v":2400},800,null,{"$f":"AE210+AF210-AG210","v":3200},800,null,{"$f":"AH210+AI210-AJ210","v":4000},800,null,{"$f":"AK210+AL210-AM210","v":4800}]
[{"$f":"VLOOKUP(B211,справочник!$B$2:$E$322,4,0)","v":80},{"$f":"CONCATENATE(C211;D211)","v":{"$error":"#VALUE!"}},85,"Острикова Наталья Львовна","50:03:0070280:880","2012-03-27","2012-04-01",{"$f":"INT(($H$325-G211)/30)","v":45},{"$f":"H211*1000","v":45000},45000,null,{"$f":"I211-J211-K211","v":0},{"$nulls":5},4000,2000,2000,{"$nulls":4},{"$f":"SUM(M211:X211)","v":8000},12,{"$f":"Z211*800","v":9600},{"$f":"L211+AA211-Y211","v":1600},800,6000,{"$f":"AB211+AC211-AD211","v":-3600},800,4000,{"$f":"AE211+AF211-AG211","v":-6800},800,null,{"$f":"AH211+AI211-AJ211","v":-6000},800,1600,{"$f":"AK211+AL211-AM211","v":-6800}]
[{"$f":"VLOOKUP(B212,справочник!$B$2:$E$322,4,0)","v":201},{"$f":"CONCATENATE(C212;D212)","v":{"$error":"#VALUE!"}},209,"Пархачева Эльвира Валентиновна (Алксандр)","50:03:0070280:871","2012-03-06","2012-03-01",{"$f":"INT(($H$325-G212)/30)","v":46},{"$f":"H212*1000","v":46000},38000,null,{"$f":"I212-J212-K212","v":8000},4000,null,null,null,3200,null,800,1600,null,null,null,{"$f":"1600+1600+800","v":4000},{"$f":"SUM(M212:X212)","v":13600},12,{"$f":"Z212*800","v":9600},{"$f":"L212+AA212-Y212","v":4000},800,null,{"$f":"AB212+AC212-AD212","v":4800},800,1600,{"$f":"AE212+AF212-AG212","v":4000},800,null,{"$f":"AH212+AI212-AJ212","v":4800},800,null,{"$f":"AK212+AL212-AM212","v":5600}]
[{"$f":"VLOOKUP(B213,справочник!$B$2:$E$322,4,0)","v":147},{"$f":"CONCATENATE(C213;D213)","v":{"$error":"#VALUE!"}},155,"Пахарева Ольга Александровна (Дмитрий)","50:03:0070280:955","2012-02-13","2012-02-01",{"$f":"INT(($H$325-G213)/30)","v":47},{"$f":"H213*1000","v":47000},32000,null,{"$f":"I213-J213-K213","v":15000},{"$nulls":6},1000,1000,1000,null,null,1000,{"$f":"SUM(M213:X213)","v":4000},12,{"$f":"Z213*800","v":9600},{"$f":"L213+AA213-Y213","v":20600},800,null,{"$f":"AB213+AC213-AD213","v":21400},800,null,{"$f":"AE213+AF213-AG213","v":22200},800,null,{"$f":"AH213+AI213-AJ213","v":23000},800,null,{"$f":"AK213+AL213-AM213","v":23800}]
[{"$f":"VLOOKUP(B214,справочник!$B$2:$E$322,4,0)","v":33},{"$f":"CONCATENATE(C214;D214)","v":{"$error":"#VALUE!"}},33,"Петров Борис Викторович","50:03:0070280:903","2011-09-05","2011-09-01",{"$f":"INT(($H$325-G214)/30)","v":52},{"$f":"H214*1000","v":52000},{"$f":"1000+44000","v":45000},null,{"$f":"I214-J214-K214","v":7000},{"$nulls":4},10050,{"$nulls":7},{"$f":"SUM(M214:X214)","v":10050},12,{"$f":"Z214*800","v":9600},{"$f":"L214+AA214-Y214","v":6550},800,null,{"$f":"AB214+AC214-AD214","v":7350},800,null,{"$f":"AE214+AF214-AG214","v":8150},800,8150,{"$f":"AH214+AI214-AJ214","v":800},800,null,{"$f":"AK214+AL214-AM214","v":1600}]
[{"$f":"VLOOKUP(B215,справочник!$B$2:$E$322,4,0)","v":169},{"$f":"CONCATENATE(C215;D215)","v":{"$error":"#VALUE!"}},177,"Петрова Елена Николаевна","50:03:0070280:768","2013-11-20","2013-12-01",{"$f":"INT(($H$325-G215)/30)","v":25},{"$f":"H215*1000","v":25000},21000,null,{"$f":"I215-J215-K215","v":4000},null,null,5400,null,2400,{"$nulls":4},2400,2400,null,{"$f":"SUM(M215:X215)","v":12600},12,{"$f":"Z215*800","v":9600},{"$f":"L215+AA215-Y215","v":1000},800,null,{"$f":"AB215+AC215-AD215","v":1800},800,2400,{"$f":"AE215+AF215-AG215","v":200},800,null,{"$f":"AH215+AI215-AJ215","v":1000},800,null,{"$f":"AK215+AL215-AM215","v":1800}]
[{"$f":"VLOOKUP(B216,справочник!$B$2:$E$322,4,0)","v":185},{"$f":"CONCATENATE(C216;D216)","v":{"$error":"#VALUE!"}},193,"Петункин Игорь Минович","50:03:0070280:915","2013-08-20","2013-09-01",{"$f":"INT(($H$325-G216)/30)","v":28},{"$f":"H216*1000","v":28000},14000,null,{"$f":"I216-J216-K216","v":14000},{"$nulls":12},{"$f":"SUM(M216:X216)","v":0},12,{"$f":"Z216*800","v":9600},{"$f":"L216+AA216-Y216","v":23600},800,null,{"$f":"AB216+AC216-AD216","v":24400},800,null,{"$f":"AE216+AF216-AG216","v":25200},800,null,{"$f":"AH216+AI216-AJ216","v":26000},800,null,{"$f":"AK216+AL216-AM216","v":26800}]
[{"$f":"VLOOKUP(B217,справочник!$B$2:$E$322,4,0)","v":176},{"$f":"CONCATENATE(C217;D217)","v":{"$error":"#VALUE!"}},184,"Пикалёва Алла Григорьевна (Юрий)","50:03:0070280:920","2014-04-05","2014-05-01",{"$f":"INT(($H$325-G217)/30)","v":20},{"$f":"H217*1000","v":20000},3000,null,{"$f":"I217-J217-K217","v":17000},5000,3000,null,null,3000,3500,{"$nulls":6},{"$f":"SUM(M217:X217)","v":14500},12,{"$f":"Z217*800","v":9600},{"$f":"L217+AA217-Y217","v":12100},800,null,{"$f":"AB217+AC217-AD217","v":12900},800,null,{"$f":"AE217+AF217-AG217","v":13700},800,null,{"$f":"AH217+AI217-AJ217","v":14500},800,null,{"$f":"AK217+AL217-AM217","v":15300}]
[{"$f":"VLOOKUP(B218,справочник!$B$2:$E$322,4,0)","v":307},{"$f":"CONCATENATE(C218;D218)","v":{"$error":"#VALUE!"}},322,"Поликарпова Наталья Дмитриевна","50:03:0070280:1012","2012-07-24","2012-08-01",{"$f":"INT(($H$325-G218)/30)","v":41},{"$f":"H218*1000","v":41000},27000,null,{"$f":"I218-J218-K218","v":14000},{"$nulls":4},8000,{"$nulls":7},{"$f":"SUM(M218:X218)","v":8000},12,{"$f":"Z218*800","v":9600},{"$f":"L218+AA218-Y218","v":15600},800,null,{"$f":"AB218+AC218-AD218","v":16400},800,null,{"$f":"AE218+AF218-AG218","v":17200},800,4800,{"$f":"AH218+AI218-AJ218","v":13200},800,4800,{"$f":"AK218+AL218-AM218","v":9200}]
[{"$f":"VLOOKUP(B219,справочник!$B$2:$E$322,4,0)","v":177},{"$f":"CONCATENATE(C219;D219)","v":{"$error":"#VALUE!"}},185,"Полякова Марина Александровна","50:03:0070280:762","2014-09-16","2014-10-01",{"$f":"INT(($H$325-G219)/30)","v":15},{"$f":"H219*1000","v":15000},12000,null,{"$f":"I219-J219-K219","v":3000},{"$nulls":10},5000,null,{"$f":"SUM(M219:X219)","v":5000},12,{"$f":"Z219*800","v":9600},{"$f":"L219+AA219-Y219","v":7600},800,10000,{"$f":"AB219+AC219-AD219","v":-1600},800,null,{"$f":"AE219+AF219-AG219","v":-800},800,null,{"$f":"AH219+AI219-AJ219","v":0},800,null,{"$f":"AK219+AL219-AM219","v":800}]
[{"$f":"VLOOKUP(B220,справочник!$B$2:$E$322,4,0)","v":160},{"$f":"CONCATENATE(C220;D220)","v":{"$error":"#VALUE!"}},168,"Пономарева Олеся Сергеевна","50:03:0070280:924","2012-06-19","2012-07-01",{"$f":"INT(($H$325-G220)/30)","v":42},{"$f":"H220*1000","v":42000},21000,null,{"$f":"I220-J220-K220","v":21000},{"$nulls":9},4800,null,4800,{"$f":"SUM(M220:X220)","v":9600},12,{"$f":"Z220*800","v":9600},{"$f":"L220+AA220-Y220","v":21000},800,null,{"$f":"AB220+AC220-AD220","v":21800},800,2400,{"$f":"AE220+AF220-AG220","v":20200},800,null,{"$f":"AH220+AI220-AJ220","v":21000},800,null,{"$f":"AK220+AL220-AM220","v":21800}]
[{"$f":"VLOOKUP(B221,справочник!$B$2:$E$322,4,0)","v":53},{"$f":"CONCATENATE(C221;D221)","v":{"$error":"#VALUE!"}},55,"Попова Нина Ивановна","50:03:0070280:944","2014-12-22","2015-01-01",{"$f":"INT(($H$325-G221)/30)","v":12},{"$f":"H221*1000","v":12000},12000,null,{"$f":"I221-J221-K221","v":0},{"$nulls":12},{"$f":"SUM(M221:X221)","v":0},12,{"$f":"Z221*800","v":9600},{"$f":"L221+AA221-Y221","v":9600},800,null,{"$f":"AB221+AC221-AD221","v":10400},800,null,{"$f":"AE221+AF221-AG221","v":11200},800,null,{"$f":"AH221+AI221-AJ221","v":12000},800,null,{"$f":"AK221+AL221-AM221","v":12800}]
[{"$f":"VLOOKUP(B222,справочник!$B$2:$E$322,4,0)","v":102},{"$f":"CONCATENATE(C222;D222)","v":{"$error":"#VALUE!"}},107,"Постернак Татьяна Николаевна","50:03:0070280:821","2011-08-02","2011-08-01",{"$f":"INT(($H$325-G222)/30)","v":53},{"$f":"H222*1000","v":53000},{"$f":"52000+1000","v":53000},null,{"$f":"I222-J222-K222","v":0},800,800,800,800,null,800,800,1600,800,800,800,800,{"$f":"SUM(M222:X222)","v":9600},12,{"$f":"Z222*800","v":9600},{"$f":"L222+AA222-Y222","v":0},800,800,{"$f":"AB222+AC222-AD222","v":0},800,null,{"$f":"AE222+AF222-AG222","v":800},800,800,{"$f":"AH222+AI222-AJ222","v":800},800,800,{"$f":"AK222+AL222-AM222","v":800}]
[{"$f":"VLOOKUP(B223,справочник!$B$2:$E$322,4,0)","v":174},{"$f":"CONCATENATE(C223;D223)","v":{"$error":"#VALUE!"}},182,"Просянов Александр Александрович","50:03:0070280:763","2013-03-19","2013-04-01",{"$f":"INT(($H$325-G223)/30)","v":33},{"$f":"H223*1000","v":33000},33000,null,{"$f":"I223-J223-K223","v":0},1000,null,null,null,3000,null,1600,null,null,0,null,null,{"$f":"SUM(M223:X223)","v":5600},12,{"$f":"Z223*800","v":9600},{"$f":"L223+AA223-Y223","v":4000},800,null,{"$f":"AB223+AC223-AD223","v":4800},800,null,{"$f":"AE223+AF223-AG223","v":5600},800,6000,{"$f":"AH223+AI223-AJ223","v":400},800,null,{"$f":"AK223+AL223-AM223","v":1200}]
[{"$f":"VLOOKUP(B224,справочник!$B$2:$E$322,4,0)","v":165},{"$f":"CONCATENATE(C224;D224)","v":{"$error":"#VALUE!"}},173,"Прохоров Владимир Михайлович","50:03:0070280:922",null,null,17,{"$f":"H224*1000","v":17000},17000,null,{"$f":"I224-J224-K224","v":0},{"$nulls":12},{"$f":"SUM(M224:X224)","v":0},12,{"$f":"Z224*800","v":9600},{"$f":"L224+AA224-Y224","v":9600},800,null,{"$f":"AB224+AC224-AD224","v":10400},800,null,{"$f":"AE224+AF224-AG224","v":11200},800,null,{"$f":"AH224+AI224-AJ224","v":12000},800,null,{"$f":"AK224+AL224-AM224","v":12800}]
[{"$f":"VLOOKUP(B225,справочник!$B$2:$E$322,4,0)","v":251},{"$f":"CONCATENATE(C225;D225)","v":{"$error":"#VALUE!"}},262,"Пузанова Екатерина Вячеславовна","50:03:0070280:741","2014-04-22","2014-05-01",{"$f":"INT(($H$325-G225)/30)","v":20},{"$f":"H225*1000","v":20000},null,null,{"$f":"I225-J225-K225","v":20000},{"$nulls":12},{"$f":"SUM(M225:X225)","v":0},12,{"$f":"Z225*800","v":9600},{"$f":"L225+AA225-Y225","v":29600},800,null,{"$f":"AB225+AC225-AD225","v":30400},800,null,{"$f":"AE225+AF225-AG225","v":31200},800,null,{"$f":"AH225+AI225-AJ225","v":32000},800,15000,{"$f":"AK225+AL225-AM225","v":17800}]
[{"$f":"VLOOKUP(B226,справочник!$B$2:$E$322,4,0)","v":315},{"$f":"CONCATENATE(C226;D226)","v":{"$error":"#VALUE!"}},"265-266","Ратников Алексей Сергеевич","50:03:0070280:738","2011-12-13","2011-12-01",{"$f":"INT(($H$325-G226)/30)","v":49},{"$f":"H226*1000","v":49000},{"$f":"28000+2000","v":30000},null,{"$f":"I226-J226-K226","v":19000},{"$nulls":12},{"$f":"SUM(M226:X226)","v":0},12,{"$f":"Z226*800","v":9600},{"$f":"L226+AA226-Y226","v":28600},800,null,{"$f":"AB226+AC226-AD226","v":29400},800,null,{"$f":"AE226+AF226-AG226","v":30200},800,null,{"$f":"AH226+AI226-AJ226","v":31000},800,null,{"$f":"AK226+AL226-AM226","v":31800}]
[{"$f":"VLOOKUP(B227,справочник!$B$2:$E$322,4,0)","v":{"$error":"#VALUE!"}},{"$f":"CONCATENATE(C227;D227)","v":{"$error":"#VALUE!"}},"210-211","Решетов Владимир Генадьевич","50:03:0070280:1464","2011-09-30","2011-10-01",{"$f":"INT(($H$325-G227)/30)","v":51},61000,{"$f":"2000+55000","v":57000},4000,{"$f":"I227-J227-K227","v":0},2000,null,null,2000,null,2000,null,2000,null,2000,null,2000,{"$f":"SUM(M227:X227)","v":12000},12,{"$f":"Z227*800","v":9600},{"$f":"L227+AA227-Y227","v":-2400},800,null,{"$f":"AB227+AC227-AD227","v":-1600},800,null,{"$f":"AE227+AF227-AG227","v":-800},800,null,{"$f":"AH227+AI227-AJ227","v":0},800,null,{"$f":"AK227+AL227-AM227","v":800}]
[{"$f":"VLOOKUP(B228,справочник!$B$2:$E$322,4,0)","v":{"$error":"#VALUE!"}},{"$f":"CONCATENATE(C228;D228)","v":{"$error":"#VALUE!"}},"210-211","Решетов Владимир Генадьевич","50:03:0070280:1464","2011-09-30","2011-10-01",{"$f":"INT(($H$325-G228)/30)","v":51},61000,58000,3000,{"$f":"I228-J228-K228","v":0},{"$nulls":12},{"$f":"SUM(M228:X228)","v":0},0,{"$f":"Z228*800","v":0},{"$f":"L228+AA228-Y228","v":0},0,null,{"$f":"AB228+AC228-AD228","v":0},0,null,{"$f":"AE228+AF228-AG228","v":0},0,null,{"$f":"AH228+AI228-AJ228","v":0},0,null,{"$f":"AK228+AL228-AM228","v":0}]
[{"$f":"VLOOKUP(B229,справочник!$B$2:$E$322,4,0)","v":195},{"$f":"CONCATENATE(C229;D229)","v":{"$error":"#VALUE!"}},203,"Родичева Наталья Николаевна - Завилевская Е.И. ???","50:03:0070280:885","2013-11-21","2013-12-01",{"$f":"INT(($H$325-G229)/30)","v":25},{"$f":"H229*1000","v":25000},1000,null,{"$f":"I229-J229-K229","v":24000},{"$nulls":5},4000,{"$nulls":6},{"$f":"SUM(M229:X229)","v":4000},12,{"$f":"Z229*800","v":9600},{"$f":"L229+AA229-Y229","v":29600},800,null,{"$f":"AB229+AC229-AD229","v":30400},800,null,{"$f":"AE229+AF229-AG229","v":31200},800,5000,{"$f":"AH229+AI229-AJ229","v":27000},800,null,{"$f":"AK229+AL229-AM229","v":27800}]
[{"$f":"VLOOKUP(B230,справочник!$B$2:$E$322,4,0)","v":144},{"$f":"CONCATENATE(C230;D230)","v":{"$error":"#VALUE!"}},152,"Рожкова Глафира Андреевна","50:03:0070280:1031","2011-09-02","2011-09-01",{"$f":"INT(($H$325-G230)/30)","v":52},{"$f":"H230*1000","v":52000},1000,null,{"$f":"I230-J230-K230","v":51000},{"$nulls":12},{"$f":"SUM(M230:X230)","v":0},12,{"$f":"Z230*800","v":9600},{"$f":"L230+AA230-Y230","v":60600},800,null,{"$f":"SUM(AB230:AB231)+SUM(AC230:AC231)-SUM(AD230:AD231)","v":112400},800,null,{"$f":"SUM(AE230:AE231)+SUM(AF230:AF231)-SUM(AG230:AG231)","v":113200},800,null,{"$f":"SUM(AH230:AH231)+SUM(AI230:AI231)-SUM(AJ230:AJ231)","v":114000},800,null,{"$f":"SUM(AK230:AK231)+SUM(AL230:AL231)-SUM(AM230:AM231)","v":114800}]
[{"$f":"VLOOKUP(B231,справочник!$B$2:$E$322,4,0)","v":144},{"$f":"CONCATENATE(C231;D231)","v":{"$error":"#VALUE!"}},153,"Рожкова Глафира Андреевна",null,"2011-09-02","2011-09-01",{"$f":"INT(($H$325-G231)/30)","v":52},{"$f":"H231*1000","v":52000},1000,null,{"$f":"I231-J231-K231","v":51000},{"$nulls":12},{"$f":"SUM(M231:X231)","v":0},0,{"$f":"Z231*800","v":0},{"$f":"L231+AA231-Y231","v":51000},0,null,null,0,null,null,0,null,null,0]
[{"$f":"VLOOKUP(B232,справочник!$B$2:$E$322,4,0)","v":74},{"$f":"CONCATENATE(C232;D232)","v":{"$error":"#VALUE!"}},80,"Розова Татьяна Викторовна","50:03:0070280:749","2013-02-05","2013-03-01",{"$f":"INT(($H$325-G232)/30)","v":34},{"$f":"H232*1000","v":34000},31000,null,{"$f":"I232-J232-K232","v":3000},6000,null,null,null,2400,null,2400,null,null,2400,null,2400,{"$f":"SUM(M232:X232)","v":15600},12,{"$f":"Z232*800","v":9600},{"$f":"L232+AA232-Y232","v":-3000},800,null,{"$f":"SUM(AB232:AB233)+SUM(AC232:AC233)-SUM(AD232:AD233)","v":800},800,null,{"$f":"SUM(AE232:AE233)+SUM(AF232:AF233)-SUM(AG232:AG233)","v":1600},800,null,{"$f":"SUM(AH232:AH233)+SUM(AI232:AI233)-SUM(AJ232:AJ233)","v":2400},800,null,{"$f":"SUM(AK232:AK233)+SUM(AL232:AL233)-SUM(AM232:AM233)","v":3200}]
[{"$f":"VLOOKUP(B233,справочник!$B$2:$E$322,4,0)","v":74},{"$f":"CONCATENATE(C233;D233)","v":{"$error":"#VALUE!"}},81,"Розова Татьяна Викторовна","50:03:0070280:750","2011-05-19","2011-06-01",{"$f":"INT(($H$325-G233)/30)","v":55},{"$f":"H233*1000","v":55000},{"$f":"7000+48000-3000","v":52000},null,{"$f":"I233-J233-K233","v":3000},{"$nulls":12},{"$f":"SUM(M233:X233)","v":0},0,{"$f":"Z233*800","v":0},{"$f":"L233+AA233-Y233","v":3000},0,null,null,0,null,null,0,null,null,0]
[{"$f":"VLOOKUP(B234,справочник!$B$2:$E$322,4,0)","v":68},{"$f":"CONCATENATE(C234;D234)","v":{"$error":"#VALUE!"}},70,"Рощина Ирина Михайловна","50:03:0070280:754","2011-05-24","2011-05-01",{"$f":"INT(($H$325-G234)/30)","v":56},{"$f":"H234*1000","v":56000},{"$f":"12000+44000","v":56000},null,{"$f":"I234-J234-K234","v":0},null,1600,800,null,800,800,null,null,800,null,null,null,{"$f":"SUM(M234:X234)","v":4800},12,{"$f":"Z234*800","v":9600},{"$f":"L234+AA234-Y234","v":4800},800,null,{"$f":"AB234+AC234-AD234","v":5600},800,null,{"$f":"AE234+AF234-AG234","v":6400},800,null,{"$f":"AH234+AI234-AJ234","v":7200},800,null,{"$f":"AK234+AL234-AM234","v":8000}]
[{"$f":"VLOOKUP(B235,справочник!$B$2:$E$322,4,0)","v":224},{"$f":"CONCATENATE(C235;D235)","v":{"$error":"#VALUE!"}},233,"Рудая Наталья Викторовна","50:03:0070280:830","2014-04-22","2014-05-01",{"$f":"INT(($H$325-G235)/30)","v":20},{"$f":"H235*1000","v":20000},null,null,{"$f":"I235-J235-K235","v":20000},{"$nulls":12},{"$f":"SUM(M235:X235)","v":0},12,{"$f":"Z235*800","v":9600},{"$f":"L235+AA235-Y235","v":29600},800,null,{"$f":"AB235+AC235-AD235","v":30400},800,null,{"$f":"AE235+AF235-AG235","v":31200},800,10200,{"$f":"AH235+AI235-AJ235","v":21800},800,10800,{"$f":"AK235+AL235-AM235","v":11800}]
[{"$f":"VLOOKUP(B236,справочник!$B$2:$E$322,4,0)","v":134},{"$f":"CONCATENATE(C236;D236)","v":{"$error":"#VALUE!"}},141,"Рыбалкин Андрей Сергеевич","50:03:0070280:893","2011-12-16","2011-12-01",{"$f":"INT(($H$325-G236)/30)","v":49},{"$f":"H236*1000","v":49000},{"$f":"37000","v":37000},null,{"$f":"I236-J236-K236","v":12000},12000,4800,{"$nulls":7},4800,null,null,{"$f":"SUM(M236:X236)","v":21600},12,{"$f":"Z236*800","v":9600},{"$f":"L236+AA236-Y236","v":0},800,null,{"$f":"AB236+AC236-AD236","v":800},800,null,{"$f":"AE236+AF236-AG236","v":1600},800,null,{"$f":"AH236+AI236-AJ236","v":2400},800,null,{"$f":"AK236+AL236-AM236","v":3200}]
[{"$f":"VLOOKUP(B237,справочник!$B$2:$E$322,4,0)","v":267},{"$f":"CONCATENATE(C237;D237)","v":{"$error":"#VALUE!"}},280,"Рыжов Андрей Николаевич","50:03:0070280:721","2012-04-24","2012-04-01",{"$f":"INT(($H$325-G237)/30)","v":45},{"$f":"H237*1000","v":45000},{"$f":"41000","v":41000},null,{"$f":"I237-J237-K237","v":4000},null,4000,2000,2000,{"$nulls":4},2000,2000,2000,null,{"$f":"SUM(M237:X237)","v":14000},12,{"$f":"Z237*800","v":9600},{"$f":"L237+AA237-Y237","v":-400},800,null,{"$f":"AB237+AC237-AD237","v":400},800,2000,{"$f":"AE237+AF237-AG237","v":-800},800,null,{"$f":"AH237+AI237-AJ237","v":0},800,null,{"$f":"AK237+AL237-AM237","v":800}]
[{"$f":"VLOOKUP(B238,справочник!$B$2:$E$322,4,0)","v":258},{"$f":"CONCATENATE(C238;D238)","v":{"$error":"#VALUE!"}},271,"Савина Нина Ивановна","50:03:0070280:732","2012-05-10","2012-05-01",{"$f":"INT(($H$325-G238)/30)","v":44},{"$f":"H238*1000","v":44000},44000,null,{"$f":"I238-J238-K238","v":0},{"$nulls":5},4800,{"$nulls":6},{"$f":"SUM(M238:X238)","v":4800},12,{"$f":"Z238*800","v":9600},{"$f":"L238+AA238-Y238","v":4800},800,null,{"$f":"AB238+AC238-AD238","v":5600},800,null,{"$f":"AE238+AF238-AG238","v":6400},800,null,{"$f":"AH238+AI238-AJ238","v":7200},800,6800,{"$f":"AK238+AL238-AM238","v":1200}]
[{"$f":"VLOOKUP(B239,справочник!$B$2:$E$322,4,0)","v":299},{"$f":"CONCATENATE(C239;D239)","v":{"$error":"#VALUE!"}},314,"Садовников Алексей Владимирович(Рошка Александр Николаевич)",null,"2015-01-13","2013-01-01",{"$f":"INT(($H$325-G239)/30)","v":36},{"$f":"H239*1000","v":36000},{"$f":"1000","v":1000},3000,{"$f":"I239-J239-K239","v":32000},{"$nulls":12},{"$f":"SUM(M239:X239)","v":0},12,{"$f":"Z239*800","v":9600},{"$f":"L239+AA239-Y239","v":41600},800,null,{"$f":"AB239+AC239-AD239","v":42400},800,null,{"$f":"AE239+AF239-AG239","v":43200},800,null,{"$f":"AH239+AI239-AJ239","v":44000},800,null,{"$f":"AK239+AL239-AM239","v":44800}]
[{"$f":"VLOOKUP(B240,справочник!$B$2:$E$322,4,0)","v":239},{"$f":"CONCATENATE(C240;D240)","v":{"$error":"#VALUE!"}},250,"Салопаева Татьяна Сергеевна","50:03:0070280:722","2012-03-05","2012-03-01",{"$f":"INT(($H$325-G240)/30)","v":46},{"$f":"H240*1000","v":46000},26000,null,{"$f":"I240-J240-K240","v":20000},{"$nulls":12},{"$f":"SUM(M240:X240)","v":0},12,{"$f":"Z240*800","v":9600},{"$f":"L240+AA240-Y240","v":29600},800,null,{"$f":"AB240+AC240-AD240","v":30400},800,null,{"$f":"AE240+AF240-AG240","v":31200},800,null,{"$f":"AH240+AI240-AJ240","v":32000},800,null,{"$f":"AK240+AL240-AM240","v":32800}]
[{"$f":"VLOOKUP(B241,справочник!$B$2:$E$322,4,0)","v":238},{"$f":"CONCATENATE(C241;D241)","v":{"$error":"#VALUE!"}},249,"Самоволькина Ирина Владимировна","50:03:0070280:723","2012-06-19","2012-06-01",{"$f":"INT(($H$325-G241)/30)","v":43},{"$f":"H241*1000","v":43000},null,null,{"$f":"I241-J241-K241","v":43000},{"$nulls":12},{"$f":"SUM(M241:X241)","v":0},12,{"$f":"Z241*800","v":9600},{"$f":"L241+AA241-Y241","v":52600},800,null,{"$f":"AB241+AC241-AD241","v":53400},800,null,{"$f":"AE241+AF241-AG241","v":54200},800,null,{"$f":"AH241+AI241-AJ241","v":55000},800,null,{"$f":"AK241+AL241-AM241","v":55800}]
[{"$f":"VLOOKUP(B242,справочник!$B$2:$E$322,4,0)","v":297},{"$f":"CONCATENATE(C242;D242)","v":{"$error":"#VALUE!"}},312,"Саргсян Оганнес Ншанович","50:03:0070280:1003","2014-12-31","2015-01-01",{"$f":"INT(($H$325-G242)/30)","v":12},{"$f":"H242*1000","v":12000},null,null,{"$f":"I242-J242-K242","v":12000},{"$nulls":12},{"$f":"SUM(M242:X242)","v":0},12,{"$f":"Z242*800","v":9600},{"$f":"L242+AA242-Y242","v":21600},800,null,{"$f":"AB242+AC242-AD242","v":22400},800,null,{"$f":"AE242+AF242-AG242","v":23200},800,null,{"$f":"AH242+AI242-AJ242","v":24000},800,null,{"$f":"AK242+AL242-AM242","v":24800}]
[{"$f":"VLOOKUP(B243,справочник!$B$2:$E$322,4,0)","v":128},{"$f":"CONCATENATE(C243;D243)","v":{"$error":"#VALUE!"}},135,"Сафронова Наталья Михайловна (у Дедков Илья Егорьевич купила)","50:03:0070280:976","2013-03-25","2013-04-01",{"$f":"INT(($H$325-G243)/30)","v":33},{"$f":"H243*1000","v":33000},26000,null,{"$f":"I243-J243-K243","v":7000},4000,{"$nulls":7},3200,null,2400,null,{"$f":"SUM(M243:X243)","v":9600},12,{"$f":"Z243*800","v":9600},{"$f":"L243+AA243-Y243","v":7000},800,null,{"$f":"AB243+AC243-AD243","v":7800},800,null,{"$f":"AE243+AF243-AG243","v":8600},800,null,{"$f":"AH243+AI243-AJ243","v":9400},800,5433.38,{"$f":"AK243+AL243-AM243","v":4766.62}]
[{"$f":"VLOOKUP(B244,справочник!$B$2:$E$322,4,0)","v":67},{"$f":"CONCATENATE(C244;D244)","v":{"$error":"#VALUE!"}},69,"Сбитнева Юлия Сергеевна","50:03:0070280:881","2012-04-13","2012-04-01",{"$f":"INT(($H$325-G244)/30)","v":45},{"$f":"H244*1000","v":45000},1000,null,{"$f":"I244-J244-K244","v":44000},{"$nulls":12},{"$f":"SUM(M244:X244)","v":0},12,{"$f":"Z244*800","v":9600},{"$f":"L244+AA244-Y244","v":53600},800,null,{"$f":"AB244+AC244-AD244","v":54400},800,null,{"$f":"AE244+AF244-AG244","v":55200},800,null,{"$f":"AH244+AI244-AJ244","v":56000},800,null,{"$f":"AK244+AL244-AM244","v":56800}]
[{"$f":"VLOOKUP(B245,справочник!$B$2:$E$322,4,0)","v":{"$error":"#VALUE!"}},{"$f":"CONCATENATE(C245;D245)","v":{"$error":"#VALUE!"}},"290___","Севастьянов Михаил Григорьевич","50:03:0070280:779","2011-12-20","2012-01-01",30,{"$f":"H245*1000","v":30000},1000,null,{"$f":"I245-J245-K245","v":29000},{"$nulls":12},{"$f":"SUM(M245:X245)","v":0},null,{"$f":"Z245*800","v":0},{"$f":"L245+AA245-Y245","v":29000},null,null,{"$f":"AB245+AC245-AD245","v":29000},null,null,{"$f":"AE245+AF245-AG245","v":29000},null,null,{"$f":"AH245+AI245-AJ245","v":29000},null,null,{"$f":"AK245+AL245-AM245","v":29000}]
[{"$f":"VLOOKUP(B246,справочник!$B$2:$E$322,4,0)","v":280},{"$f":"CONCATENATE(C246;D246)","v":{"$error":"#VALUE!"}},292,"Севрюгина Ольга Викторовна","50:03:0070280:777","2011-12-20","2011-12-01",{"$f":"INT(($H$325-G246)/30)","v":49},{"$f":"H246*1000","v":49000},{"$f":"43000+1000","v":44000},null,{"$f":"I246-J246-K246","v":5000},{"$nulls":12},{"$f":"SUM(M246:X246)","v":0},12,{"$f":"Z246*800","v":9600},{"$f":"L246+AA246-Y246","v":14600},800,null,{"$f":"AB246+AC246-AD246","v":15400},800,null,{"$f":"AE246+AF246-AG246","v":16200},800,null,{"$f":"AH246+AI246-AJ246","v":17000},800,null,{"$f":"AK246+AL246-AM246","v":17800}]
[{"$f":"VLOOKUP(B247,справочник!$B$2:$E$322,4,0)","v":215},{"$f":"CONCATENATE(C247;D247)","v":{"$error":"#VALUE!"}},224,"Семенова Рима Прановна","50:03:0070280:839","2014-05-13","2014-06-01",{"$f":"INT(($H$325-G247)/30)","v":19},{"$f":"H247*1000","v":19000},16000,null,{"$f":"I247-J247-K247","v":3000},null,7000,{"$nulls":9},10000,{"$f":"SUM(M247:X247)","v":17000},12,{"$f":"Z247*800","v":9600},{"$f":"L247+AA247-Y247","v":-4400},800,null,{"$f":"AB247+AC247-AD247","v":-3600},800,null,{"$f":"AE247+AF247-AG247","v":-2800},800,null,{"$f":"AH247+AI247-AJ247","v":-2000},800,null,{"$f":"AK247+AL247-AM247","v":-1200}]
[{"$f":"VLOOKUP(B248,справочник!$B$2:$E$322,4,0)","v":241},{"$f":"CONCATENATE(C248;D248)","v":{"$error":"#VALUE!"}},252,"Сёмин Александр Иванович","50:03:0070280:793","2011-05-14","2011-06-01",{"$f":"INT(($H$325-G248)/30)","v":55},{"$f":"H248*1000","v":55000},{"$f":"7000+41000","v":48000},4800,{"$f":"I248-J248-K248","v":2200},3000,800,800,null,null,2400,800,800,800,800,800,800,{"$f":"SUM(M248:X248)","v":11800},12,{"$f":"Z248*800","v":9600},{"$f":"L248+AA248-Y248","v":0},800,800,{"$f":"AB248+AC248-AD248","v":0},800,800,{"$f":"AE248+AF248-AG248","v":0},800,{"$f":"800+800","v":1600},{"$f":"AH248+AI248-AJ248","v":-800},800,null,{"$f":"AK248+AL248-AM248","v":0}]
[{"$f":"VLOOKUP(B249,справочник!$B$2:$E$322,4,0)","v":161},{"$f":"CONCATENATE(C249;D249)","v":{"$error":"#VALUE!"}},169,"Сергиенко Николай Михайлович","50:03:0070280:923","2012-05-10","2012-05-01",{"$f":"INT(($H$325-G249)/30)","v":44},{"$f":"H249*1000","v":44000},38000,null,{"$f":"I249-J249-K249","v":6000},{"$nulls":12},{"$f":"SUM(M249:X249)","v":0},12,{"$f":"Z249*800","v":9600},{"$f":"L249+AA249-Y249","v":15600},800,null,{"$f":"AB249+AC249-AD249","v":16400},800,null,{"$f":"AE249+AF249-AG249","v":17200},800,null,{"$f":"AH249+AI249-AJ249","v":18000},800,null,{"$f":"AK249+AL249-AM249","v":18800}]
[{"$f":"VLOOKUP(B250,справочник!$B$2:$E$322,4,0)","v":272},{"$f":"CONCATENATE(C250;D250)","v":{"$error":"#VALUE!"}},285,"Серебряков Игорь Васильевич","50:03:0070280:715","2015-02-09","2015-03-01",{"$f":"INT(($H$325-G250)/30)","v":10},{"$f":"H250*1000","v":10000},5000,null,{"$f":"I250-J250-K250","v":5000},{"$nulls":6},12000,{"$nulls":5},{"$f":"SUM(M250:X250)","v":12000},12,{"$f":"Z250*800","v":9600},{"$f":"L250+AA250-Y250","v":2600},800,null,{"$f":"AB250+AC250-AD250","v":3400},800,null,{"$f":"AE250+AF250-AG250","v":4200},800,1600,{"$f":"AH250+AI250-AJ250","v":3400},800,null,{"$f":"AK250+AL250-AM250","v":4200}]
[{"$f":"VLOOKUP(B251,справочник!$B$2:$E$322,4,0)","v":19},{"$f":"CONCATENATE(C251;D251)","v":{"$error":"#VALUE!"}},19,"Серкин Сергей Львовович","50:03:0070280:743","2013-05-27","2013-07-01",{"$f":"INT(($H$325-G251)/30)","v":30},{"$f":"H251*1000","v":30000},30000,null,{"$f":"I251-J251-K251","v":0},{"$nulls":5},4000,null,null,null,5600,null,null,{"$f":"SUM(M251:X251)","v":9600},12,{"$f":"Z251*800","v":9600},{"$f":"L251+AA251-Y251","v":0},800,null,{"$f":"AB251+AC251-AD251","v":800},800,null,{"$f":"AE251+AF251-AG251","v":1600},800,4000,{"$f":"AH251+AI251-AJ251","v":-1600},800,null,{"$f":"AK251+AL251-AM251","v":-800}]
[{"$f":"VLOOKUP(B252,справочник!$B$2:$E$322,4,0)","v":310},{"$f":"CONCATENATE(C252;D252)","v":{"$error":"#VALUE!"}},"133-134","Сидельникова Ольга Петровна","50:03:0070280:979","2011-08-23","2011-09-01",{"$f":"INT(($H$325-G252)/30)","v":52},{"$f":"H252*1000","v":52000},12000,null,{"$f":"I252-J252-K252","v":40000},5000,null,5000,4950,5000,null,800,3975,800,800,null,null,{"$f":"SUM(M252:X252)","v":26325},12,{"$f":"Z252*800","v":9600},{"$f":"L252+AA252-Y252","v":23275},800,null,{"$f":"AB252+AC252-AD252","v":24075},800,null,{"$f":"AE252+AF252-AG252","v":24875},800,null,{"$f":"AH252+AI252-AJ252","v":25675},800,null,{"$f":"AK252+AL252-AM252","v":26475}]
[{"$f":"VLOOKUP(B253,справочник!$B$2:$E$322,4,0)","v":205},{"$f":"CONCATENATE(C253;D253)","v":{"$error":"#VALUE!"}},215,"Сидоров Александр Юрьевич","50:03:0070280:848","2012-04-24","2012-04-01",{"$f":"INT(($H$325-G253)/30)","v":45},{"$f":"H253*1000","v":45000},33000,null,{"$f":"I253-J253-K253","v":12000},{"$nulls":6},12000,{"$nulls":5},{"$f":"SUM(M253:X253)","v":12000},12,{"$f":"Z253*800","v":9600},{"$f":"L253+AA253-Y253","v":9600},800,null,{"$f":"AB253+AC253-AD253","v":10400},800,null,{"$f":"AE253+AF253-AG253","v":11200},800,null,{"$f":"AH253+AI253-AJ253","v":12000},800,null,{"$f":"AK253+AL253-AM253","v":12800}]
[{"$f":"VLOOKUP(B254,справочник!$B$2:$E$322,4,0)","v":107},{"$f":"CONCATENATE(C254;D254)","v":{"$error":"#VALUE!"}},112,"Сиротин Дмитрий Борисович (Приставалова)","50:03:0070280:816","2012-01-24","2012-01-01",{"$f":"INT(($H$325-G254)/30)","v":48},{"$f":"H254*1000","v":48000},40000,4000,{"$f":"I254-J254-K254","v":4000},null,2000,3600,1600,null,800,1600,800,null,800,800,null,{"$f":"SUM(M254:X254)","v":12000},12,{"$f":"Z254*800","v":9600},{"$f":"L254+AA254-Y254","v":1600},800,null,{"$f":"AB254+AC254-AD254","v":2400},800,{"$f":"1600+1600","v":3200},{"$f":"AE254+AF254-AG254","v":0},800,800,{"$f":"AH254+AI254-AJ254","v":0},800,null,{"$f":"AK254+AL254-AM254","v":800}]
[{"$f":"VLOOKUP(B255,справочник!$B$2:$E$322,4,0)","v":48},{"$f":"CONCATENATE(C255;D255)","v":{"$error":"#VALUE!"}},48,"Сломов Константин Витальевич","50:03:0070280:989","2011-08-31","2011-09-01",{"$f":"INT(($H$325-G255)/30)","v":52},{"$f":"H255*1000","v":52000},{"$f":"1000+22000","v":23000},null,{"$f":"I255-J255-K255","v":29000},{"$nulls":6},33800,1600,1600,null,1600,null,{"$f":"SUM(M255:X255)","v":38600},12,{"$f":"Z255*800","v":9600},{"$f":"L255+AA255-Y255","v":0},800,1600,{"$f":"AB255+AC255-AD255","v":-800},800,null,{"$f":"AE255+AF255-AG255","v":0},800,1600,{"$f":"AH255+AI255-AJ255","v":-800},800,null,{"$f":"AK255+AL255-AM255","v":0}]
[{"$f":"VLOOKUP(B256,справочник!$B$2:$E$322,4,0)","v":237},{"$f":"CONCATENATE(C256;D256)","v":{"$error":"#VALUE!"}},248,"Смирнов Максим Анатольевич, Светлана","50:03:0070280:870","2012-05-07","2012-05-01",{"$f":"INT(($H$325-G256)/30)","v":44},{"$f":"H256*1000","v":44000},13000,null,{"$f":"I256-J256-K256","v":31000},31000,null,2000,{"$nulls":9},{"$f":"SUM(M256:X256)","v":33000},12,{"$f":"Z256*800","v":9600},{"$f":"L256+AA256-Y256","v":7600},800,null,{"$f":"AB256+AC256-AD256","v":8400},800,null,{"$f":"AE256+AF256-AG256","v":9200},800,null,{"$f":"AH256+AI256-AJ256","v":10000},800,null,{"$f":"AK256+AL256-AM256","v":10800}]
[{"$f":"VLOOKUP(B257,справочник!$B$2:$E$322,4,0)","v":263},{"$f":"CONCATENATE(C257;D257)","v":{"$error":"#VALUE!"}},276,"Соколова Ирина Анатольевна","50:03:0070280:727","2013-01-15","2013-02-01",{"$f":"INT(($H$325-G257)/30)","v":35},{"$f":"H257*1000","v":35000},32000,null,{"$f":"I257-J257-K257","v":3000},null,2600,800,{"$nulls":5},2400,null,null,2400,{"$f":"SUM(M257:X257)","v":8200},12,{"$f":"Z257*800","v":9600},{"$f":"L257+AA257-Y257","v":4400},800,null,{"$f":"AB257+AC257-AD257","v":5200},800,{"$f":"1600+2400","v":4000},{"$f":"AE257+AF257-AG257","v":2000},800,null,{"$f":"AH257+AI257-AJ257","v":2800},800,null,{"$f":"AK257+AL257-AM257","v":3600}]
[{"$f":"VLOOKUP(B258,справочник!$B$2:$E$322,4,0)","v":100},{"$f":"CONCATENATE(C258;D258)","v":{"$error":"#VALUE!"}},105,"Солодкий Дмитрий Павлович","50:03:0070280:771","2012-06-05","2012-06-01",{"$f":"INT(($H$325-G258)/30)","v":43},{"$f":"H258*1000","v":43000},28000,null,{"$f":"I258-J258-K258","v":15000},5050.3,{"$nulls":5},2800,2000,{"$nulls":4},{"$f":"SUM(M258:X258)","v":9850.3},12,{"$f":"Z258*800","v":9600},{"$f":"L258+AA258-Y258","v":14749.7},800,null,{"$f":"AB258+AC258-AD258","v":15549.7},800,null,{"$f":"AE258+AF258-AG258","v":16349.7},800,null,{"$f":"AH258+AI258-AJ258","v":17149.7},800,null,{"$f":"AK258+AL258-AM258","v":17949.7}]
[{"$f":"VLOOKUP(B259,справочник!$B$2:$E$322,4,0)","v":131},{"$f":"CONCATENATE(C259;D259)","v":{"$error":"#VALUE!"}},138,"Спивак Сергей Николаевич","50:03:0070280:974","2012-07-24","2012-08-01",{"$f":"INT(($H$325-G259)/30)","v":41},{"$f":"H259*1000","v":41000},23000,6000,{"$f":"I259-J259-K259","v":12000},null,null,null,14400,{"$nulls":5},5600,null,1600,{"$f":"SUM(M259:X259)","v":21600},12,{"$f":"Z259*800","v":9600},{"$f":"L259+AA259-Y259","v":0},800,null,{"$f":"AB259+AC259-AD259","v":800},800,null,{"$f":"AE259+AF259-AG259","v":1600},800,null,{"$f":"AH259+AI259-AJ259","v":2400},800,null,{"$f":"AK259+AL259-AM259","v":3200}]
[{"$f":"VLOOKUP(B260,справочник!$B$2:$E$322,4,0)","v":183},{"$f":"CONCATENATE(C260;D260)","v":{"$error":"#VALUE!"}},191,"Спиридонов Андрей Владимирович","50:03:0070280:917","2013-08-19","2013-09-01",{"$f":"INT(($H$325-G260)/30)","v":28},{"$f":"H260*1000","v":28000},1000,null,{"$f":"I260-J260-K260","v":27000},20000,{"$nulls":6},{"$f":"15393+2250+15000+5000","v":37643},6000,null,null,null,{"$f":"SUM(M260:X260)","v":63643},12,{"$f":"Z260*800","v":9600},{"$f":"L260+AA260-Y260","v":-27043},800,null,{"$f":"SUM(AB260:AB261)+SUM(AC260:AC261)-SUM(AD260:AD261)","v":757},800,null,{"$f":"SUM(AE260:AE261)+SUM(AF260:AF261)-SUM(AG260:AG261)","v":1557},800,null,{"$f":"SUM(AH260:AH261)+SUM(AI260:AI261)-SUM(AJ260:AJ261)","v":0},800,null,{"$f":"SUM(AK260:AK261)+SUM(AL260:AL261)-SUM(AM260:AM261)","v":800}]
[{"$f":"VLOOKUP(B261,справочник!$B$2:$E$322,4,0)","v":183},{"$f":"CONCATENATE(C261;D261)","v":{"$error":"#VALUE!"}},192,"Спиридонов Андрей Владимирович","50:03:0070280:916","2013-08-19","2013-09-01",{"$f":"INT(($H$325-G261)/30)","v":28},{"$f":"H261*1000","v":28000},1000,null,{"$f":"I261-J261-K261","v":27000},{"$nulls":12},{"$f":"SUM(M261:X261)","v":0},0,{"$f":"Z261*800","v":0},{"$f":"L261+AA261-Y261","v":27000},0,null,null,0,null,null,0,2357,null,0]
[{"$f":"VLOOKUP(B262,справочник!$B$2:$E$322,4,0)","v":21},{"$f":"CONCATENATE(C262;D262)","v":{"$error":"#VALUE!"}},21,"Старостин Виктор Вячеславович","50:03:0070280:745","2012-07-17","2012-07-01",{"$f":"INT(($H$325-G262)/30)","v":42},{"$f":"H262*1000","v":42000},40000,null,{"$f":"I262-J262-K262","v":2000},{"$nulls":8},10000,null,null,null,{"$f":"SUM(M262:X262)","v":10000},12,{"$f":"Z262*800","v":9600},{"$f":"L262+AA262-Y262","v":1600},800,4000,{"$f":"AB262+AC262-AD262","v":-1600},800,null,{"$f":"AE262+AF262-AG262","v":-800},800,null,{"$f":"AH262+AI262-AJ262","v":0},800,null,{"$f":"AK262+AL262-AM262","v":800}]
[{"$f":"VLOOKUP(B263,справочник!$B$2:$E$322,4,0)","v":298},{"$f":"CONCATENATE(C263;D263)","v":{"$error":"#VALUE!"}},313,"Степанов Валерий Владимирович","50:03:0070280:1004","2014-12-21","2015-01-01",{"$f":"INT(($H$325-G263)/30)","v":12},{"$f":"H263*1000","v":12000},12000,null,{"$f":"I263-J263-K263","v":0},null,4800,{"$nulls":6},5000,null,null,null,{"$f":"SUM(M263:X263)","v":9800},12,{"$f":"Z263*800","v":9600},{"$f":"L263+AA263-Y263","v":-200},800,null,{"$f":"AB263+AC263-AD263","v":600},800,null,{"$f":"AE263+AF263-AG263","v":1400},800,null,{"$f":"AH263+AI263-AJ263","v":2200},800,3600,{"$f":"AK263+AL263-AM263","v":-600}]
[{"$f":"VLOOKUP(B264,справочник!$B$2:$E$322,4,0)","v":91},{"$f":"CONCATENATE(C264;D264)","v":{"$error":"#VALUE!"}},96,"Степанова Марина Николаевна (Артем)","50:03:0070280:824","2012-06-10","2012-06-01",{"$f":"INT(($H$325-G264)/30)","v":43},{"$f":"H264*1000","v":43000},12000,null,{"$f":"I264-J264-K264","v":31000},{"$nulls":6},15000,{"$nulls":5},{"$f":"SUM(M264:X264)","v":15000},12,{"$f":"Z264*800","v":9600},{"$f":"L264+AA264-Y264","v":25600},800,null,{"$f":"AB264+AC264-AD264","v":26400},800,null,{"$f":"AE264+AF264-AG264","v":27200},800,null,{"$f":"AH264+AI264-AJ264","v":28000},800,null,{"$f":"AK264+AL264-AM264","v":28800}]
[{"$f":"VLOOKUP(B265,справочник!$B$2:$E$322,4,0)","v":54},{"$f":"CONCATENATE(C265;D265)","v":{"$error":"#VALUE!"}},56,"Стрелков Андрей Вячеславович","50:03:0070280:965","2012-10-02","2012-11-01",{"$f":"INT(($H$325-G265)/30)","v":38},{"$f":"H265*1000","v":38000},38000,null,{"$f":"I265-J265-K265","v":0},{"$nulls":12},{"$f":"SUM(M265:X265)","v":0},0,{"$f":"Z265*800","v":0},{"$f":"L265+AA265-Y265","v":0},0,null,{"$f":"AB265+AC265-AD265","v":0},0,null,{"$f":"AE265+AF265-AG265","v":0},0,null,{"$f":"AH265+AI265-AJ265","v":0},0,null,{"$f":"AK265+AL265-AM265","v":0}]
[{"$f":"VLOOKUP(B266,справочник!$B$2:$E$322,4,0)","v":317},{"$f":"CONCATENATE(C266;D266)","v":{"$error":"#VALUE!"}},"51-52","Стрелков Андрей Вячеславович","50:03:0070280:970","2012-10-02","2012-11-01",{"$f":"INT(($H$325-G266)/30)*2","v":76},89000,89000,null,{"$f":"I266-J266-K266","v":0},{"$nulls":8},6400,null,null,null,{"$f":"SUM(M266:X266)","v":6400},12,{"$f":"Z266*800","v":9600},{"$f":"L266+AA266-Y266","v":3200},800,null,{"$f":"AB266+AC266-AD266","v":4000},800,4800,{"$f":"AE266+AF266-AG266","v":0},800,800,{"$f":"AH266+AI266-AJ266","v":0},800,null,{"$f":"AK266+AL266-AM266","v":800}]
[{"$f":"VLOOKUP(B267,справочник!$B$2:$E$322,4,0)","v":268},{"$f":"CONCATENATE(C267;D267)","v":{"$error":"#VALUE!"}},281,"Стрелков Николай Валентинович","50:03:0070280:719","2012-10-02","2012-11-01",{"$f":"INT(($H$325-G267)/30)","v":38},{"$f":"H267*1000","v":38000},28000,null,{"$f":"I267-J267-K267","v":10000},3000,null,null,3000,null,3000,null,null,3000,null,null,null,{"$f":"SUM(M267:X267)","v":12000},12,{"$f":"Z267*800","v":9600},{"$f":"L267+AA267-Y267","v":7600},800,null,{"$f":"AB267+AC267-AD267","v":8400},800,3000,{"$f":"AE267+AF267-AG267","v":6200},800,null,{"$f":"AH267+AI267-AJ267","v":7000},800,null,{"$f":"AK267+AL267-AM267","v":7800}]
[{"$f":"VLOOKUP(B268,справочник!$B$2:$E$322,4,0)","v":172},{"$f":"CONCATENATE(C268;D268)","v":{"$error":"#VALUE!"}},180,"Ступнев Евгений  Романович","50:03:0070280:765","2011-09-23","2011-09-01",{"$f":"INT(($H$325-G268)/30)","v":52},{"$f":"H268*1000","v":52000},{"$f":"13000+1000","v":14000},null,{"$f":"I268-J268-K268","v":38000},{"$nulls":9},10200,null,null,{"$f":"SUM(M268:X268)","v":10200},12,{"$f":"Z268*800","v":9600},{"$f":"L268+AA268-Y268","v":37400},800,null,{"$f":"AB268+AC268-AD268","v":38200},800,null,{"$f":"AE268+AF268-AG268","v":39000},800,null,{"$f":"AH268+AI268-AJ268","v":39800},800,null,{"$f":"AK268+AL268-AM268","v":40600}]
[{"$f":"VLOOKUP(B269,справочник!$B$2:$E$322,4,0)","v":116},{"$f":"CONCATENATE(C269;D269)","v":{"$error":"#VALUE!"}},121,"Суворов Сергей Анатольевич","50:03:0070280:1018","2013-09-14","2013-09-01",{"$f":"INT(($H$325-G269)/30)","v":28},{"$f":"H269*1000","v":28000},20000,null,{"$f":"I269-J269-K269","v":8000},null,null,10000,{"$nulls":9},{"$f":"SUM(M269:X269)","v":10000},12,{"$f":"Z269*800","v":9600},{"$f":"L269+AA269-Y269","v":7600},800,null,{"$f":"AB269+AC269-AD269","v":8400},800,null,{"$f":"AE269+AF269-AG269","v":9200},800,null,{"$f":"AH269+AI269-AJ269","v":10000},800,null,{"$f":"AK269+AL269-AM269","v":10800}]
[{"$f":"VLOOKUP(B270,справочник!$B$2:$E$322,4,0)","v":57},{"$f":"CONCATENATE(C270;D270)","v":{"$error":"#VALUE!"}},59,"Суркова Татьяна Александровна","50:03:0070280:962","2012-05-15","2012-05-01",{"$f":"INT(($H$325-G270)/30)","v":44},{"$f":"H270*1000","v":44000},34000,null,{"$f":"I270-J270-K270","v":10000},null,null,null,10000,{"$nulls":8},{"$f":"SUM(M270:X270)","v":10000},0,{"$f":"Z270*800","v":0},{"$f":"L270+AA270-Y270","v":0},0,null,{"$f":"AB270+AC270-AD270","v":0},0,null,{"$f":"AE270+AF270-AG270","v":0},0,null,{"$f":"AH270+AI270-AJ270","v":0},0,null,{"$f":"AK270+AL270-AM270","v":0}]
[{"$f":"VLOOKUP(B271,справочник!$B$2:$E$322,4,0)","v":46},{"$f":"CONCATENATE(C271;D271)","v":{"$error":"#VALUE!"}},46,"Сысоев Евгений Анатольевич","50:03:0070280:971","2013-04-18","2013-05-01",{"$f":"INT(($H$325-G271)/30)","v":32},{"$f":"H271*1000","v":32000},17000,null,{"$f":"I271-J271-K271","v":15000},{"$nulls":12},{"$f":"SUM(M271:X271)","v":0},12,{"$f":"Z271*800","v":9600},{"$f":"L271+AA271-Y271","v":24600},800,null,{"$f":"AB271+AC271-AD271","v":25400},800,null,{"$f":"AE271+AF271-AG271","v":26200},800,null,{"$f":"AH271+AI271-AJ271","v":27000},800,null,{"$f":"AK271+AL271-AM271","v":27800}]
[{"$f":"VLOOKUP(B272,справочник!$B$2:$E$322,4,0)","v":73},{"$f":"CONCATENATE(C272;D272)","v":{"$error":"#VALUE!"}},79,"Сысоев Семен Евгеньевич","50:03:0070280:748","2013-04-18","2013-05-01",{"$f":"INT(($H$325-G272)/30)","v":32},{"$f":"H272*1000","v":32000},21000,null,{"$f":"I272-J272-K272","v":11000},{"$nulls":12},{"$f":"SUM(M272:X272)","v":0},12,{"$f":"Z272*800","v":9600},{"$f":"L272+AA272-Y272","v":20600},800,null,{"$f":"AB272+AC272-AD272","v":21400},800,null,{"$f":"AE272+AF272-AG272","v":22200},800,null,{"$f":"AH272+AI272-AJ272","v":23000},800,null,{"$f":"AK272+AL272-AM272","v":23800}]
[{"$f":"VLOOKUP(B273,справочник!$B$2:$E$322,4,0)","v":162},{"$f":"CONCATENATE(C273;D273)","v":{"$error":"#VALUE!"}},170,"Тадлов Виталий Петрович","50:03:0070280:770","2014-06-10","2014-07-01",{"$f":"INT(($H$325-G273)/30)","v":18},{"$f":"H273*1000","v":18000},12000,null,{"$f":"I273-J273-K273","v":6000},{"$nulls":4},12000,{"$nulls":7},{"$f":"SUM(M273:X273)","v":12000},12,{"$f":"Z273*800","v":9600},{"$f":"L273+AA273-Y273","v":3600},800,null,{"$f":"AB273+AC273-AD273","v":4400},800,null,{"$f":"AE273+AF273-AG273","v":5200},800,null,{"$f":"AH273+AI273-AJ273","v":6000},800,null,{"$f":"AK273+AL273-AM273","v":6800}]
[{"$f":"VLOOKUP(B274,справочник!$B$2:$E$322,4,0)","v":252},{"$f":"CONCATENATE(C274;D274)","v":{"$error":"#VALUE!"}},263,"Тарасенко Анатолий Семенович","50:03:0070280:740","2014-11-24","2014-12-01",{"$f":"INT(($H$325-G274)/30)","v":13},{"$f":"H274*1000","v":13000},8000,null,{"$f":"I274-J274-K274","v":5000},null,800,1600,null,1600,null,1600,800,800,null,800,{"$f":"800+800","v":1600},{"$f":"SUM(M274:X274)","v":9600},12,{"$f":"Z274*800","v":9600},{"$f":"L274+AA274-Y274","v":5000},800,null,{"$f":"SUM(AB274:AB275)+SUM(AC274:AC275)-SUM(AD274:AD275)","v":10800},800,800,{"$f":"SUM(AE274:AE275)+SUM(AF274:AF275)-SUM(AG274:AG275)","v":10800},800,800,{"$f":"SUM(AH274:AH275)+SUM(AI274:AI275)-SUM(AJ274:AJ275)","v":10800},800,4565.43,{"$f":"SUM(AK274:AK275)+SUM(AL274:AL275)-SUM(AM274:AM275)","v":7034.57}]
[{"$f":"VLOOKUP(B275,справочник!$B$2:$E$322,4,0)","v":252},{"$f":"CONCATENATE(C275;D275)","v":{"$error":"#VALUE!"}},264,"Тарасенко Анатолий Семенович","50:03:0070280:739","2014-11-24","2014-12-01",{"$f":"INT(($H$325-G275)/30)","v":13},{"$f":"H275*1000","v":13000},8000,null,{"$f":"I275-J275-K275","v":5000},{"$nulls":12},{"$f":"SUM(M275:X275)","v":0},0,{"$f":"Z275*800","v":0},{"$f":"L275+AA275-Y275","v":5000},0,null,null,0,null,null,0,null,null,0]
[{"$f":"VLOOKUP(B276,справочник!$B$2:$E$322,4,0)","v":45},{"$f":"CONCATENATE(C276;D276)","v":{"$error":"#VALUE!"}},45,"Темникова Елена Станиславовна","50:03:0070280:988","2012-05-15","2012-05-01",{"$f":"INT(($H$325-G276)/30)","v":44},{"$f":"H276*1000","v":44000},{"$f":"27000+8000","v":35000},9000,{"$f":"I276-J276-K276","v":0},800,800,800,800,800,800,800,800,3200,2600,null,null,{"$f":"SUM(M276:X276)","v":12200},12,{"$f":"Z276*800","v":9600},{"$f":"L276+AA276-Y276","v":-2600},800,null,{"$f":"AB276+AC276-AD276","v":-1800},800,1600,{"$f":"AE276+AF276-AG276","v":-2600},800,null,{"$f":"AH276+AI276-AJ276","v":-1800},800,2400,{"$f":"AK276+AL276-AM276","v":-3400}]
[{"$f":"VLOOKUP(B277,справочник!$B$2:$E$322,4,0)","v":319},{"$f":"CONCATENATE(C277;D277)","v":{"$error":"#VALUE!"}},"73-74","Тимофеева Лариса Викторовна","50:03:0070280:884","2011-08-19","2011-09-01",{"$f":"INT(($H$325-G277)/30)","v":52},76000,{"$f":"8000+68000","v":76000},null,{"$f":"I277-J277-K277","v":0},null,2000,null,4000,4000,null,null,4000,null,4000,4000,null,{"$f":"SUM(M277:X277)","v":22000},12,{"$f":"Z277*800","v":9600},{"$f":"L277+AA277-Y277","v":-12400},800,null,{"$f":"AB277+AC277-AD277","v":-11600},800,4000,{"$f":"AE277+AF277-AG277","v":-14800},800,null,{"$f":"AH277+AI277-AJ277","v":-14000},800,null,{"$f":"AK277+AL277-AM277","v":-13200}]
[{"$f":"VLOOKUP(B278,справочник!$B$2:$E$322,4,0)","v":93},{"$f":"CONCATENATE(C278;D278)","v":{"$error":"#VALUE!"}},98,"Тимофеева Татьяна Александровна (Денис)","50:03:0070280:828","2011-08-19","2011-09-01",{"$f":"INT(($H$325-G278)/30)","v":52},{"$f":"H278*1000","v":52000},{"$f":"4000+30000","v":34000},null,{"$f":"I278-J278-K278","v":18000},{"$nulls":12},{"$f":"SUM(M278:X278)","v":0},12,{"$f":"Z278*800","v":9600},{"$f":"L278+AA278-Y278","v":27600},800,null,{"$f":"AB278+AC278-AD278","v":28400},800,null,{"$f":"AE278+AF278-AG278","v":29200},800,null,{"$f":"AH278+AI278-AJ278","v":30000},800,null,{"$f":"AK278+AL278-AM278","v":30800}]
[{"$f":"VLOOKUP(B279,справочник!$B$2:$E$322,4,0)","v":255},{"$f":"CONCATENATE(C279;D279)","v":{"$error":"#VALUE!"}},268,"Толкова Елена Анатольевна (Олег)","50:03:0070280:735","2012-02-20","2012-03-01",{"$f":"INT(($H$325-G279)/30)","v":46},{"$f":"H279*1000","v":46000},{"$f":"37000+9000","v":46000},null,{"$f":"I279-J279-K279","v":0},null,null,3200,null,3200,{"$nulls":5},3200,null,{"$f":"SUM(M279:X279)","v":9600},12,{"$f":"Z279*800","v":9600},{"$f":"L279+AA279-Y279","v":0},800,null,{"$f":"AB279+AC279-AD279","v":800},800,null,{"$f":"AE279+AF279-AG279","v":1600},800,4800,{"$f":"AH279+AI279-AJ279","v":-2400},800,null,{"$f":"AK279+AL279-AM279","v":-1600}]
[{"$f":"VLOOKUP(B280,справочник!$B$2:$E$322,4,0)","v":167},{"$f":"CONCATENATE(C280;D280)","v":{"$error":"#VALUE!"}},175,"Трубченко Петр Александрович","50:03:0070280:890","2013-12-05","2014-01-01",{"$f":"INT(($H$325-G280)/30)","v":24},{"$f":"H280*1000","v":24000},12000,null,{"$f":"I280-J280-K280","v":12000},{"$nulls":12},{"$f":"SUM(M280:X280)","v":0},12,{"$f":"Z280*800","v":9600},{"$f":"L280+AA280-Y280","v":21600},800,null,{"$f":"AB280+AC280-AD280","v":22400},800,null,{"$f":"AE280+AF280-AG280","v":23200},800,null,{"$f":"AH280+AI280-AJ280","v":24000},800,null,{"$f":"AK280+AL280-AM280","v":24800}]
[{"$f":"VLOOKUP(B281,справочник!$B$2:$E$322,4,0)","v":99},{"$f":"CONCATENATE(C281;D281)","v":{"$error":"#VALUE!"}},104,"Трыкин Евгений Викторович","50:03:0070280:796","2012-07-14","2012-07-01",{"$f":"INT(($H$325-G281)/30)","v":42},{"$f":"H281*1000","v":42000},13000,null,{"$f":"I281-J281-K281","v":29000},{"$nulls":12},{"$f":"SUM(M281:X281)","v":0},12,{"$f":"Z281*800","v":9600},{"$f":"L281+AA281-Y281","v":38600},800,null,{"$f":"AB281+AC281-AD281","v":39400},800,null,{"$f":"AE281+AF281-AG281","v":40200},800,null,{"$f":"AH281+AI281-AJ281","v":41000},800,null,{"$f":"AK281+AL281-AM281","v":41800}]
[{"$f":"VLOOKUP(B282,справочник!$B$2:$E$322,4,0)","v":146},{"$f":"CONCATENATE(C282;D282)","v":{"$error":"#VALUE!"}},154,"Тюленев Вячеслав Рудольфович","50:03:0070280:956","2011-08-02","2011-08-01",{"$f":"INT(($H$325-G282)/30)","v":53},{"$f":"H282*1000","v":53000},{"$f":"31000","v":31000},null,{"$f":"I282-J282-K282","v":22000},{"$nulls":5},26000,{"$nulls":6},{"$f":"SUM(M282:X282)","v":26000},12,{"$f":"Z282*800","v":9600},{"$f":"L282+AA282-Y282","v":5600},800,null,{"$f":"AB282+AC282-AD282","v":6400},800,null,{"$f":"AE282+AF282-AG282","v":7200},800,null,{"$f":"AH282+AI282-AJ282","v":8000},800,null,{"$f":"AK282+AL282-AM282","v":8800}]
[{"$f":"VLOOKUP(B283,справочник!$B$2:$E$322,4,0)","v":{"$error":"#VALUE!"}},{"$f":"CONCATENATE(C283;D283)","v":{"$error":"#VALUE!"}},29,"Устинов Федор Валентинович",null,"2012-08-09","2012-08-01",{"$f":"INT(($H$325-G283)/30)","v":41},{"$f":"H283*1000","v":41000},32000,null,{"$f":"I283-J283-K283","v":9000},9000,1600,800,1600,null,null,2400,null,800,1600,null,1600,{"$f":"SUM(M283:X283)","v":19400},12,{"$f":"Z283*800","v":9600},{"$f":"L283+AA283-Y283","v":-800},800,null,{"$f":"AB283+AC283-AD283","v":0},800,null,{"$f":"AE283+AF283-AG283","v":800},800,1600,{"$f":"AH283+AI283-AJ283","v":0},800,800,{"$f":"AK283+AL283-AM283","v":0}]
[{"$f":"VLOOKUP(B284,справочник!$B$2:$E$322,4,0)","v":28},{"$f":"CONCATENATE(C284;D284)","v":{"$error":"#VALUE!"}},28,"Федорова Наталья Владимировна","50:03:0070280:857","2012-05-10","2012-05-01",{"$f":"INT(($H$325-G284)/30)","v":44},{"$f":"H284*1000","v":44000},{"$f":"33000+8000","v":41000},null,{"$f":"I284-J284-K284","v":3000},null,4000,null,2400,{"$nulls":4},5600,null,null,null,{"$f":"SUM(M284:X284)","v":12000},12,{"$f":"Z284*800","v":9600},{"$f":"L284+AA284-Y284","v":600},800,null,{"$f":"AB284+AC284-AD284","v":1400},800,null,{"$f":"AE284+AF284-AG284","v":2200},800,null,{"$f":"AH284+AI284-AJ284","v":3000},800,4800,{"$f":"AK284+AL284-AM284","v":-1000}]
[{"$f":"VLOOKUP(B285,справочник!$B$2:$E$322,4,0)","v":27},{"$f":"CONCATENATE(C285;D285)","v":{"$error":"#VALUE!"}},27,"Федорова Юлия Владимировна","50:03:0070280:856","2012-12-17","2013-01-01",{"$f":"INT(($H$325-G285)/30)","v":36},{"$f":"H285*1000","v":36000},24000,null,{"$f":"I285-J285-K285","v":12000},{"$nulls":12},{"$f":"SUM(M285:X285)","v":0},12,{"$f":"Z285*800","v":9600},{"$f":"L285+AA285-Y285","v":21600},800,null,{"$f":"AB285+AC285-AD285","v":22400},800,null,{"$f":"AE285+AF285-AG285","v":23200},800,null,{"$f":"AH285+AI285-AJ285","v":24000},800,null,{"$f":"AK285+AL285-AM285","v":24800}]
[{"$f":"VLOOKUP(B286,справочник!$B$2:$E$322,4,0)","v":135},{"$f":"CONCATENATE(C286;D286)","v":{"$error":"#VALUE!"}},"142-143","Финогин Сергей Александрович","50:03:0070280:1413","2011-10-18","2011-10-01",11,{"$f":"H286*1000","v":11000},1000,null,{"$f":"I286-J286-K286","v":10000},null,null,8000,null,null,21000,{"$nulls":6},{"$f":"SUM(M286:X286)","v":29000},12,{"$f":"Z286*800","v":9600},{"$f":"L286+AA286-Y286","v":-9400},800,null,{"$f":"SUM(AB286:AB288)+SUM(AC286:AC288)-SUM(AD286:AD288)","v":1400},800,null,{"$f":"SUM(AE286:AE288)+SUM(AF286:AF288)-SUM(AG286:AG288)","v":2200},800,null,{"$f":"SUM(AH286:AH288)+SUM(AI286:AI288)-SUM(AJ286:AJ288)","v":3000},800,null,{"$f":"SUM(AK286:AK288)+SUM(AL286:AL288)-SUM(AM286:AM288)","v":3800}]
[{"$f":"VLOOKUP(B287,справочник!$B$2:$E$322,4,0)","v":135},{"$f":"CONCATENATE(C287;D287)","v":{"$error":"#VALUE!"}},"142-143","Финогин Сергей Александрович",null,"2011-10-18","2011-10-01",11,{"$f":"H287*1000","v":11000},1000,null,{"$f":"I287-J287-K287","v":10000},{"$nulls":12},{"$f":"SUM(M287:X287)","v":0},0,{"$f":"Z287*800","v":0},{"$f":"L287+AA287-Y287","v":10000},0,null,null,0,null,null,0,null,null,0]
[{"$f":"VLOOKUP(B288,справочник!$B$2:$E$322,4,0)","v":135},{"$f":"CONCATENATE(C288;D288)","v":{"$error":"#VALUE!"}},"142-143","Финогин Сергей Александрович",null,"2012-10-01","2012-10-01",null,{"$f":"H288*1000","v":0},null,null,{"$f":"I288-J288-K288","v":0},{"$nulls":12},{"$f":"SUM(M288:X288)","v":0},0,{"$f":"Z288*800","v":0},{"$f":"L288+AA288-Y288","v":0},0,null,null,0,null,null,0,null,null,0]
[{"$f":"VLOOKUP(B289,справочник!$B$2:$E$322,4,0)","v":59},{"$f":"CONCATENATE(C289;D289)","v":{"$error":"#VALUE!"}},61,"Фисенко Вадим Петрович","50:03:0070280:930","2011-11-21","2011-11-01",{"$f":"INT(($H$325-G289)/30)","v":50},{"$f":"H289*1000","v":50000},{"$f":"1000+49000","v":50000},null,{"$f":"I289-J289-K289","v":0},2400,{"$nulls":11},{"$f":"SUM(M289:X289)","v":2400},12,{"$f":"Z289*800","v":9600},{"$f":"L289+AA289-Y289","v":7200},800,null,{"$f":"AB289+AC289-AD289","v":8000},800,null,{"$f":"AE289+AF289-AG289","v":8800},800,null,{"$f":"AH289+AI289-AJ289","v":9600},800,16800,{"$f":"AK289+AL289-AM289","v":-6400}]
[{"$f":"VLOOKUP(B290,справочник!$B$2:$E$322,4,0)","v":60},{"$f":"CONCATENATE(C290;D290)","v":{"$error":"#VALUE!"}},62,"Фисенко Дмитрий Петрович","50:03:0070280:931","2011-12-08","2011-12-01",{"$f":"INT(($H$325-G290)/30)","v":49},{"$f":"H290*1000","v":49000},{"$f":"8000+54000","v":62000},null,{"$f":"I290-J290-K290","v":-13000},{"$nulls":12},{"$f":"SUM(M290:X290)","v":0},12,{"$f":"Z290*800","v":9600},{"$f":"L290+AA290-Y290","v":-3400},800,null,{"$f":"AB290+AC290-AD290","v":-2600},800,null,{"$f":"AE290+AF290-AG290","v":-1800},800,null,{"$f":"AH290+AI290-AJ290","v":-1000},800,null,{"$f":"AK290+AL290-AM290","v":-200}]
[{"$f":"VLOOKUP(B291,справочник!$B$2:$E$322,4,0)","v":248},{"$f":"CONCATENATE(C291;D291)","v":{"$error":"#VALUE!"}},259,"Фомин Андрей Анатольевич","50:03:0070280:786","2013-12-20","2014-01-01",{"$f":"INT(($H$325-G291)/30)","v":24},{"$f":"H291*1000","v":24000},21300,null,{"$f":"I291-J291-K291","v":2700},{"$nulls":5},1700,1000,null,1600,null,8000,null,{"$f":"SUM(M291:X291)","v":12300},12,{"$f":"Z291*800","v":9600},{"$f":"L291+AA291-Y291","v":0},800,null,{"$f":"AB291+AC291-AD291","v":800},800,null,{"$f":"AE291+AF291-AG291","v":1600},800,null,{"$f":"AH291+AI291-AJ291","v":2400},800,null,{"$f":"AK291+AL291-AM291","v":3200}]
[{"$f":"VLOOKUP(B292,справочник!$B$2:$E$322,4,0)","v":247},{"$f":"CONCATENATE(C292;D292)","v":{"$error":"#VALUE!"}},258,"Фомин Игорь Анатольевич","50:03:0070280:787","2013-12-20","2014-01-01",{"$f":"INT(($H$325-G292)/30)","v":24},{"$f":"H292*1000","v":24000},13000,null,{"$f":"I292-J292-K292","v":11000},{"$nulls":10},20000,null,{"$f":"SUM(M292:X292)","v":20000},12,{"$f":"Z292*800","v":9600},{"$f":"L292+AA292-Y292","v":600},800,null,{"$f":"AB292+AC292-AD292","v":1400},800,null,{"$f":"AE292+AF292-AG292","v":2200},800,null,{"$f":"AH292+AI292-AJ292","v":3000},800,null,{"$f":"AK292+AL292-AM292","v":3800}]
[{"$f":"VLOOKUP(B293,справочник!$B$2:$E$322,4,0)","v":103},{"$f":"CONCATENATE(C293;D293)","v":{"$error":"#VALUE!"}},108,"Фомичев Александр Петрович","50:03:0070280:820","2011-06-21","2011-07-01",{"$f":"INT(($H$325-G293)/30)","v":54},{"$f":"H293*1000","v":54000},{"$f":"2000+45000","v":47000},null,{"$f":"I293-J293-K293","v":7000},6000,null,6000,{"$nulls":7},6000,null,{"$f":"SUM(M293:X293)","v":18000},12,{"$f":"Z293*800","v":9600},{"$f":"L293+AA293-Y293","v":-1400},800,null,{"$f":"AB293+AC293-AD293","v":-600},800,null,{"$f":"AE293+AF293-AG293","v":200},800,null,{"$f":"AH293+AI293-AJ293","v":1000},800,null,{"$f":"AK293+AL293-AM293","v":1800}]
[{"$f":"VLOOKUP(B294,справочник!$B$2:$E$322,4,0)","v":275},{"$f":"CONCATENATE(C294;D294)","v":{"$error":"#VALUE!"}},288,"Хайлов Алексей Анатольевич","50:03:0070280:712","2014-12-26","2015-01-01",{"$f":"INT(($H$325-G294)/30)","v":12},{"$f":"H294*1000","v":12000},null,null,{"$f":"I294-J294-K294","v":12000},{"$nulls":5},16000,800,800,800,800,800,null,{"$f":"SUM(M294:X294)","v":20000},12,{"$f":"Z294*800","v":9600},{"$f":"L294+AA294-Y294","v":1600},800,1600,{"$f":"AB294+AC294-AD294","v":800},800,800,{"$f":"AE294+AF294-AG294","v":800},800,800,{"$f":"AH294+AI294-AJ294","v":800},800,800,{"$f":"AK294+AL294-AM294","v":800}]
[{"$f":"VLOOKUP(B295,справочник!$B$2:$E$322,4,0)","v":22},{"$f":"CONCATENATE(C295;D295)","v":{"$error":"#VALUE!"}},22,"Хан Виталий Борисович","50:03:0070280:823","2012-07-17","2012-07-01",{"$f":"INT(($H$325-G295)/30)","v":42},{"$f":"H295*1000","v":42000},{"$f":"34000+6000","v":40000},null,{"$f":"I295-J295-K295","v":2000},{"$nulls":8},10000,null,null,null,{"$f":"SUM(M295:X295)","v":10000},12,{"$f":"Z295*800","v":9600},{"$f":"L295+AA295-Y295","v":1600},800,4000,{"$f":"AB295+AC295-AD295","v":-1600},800,null,{"$f":"AE295+AF295-AG295","v":-800},800,null,{"$f":"AH295+AI295-AJ295","v":0},800,null,{"$f":"AK295+AL295-AM295","v":800}]
[{"$f":"VLOOKUP(B296,справочник!$B$2:$E$322,4,0)","v":20},{"$f":"CONCATENATE(C296;D296)","v":{"$error":"#VALUE!"}},20,"Харинкина Танзиля Гарафутдиновна","50:03:0070280:744","2013-06-18","2013-08-01",{"$f":"INT(($H$325-G296)/30)","v":29},{"$f":"H296*1000","v":29000},12000,null,{"$f":"I296-J296-K296","v":17000},{"$nulls":12},{"$f":"SUM(M296:X296)","v":0},12,{"$f":"Z296*800","v":9600},{"$f":"L296+AA296-Y296","v":26600},800,null,{"$f":"AB296+AC296-AD296","v":27400},800,3000,{"$f":"AE296+AF296-AG296","v":25200},800,null,{"$f":"AH296+AI296-AJ296","v":26000},800,2000,{"$f":"AK296+AL296-AM296","v":24800}]
[{"$f":"VLOOKUP(B297,справочник!$B$2:$E$322,4,0)","v":233},{"$f":"CONCATENATE(C297;D297)","v":{"$error":"#VALUE!"}},242,"Хаустова Люция Егоровна","50:03:0070280:878","2013-04-18","2013-05-01",{"$f":"INT(($H$325-G297)/30)","v":32},{"$f":"H297*1000","v":32000},29000,null,{"$f":"I297-J297-K297","v":3000},{"$nulls":5},7000,{"$nulls":4},4000,null,{"$f":"SUM(M297:X297)","v":11000},12,{"$f":"Z297*800","v":9600},{"$f":"L297+AA297-Y297","v":1600},800,null,{"$f":"AB297+AC297-AD297","v":2400},800,null,{"$f":"AE297+AF297-AG297","v":3200},800,4000,{"$f":"AH297+AI297-AJ297","v":0},800,null,{"$f":"AK297+AL297-AM297","v":800}]
[{"$f":"VLOOKUP(B298,справочник!$B$2:$E$322,4,0)","v":256},{"$f":"CONCATENATE(C298;D298)","v":{"$error":"#VALUE!"}},269,"Хачатрян Алла Самвеловна","50:03:0070280:734","2012-04-13","2012-04-01",{"$f":"INT(($H$325-G298)/30)","v":45},{"$f":"H298*1000","v":45000},{"$f":"32000+7000","v":39000},8000,{"$f":"I298-J298-K298","v":-2000},{"$nulls":12},{"$f":"SUM(M298:X298)","v":0},12,{"$f":"Z298*800","v":9600},{"$f":"L298+AA298-Y298","v":7600},800,null,{"$f":"AB298+AC298-AD298","v":8400},800,null,{"$f":"AE298+AF298-AG298","v":9200},800,null,{"$f":"AH298+AI298-AJ298","v":10000},800,null,{"$f":"AK298+AL298-AM298","v":10800}]
[{"$f":"VLOOKUP(B299,справочник!$B$2:$E$322,4,0)","v":113},{"$f":"CONCATENATE(C299;D299)","v":{"$error":"#VALUE!"}},"116+118+120","Хрупало Николай Алексеевич","50:03:0070280:1427","2012-07-17","2012-08-01",{"$f":"INT(($H$325-G299)/30)","v":41},{"$f":"H299*1000","v":41000},41000,null,{"$f":"I299-J299-K299","v":0},{"$nulls":12},{"$f":"SUM(M299:X299)","v":0},0,{"$f":"Z299*800","v":0},{"$f":"L299+AA299-Y299","v":0},0,null,0,0,null,{"$f":"AE299+AF299-AG299","v":0},0,null,{"$f":"AH299+AI299-AJ299","v":0},0,null,{"$f":"AK299+AL299-AM299","v":0}]
[{"$f":"VLOOKUP(B300,справочник!$B$2:$E$322,4,0)","v":113},{"$f":"CONCATENATE(C300;D300)","v":{"$error":"#VALUE!"}},"116+118+120","Хрупало Николай Алексеевич","50:03:0070280:1427","2012-07-17","2012-08-01",{"$f":"INT(($H$325-G300)/30)","v":41},{"$f":"H300*1000","v":41000},20000,null,{"$f":"I300-J300-K300","v":21000},{"$nulls":12},{"$f":"SUM(M300:X300)","v":0},0,{"$f":"Z300*800","v":0},{"$f":"L300+AA300-Y300","v":21000},0,null,{"$f":"SUM(AB300:AB301)+SUM(AC300:AC301)-SUM(AD300:AD301)","v":57400},0,null,{"$f":"SUM(AE300:AE301)+SUM(AF300:AF301)-SUM(AG300:AG301)","v":55200},0,null,{"$f":"SUM(AH300:AH301)+SUM(AI300:AI301)-SUM(AJ300:AJ301)","v":56000},0,null,{"$f":"SUM(AK300:AK301)+SUM(AL300:AL301)-SUM(AM300:AM301)","v":53800}]
[{"$f":"VLOOKUP(B301,справочник!$B$2:$E$322,4,0)","v":113},{"$f":"CONCATENATE(C301;D301)","v":{"$error":"#VALUE!"}},"116+118+120","Хрупало Николай Алексеевич","50:03:0070280:1427","2012-07-17","2012-08-01",{"$f":"INT(($H$325-G301)/30)","v":41},{"$f":"H301*1000","v":41000},null,null,{"$f":"I301-J301-K301","v":41000},6000,null,null,3000,null,3000,{"$nulls":4},3000,null,{"$f":"SUM(M301:X301)","v":15000},12,{"$f":"Z301*800","v":9600},{"$f":"L301+AA301-Y301","v":35600},800,null,null,800,3000,null,800,null,null,800,3000]
[{"$f":"VLOOKUP(B302,справочник!$B$2:$E$322,4,0)","v":180},{"$f":"CONCATENATE(C302;D302)","v":{"$error":"#VALUE!"}},188,"Черешнева Виктория Викторовна","50:03:0070280:918","2014-05-27","2014-06-01",{"$f":"INT(($H$325-G302)/30)","v":19},{"$f":"H302*1000","v":19000},19000,null,{"$f":"I302-J302-K302","v":0},{"$nulls":4},4800,{"$nulls":7},{"$f":"SUM(M302:X302)","v":4800},12,{"$f":"Z302*800","v":9600},{"$f":"L302+AA302-Y302","v":4800},800,null,{"$f":"AB302+AC302-AD302","v":5600},800,null,{"$f":"AE302+AF302-AG302","v":6400},800,null,{"$f":"AH302+AI302-AJ302","v":7200},800,null,{"$f":"AK302+AL302-AM302","v":8000}]
[{"$f":"VLOOKUP(B303,справочник!$B$2:$E$322,4,0)","v":2},{"$f":"CONCATENATE(C303;D303)","v":{"$error":"#VALUE!"}},2,"Чернявская Оксана Юрьевна","50:03:0070280:710","2014-04-08","2014-05-01",{"$f":"INT(($H$325-G303)/30)","v":20},{"$f":"H303*1000","v":20000},11000,null,{"$f":"I303-J303-K303","v":9000},{"$nulls":9},1000,null,null,{"$f":"SUM(M303:X303)","v":1000},12,{"$f":"Z303*800","v":9600},{"$f":"L303+AA303-Y303","v":17600},800,null,{"$f":"AB303+AC303-AD303","v":18400},800,null,{"$f":"AE303+AF303-AG303","v":19200},800,null,{"$f":"AH303+AI303-AJ303","v":20000},800,null,{"$f":"AK303+AL303-AM303","v":20800}]
[{"$f":"VLOOKUP(B304,справочник!$B$2:$E$322,4,0)","v":23},{"$f":"CONCATENATE(C304;D304)","v":{"$error":"#VALUE!"}},23,"Чигрины Анна Анатольевна и Геннадий Иванович","50:03:0070280:747","2013-05-28","2013-07-01",{"$f":"INT(($H$325-G304)/30)","v":30},{"$f":"H304*1000","v":30000},30000,null,{"$f":"I304-J304-K304","v":0},11600,{"$nulls":10},9600,{"$f":"SUM(M304:X304)","v":21200},12,{"$f":"Z304*800","v":9600},{"$f":"L304+AA304-Y304","v":-11600},800,null,{"$f":"AB304+AC304-AD304","v":-10800},800,null,{"$f":"AE304+AF304-AG304","v":-10000},800,null,{"$f":"AH304+AI304-AJ304","v":-9200},800,null,{"$f":"AK304+AL304-AM304","v":-8400}]
[{"$f":"VLOOKUP(B305,справочник!$B$2:$E$322,4,0)","v":168},{"$f":"CONCATENATE(C305;D305)","v":{"$error":"#VALUE!"}},176,"Чикачёв Сергей Иванович","50:03:0070280:889","2014-10-27","2014-12-01",{"$f":"INT(($H$325-G305)/30)","v":13},{"$f":"H305*1000","v":13000},11000,2000,{"$f":"I305-J305-K305","v":0},null,2000,null,2000,2000,null,2000,null,2000,null,2000,null,{"$f":"SUM(M305:X305)","v":12000},12,{"$f":"Z305*800","v":9600},{"$f":"L305+AA305-Y305","v":-2400},800,null,{"$f":"AB305+AC305-AD305","v":-1600},800,2000,{"$f":"AE305+AF305-AG305","v":-2800},800,null,{"$f":"AH305+AI305-AJ305","v":-2000},800,2000,{"$f":"AK305+AL305-AM305","v":-3200}]
[{"$f":"VLOOKUP(B306,справочник!$B$2:$E$322,4,0)","v":84},{"$f":"CONCATENATE(C306;D306)","v":{"$error":"#VALUE!"}},89,"Шабунина Светлана Николаевна","50:03:0070280:868","2011-08-30","2011-09-01",{"$f":"INT(($H$325-G306)/30)","v":52},{"$f":"H306*1000","v":52000},{"$f":"1000+51000","v":52000},null,{"$f":"I306-J306-K306","v":0},{"$nulls":5},4800,{"$nulls":4},4800,null,{"$f":"SUM(M306:X306)","v":9600},12,{"$f":"Z306*800","v":9600},{"$f":"L306+AA306-Y306","v":0},800,null,{"$f":"AB306+AC306-AD306","v":800},800,null,{"$f":"AE306+AF306-AG306","v":1600},800,4800,{"$f":"AH306+AI306-AJ306","v":-2400},800,null,{"$f":"AK306+AL306-AM306","v":-1600}]
[{"$f":"VLOOKUP(B307,справочник!$B$2:$E$322,4,0)","v":88},{"$f":"CONCATENATE(C307;D307)","v":{"$error":"#VALUE!"}},"97+93","Шалинов Андрей Вадимович","50:03:0070280:827","2012-01-17","2012-01-01",{"$f":"INT(($H$325-G307)/30)","v":48},{"$f":"H307*1000","v":48000},44000,null,{"$f":"I307-J307-K307","v":4000},8000,{"$nulls":5},9600,{"$nulls":5},{"$f":"SUM(M307:X307)","v":17600},12,{"$f":"Z307*800","v":9600},{"$f":"L307+AA307-Y307","v":-4000},800,null,{"$f":"+SUM(AC307:AC308)","v":800},800,null,{"$f":"+SUM(AF307:AF308)","v":800},800,null,{"$f":"+SUM(AI307:AI308)","v":800},800,null,{"$f":"+SUM(AL307:AL308)","v":800}]
[{"$f":"VLOOKUP(B308,справочник!$B$2:$E$322,4,0)","v":88},{"$f":"CONCATENATE(C308;D308)","v":{"$error":"#VALUE!"}},"97+93","Шалинов Андрей Вадимович","50:03:0070280:864","2012-01-17","2012-01-01",{"$f":"INT(($H$325-G308)/30)","v":48},{"$f":"H308*1000","v":48000},44000,null,{"$f":"I308-J308-K308","v":4000},{"$nulls":12},{"$f":"SUM(M308:X308)","v":0},0,{"$f":"Z308*800","v":0},{"$f":"L308+AA308-Y308","v":4000},0,null,null,0,null,null,0,4800,null,0]
[{"$f":"VLOOKUP(B309,справочник!$B$2:$E$322,4,0)","v":78},{"$f":"CONCATENATE(C309;D309)","v":{"$error":"#VALUE!"}},83,"Шелухина Мария Сергеевна",null,"2013-07-01","2013-07-02",{"$f":"INT(($H$325-G309)/30)","v":30},30000,0,null,30000,{"$nulls":8},25000,null,null,null,{"$f":"SUM(M309:X309)","v":25000},12,{"$f":"Z309*800","v":9600},{"$f":"L309+AA309-Y309","v":14600},800,null,{"$f":"AB309+AC309-AD309","v":15400},800,null,{"$f":"AE309+AF309-AG309","v":16200},800,null,{"$f":"AH309+AI309-AJ309","v":17000},800,null,{"$f":"AK309+AL309-AM309","v":17800}]
[{"$f":"VLOOKUP(B310,справочник!$B$2:$E$322,4,0)","v":77},{"$f":"CONCATENATE(C310;D310)","v":{"$error":"#VALUE!"}},83,"Самородов","50:03:0070280:752","2012-01-24","2012-01-01",{"$f":"INT(($H$325-G310)/30)","v":48},{"$f":"H310*1000","v":48000},15000,null,{"$f":"I310-J310-K310","v":33000},{"$nulls":12},{"$f":"SUM(M310:X310)","v":0},12,{"$f":"Z310*800","v":9600},{"$f":"L310+AA310-Y310","v":42600},800,null,{"$f":"AB310+AC310-AD310","v":43400},800,null,{"$f":"AE310+AF310-AG310","v":44200},800,null,{"$f":"AH310+AI310-AJ310","v":45000},800,null,{"$f":"AK310+AL310-AM310","v":45800}]
[{"$f":"VLOOKUP(B311,справочник!$B$2:$E$322,4,0)","v":306},{"$f":"CONCATENATE(C311;D311)","v":{"$error":"#VALUE!"}},321,"Шептухина Александра Борисовна","50:03:0070280:1013","2012-07-03","2012-07-01",{"$f":"INT(($H$325-G311)/30)","v":42},{"$f":"H311*1000","v":42000},11000,null,{"$f":"I311-J311-K311","v":31000},{"$nulls":12},{"$f":"SUM(M311:X311)","v":0},12,{"$f":"Z311*800","v":9600},{"$f":"L311+AA311-Y311","v":40600},800,null,{"$f":"AB311+AC311-AD311","v":41400},800,null,{"$f":"AE311+AF311-AG311","v":42200},800,null,{"$f":"AH311+AI311-AJ311","v":43000},800,null,{"$f":"AK311+AL311-AM311","v":43800}]
[{"$f":"VLOOKUP(B312,справочник!$B$2:$E$322,4,0)","v":182},{"$f":"CONCATENATE(C312;D312)","v":{"$error":"#VALUE!"}},190,"Широков Евгений Александрович","50:03:0070280:759","2014-04-05","2014-05-01",{"$f":"INT(($H$325-G312)/30)","v":20},{"$f":"H312*1000","v":20000},14000,null,{"$f":"I312-J312-K312","v":6000},{"$nulls":4},9200,{"$nulls":7},{"$f":"SUM(M312:X312)","v":9200},12,{"$f":"Z312*800","v":9600},{"$f":"L312+AA312-Y312","v":6400},800,null,{"$f":"AB312+AC312-AD312","v":7200},800,null,{"$f":"AE312+AF312-AG312","v":8000},800,null,{"$f":"AH312+AI312-AJ312","v":8800},800,null,{"$f":"AK312+AL312-AM312","v":9600}]
[{"$f":"VLOOKUP(B313,справочник!$B$2:$E$322,4,0)","v":95},{"$f":"CONCATENATE(C313;D313)","v":{"$error":"#VALUE!"}},100,"Шорахматов Мухаммадхуджа Замшоевич","50:03:0070280:861","2013-05-07","2013-12-01",{"$f":"INT(($H$325-G313)/30)","v":25},{"$f":"H313*1000","v":25000},20000,null,{"$f":"I313-J313-K313","v":5000},{"$nulls":5},9000,{"$nulls":6},{"$f":"SUM(M313:X313)","v":9000},12,{"$f":"Z313*800","v":9600},{"$f":"L313+AA313-Y313","v":5600},800,null,{"$f":"AB313+AC313-AD313","v":6400},800,null,{"$f":"AE313+AF313-AG313","v":7200},800,null,{"$f":"AH313+AI313-AJ313","v":8000},800,null,{"$f":"AK313+AL313-AM313","v":8800}]
[{"$f":"VLOOKUP(B314,справочник!$B$2:$E$322,4,0)","v":108},{"$f":"CONCATENATE(C314;D314)","v":{"$error":"#VALUE!"}},113,"Шурдук Лариса Анатольевна (Игорь)","50:03:0070280:815","2012-01-30","2012-02-01",{"$f":"INT(($H$325-G314)/30)","v":47},{"$f":"H314*1000","v":47000},{"$f":"24000+11000","v":35000},8000,{"$f":"I314-J314-K314","v":4000},null,4000,2400,null,null,2400,null,null,2400,null,null,2400,{"$f":"SUM(M314:X314)","v":13600},12,{"$f":"Z314*800","v":9600},{"$f":"L314+AA314-Y314","v":0},800,null,{"$f":"AB314+AC314-AD314","v":800},800,null,{"$f":"AE314+AF314-AG314","v":1600},800,null,{"$f":"AH314+AI314-AJ314","v":2400},800,2400,{"$f":"AK314+AL314-AM314","v":800}]
[{"$f":"VLOOKUP(B315,справочник!$B$2:$E$322,4,0)","v":41},{"$f":"CONCATENATE(C315;D315)","v":{"$error":"#VALUE!"}},41,"Шустов Василий Александрович","50:03:0070280:799","2011-08-17","2011-08-01",{"$f":"INT(($H$325-G315)/30)","v":53},{"$f":"H315*1000","v":53000},{"$f":"1000+37000","v":38000},null,{"$f":"I315-J315-K315","v":15000},{"$nulls":8},21400,null,null,null,{"$f":"SUM(M315:X315)","v":21400},12,{"$f":"Z315*800","v":9600},{"$f":"L315+AA315-Y315","v":3200},800,null,{"$f":"AB315+AC315-AD315","v":4000},800,null,{"$f":"AE315+AF315-AG315","v":4800},800,5600,{"$f":"AH315+AI315-AJ315","v":0},800,null,{"$f":"AK315+AL315-AM315","v":800}]
[{"$f":"VLOOKUP(B316,справочник!$B$2:$E$322,4,0)","v":152},{"$f":"CONCATENATE(C316;D316)","v":{"$error":"#VALUE!"}},160,"Щербаков Павел Евгеньевич","50:03:0070280:757","2011-11-03","2011-11-01",{"$f":"INT(($H$325-G316)/30)","v":50},{"$f":"H316*1000","v":50000},{"$f":"46000+1000","v":47000},null,{"$f":"I316-J316-K316","v":3000},{"$nulls":12},{"$f":"SUM(M316:X316)","v":0},12,{"$f":"Z316*800","v":9600},{"$f":"L316+AA316-Y316","v":12600},800,null,{"$f":"AB316+AC316-AD316","v":13400},800,null,{"$f":"AE316+AF316-AG316","v":14200},800,null,{"$f":"AH316+AI316-AJ316","v":15000},800,null,{"$f":"AK316+AL316-AM316","v":15800}]
[{"$f":"VLOOKUP(B317,справочник!$B$2:$E$322,4,0)","v":227},{"$f":"CONCATENATE(C317;D317)","v":{"$error":"#VALUE!"}},236,"Щербакова Татьяна Дмитриевна","50:03:0070280:899","2014-04-09","2014-05-01",{"$f":"INT(($H$325-G317)/30)","v":20},{"$f":"H317*1000","v":20000},9000,null,{"$f":"I317-J317-K317","v":11000},null,3800,4800,{"$nulls":9},{"$f":"SUM(M317:X317)","v":8600},12,{"$f":"Z317*800","v":9600},{"$f":"L317+AA317-Y317","v":12000},800,null,{"$f":"AB317+AC317-AD317","v":12800},800,null,{"$f":"AE317+AF317-AG317","v":13600},800,null,{"$f":"AH317+AI317-AJ317","v":14400},800,null,{"$f":"AK317+AL317-AM317","v":15200}]
[{"$f":"VLOOKUP(B318,справочник!$B$2:$E$322,4,0)","v":15},{"$f":"CONCATENATE(C318;D318)","v":{"$error":"#VALUE!"}},15,"Элефтерова Евгения Викторовна (Михаил)","50:03:0070280:698","2012-12-18","2013-01-01",{"$f":"INT(($H$325-G318)/30)","v":36},{"$f":"H318*1000","v":36000},32000,null,{"$f":"I318-J318-K318","v":4000},null,4000,null,null,null,4800,null,null,2400,null,null,null,{"$f":"SUM(M318:X318)","v":11200},12,{"$f":"Z318*800","v":9600},{"$f":"L318+AA318-Y318","v":2400},800,null,{"$f":"AB318+AC318-AD318","v":3200},800,4000,{"$f":"AE318+AF318-AG318","v":0},800,null,{"$f":"AH318+AI318-AJ318","v":800},800,800,{"$f":"AK318+AL318-AM318","v":800}]
[{"$f":"VLOOKUP(B319,справочник!$B$2:$E$322,4,0)","v":240},{"$f":"CONCATENATE(C319;D319)","v":{"$error":"#VALUE!"}},251,"Якиманский Александр Александрович","50:03:0070280:794","2011-09-13","2011-09-01",{"$f":"INT(($H$325-G319)/30)","v":52},{"$f":"H319*1000","v":52000},{"$f":"1000+49000","v":50000},3000,{"$f":"I319-J319-K319","v":-1000},{"$nulls":8},5000,null,1600,null,{"$f":"SUM(M319:X319)","v":6600},12,{"$f":"Z319*800","v":9600},{"$f":"L319+AA319-Y319","v":2000},800,2400,{"$f":"AB319+AC319-AD319","v":400},800,null,{"$f":"AE319+AF319-AG319","v":1200},800,null,{"$f":"AH319+AI319-AJ319","v":2000},800,2800,{"$f":"AK319+AL319-AM319","v":0}]
[{"$f":"VLOOKUP(B320,справочник!$B$2:$E$322,4,0)","v":10},{"$f":"CONCATENATE(C320;D320)","v":{"$error":"#VALUE!"}},10,"Якушина Любовь Викторовна","50:03:0070280:705","2015-01-19",null,0,{"$f":"H320*1000","v":0},null,null,{"$f":"I320-J320-K320","v":0},{"$nulls":12},{"$f":"SUM(M320:X320)","v":0},12,{"$f":"Z320*800","v":9600},{"$f":"L320+AA320-Y320","v":9600},800,null,{"$f":"AB320+AC320-AD320","v":10400},800,null,{"$f":"AE320+AF320-AG320","v":11200},800,null,{"$f":"AH320+AI320-AJ320","v":12000},800,null,{"$f":"AK320+AL320-AM320","v":12800}]
[{"$f":"VLOOKUP(B321,справочник!$B$2:$E$322,4,0)","v":55},{"$f":"CONCATENATE(C321;D321)","v":{"$error":"#VALUE!"}},57,"Янковская Елена Александровна","50:03:0070280:964","2011-08-17","2011-08-01",{"$f":"INT(($H$325-G321)/30)","v":53},{"$f":"H321*1000","v":53000},{"$f":"1000+53000","v":54000},3000,{"$f":"I321-J321-K321","v":-4000},null,null,3200,null,null,null,3200,null,null,null,3200,null,{"$f":"SUM(M321:X321)","v":9600},12,{"$f":"Z321*800","v":9600},{"$f":"L321+AA321-Y321","v":-4000},800,null,{"$f":"AB321+AC321-AD321","v":-3200},800,null,{"$f":"AE321+AF321-AG321","v":-2400},800,null,{"$f":"AH321+AI321-AJ321","v":-1600},800,null,{"$f":"AK321+AL321-AM321","v":-800}]
[{"$f":"VLOOKUP(B322,справочник!$B$2:$E$322,4,0)","v":309},{"$f":"CONCATENATE(C322;D322)","v":{"$error":"#VALUE!"}},324,"Янковская Яна Валерьевна","50:03:0070280:1016","2012-04-03","2012-04-01",{"$f":"INT(($H$325-G322)/30)","v":45},{"$f":"H322*1000","v":45000},{"$f":"17000+1000","v":18000},5000,{"$f":"I322-J322-K322","v":22000},{"$nulls":12},{"$f":"SUM(M322:X322)","v":0},12,{"$f":"Z322*800","v":9600},{"$f":"L322+AA322-Y322","v":31600},800,null,{"$f":"AB322+AC322-AD322","v":32400},800,null,{"$f":"AE322+AF322-AG322","v":33200},800,null,{"$f":"AH322+AI322-AJ322","v":34000},800,null,{"$f":"AK322+AL322-AM322","v":34800}]
[{"$f":"VLOOKUP(B323,справочник!$B$2:$E$322,4,0)","v":17},{"$f":"CONCATENATE(C323;D323)","v":{"$error":"#VALUE!"}},17,"Яструб Валерий Викторович","50:03:0070280:696","2012-12-11","2013-01-01",{"$f":"INT(($H$325-G323)/30)","v":36},{"$f":"H323*1000","v":36000},31000,null,{"$f":"I323-J323-K323","v":5000},3000,null,2000,null,null,2000,null,3000,null,4600,null,null,{"$f":"SUM(M323:X323)","v":14600},12,{"$f":"Z323*800","v":9600},{"$f":"L323+AA323-Y323","v":0},800,null,{"$f":"AB323+AC323-AD323","v":800},800,null,{"$f":"AE323+AF323-AG323","v":1600},800,4800,{"$f":"AH323+AI323-AJ323","v":-2400},800,null,{"$f":"AK323+AL323-AM323","v":-1600}]
[{"$f":"VLOOKUP(B324,справочник!$B$2:$E$322,4,0)","v":40},{"$f":"CONCATENATE(C324;D324)","v":{"$error":"#VALUE!"}},40,"Яшин Евгений Иванович","50:03:0070280:910","2011-08-17","2011-08-01",{"$f":"INT(($H$325-G324)/30)","v":53},{"$f":"H324*1000","v":53000},{"$f":"1000+37000","v":38000},null,{"$f":"I324-J324-K324","v":15000},{"$nulls":8},21400,null,null,null,{"$f":"SUM(M324:X324)","v":21400},12,{"$f":"Z324*800","v":9600},{"$f":"L324+AA324-Y324","v":3200},800,null,{"$f":"AB324+AC324-AD324","v":4000},800,null,{"$f":"AE324+AF324-AG324","v":4800},800,5600,{"$f":"AH324+AI324-AJ324","v":0},800,null,{"$f":"AK324+AL324-AM324","v":800}]
[{"$nulls":7},"2015-12-31",{"$nulls":4},{"$f":"SUM(M5:M324)","v":238250.3},{"$f":"SUM(N5:N324)","v":183900},{"$f":"SUM(O5:O324)","v":139200},{"$f":"SUM(P5:P324)","v":119550},{"$f":"SUM(Q5:Q324)","v":192950},{"$f":"SUM(R5:R324)","v":298900},{"$f":"SUM(S5:S324)","v":326600},{"$f":"SUM(T5:T324)","v":223068},{"$f":"SUM(U5:U324)","v":316961.78},{"$f":"SUM(V5:V324)","v":149238.22},{"$f":"SUM(W5:W324)","v":185400},{"$f":"SUM(X5:X324)","v":178900},{"$f":"SUM(Y5:Y324)","v":2552918.3},{"$nulls":4},{"$f":"SUM(AD5:AD324)","v":124800},null,null,{"$f":"SUM(AG5:AG324)","v":116300},null,null,{"$f":"SUM(AJ5:AJ324)","v":232707},null,null,{"$f":"SUM(AM5:AM324)","v":262076.61}]
[]
[{"$nulls":21},145638.22]
[{"$nulls":21},{"$f":"V327-V325","v":-3600}]

{"sheet":"баланс","index":4,"n_rows":326,"n_cols":25,"rows_kept":326,"cut":false,"hidden":true,"merged":[]}
[null,null,"НП СЗУ \"Высокое\""]
[null,null,"Отчет по членским взносам за 2015-2016 гг"]
["ID","Сцепка","Номер участка","Ф.И.О.","номер","Дата вступления в НП СЗУ \"Высокое\"","1-ый расчетный месяц","Кол-во месяцев","Сумма членских взносов, которые должны быть уплачены на 01.01.2016 г (исходя из кол-ва месяцев)","Сумма оплаченных членских взносов на 01.11.2015","Оплата членских взносов за декабрь 2015","Остаток задолженности по членским взносам на 01.01.2016","2016-01-01","2016-02-01","2016-03-01","2016-04-01","2016-05-01","2016-06-01","2016-07-01","2016-08-01","2016-09-01","2016-10-01","2016-11-01","2016-12-01","Остаток задолженности по членским взносам на 01.01.2017"]
[{"$f":"VLOOKUP(B4,справочник!$B$2:$E$322,4,0)","v":79},{"$f":"CONCATENATE(C4,D4)","v":"84Абу Махади Мохаммед Ибрагим"},84,"Абу Махади Мохаммед Ибрагим","50:03:0070280:947","2011-06-22","2011-07-01",{"$f":"INT(($H$326-G4)/30)","v":54},{"$f":"H4*1000","v":54000},{"$f":"49000+1000","v":50000},null,{"$f":"I4-J4-K4","v":4000},{"$f":"SUM('план на 2016'!$L5:M5)-SUM('членские взносы'!$M5:M5)","v":4800},{"$f":"SUM('план на 2016'!$L5:N5)-SUM('членские взносы'!$M5:N5)","v":1600},{"$f":"SUM('план на 2016'!$L5:O5)-SUM('членские взносы'!$M5:O5)","v":2400},{"$f":"SUM('план на 2016'!$L5:P5)-SUM('членские взносы'!$M5:P5)","v":800},{"$f":"SUM('план на 2016'!$L5:Q5)-SUM('членские взносы'!$M5:Q5)","v":1600},{"$f":"SUM('план на 2016'!$L5:R5)-SUM('членские взносы'!$M5:R5)","v":2400},{"$f":"SUM('план на 2016'!$L5:S5)-SUM('членские взносы'!$M5:S5)","v":3200},{"$f":"SUM('план на 2016'!$L5:T5)-SUM('членские взносы'!$M5:T5)","v":4000},{"$f":"SUM('план на 2016'!$L5:U5)-SUM('членские взносы'!$M5:U5)","v":0},{"$f":"SUM('план на 2016'!$L5:V5)-SUM('членские взносы'!$M5:V5)","v":800},{"$f":"SUM('план на 2016'!$L5:W5)-SUM('членские взносы'!$M5:W5)","v":1600},{"$f":"SUM('план на 2016'!$L5:X5)-SUM('членские взносы'!$M5:X5)","v":2400},{"$f":"X4","v":2400}]
[{"$f":"VLOOKUP(B5,справочник!$B$2:$E$322,4,0)","v":35},{"$f":"CONCATENATE(C5;D5)","v":{"$error":"#VALUE!"}},35,"Абушаев Роман Шамильевич","50:03:0070280:905","2012-03-02","2012-03-01",{"$f":"INT(($H$326-G5)/30)","v":46},{"$f":"H5*1000","v":46000},30000,null,{"$f":"I5-J5-K5","v":16000},{"$f":"SUM('план на 2016'!$L6:M6)-SUM('членские взносы'!$M6:M6)","v":16800},{"$f":"SUM('план на 2016'!$L6:N6)-SUM('членские взносы'!$M6:N6)","v":17600},{"$f":"SUM('план на 2016'!$L6:O6)-SUM('членские взносы'!$M6:O6)","v":18400},{"$f":"SUM('план на 2016'!$L6:P6)-SUM('членские взносы'!$M6:P6)","v":19200},{"$f":"SUM('план на 2016'!$L6:Q6)-SUM('членские взносы'!$M6:Q6)","v":20000},{"$f":"SUM('план на 2016'!$L6:R6)-SUM('членские взносы'!$M6:R6)","v":20800},{"$f":"SUM('план на 2016'!$L6:S6)-SUM('членские взносы'!$M6:S6)","v":21600},{"$f":"SUM('план на 2016'!$L6:T6)-SUM('членские взносы'!$M6:T6)","v":22400},{"$f":"SUM('план на 2016'!$L6:U6)-SUM('членские взносы'!$M6:U6)","v":23200},{"$f":"SUM('план на 2016'!$L6:V6)-SUM('членские взносы'!$M6:V6)","v":24000},{"$f":"SUM('план на 2016'!$L6:W6)-SUM('членские взносы'!$M6:W6)","v":24800},{"$f":"SUM('план на 2016'!$L6:X6)-SUM('членские взносы'!$M6:X6)","v":25600},{"$f":"X5","v":25600}]
[{"$f":"VLOOKUP(B6,справочник!$B$2:$E$322,4,0)","v":260},{"$f":"CONCATENATE(C6;D6)","v":{"$error":"#VALUE!"}},273,"Аксенов Дмитрий Викторович","50:03:0070280:730","2013-09-23","2013-10-01",{"$f":"INT(($H$326-G6)/30)","v":27},{"$f":"H6*1000","v":27000},19000,null,{"$f":"I6-J6-K6","v":8000},{"$f":"SUM('план на 2016'!$L7:M7)-SUM('членские взносы'!$M7:M7)","v":8800},{"$f":"SUM('план на 2016'!$L7:N7)-SUM('членские взносы'!$M7:N7)","v":7600},{"$f":"SUM('план на 2016'!$L7:O7)-SUM('членские взносы'!$M7:O7)","v":8400},{"$f":"SUM('план на 2016'!$L7:P7)-SUM('членские взносы'!$M7:P7)","v":9200},{"$f":"SUM('план на 2016'!$L7:Q7)-SUM('членские взносы'!$M7:Q7)","v":9000},{"$f":"SUM('план на 2016'!$L7:R7)-SUM('членские взносы'!$M7:R7)","v":7800},{"$f":"SUM('план на 2016'!$L7:S7)-SUM('членские взносы'!$M7:S7)","v":6600},{"$f":"SUM('план на 2016'!$L7:T7)-SUM('членские взносы'!$M7:T7)","v":4400},{"$f":"SUM('план на 2016'!$L7:U7)-SUM('членские взносы'!$M7:U7)","v":3200},{"$f":"SUM('план на 2016'!$L7:V7)-SUM('членские взносы'!$M7:V7)","v":2000},{"$f":"SUM('план на 2016'!$L7:W7)-SUM('членские взносы'!$M7:W7)","v":800},{"$f":"SUM('план на 2016'!$L7:X7)-SUM('членские взносы'!$M7:X7)","v":-400},{"$f":"X6","v":-400}]
[{"$f":"VLOOKUP(B7,справочник!$B$2:$E$322,4,0)","v":203},{"$f":"CONCATENATE(C7;D7)","v":{"$error":"#VALUE!"}},213,"Александров Владимир Александрович","50:03:0070280:850","2013-09-03","2013-10-01",{"$f":"INT(($H$326-G7)/30)","v":27},{"$f":"H7*1000","v":27000},26000,null,{"$f":"I7-J7-K7","v":1000},{"$f":"SUM('план на 2016'!$L8:M8)-SUM('членские взносы'!$M8:M8)","v":-800},{"$f":"SUM('план на 2016'!$L8:N8)-SUM('членские взносы'!$M8:N8)","v":0},{"$f":"SUM('план на 2016'!$L8:O8)-SUM('членские взносы'!$M8:O8)","v":800},{"$f":"SUM('план на 2016'!$L8:P8)-SUM('членские взносы'!$M8:P8)","v":1600},{"$f":"SUM('план на 2016'!$L8:Q8)-SUM('членские взносы'!$M8:Q8)","v":-1800},{"$f":"SUM('план на 2016'!$L8:R8)-SUM('членские взносы'!$M8:R8)","v":-1000},{"$f":"SUM('план на 2016'!$L8:S8)-SUM('членские взносы'!$M8:S8)","v":-3400},{"$f":"SUM('план на 2016'!$L8:T8)-SUM('членские взносы'!$M8:T8)","v":-2600},{"$f":"SUM('план на 2016'!$L8:U8)-SUM('членские взносы'!$M8:U8)","v":-1800},{"$f":"SUM('план на 2016'!$L8:V8)-SUM('членские взносы'!$M8:V8)","v":-1000},{"$f":"SUM('план на 2016'!$L8:W8)-SUM('членские взносы'!$M8:W8)","v":-200},{"$f":"SUM('план на 2016'!$L8:X8)-SUM('членские взносы'!$M8:X8)","v":600},{"$f":"X7","v":600}]
[{"$f":"VLOOKUP(B8,справочник!$B$2:$E$322,4,0)","v":316},{"$f":"CONCATENATE(C8;D8)","v":{"$error":"#VALUE!"}},"306-307","Алексеев Андрей Олегович","50:03:0070280:997","2011-12-16","2011-12-01",{"$f":"INT(($H$326-G8)/30)","v":49},{"$f":"H8*1000","v":49000},{"$f":"30000+1000+1000","v":32000},null,{"$f":"I8-J8-K8","v":17000},{"$f":"SUM('план на 2016'!$L9:M9)-SUM('членские взносы'!$M9:M9)","v":17000},{"$f":"SUM('план на 2016'!$L9:N9)-SUM('членские взносы'!$M9:N9)","v":17800},{"$f":"SUM('план на 2016'!$L9:O9)-SUM('членские взносы'!$M9:O9)","v":18600},{"$f":"SUM('план на 2016'!$L9:P9)-SUM('членские взносы'!$M9:P9)","v":19400},{"$f":"SUM('план на 2016'!$L9:Q9)-SUM('членские взносы'!$M9:Q9)","v":20200},{"$f":"SUM('план на 2016'!$L9:R9)-SUM('членские взносы'!$M9:R9)","v":21000},{"$f":"SUM('план на 2016'!$L9:S9)-SUM('членские взносы'!$M9:S9)","v":21800},{"$f":"SUM('план на 2016'!$L9:T9)-SUM('членские взносы'!$M9:T9)","v":22600},{"$f":"SUM('план на 2016'!$L9:U9)-SUM('членские взносы'!$M9:U9)","v":23400},{"$f":"SUM('план на 2016'!$L9:V9)-SUM('членские взносы'!$M9:V9)","v":24200},{"$f":"SUM('план на 2016'!$L9:W9)-SUM('членские взносы'!$M9:W9)","v":25000},{"$f":"SUM('план на 2016'!$L9:X9)-SUM('членские взносы'!$M9:X9)","v":25800},{"$f":"X8","v":25800}]
[{"$f":"VLOOKUP(B9,справочник!$B$2:$E$322,4,0)","v":232},{"$f":"CONCATENATE(C9;D9)","v":{"$error":"#VALUE!"}},241,"Амплеева Мария Александровна","50:03:0070280:894","2013-06-04","2013-07-01",{"$f":"INT(($H$326-G9)/30)","v":30},{"$f":"H9*1000","v":30000},6000,null,{"$f":"I9-J9-K9","v":24000},{"$f":"SUM('план на 2016'!$L10:M10)-SUM('членские взносы'!$M10:M10)","v":24800},{"$f":"SUM('план на 2016'!$L10:N10)-SUM('членские взносы'!$M10:N10)","v":25600},{"$f":"SUM('план на 2016'!$L10:O10)-SUM('членские взносы'!$M10:O10)","v":26400},{"$f":"SUM('план на 2016'!$L10:P10)-SUM('членские взносы'!$M10:P10)","v":27200},{"$f":"SUM('план на 2016'!$L10:Q10)-SUM('членские взносы'!$M10:Q10)","v":28000},{"$f":"SUM('план на 2016'!$L10:R10)-SUM('членские взносы'!$M10:R10)","v":28800},{"$f":"SUM('план на 2016'!$L10:S10)-SUM('членские взносы'!$M10:S10)","v":29600},{"$f":"SUM('план на 2016'!$L10:T10)-SUM('членские взносы'!$M10:T10)","v":30400},{"$f":"SUM('план на 2016'!$L10:U10)-SUM('членские взносы'!$M10:U10)","v":31200},{"$f":"SUM('план на 2016'!$L10:V10)-SUM('членские взносы'!$M10:V10)","v":32000},{"$f":"SUM('план на 2016'!$L10:W10)-SUM('членские взносы'!$M10:W10)","v":32800},{"$f":"SUM('план на 2016'!$L10:X10)-SUM('членские взносы'!$M10:X10)","v":33600},{"$f":"X9","v":33600}]
[{"$f":"VLOOKUP(B10,справочник!$B$2:$E$322,4,0)","v":277},{"$f":"CONCATENATE(C10;D10)","v":{"$error":"#VALUE!"}},290,"Андреева Любовь Ивановна(у Севастьянова)",null,"2014-07-07","2014-07-01",{"$f":"INT(($H$326-G10)/30)","v":18},{"$f":"H10*1000","v":18000},20000,null,{"$f":"I10-J10-K10","v":-2000},{"$f":"SUM('план на 2016'!$L11:M11)-SUM('членские взносы'!$M11:M11)","v":-1200},{"$f":"SUM('план на 2016'!$L11:N11)-SUM('членские взносы'!$M11:N11)","v":-400},{"$f":"SUM('план на 2016'!$L11:O11)-SUM('членские взносы'!$M11:O11)","v":400},{"$f":"SUM('план на 2016'!$L11:P11)-SUM('членские взносы'!$M11:P11)","v":1200},{"$f":"SUM('план на 2016'!$L11:Q11)-SUM('членские взносы'!$M11:Q11)","v":2000},{"$f":"SUM('план на 2016'!$L11:R11)-SUM('членские взносы'!$M11:R11)","v":2800},{"$f":"SUM('план на 2016'!$L11:S11)-SUM('членские взносы'!$M11:S11)","v":2600},{"$f":"SUM('план на 2016'!$L11:T11)-SUM('членские взносы'!$M11:T11)","v":3400},{"$f":"SUM('план на 2016'!$L11:U11)-SUM('членские взносы'!$M11:U11)","v":2200},{"$f":"SUM('план на 2016'!$L11:V11)-SUM('членские взносы'!$M11:V11)","v":3000},{"$f":"SUM('план на 2016'!$L11:W11)-SUM('членские взносы'!$M11:W11)","v":3800},{"$f":"SUM('план на 2016'!$L11:X11)-SUM('членские взносы'!$M11:X11)","v":4600},{"$f":"X10","v":4600}]
[{"$f":"VLOOKUP(B11,справочник!$B$2:$E$322,4,0)","v":221},{"$f":"CONCATENATE(C11;D11)","v":{"$error":"#VALUE!"}},230,"Анисимова (Корнеева) Татьяна Николаевна",null,"2014-09-30","2014-10-01",{"$f":"INT(($H$326-G11)/30)","v":15},{"$f":"H11*1000","v":15000},1000,null,{"$f":"I11-J11-K11","v":14000},{"$f":"SUM('план на 2016'!$L12:M12)-SUM('членские взносы'!$M12:M12)","v":2800},{"$f":"SUM('план на 2016'!$L12:N12)-SUM('членские взносы'!$M12:N12)","v":3600},{"$f":"SUM('план на 2016'!$L12:O12)-SUM('членские взносы'!$M12:O12)","v":4400},{"$f":"SUM('план на 2016'!$L12:P12)-SUM('членские взносы'!$M12:P12)","v":5200},{"$f":"SUM('план на 2016'!$L12:Q12)-SUM('членские взносы'!$M12:Q12)","v":6000},{"$f":"SUM('план на 2016'!$L12:R12)-SUM('членские взносы'!$M12:R12)","v":6800},{"$f":"SUM('план на 2016'!$L12:S12)-SUM('членские взносы'!$M12:S12)","v":7600},{"$f":"SUM('план на 2016'!$L12:T12)-SUM('членские взносы'!$M12:T12)","v":8400},{"$f":"SUM('план на 2016'!$L12:U12)-SUM('членские взносы'!$M12:U12)","v":9200},{"$f":"SUM('план на 2016'!$L12:V12)-SUM('членские взносы'!$M12:V12)","v":10000},{"$f":"SUM('план на 2016'!$L12:W12)-SUM('членские взносы'!$M12:W12)","v":10800},{"$f":"SUM('план на 2016'!$L12:X12)-SUM('членские взносы'!$M12:X12)","v":11600},{"$f":"X11","v":11600}]
[{"$f":"VLOOKUP(B12,справочник!$B$2:$E$322,4,0)","v":259},{"$f":"CONCATENATE(C12;D12)","v":{"$error":"#VALUE!"}},272,"Анисимова Елена Анатольевна","50:03:0070280:731","2013-07-02","2013-08-01",{"$f":"INT(($H$326-G12)/30)","v":29},{"$f":"H12*1000","v":29000},25000,null,{"$f":"I12-J12-K12","v":4000},{"$f":"SUM('план на 2016'!$L13:M13)-SUM('членские взносы'!$M13:M13)","v":4800},{"$f":"SUM('план на 2016'!$L13:N13)-SUM('членские взносы'!$M13:N13)","v":5600},{"$f":"SUM('план на 2016'!$L13:O13)-SUM('членские взносы'!$M13:O13)","v":6400},{"$f":"SUM('план на 2016'!$L13:P13)-SUM('членские взносы'!$M13:P13)","v":7200},{"$f":"SUM('план на 2016'!$L13:Q13)-SUM('членские взносы'!$M13:Q13)","v":8000},{"$f":"SUM('план на 2016'!$L13:R13)-SUM('членские взносы'!$M13:R13)","v":8800},{"$f":"SUM('план на 2016'!$L13:S13)-SUM('членские взносы'!$M13:S13)","v":6600},{"$f":"SUM('план на 2016'!$L13:T13)-SUM('членские взносы'!$M13:T13)","v":7400},{"$f":"SUM('план на 2016'!$L13:U13)-SUM('членские взносы'!$M13:U13)","v":3200},{"$f":"SUM('план на 2016'!$L13:V13)-SUM('членские взносы'!$M13:V13)","v":1600},{"$f":"SUM('план на 2016'!$L13:W13)-SUM('членские взносы'!$M13:W13)","v":2400},{"$f":"SUM('план на 2016'!$L13:X13)-SUM('членские взносы'!$M13:X13)","v":3200},{"$f":"X12","v":3200}]
[{"$f":"VLOOKUP(B13,справочник!$B$2:$E$322,4,0)","v":109},{"$f":"CONCATENATE(C13;D13)","v":{"$error":"#VALUE!"}},114,"Антипова Жанна Михайловна","50:03:0070280:814","2013-05-20","2013-06-01",{"$f":"INT(($H$326-G13)/30)","v":31},{"$f":"H13*1000","v":31000},10000,null,{"$f":"I13-J13-K13","v":21000},{"$f":"SUM('план на 2016'!$L14:M14)-SUM('членские взносы'!$M14:M14)","v":21800},{"$f":"SUM('план на 2016'!$L14:N14)-SUM('членские взносы'!$M14:N14)","v":21600},{"$f":"SUM('план на 2016'!$L14:O14)-SUM('членские взносы'!$M14:O14)","v":21400},{"$f":"SUM('план на 2016'!$L14:P14)-SUM('членские взносы'!$M14:P14)","v":22200},{"$f":"SUM('план на 2016'!$L14:Q14)-SUM('членские взносы'!$M14:Q14)","v":23000},{"$f":"SUM('план на 2016'!$L14:R14)-SUM('членские взносы'!$M14:R14)","v":23800},{"$f":"SUM('план на 2016'!$L14:S14)-SUM('членские взносы'!$M14:S14)","v":24600},{"$f":"SUM('план на 2016'!$L14:T14)-SUM('членские взносы'!$M14:T14)","v":25400},{"$f":"SUM('план на 2016'!$L14:U14)-SUM('членские взносы'!$M14:U14)","v":26200},{"$f":"SUM('план на 2016'!$L14:V14)-SUM('членские взносы'!$M14:V14)","v":27000},{"$f":"SUM('план на 2016'!$L14:W14)-SUM('членские взносы'!$M14:W14)","v":27800},{"$f":"SUM('план на 2016'!$L14:X14)-SUM('членские взносы'!$M14:X14)","v":28600},{"$f":"X13","v":28600}]
[{"$f":"VLOOKUP(B14,справочник!$B$2:$E$322,4,0)","v":130},{"$f":"CONCATENATE(C14;D14)","v":{"$error":"#VALUE!"}},137,"Анциферов Алексей Сергеевич","50:03:0070280:973","2011-10-25","2011-11-01",{"$f":"INT(($H$326-G14)/30)","v":50},{"$f":"H14*1000","v":50000},{"$f":"44000+1000","v":45000},5000,{"$f":"I14-J14-K14","v":0},{"$f":"SUM('план на 2016'!$L15:M15)-SUM('членские взносы'!$M15:M15)","v":800},{"$f":"SUM('план на 2016'!$L15:N15)-SUM('членские взносы'!$M15:N15)","v":800},{"$f":"SUM('план на 2016'!$L15:O15)-SUM('членские взносы'!$M15:O15)","v":1600},{"$f":"SUM('план на 2016'!$L15:P15)-SUM('членские взносы'!$M15:P15)","v":2400},{"$f":"SUM('план на 2016'!$L15:Q15)-SUM('членские взносы'!$M15:Q15)","v":3200},{"$f":"SUM('план на 2016'!$L15:R15)-SUM('членские взносы'!$M15:R15)","v":800},{"$f":"SUM('план на 2016'!$L15:S15)-SUM('членские взносы'!$M15:S15)","v":1600},{"$f":"SUM('план на 2016'!$L15:T15)-SUM('членские взносы'!$M15:T15)","v":2400},{"$f":"SUM('план на 2016'!$L15:U15)-SUM('членские взносы'!$M15:U15)","v":-4800},{"$f":"SUM('план на 2016'!$L15:V15)-SUM('членские взносы'!$M15:V15)","v":-4000},{"$f":"SUM('план на 2016'!$L15:W15)-SUM('членские взносы'!$M15:W15)","v":-3200},{"$f":"SUM('план на 2016'!$L15:X15)-SUM('членские взносы'!$M15:X15)","v":-2400},{"$f":"X14","v":-2400}]
[{"$f":"VLOOKUP(B15,справочник!$B$2:$E$322,4,0)","v":7},{"$f":"CONCATENATE(C15;D15)","v":{"$error":"#VALUE!"}},7,"Артемьев Сергей Иванович","50:03:0070280:707","2013-07-12","2013-09-01",{"$f":"INT(($H$326-G15)/30)","v":28},{"$f":"H15*1000","v":28000},null,null,{"$f":"I15-J15-K15","v":28000},{"$f":"SUM('план на 2016'!$L16:M16)-SUM('членские взносы'!$M16:M16)","v":28800},{"$f":"SUM('план на 2016'!$L16:N16)-SUM('членские взносы'!$M16:N16)","v":29600},{"$f":"SUM('план на 2016'!$L16:O16)-SUM('членские взносы'!$M16:O16)","v":30400},{"$f":"SUM('план на 2016'!$L16:P16)-SUM('членские взносы'!$M16:P16)","v":31200},{"$f":"SUM('план на 2016'!$L16:Q16)-SUM('членские взносы'!$M16:Q16)","v":32000},{"$f":"SUM('план на 2016'!$L16:R16)-SUM('членские взносы'!$M16:R16)","v":32800},{"$f":"SUM('план на 2016'!$L16:S16)-SUM('членские взносы'!$M16:S16)","v":33600},{"$f":"SUM('план на 2016'!$L16:T16)-SUM('членские взносы'!$M16:T16)","v":34400},{"$f":"SUM('план на 2016'!$L16:U16)-SUM('членские взносы'!$M16:U16)","v":35200},{"$f":"SUM('план на 2016'!$L16:V16)-SUM('членские взносы'!$M16:V16)","v":36000},{"$f":"SUM('план на 2016'!$L16:W16)-SUM('членские взносы'!$M16:W16)","v":36800},{"$f":"SUM('план на 2016'!$L16:X16)-SUM('членские взносы'!$M16:X16)","v":37600},{"$f":"X15","v":37600}]
[{"$f":"VLOOKUP(B16,справочник!$B$2:$E$322,4,0)","v":7},{"$f":"CONCATENATE(C16;D16)","v":{"$error":"#VALUE!"}},14,"Артемьев Сергей Иванович","50:03:0070280:701","2012-10-22","2012-11-01",{"$f":"INT(($H$326-G16)/30)","v":38},{"$f":"H16*1000","v":38000},27000,null,{"$f":"I16-J16-K16","v":11000},{"$f":"SUM('план на 2016'!$L17:M17)-SUM('членские взносы'!$M17:M17)","v":11000},{"$f":"SUM('план на 2016'!$L17:N17)-SUM('членские взносы'!$M17:N17)","v":11000},{"$f":"SUM('план на 2016'!$L17:O17)-SUM('членские взносы'!$M17:O17)","v":11000},{"$f":"SUM('план на 2016'!$L17:P17)-SUM('членские взносы'!$M17:P17)","v":11000},{"$f":"SUM('план на 2016'!$L17:Q17)-SUM('членские взносы'!$M17:Q17)","v":11000},{"$f":"SUM('план на 2016'!$L17:R17)-SUM('членские взносы'!$M17:R17)","v":11000},{"$f":"SUM('план на 2016'!$L17:S17)-SUM('членские взносы'!$M17:S17)","v":11000},{"$f":"SUM('план на 2016'!$L17:T17)-SUM('членские взносы'!$M17:T17)","v":11000},{"$f":"SUM('план на 2016'!$L17:U17)-SUM('членские взносы'!$M17:U17)","v":11000},{"$f":"SUM('план на 2016'!$L17:V17)-SUM('членские взносы'!$M17:V17)","v":11000},{"$f":"SUM('план на 2016'!$L17:W17)-SUM('членские взносы'!$M17:W17)","v":11000},{"$f":"SUM('план на 2016'!$L17:X17)-SUM('членские взносы'!$M17:X17)","v":11000},{"$f":"X16","v":11000}]
[{"$f":"VLOOKUP(B17,справочник!$B$2:$E$322,4,0)","v":193},{"$f":"CONCATENATE(C17;D17)","v":{"$error":"#VALUE!"}},201,"Асташкин Павел Александрович(продал???)","50:03:0070280:758",null,null,null,{"$f":"H17*1000","v":0},null,null,{"$f":"I17-J17-K17","v":0},{"$f":"SUM('план на 2016'!$L18:M18)-SUM('членские взносы'!$M18:M18)","v":800},{"$f":"SUM('план на 2016'!$L18:N18)-SUM('членские взносы'!$M18:N18)","v":1600},{"$f":"SUM('план на 2016'!$L18:O18)-SUM('членские взносы'!$M18:O18)","v":2400},{"$f":"SUM('план на 2016'!$L18:P18)-SUM('членские взносы'!$M18:P18)","v":3200},{"$f":"SUM('план на 2016'!$L18:Q18)-SUM('членские взносы'!$M18:Q18)","v":4000},{"$f":"SUM('план на 2016'!$L18:R18)-SUM('членские взносы'!$M18:R18)","v":4800},{"$f":"SUM('план на 2016'!$L18:S18)-SUM('членские взносы'!$M18:S18)","v":5600},{"$f":"SUM('план на 2016'!$L18:T18)-SUM('членские взносы'!$M18:T18)","v":6400},{"$f":"SUM('план на 2016'!$L18:U18)-SUM('членские взносы'!$M18:U18)","v":7200},{"$f":"SUM('план на 2016'!$L18:V18)-SUM('членские взносы'!$M18:V18)","v":8000},{"$f":"SUM('план на 2016'!$L18:W18)-SUM('членские взносы'!$M18:W18)","v":8800},{"$f":"SUM('план на 2016'!$L18:X18)-SUM('членские взносы'!$M18:X18)","v":9600},{"$f":"X17","v":9600}]
[{"$f":"VLOOKUP(B18,справочник!$B$2:$E$322,4,0)","v":178},{"$f":"CONCATENATE(C18;D18)","v":{"$error":"#VALUE!"}},186,"Афанасьева Злата Сергеевна","50:03:0070280:761","2014-09-16","2014-11-01",{"$f":"INT(($H$326-G18)/30)","v":14},{"$f":"H18*1000","v":14000},1000,null,{"$f":"I18-J18-K18","v":13000},{"$f":"SUM('план на 2016'!$L19:M19)-SUM('членские взносы'!$M19:M19)","v":13800},{"$f":"SUM('план на 2016'!$L19:N19)-SUM('членские взносы'!$M19:N19)","v":14600},{"$f":"SUM('план на 2016'!$L19:O19)-SUM('членские взносы'!$M19:O19)","v":15400},{"$f":"SUM('план на 2016'!$L19:P19)-SUM('членские взносы'!$M19:P19)","v":16200},{"$f":"SUM('план на 2016'!$L19:Q19)-SUM('членские взносы'!$M19:Q19)","v":17000},{"$f":"SUM('план на 2016'!$L19:R19)-SUM('членские взносы'!$M19:R19)","v":17800},{"$f":"SUM('план на 2016'!$L19:S19)-SUM('членские взносы'!$M19:S19)","v":18600},{"$f":"SUM('план на 2016'!$L19:T19)-SUM('членские взносы'!$M19:T19)","v":19400},{"$f":"SUM('план на 2016'!$L19:U19)-SUM('членские взносы'!$M19:U19)","v":20200},{"$f":"SUM('план на 2016'!$L19:V19)-SUM('членские взносы'!$M19:V19)","v":21000},{"$f":"SUM('план на 2016'!$L19:W19)-SUM('членские взносы'!$M19:W19)","v":11800},{"$f":"SUM('план на 2016'!$L19:X19)-SUM('членские взносы'!$M19:X19)","v":12600},{"$f":"X18","v":12600}]
[{"$f":"VLOOKUP(B19,справочник!$B$2:$E$322,4,0)","v":119},{"$f":"CONCATENATE(C19;D19)","v":{"$error":"#VALUE!"}},124,"Афян Сасун Аркадиевич","50:03:0070280:1021","2013-05-07","2013-06-01",{"$f":"INT(($H$326-G19)/30)","v":31},{"$f":"H19*1000","v":31000},11000,null,{"$f":"I19-J19-K19","v":20000},{"$f":"SUM('план на 2016'!$L20:M20)-SUM('членские взносы'!$M20:M20)","v":20800},{"$f":"SUM('план на 2016'!$L20:N20)-SUM('членские взносы'!$M20:N20)","v":21600},{"$f":"SUM('план на 2016'!$L20:O20)-SUM('членские взносы'!$M20:O20)","v":19400},{"$f":"SUM('план на 2016'!$L20:P20)-SUM('членские взносы'!$M20:P20)","v":20200},{"$f":"SUM('план на 2016'!$L20:Q20)-SUM('членские взносы'!$M20:Q20)","v":21000},{"$f":"SUM('план на 2016'!$L20:R20)-SUM('членские взносы'!$M20:R20)","v":21800},{"$f":"SUM('план на 2016'!$L20:S20)-SUM('членские взносы'!$M20:S20)","v":22600},{"$f":"SUM('план на 2016'!$L20:T20)-SUM('членские взносы'!$M20:T20)","v":23400},{"$f":"SUM('план на 2016'!$L20:U20)-SUM('членские взносы'!$M20:U20)","v":24200},{"$f":"SUM('план на 2016'!$L20:V20)-SUM('членские взносы'!$M20:V20)","v":25000},{"$f":"SUM('план на 2016'!$L20:W20)-SUM('членские взносы'!$M20:W20)","v":25800},{"$f":"SUM('план на 2016'!$L20:X20)-SUM('членские взносы'!$M20:X20)","v":26600},{"$f":"X19","v":26600}]
[{"$f":"VLOOKUP(B20,справочник!$B$2:$E$322,4,0)","v":293},{"$f":"CONCATENATE(C20;D20)","v":{"$error":"#VALUE!"}},308,"Ахромеев Андрей Владимирович","50:03:0070280:999","2012-01-20","2012-01-01",{"$f":"INT(($H$326-G20)/30)","v":48},{"$f":"H20*1000","v":48000},{"$f":"11500+24500","v":36000},null,{"$f":"I20-J20-K20","v":12000},{"$f":"SUM('план на 2016'!$L21:M21)-SUM('членские взносы'!$M21:M21)","v":12800},{"$f":"SUM('план на 2016'!$L21:N21)-SUM('членские взносы'!$M21:N21)","v":13600},{"$f":"SUM('план на 2016'!$L21:O21)-SUM('членские взносы'!$M21:O21)","v":14400},{"$f":"SUM('план на 2016'!$L21:P21)-SUM('членские взносы'!$M21:P21)","v":15200},{"$f":"SUM('план на 2016'!$L21:Q21)-SUM('членские взносы'!$M21:Q21)","v":16000},{"$f":"SUM('план на 2016'!$L21:R21)-SUM('членские взносы'!$M21:R21)","v":16800},{"$f":"SUM('план на 2016'!$L21:S21)-SUM('членские взносы'!$M21:S21)","v":17600},{"$f":"SUM('план на 2016'!$L21:T21)-SUM('членские взносы'!$M21:T21)","v":18400},{"$f":"SUM('план на 2016'!$L21:U21)-SUM('членские взносы'!$M21:U21)","v":19200},{"$f":"SUM('план на 2016'!$L21:V21)-SUM('членские взносы'!$M21:V21)","v":20000},{"$f":"SUM('план на 2016'!$L21:W21)-SUM('членские взносы'!$M21:W21)","v":20800},{"$f":"SUM('план на 2016'!$L21:X21)-SUM('членские взносы'!$M21:X21)","v":21600},{"$f":"X20","v":21600}]
[{"$f":"VLOOKUP(B21,справочник!$B$2:$E$322,4,0)","v":191},{"$f":"CONCATENATE(C21;D21)","v":{"$error":"#VALUE!"}},199,"Бадирьян Тамара Викторовна","50:03:0070280:888",null,null,null,{"$f":"H21*1000","v":0},null,null,{"$f":"I21-J21-K21","v":0},{"$f":"SUM('план на 2016'!$L22:M22)-SUM('членские взносы'!$M22:M22)","v":800},{"$f":"SUM('план на 2016'!$L22:N22)-SUM('членские взносы'!$M22:N22)","v":1600},{"$f":"SUM('план на 2016'!$L22:O22)-SUM('членские взносы'!$M22:O22)","v":2400},{"$f":"SUM('план на 2016'!$L22:P22)-SUM('членские взносы'!$M22:P22)","v":3200},{"$f":"SUM('план на 2016'!$L22:Q22)-SUM('членские взносы'!$M22:Q22)","v":4000},{"$f":"SUM('план на 2016'!$L22:R22)-SUM('членские взносы'!$M22:R22)","v":4800},{"$f":"SUM('план на 2016'!$L22:S22)-SUM('членские взносы'!$M22:S22)","v":5600},{"$f":"SUM('план на 2016'!$L22:T22)-SUM('членские взносы'!$M22:T22)","v":6400},{"$f":"SUM('план на 2016'!$L22:U22)-SUM('членские взносы'!$M22:U22)","v":7200},{"$f":"SUM('план на 2016'!$L22:V22)-SUM('членские взносы'!$M22:V22)","v":8000},{"$f":"SUM('план на 2016'!$L22:W22)-SUM('членские взносы'!$M22:W22)","v":8800},{"$f":"SUM('план на 2016'!$L22:X22)-SUM('членские взносы'!$M22:X22)","v":9600},{"$f":"X21","v":9600}]
[{"$f":"VLOOKUP(B22,справочник!$B$2:$E$322,4,0)","v":249},{"$f":"CONCATENATE(C22;D22)","v":{"$error":"#VALUE!"}},260,"Байбикова Рузалия Равилевна / Байбикова Руфия Равилевна","50:03:0070280:785","2013-11-26","2013-12-01",{"$f":"INT(($H$326-G22)/30)","v":25},{"$f":"H22*1000","v":25000},{"$f":"1000","v":1000},null,{"$f":"I22-J22-K22","v":24000},{"$f":"SUM('план на 2016'!$L23:M23)-SUM('членские взносы'!$M23:M23)","v":24800},{"$f":"SUM('план на 2016'!$L23:N23)-SUM('членские взносы'!$M23:N23)","v":25600},{"$f":"SUM('план на 2016'!$L23:O23)-SUM('членские взносы'!$M23:O23)","v":26400},{"$f":"SUM('план на 2016'!$L23:P23)-SUM('членские взносы'!$M23:P23)","v":27200},{"$f":"SUM('план на 2016'!$L23:Q23)-SUM('членские взносы'!$M23:Q23)","v":28000},{"$f":"SUM('план на 2016'!$L23:R23)-SUM('членские взносы'!$M23:R23)","v":28800},{"$f":"SUM('план на 2016'!$L23:S23)-SUM('членские взносы'!$M23:S23)","v":29600},{"$f":"SUM('план на 2016'!$L23:T23)-SUM('членские взносы'!$M23:T23)","v":30400},{"$f":"SUM('план на 2016'!$L23:U23)-SUM('членские взносы'!$M23:U23)","v":31200},{"$f":"SUM('план на 2016'!$L23:V23)-SUM('членские взносы'!$M23:V23)","v":32000},{"$f":"SUM('план на 2016'!$L23:W23)-SUM('членские взносы'!$M23:W23)","v":32800},{"$f":"SUM('план на 2016'!$L23:X23)-SUM('членские взносы'!$M23:X23)","v":33600},{"$f":"X22","v":33600}]
[{"$f":"VLOOKUP(B23,справочник!$B$2:$E$322,4,0)","v":72},{"$f":"CONCATENATE(C23;D23)","v":{"$error":"#VALUE!"}},78,"Лещёва Ольга Владимировна","50:03:0070280:802","2011-09-07","2011-09-01",{"$f":"INT(($H$326-G23)/30)","v":52},{"$f":"H23*1000","v":52000},{"$f":"19000+1500+2500+23000","v":46000},null,{"$f":"I23-J23-K23","v":6000},{"$f":"SUM('план на 2016'!$L24:M24)-SUM('членские взносы'!$M24:M24)","v":6800},{"$f":"SUM('план на 2016'!$L24:N24)-SUM('членские взносы'!$M24:N24)","v":7600},{"$f":"SUM('план на 2016'!$L24:O24)-SUM('членские взносы'!$M24:O24)","v":8400},{"$f":"SUM('план на 2016'!$L24:P24)-SUM('членские взносы'!$M24:P24)","v":9200},{"$f":"SUM('план на 2016'!$L24:Q24)-SUM('членские взносы'!$M24:Q24)","v":10000},{"$f":"SUM('план на 2016'!$L24:R24)-SUM('членские взносы'!$M24:R24)","v":10800},{"$f":"SUM('план на 2016'!$L24:S24)-SUM('членские взносы'!$M24:S24)","v":11600},{"$f":"SUM('план на 2016'!$L24:T24)-SUM('членские взносы'!$M24:T24)","v":12400},{"$f":"SUM('план на 2016'!$L24:U24)-SUM('членские взносы'!$M24:U24)","v":13200},{"$f":"SUM('план на 2016'!$L24:V24)-SUM('членские взносы'!$M24:V24)","v":14000},{"$f":"SUM('план на 2016'!$L24:W24)-SUM('членские взносы'!$M24:W24)","v":14800},{"$f":"SUM('план на 2016'!$L24:X24)-SUM('членские взносы'!$M24:X24)","v":15600},{"$f":"X23","v":15600}]
[{"$f":"VLOOKUP(B24,справочник!$B$2:$E$322,4,0)","v":125},{"$f":"CONCATENATE(C24;D24)","v":{"$error":"#VALUE!"}},130,"Безбородова Людмила Михайловна","50:03:0070280:812","2014-11-05","2014-12-01",{"$f":"INT(($H$326-G24)/30)","v":13},{"$f":"H24*1000","v":13000},8000,null,{"$f":"I24-J24-K24","v":5000},{"$f":"SUM('план на 2016'!$L25:M25)-SUM('членские взносы'!$M25:M25)","v":5800},{"$f":"SUM('план на 2016'!$L25:N25)-SUM('членские взносы'!$M25:N25)","v":6600},{"$f":"SUM('план на 2016'!$L25:O25)-SUM('членские взносы'!$M25:O25)","v":7400},{"$f":"SUM('план на 2016'!$L25:P25)-SUM('членские взносы'!$M25:P25)","v":8200},{"$f":"SUM('план на 2016'!$L25:Q25)-SUM('членские взносы'!$M25:Q25)","v":9000},{"$f":"SUM('план на 2016'!$L25:R25)-SUM('членские взносы'!$M25:R25)","v":6800},{"$f":"SUM('план на 2016'!$L25:S25)-SUM('членские взносы'!$M25:S25)","v":7600},{"$f":"SUM('план на 2016'!$L25:T25)-SUM('членские взносы'!$M25:T25)","v":8400},{"$f":"SUM('план на 2016'!$L25:U25)-SUM('членские взносы'!$M25:U25)","v":6200},{"$f":"SUM('план на 2016'!$L25:V25)-SUM('членские взносы'!$M25:V25)","v":7000},{"$f":"SUM('план на 2016'!$L25:W25)-SUM('членские взносы'!$M25:W25)","v":4800},{"$f":"SUM('план на 2016'!$L25:X25)-SUM('членские взносы'!$M25:X25)","v":5600},{"$f":"X24","v":5600}]
[{"$f":"VLOOKUP(B25,справочник!$B$2:$E$322,4,0)","v":229},{"$f":"CONCATENATE(C25;D25)","v":{"$error":"#VALUE!"}},238,"Безменова Татьяна Игоревна","50:03:0070280:897","2013-04-09","2013-05-01",{"$f":"INT(($H$326-G25)/30)","v":32},{"$f":"H25*1000","v":32000},9000,null,{"$f":"I25-J25-K25","v":23000},{"$f":"SUM('план на 2016'!$L26:M26)-SUM('членские взносы'!$M26:M26)","v":23800},{"$f":"SUM('план на 2016'!$L26:N26)-SUM('членские взносы'!$M26:N26)","v":24600},{"$f":"SUM('план на 2016'!$L26:O26)-SUM('членские взносы'!$M26:O26)","v":25400},{"$f":"SUM('план на 2016'!$L26:P26)-SUM('членские взносы'!$M26:P26)","v":26200},{"$f":"SUM('план на 2016'!$L26:Q26)-SUM('членские взносы'!$M26:Q26)","v":27000},{"$f":"SUM('план на 2016'!$L26:R26)-SUM('членские взносы'!$M26:R26)","v":27800},{"$f":"SUM('план на 2016'!$L26:S26)-SUM('членские взносы'!$M26:S26)","v":28600},{"$f":"SUM('план на 2016'!$L26:T26)-SUM('членские взносы'!$M26:T26)","v":29400},{"$f":"SUM('план на 2016'!$L26:U26)-SUM('членские взносы'!$M26:U26)","v":30200},{"$f":"SUM('план на 2016'!$L26:V26)-SUM('членские взносы'!$M26:V26)","v":31000},{"$f":"SUM('план на 2016'!$L26:W26)-SUM('членские взносы'!$M26:W26)","v":31800},{"$f":"SUM('план на 2016'!$L26:X26)-SUM('членские взносы'!$M26:X26)","v":32600},{"$f":"X25","v":32600}]
[{"$f":"VLOOKUP(B26,справочник!$B$2:$E$322,4,0)","v":296},{"$f":"CONCATENATE(C26;D26)","v":{"$error":"#VALUE!"}},311,"Бекмансурова Динара Василевна","50:03:0070280:1002","2012-04-09","2012-04-01",{"$f":"INT(($H$326-G26)/30)","v":45},{"$f":"H26*1000","v":45000},1000,null,{"$f":"I26-J26-K26","v":44000},{"$f":"SUM('план на 2016'!$L27:M27)-SUM('членские взносы'!$M27:M27)","v":44800},{"$f":"SUM('план на 2016'!$L27:N27)-SUM('членские взносы'!$M27:N27)","v":45600},{"$f":"SUM('план на 2016'!$L27:O27)-SUM('членские взносы'!$M27:O27)","v":46400},{"$f":"SUM('план на 2016'!$L27:P27)-SUM('членские взносы'!$M27:P27)","v":47200},{"$f":"SUM('план на 2016'!$L27:Q27)-SUM('членские взносы'!$M27:Q27)","v":48000},{"$f":"SUM('план на 2016'!$L27:R27)-SUM('членские взносы'!$M27:R27)","v":48800},{"$f":"SUM('план на 2016'!$L27:S27)-SUM('членские взносы'!$M27:S27)","v":49600},{"$f":"SUM('план на 2016'!$L27:T27)-SUM('членские взносы'!$M27:T27)","v":50400},{"$f":"SUM('план на 2016'!$L27:U27)-SUM('членские взносы'!$M27:U27)","v":51200},{"$f":"SUM('план на 2016'!$L27:V27)-SUM('членские взносы'!$M27:V27)","v":52000},{"$f":"SUM('план на 2016'!$L27:W27)-SUM('членские взносы'!$M27:W27)","v":52800},{"$f":"SUM('план на 2016'!$L27:X27)-SUM('членские взносы'!$M27:X27)","v":53600},{"$f":"X26","v":53600}]
[{"$f":"VLOOKUP(B27,справочник!$B$2:$E$322,4,0)","v":281},{"$f":"CONCATENATE(C27;D27)","v":{"$error":"#VALUE!"}},293,"Белов Семён Иванович","50:03:0070280:776","2014-05-07","2014-06-01",{"$f":"INT(($H$326-G27)/30)","v":19},{"$f":"H27*1000","v":19000},1000,null,{"$f":"I27-J27-K27","v":18000},{"$f":"SUM('план на 2016'!$L28:M28)-SUM('членские взносы'!$M28:M28)","v":18800},{"$f":"SUM('план на 2016'!$L28:N28)-SUM('членские взносы'!$M28:N28)","v":19600},{"$f":"SUM('план на 2016'!$L28:O28)-SUM('членские взносы'!$M28:O28)","v":20400},{"$f":"SUM('план на 2016'!$L28:P28)-SUM('членские взносы'!$M28:P28)","v":21200},{"$f":"SUM('план на 2016'!$L28:Q28)-SUM('членские взносы'!$M28:Q28)","v":22000},{"$f":"SUM('план на 2016'!$L28:R28)-SUM('членские взносы'!$M28:R28)","v":22800},{"$f":"SUM('план на 2016'!$L28:S28)-SUM('членские взносы'!$M28:S28)","v":23600},{"$f":"SUM('план на 2016'!$L28:T28)-SUM('членские взносы'!$M28:T28)","v":24400},{"$f":"SUM('план на 2016'!$L28:U28)-SUM('членские взносы'!$M28:U28)","v":15200},{"$f":"SUM('план на 2016'!$L28:V28)-SUM('членские взносы'!$M28:V28)","v":16000},{"$f":"SUM('план на 2016'!$L28:W28)-SUM('членские взносы'!$M28:W28)","v":16800},{"$f":"SUM('план на 2016'!$L28:X28)-SUM('членские взносы'!$M28:X28)","v":17600},{"$f":"X27","v":17600}]
[{"$f":"VLOOKUP(B28,справочник!$B$2:$E$322,4,0)","v":198},{"$f":"CONCATENATE(C28;D28)","v":{"$error":"#VALUE!"}},206,"Белоглазова Людмила Ивановна","50:03:0070280:983","2011-09-30","2011-09-01",{"$f":"INT(($H$326-G28)/30)","v":52},{"$f":"H28*1000","v":52000},{"$f":"50000+1000","v":51000},1000,{"$f":"I28-J28-K28","v":0},{"$f":"SUM('план на 2016'!$L29:M29)-SUM('членские взносы'!$M29:M29)","v":800},{"$f":"SUM('план на 2016'!$L29:N29)-SUM('членские взносы'!$M29:N29)","v":1600},{"$f":"SUM('план на 2016'!$L29:O29)-SUM('членские взносы'!$M29:O29)","v":-800},{"$f":"SUM('план на 2016'!$L29:P29)-SUM('членские взносы'!$M29:P29)","v":0},{"$f":"SUM('план на 2016'!$L29:Q29)-SUM('членские взносы'!$M29:Q29)","v":0},{"$f":"SUM('план на 2016'!$L29:R29)-SUM('членские взносы'!$M29:R29)","v":800},{"$f":"SUM('план на 2016'!$L29:S29)-SUM('членские взносы'!$M29:S29)","v":1600},{"$f":"SUM('план на 2016'!$L29:T29)-SUM('членские взносы'!$M29:T29)","v":-800},{"$f":"SUM('план на 2016'!$L29:U29)-SUM('членские взносы'!$M29:U29)","v":0},{"$f":"SUM('план на 2016'!$L29:V29)-SUM('членские взносы'!$M29:V29)","v":0},{"$f":"SUM('план на 2016'!$L29:W29)-SUM('членские взносы'!$M29:W29)","v":-800},{"$f":"SUM('план на 2016'!$L29:X29)-SUM('членские взносы'!$M29:X29)","v":0},{"$f":"X28","v":0}]
[{"$f":"VLOOKUP(B29,справочник!$B$2:$E$322,4,0)","v":52},{"$f":"CONCATENATE(C29;D29)","v":{"$error":"#VALUE!"}},54,"Бельская Светлана Александровна (Владимир)","50:03:0070280:945","2012-04-17","2012-04-01",{"$f":"INT(($H$326-G29)/30)","v":45},{"$f":"H29*1000","v":45000},40000,5000,5000,{"$f":"SUM('план на 2016'!$L30:M30)-SUM('членские взносы'!$M30:M30)","v":2800},{"$f":"SUM('план на 2016'!$L30:N30)-SUM('членские взносы'!$M30:N30)","v":1600},{"$f":"SUM('план на 2016'!$L30:O30)-SUM('членские взносы'!$M30:O30)","v":1600},{"$f":"SUM('план на 2016'!$L30:P30)-SUM('членские взносы'!$M30:P30)","v":2400},{"$f":"SUM('план на 2016'!$L30:Q30)-SUM('членские взносы'!$M30:Q30)","v":1600},{"$f":"SUM('план на 2016'!$L30:R30)-SUM('членские взносы'!$M30:R30)","v":2400},{"$f":"SUM('план на 2016'!$L30:S30)-SUM('членские взносы'!$M30:S30)","v":3200},{"$f":"SUM('план на 2016'!$L30:T30)-SUM('членские взносы'!$M30:T30)","v":2400},{"$f":"SUM('план на 2016'!$L30:U30)-SUM('членские взносы'!$M30:U30)","v":3200},{"$f":"SUM('план на 2016'!$L30:V30)-SUM('членские взносы'!$M30:V30)","v":3200},{"$f":"SUM('план на 2016'!$L30:W30)-SUM('членские взносы'!$M30:W30)","v":3200},{"$f":"SUM('план на 2016'!$L30:X30)-SUM('членские взносы'!$M30:X30)","v":4000},{"$f":"X29","v":4000}]
[{"$f":"VLOOKUP(B30,справочник!$B$2:$E$322,4,0)","v":51},{"$f":"CONCATENATE(C30;D30)","v":{"$error":"#VALUE!"}},53,"Бельский Владимир Владимирович (Светлана)","50:03:0070280:966","2012-04-17","2012-04-01",{"$f":"INT(($H$326-G30)/30)","v":45},{"$f":"H30*1000","v":45000},28000,7000,5000,{"$f":"SUM('план на 2016'!$L31:M31)-SUM('членские взносы'!$M31:M31)","v":2800},{"$f":"SUM('план на 2016'!$L31:N31)-SUM('членские взносы'!$M31:N31)","v":1600},{"$f":"SUM('план на 2016'!$L31:O31)-SUM('членские взносы'!$M31:O31)","v":1600},{"$f":"SUM('план на 2016'!$L31:P31)-SUM('членские взносы'!$M31:P31)","v":2400},{"$f":"SUM('план на 2016'!$L31:Q31)-SUM('членские взносы'!$M31:Q31)","v":1600},{"$f":"SUM('план на 2016'!$L31:R31)-SUM('членские взносы'!$M31:R31)","v":2400},{"$f":"SUM('план на 2016'!$L31:S31)-SUM('членские взносы'!$M31:S31)","v":3200},{"$f":"SUM('план на 2016'!$L31:T31)-SUM('членские взносы'!$M31:T31)","v":2400},{"$f":"SUM('план на 2016'!$L31:U31)-SUM('членские взносы'!$M31:U31)","v":2400},{"$f":"SUM('план на 2016'!$L31:V31)-SUM('членские взносы'!$M31:V31)","v":3200},{"$f":"SUM('план на 2016'!$L31:W31)-SUM('членские взносы'!$M31:W31)","v":3200},{"$f":"SUM('план на 2016'!$L31:X31)-SUM('членские взносы'!$M31:X31)","v":4000},{"$f":"X30","v":4000}]
[{"$f":"VLOOKUP(B31,справочник!$B$2:$E$322,4,0)","v":136},{"$f":"CONCATENATE(C31;D31)","v":{"$error":"#VALUE!"}},144,"Беляков Виктор Михайлович","50:03:0070280:940","2012-10-22","2012-11-01",{"$f":"INT(($H$326-G31)/30)","v":38},{"$f":"H31*1000","v":38000},28000,null,{"$f":"I31-J31-K31","v":10000},{"$f":"SUM('план на 2016'!$L32:M32)-SUM('членские взносы'!$M32:M32)","v":10800},{"$f":"SUM('план на 2016'!$L32:N32)-SUM('членские взносы'!$M32:N32)","v":11600},{"$f":"SUM('план на 2016'!$L32:O32)-SUM('членские взносы'!$M32:O32)","v":12400},{"$f":"SUM('план на 2016'!$L32:P32)-SUM('членские взносы'!$M32:P32)","v":13200},{"$f":"SUM('план на 2016'!$L32:Q32)-SUM('членские взносы'!$M32:Q32)","v":14000},{"$f":"SUM('план на 2016'!$L32:R32)-SUM('членские взносы'!$M32:R32)","v":14800},{"$f":"SUM('план на 2016'!$L32:S32)-SUM('членские взносы'!$M32:S32)","v":9600},{"$f":"SUM('план на 2016'!$L32:T32)-SUM('членские взносы'!$M32:T32)","v":5600},{"$f":"SUM('план на 2016'!$L32:U32)-SUM('членские взносы'!$M32:U32)","v":6400},{"$f":"SUM('план на 2016'!$L32:V32)-SUM('членские взносы'!$M32:V32)","v":7200},{"$f":"SUM('план на 2016'!$L32:W32)-SUM('членские взносы'!$M32:W32)","v":8000},{"$f":"SUM('план на 2016'!$L32:X32)-SUM('членские взносы'!$M32:X32)","v":4000},{"$f":"X31","v":4000}]
[{"$f":"VLOOKUP(B32,справочник!$B$2:$E$322,4,0)","v":11},{"$f":"CONCATENATE(C32;D32)","v":{"$error":"#VALUE!"}},11,"Бенгя Владимир Михайлович (Диана)","50:03:0070280:704","2012-10-22","2012-11-01",{"$f":"INT(($H$326-G32)/30)","v":38},{"$f":"H32*1000","v":38000},26000,null,{"$f":"I32-J32-K32","v":12000},{"$f":"SUM('план на 2016'!$L33:M33)-SUM('членские взносы'!$M33:M33)","v":12800},{"$f":"SUM('план на 2016'!$L33:N33)-SUM('членские взносы'!$M33:N33)","v":13600},{"$f":"SUM('план на 2016'!$L33:O33)-SUM('членские взносы'!$M33:O33)","v":14400},{"$f":"SUM('план на 2016'!$L33:P33)-SUM('членские взносы'!$M33:P33)","v":15200},{"$f":"SUM('план на 2016'!$L33:Q33)-SUM('членские взносы'!$M33:Q33)","v":16000},{"$f":"SUM('план на 2016'!$L33:R33)-SUM('членские взносы'!$M33:R33)","v":16800},{"$f":"SUM('план на 2016'!$L33:S33)-SUM('членские взносы'!$M33:S33)","v":17600},{"$f":"SUM('план на 2016'!$L33:T33)-SUM('членские взносы'!$M33:T33)","v":18400},{"$f":"SUM('план на 2016'!$L33:U33)-SUM('членские взносы'!$M33:U33)","v":19200},{"$f":"SUM('план на 2016'!$L33:V33)-SUM('членские взносы'!$M33:V33)","v":20000},{"$f":"SUM('план на 2016'!$L33:W33)-SUM('членские взносы'!$M33:W33)","v":20800},{"$f":"SUM('план на 2016'!$L33:X33)-SUM('членские взносы'!$M33:X33)","v":21600},{"$f":"X32","v":21600}]
[{"$f":"VLOOKUP(B33,справочник!$B$2:$E$322,4,0)","v":114},{"$f":"CONCATENATE(C33;D33)","v":{"$error":"#VALUE!"}},119,"Беспаленко Зинаида Александровна","50:03:0070280:1024","2012-12-19","2013-01-01",{"$f":"INT(($H$326-G33)/30)","v":36},{"$f":"H33*1000","v":36000},1000,null,{"$f":"I33-J33-K33","v":35000},{"$f":"SUM('план на 2016'!$L34:M34)-SUM('членские взносы'!$M34:M34)","v":35800},{"$f":"SUM('план на 2016'!$L34:N34)-SUM('членские взносы'!$M34:N34)","v":36600},{"$f":"SUM('план на 2016'!$L34:O34)-SUM('членские взносы'!$M34:O34)","v":37400},{"$f":"SUM('план на 2016'!$L34:P34)-SUM('членские взносы'!$M34:P34)","v":38200},{"$f":"SUM('план на 2016'!$L34:Q34)-SUM('членские взносы'!$M34:Q34)","v":39000},{"$f":"SUM('план на 2016'!$L34:R34)-SUM('членские взносы'!$M34:R34)","v":39800},{"$f":"SUM('план на 2016'!$L34:S34)-SUM('членские взносы'!$M34:S34)","v":40600},{"$f":"SUM('план на 2016'!$L34:T34)-SUM('членские взносы'!$M34:T34)","v":41400},{"$f":"SUM('план на 2016'!$L34:U34)-SUM('членские взносы'!$M34:U34)","v":42200},{"$f":"SUM('план на 2016'!$L34:V34)-SUM('членские взносы'!$M34:V34)","v":43000},{"$f":"SUM('план на 2016'!$L34:W34)-SUM('членские взносы'!$M34:W34)","v":43800},{"$f":"SUM('план на 2016'!$L34:X34)-SUM('членские взносы'!$M34:X34)","v":44600},{"$f":"X33","v":44600}]
[{"$f":"VLOOKUP(B34,справочник!$B$2:$E$322,4,0)","v":151},{"$f":"CONCATENATE(C34;D34)","v":{"$error":"#VALUE!"}},159,"Бирюков Александр Сергеевич","50:03:0070280:960","2012-07-31","2012-08-01",{"$f":"INT(($H$326-G34)/30)","v":41},{"$f":"H34*1000","v":41000},17000,null,{"$f":"I34-J34-K34","v":24000},{"$f":"SUM('план на 2016'!$L35:M35)-SUM('членские взносы'!$M35:M35)","v":24800},{"$f":"SUM('план на 2016'!$L35:N35)-SUM('членские взносы'!$M35:N35)","v":25600},{"$f":"SUM('план на 2016'!$L35:O35)-SUM('членские взносы'!$M35:O35)","v":26400},{"$f":"SUM('план на 2016'!$L35:P35)-SUM('членские взносы'!$M35:P35)","v":27200},{"$f":"SUM('план на 2016'!$L35:Q35)-SUM('членские взносы'!$M35:Q35)","v":28000},{"$f":"SUM('план на 2016'!$L35:R35)-SUM('членские взносы'!$M35:R35)","v":28800},{"$f":"SUM('план на 2016'!$L35:S35)-SUM('членские взносы'!$M35:S35)","v":29600},{"$f":"SUM('план на 2016'!$L35:T35)-SUM('членские взносы'!$M35:T35)","v":30400},{"$f":"SUM('план на 2016'!$L35:U35)-SUM('членские взносы'!$M35:U35)","v":31200},{"$f":"SUM('план на 2016'!$L35:V35)-SUM('членские взносы'!$M35:V35)","v":32000},{"$f":"SUM('план на 2016'!$L35:W35)-SUM('членские взносы'!$M35:W35)","v":32800},{"$f":"SUM('план на 2016'!$L35:X35)-SUM('членские взносы'!$M35:X35)","v":33600},{"$f":"X34","v":33600}]
[{"$f":"VLOOKUP(B35,справочник!$B$2:$E$322,4,0)","v":142},{"$f":"CONCATENATE(C35;D35)","v":{"$error":"#VALUE!"}},150,"Блинков Анатолий Сергеевич","50:03:0070280:951","2011-08-16","2011-09-01",{"$f":"INT(($H$326-G35)/30)","v":52},{"$f":"H35*1000","v":52000},{"$f":"32000+1000","v":33000},19000,{"$f":"I35-J35-K35","v":0},{"$f":"SUM('план на 2016'!$L36:M36)-SUM('членские взносы'!$M36:M36)","v":800},{"$f":"SUM('план на 2016'!$L36:N36)-SUM('членские взносы'!$M36:N36)","v":1600},{"$f":"SUM('план на 2016'!$L36:O36)-SUM('членские взносы'!$M36:O36)","v":2400},{"$f":"SUM('план на 2016'!$L36:P36)-SUM('членские взносы'!$M36:P36)","v":3200},{"$f":"SUM('план на 2016'!$L36:Q36)-SUM('членские взносы'!$M36:Q36)","v":4000},{"$f":"SUM('план на 2016'!$L36:R36)-SUM('членские взносы'!$M36:R36)","v":4800},{"$f":"SUM('план на 2016'!$L36:S36)-SUM('членские взносы'!$M36:S36)","v":-800},{"$f":"SUM('план на 2016'!$L36:T36)-SUM('членские взносы'!$M36:T36)","v":0},{"$f":"SUM('план на 2016'!$L36:U36)-SUM('членские взносы'!$M36:U36)","v":800},{"$f":"SUM('план на 2016'!$L36:V36)-SUM('членские взносы'!$M36:V36)","v":1600},{"$f":"SUM('план на 2016'!$L36:W36)-SUM('членские взносы'!$M36:W36)","v":2400},{"$f":"SUM('план на 2016'!$L36:X36)-SUM('членские взносы'!$M36:X36)","v":3200},{"$f":"X35","v":3200}]
[{"$f":"VLOOKUP(B36,справочник!$B$2:$E$322,4,0)","v":245},{"$f":"CONCATENATE(C36;D36)","v":{"$error":"#VALUE!"}},256,"Бондарев Станислав Дмитриевич","50:03:0070280:789","2014-10-18","2014-11-01",{"$f":"INT(($H$326-G36)/30)","v":14},{"$f":"H36*1000","v":14000},9000,null,{"$f":"I36-J36-K36","v":5000},{"$f":"SUM('план на 2016'!$L37:M37)-SUM('членские взносы'!$M37:M37)","v":5800},{"$f":"SUM('план на 2016'!$L37:N37)-SUM('членские взносы'!$M37:N37)","v":6600},{"$f":"SUM('план на 2016'!$L37:O37)-SUM('членские взносы'!$M37:O37)","v":7400},{"$f":"SUM('план на 2016'!$L37:P37)-SUM('членские взносы'!$M37:P37)","v":8200},{"$f":"SUM('план на 2016'!$L37:Q37)-SUM('членские взносы'!$M37:Q37)","v":9000},{"$f":"SUM('план на 2016'!$L37:R37)-SUM('членские взносы'!$M37:R37)","v":800},{"$f":"SUM('план на 2016'!$L37:S37)-SUM('членские взносы'!$M37:S37)","v":1600},{"$f":"SUM('план на 2016'!$L37:T37)-SUM('членские взносы'!$M37:T37)","v":2400},{"$f":"SUM('план на 2016'!$L37:U37)-SUM('членские взносы'!$M37:U37)","v":3200},{"$f":"SUM('план на 2016'!$L37:V37)-SUM('членские взносы'!$M37:V37)","v":4000},{"$f":"SUM('план на 2016'!$L37:W37)-SUM('членские взносы'!$M37:W37)","v":4800},{"$f":"SUM('план на 2016'!$L37:X37)-SUM('членские взносы'!$M37:X37)","v":5600},{"$f":"X36","v":5600}]
[{"$f":"VLOOKUP(B37,справочник!$B$2:$E$322,4,0)","v":188},{"$f":"CONCATENATE(C37;D37)","v":{"$error":"#VALUE!"}},196,"Бондаренко Владимир Иванович","50:03:0070280:1773","2014-02-04","2014-03-01",{"$f":"INT(($H$326-G37)/30)","v":22},{"$f":"H37*1000","v":22000},10000,null,{"$f":"I37-J37-K37","v":12000},{"$f":"SUM('план на 2016'!$L38:M38)-SUM('членские взносы'!$M38:M38)","v":12800},{"$f":"SUM('план на 2016'!$L38:N38)-SUM('членские взносы'!$M38:N38)","v":13600},{"$f":"SUM('план на 2016'!$L38:O38)-SUM('членские взносы'!$M38:O38)","v":14400},{"$f":"SUM('план на 2016'!$L38:P38)-SUM('членские взносы'!$M38:P38)","v":15200},{"$f":"SUM('план на 2016'!$L38:Q38)-SUM('членские взносы'!$M38:Q38)","v":16000},{"$f":"SUM('план на 2016'!$L38:R38)-SUM('членские взносы'!$M38:R38)","v":16800},{"$f":"SUM('план на 2016'!$L38:S38)-SUM('членские взносы'!$M38:S38)","v":17600},{"$f":"SUM('план на 2016'!$L38:T38)-SUM('членские взносы'!$M38:T38)","v":18400},{"$f":"SUM('план на 2016'!$L38:U38)-SUM('членские взносы'!$M38:U38)","v":19200},{"$f":"SUM('план на 2016'!$L38:V38)-SUM('членские взносы'!$M38:V38)","v":20000},{"$f":"SUM('план на 2016'!$L38:W38)-SUM('членские взносы'!$M38:W38)","v":20800},{"$f":"SUM('план на 2016'!$L38:X38)-SUM('членские взносы'!$M38:X38)","v":21600},{"$f":"X37","v":21600}]
[{"$f":"VLOOKUP(B38,справочник!$B$2:$E$322,4,0)","v":188},{"$f":"CONCATENATE(C38;D38)","v":{"$error":"#VALUE!"}},197,"Бондаренко Владимир Иванович",null,"2014-02-04","2014-03-01",{"$f":"INT(($H$326-G38)/30)","v":22},{"$f":"H38*1000","v":22000},null,null,{"$f":"I38-J38-K38","v":22000},{"$f":"SUM('план на 2016'!$L39:M39)-SUM('членские взносы'!$M39:M39)","v":22000},{"$f":"SUM('план на 2016'!$L39:N39)-SUM('членские взносы'!$M39:N39)","v":22000},{"$f":"SUM('план на 2016'!$L39:O39)-SUM('членские взносы'!$M39:O39)","v":22000},{"$f":"SUM('план на 2016'!$L39:P39)-SUM('членские взносы'!$M39:P39)","v":22000},{"$f":"SUM('план на 2016'!$L39:Q39)-SUM('членские взносы'!$M39:Q39)","v":22000},{"$f":"SUM('план на 2016'!$L39:R39)-SUM('членские взносы'!$M39:R39)","v":22000},{"$f":"SUM('план на 2016'!$L39:S39)-SUM('членские взносы'!$M39:S39)","v":22000},{"$f":"SUM('план на 2016'!$L39:T39)-SUM('членские взносы'!$M39:T39)","v":22000},{"$f":"SUM('план на 2016'!$L39:U39)-SUM('членские взносы'!$M39:U39)","v":22000},{"$f":"SUM('план на 2016'!$L39:V39)-SUM('членские взносы'!$M39:V39)","v":22000},{"$f":"SUM('план на 2016'!$L39:W39)-SUM('членские взносы'!$M39:W39)","v":22000},{"$f":"SUM('план на 2016'!$L39:X39)-SUM('членские взносы'!$M39:X39)","v":22000},{"$f":"X38","v":22000}]
[{"$f":"VLOOKUP(B39,справочник!$B$2:$E$322,4,0)","v":219},{"$f":"CONCATENATE(C39;D39)","v":{"$error":"#VALUE!"}},228,"Бондарь Василий Дмитриевич","50:03:0070280:835","2014-07-28","2014-09-01",{"$f":"INT(($H$326-G39)/30)","v":16},{"$f":"H39*1000","v":16000},13000,3000,{"$f":"I39-J39-K39","v":0},{"$f":"SUM('план на 2016'!$L40:M40)-SUM('членские взносы'!$M40:M40)","v":800},{"$f":"SUM('план на 2016'!$L40:N40)-SUM('членские взносы'!$M40:N40)","v":1600},{"$f":"SUM('план на 2016'!$L40:O40)-SUM('членские взносы'!$M40:O40)","v":-600},{"$f":"SUM('план на 2016'!$L40:P40)-SUM('членские взносы'!$M40:P40)","v":200},{"$f":"SUM('план на 2016'!$L40:Q40)-SUM('членские взносы'!$M40:Q40)","v":1000},{"$f":"SUM('план на 2016'!$L40:R40)-SUM('членские взносы'!$M40:R40)","v":-1200},{"$f":"SUM('план на 2016'!$L40:S40)-SUM('членские взносы'!$M40:S40)","v":-400},{"$f":"SUM('план на 2016'!$L40:T40)-SUM('членские взносы'!$M40:T40)","v":400},{"$f":"SUM('план на 2016'!$L40:U40)-SUM('членские взносы'!$M40:U40)","v":-1800},{"$f":"SUM('план на 2016'!$L40:V40)-SUM('членские взносы'!$M40:V40)","v":-1600},{"$f":"SUM('план на 2016'!$L40:W40)-SUM('членские взносы'!$M40:W40)","v":-800},{"$f":"SUM('план на 2016'!$L40:X40)-SUM('членские взносы'!$M40:X40)","v":0},{"$f":"X39","v":0}]
[{"$f":"VLOOKUP(B40,справочник!$B$2:$E$322,4,0)","v":223},{"$f":"CONCATENATE(C40;D40)","v":{"$error":"#VALUE!"}},232,"Борисов Олег Александрович","50:03:0070280:831","2012-02-16","2012-02-01",{"$f":"INT(($H$326-G40)/30)","v":47},{"$f":"H40*1000","v":47000},1000,null,{"$f":"I40-J40-K40","v":46000},{"$f":"SUM('план на 2016'!$L41:M41)-SUM('членские взносы'!$M41:M41)","v":1800},{"$f":"SUM('план на 2016'!$L41:N41)-SUM('членские взносы'!$M41:N41)","v":2600},{"$f":"SUM('план на 2016'!$L41:O41)-SUM('членские взносы'!$M41:O41)","v":3400},{"$f":"SUM('план на 2016'!$L41:P41)-SUM('членские взносы'!$M41:P41)","v":4200},{"$f":"SUM('план на 2016'!$L41:Q41)-SUM('членские взносы'!$M41:Q41)","v":5000},{"$f":"SUM('план на 2016'!$L41:R41)-SUM('членские взносы'!$M41:R41)","v":5800},{"$f":"SUM('план на 2016'!$L41:S41)-SUM('членские взносы'!$M41:S41)","v":6600},{"$f":"SUM('план на 2016'!$L41:T41)-SUM('членские взносы'!$M41:T41)","v":7400},{"$f":"SUM('план на 2016'!$L41:U41)-SUM('членские взносы'!$M41:U41)","v":-1800},{"$f":"SUM('план на 2016'!$L41:V41)-SUM('членские взносы'!$M41:V41)","v":-1000},{"$f":"SUM('план на 2016'!$L41:W41)-SUM('членские взносы'!$M41:W41)","v":-200},{"$f":"SUM('план на 2016'!$L41:X41)-SUM('членские взносы'!$M41:X41)","v":600},{"$f":"X40","v":600}]
[{"$f":"VLOOKUP(B41,справочник!$B$2:$E$322,4,0)","v":137},{"$f":"CONCATENATE(C41;D41)","v":{"$error":"#VALUE!"}},145,"Бранцова Татьяна Валерьевна","50:03:0070280:986","2012-05-01","2012-05-01",{"$f":"INT(($H$326-G41)/30)","v":44},{"$f":"H41*1000","v":44000},44000,null,{"$f":"I41-J41-K41","v":0},{"$f":"SUM('план на 2016'!$L42:M42)-SUM('членские взносы'!$M42:M42)","v":800},{"$f":"SUM('план на 2016'!$L42:N42)-SUM('членские взносы'!$M42:N42)","v":0},{"$f":"SUM('план на 2016'!$L42:O42)-SUM('членские взносы'!$M42:O42)","v":800},{"$f":"SUM('план на 2016'!$L42:P42)-SUM('членские взносы'!$M42:P42)","v":1600},{"$f":"SUM('план на 2016'!$L42:Q42)-SUM('членские взносы'!$M42:Q42)","v":2400},{"$f":"SUM('план на 2016'!$L42:R42)-SUM('членские взносы'!$M42:R42)","v":2400},{"$f":"SUM('план на 2016'!$L42:S42)-SUM('членские взносы'!$M42:S42)","v":3200},{"$f":"SUM('план на 2016'!$L42:T42)-SUM('членские взносы'!$M42:T42)","v":4000},{"$f":"SUM('план на 2016'!$L42:U42)-SUM('членские взносы'!$M42:U42)","v":4800},{"$f":"SUM('план на 2016'!$L42:V42)-SUM('членские взносы'!$M42:V42)","v":5600},{"$f":"SUM('план на 2016'!$L42:W42)-SUM('членские взносы'!$M42:W42)","v":6400},{"$f":"SUM('план на 2016'!$L42:X42)-SUM('членские взносы'!$M42:X42)","v":7200},{"$f":"X41","v":7200}]
[{"$f":"VLOOKUP(B42,справочник!$B$2:$E$322,4,0)","v":105},{"$f":"CONCATENATE(C42;D42)","v":{"$error":"#VALUE!"}},110,"Брылёв Андрей Вячеславович","50:03:0070280:818","2012-01-17","2012-01-01",{"$f":"INT(($H$326-G42)/30)","v":48},{"$f":"H42*1000","v":48000},28000,null,{"$f":"I42-J42-K42","v":20000},{"$f":"SUM('план на 2016'!$L43:M43)-SUM('членские взносы'!$M43:M43)","v":17800},{"$f":"SUM('план на 2016'!$L43:N43)-SUM('членские взносы'!$M43:N43)","v":18600},{"$f":"SUM('план на 2016'!$L43:O43)-SUM('членские взносы'!$M43:O43)","v":19400},{"$f":"SUM('план на 2016'!$L43:P43)-SUM('членские взносы'!$M43:P43)","v":20200},{"$f":"SUM('план на 2016'!$L43:Q43)-SUM('членские взносы'!$M43:Q43)","v":21000},{"$f":"SUM('план на 2016'!$L43:R43)-SUM('членские взносы'!$M43:R43)","v":21000},{"$f":"SUM('план на 2016'!$L43:S43)-SUM('членские взносы'!$M43:S43)","v":21800},{"$f":"SUM('план на 2016'!$L43:T43)-SUM('членские взносы'!$M43:T43)","v":22600},{"$f":"SUM('план на 2016'!$L43:U43)-SUM('членские взносы'!$M43:U43)","v":21800},{"$f":"SUM('план на 2016'!$L43:V43)-SUM('членские взносы'!$M43:V43)","v":22600},{"$f":"SUM('план на 2016'!$L43:W43)-SUM('членские взносы'!$M43:W43)","v":23400},{"$f":"SUM('план на 2016'!$L43:X43)-SUM('членские взносы'!$M43:X43)","v":23400},{"$f":"X42","v":23400}]
[{"$f":"VLOOKUP(B43,справочник!$B$2:$E$322,4,0)","v":98},{"$f":"CONCATENATE(C43;D43)","v":{"$error":"#VALUE!"}},103,"Бугрова Вероника Артуровна","50:03:0070280:797","2011-12-20","2011-12-01",{"$f":"INT(($H$326-G43)/30)","v":49},{"$f":"H43*1000","v":49000},{"$f":"29000+1000","v":30000},null,{"$f":"I43-J43-K43","v":19000},{"$f":"SUM('план на 2016'!$L44:M44)-SUM('членские взносы'!$M44:M44)","v":19800},{"$f":"SUM('план на 2016'!$L44:N44)-SUM('членские взносы'!$M44:N44)","v":20600},{"$f":"SUM('план на 2016'!$L44:O44)-SUM('членские взносы'!$M44:O44)","v":21400},{"$f":"SUM('план на 2016'!$L44:P44)-SUM('членские взносы'!$M44:P44)","v":22200},{"$f":"SUM('план на 2016'!$L44:Q44)-SUM('членские взносы'!$M44:Q44)","v":23000},{"$f":"SUM('план на 2016'!$L44:R44)-SUM('членские взносы'!$M44:R44)","v":23800},{"$f":"SUM('план на 2016'!$L44:S44)-SUM('членские взносы'!$M44:S44)","v":24600},{"$f":"SUM('план на 2016'!$L44:T44)-SUM('членские взносы'!$M44:T44)","v":21400},{"$f":"SUM('план на 2016'!$L44:U44)-SUM('членские взносы'!$M44:U44)","v":22200},{"$f":"SUM('план на 2016'!$L44:V44)-SUM('членские взносы'!$M44:V44)","v":23000},{"$f":"SUM('план на 2016'!$L44:W44)-SUM('членские взносы'!$M44:W44)","v":23800},{"$f":"SUM('план на 2016'!$L44:X44)-SUM('членские взносы'!$M44:X44)","v":24600},{"$f":"X43","v":24600}]
[{"$f":"VLOOKUP(B44,справочник!$B$2:$E$322,4,0)","v":274},{"$f":"CONCATENATE(C44;D44)","v":{"$error":"#VALUE!"}},287,"Будаев Андрей Анатольевич",null,"2015-01-19","2015-02-01",{"$f":"INT(($H$326-G44)/30)","v":11},{"$f":"H44*1000","v":11000},2000,null,{"$f":"I44-J44-K44","v":9000},{"$f":"SUM('план на 2016'!$L45:M45)-SUM('членские взносы'!$M45:M45)","v":9800},{"$f":"SUM('план на 2016'!$L45:N45)-SUM('членские взносы'!$M45:N45)","v":10600},{"$f":"SUM('план на 2016'!$L45:O45)-SUM('членские взносы'!$M45:O45)","v":9800},{"$f":"SUM('план на 2016'!$L45:P45)-SUM('членские взносы'!$M45:P45)","v":10600},{"$f":"SUM('план на 2016'!$L45:Q45)-SUM('членские взносы'!$M45:Q45)","v":11400},{"$f":"SUM('план на 2016'!$L45:R45)-SUM('членские взносы'!$M45:R45)","v":-14600},{"$f":"SUM('план на 2016'!$L45:S45)-SUM('членские взносы'!$M45:S45)","v":-14600},{"$f":"SUM('план на 2016'!$L45:T45)-SUM('членские взносы'!$M45:T45)","v":-13800},{"$f":"SUM('план на 2016'!$L45:U45)-SUM('членские взносы'!$M45:U45)","v":-13000},{"$f":"SUM('план на 2016'!$L45:V45)-SUM('членские взносы'!$M45:V45)","v":-12200},{"$f":"SUM('план на 2016'!$L45:W45)-SUM('членские взносы'!$M45:W45)","v":-11400},{"$f":"SUM('план на 2016'!$L45:X45)-SUM('членские взносы'!$M45:X45)","v":-10600},{"$f":"X44","v":-10600}]
[{"$f":"VLOOKUP(B45,справочник!$B$2:$E$322,4,0)","v":274},{"$f":"CONCATENATE(C45;D45)","v":{"$error":"#VALUE!"}},295,"Будаев Андрей Анатольевич",null,"2015-01-19","2015-02-01",{"$f":"INT(($H$326-G45)/30)","v":11},{"$f":"H45*1000","v":11000},null,null,{"$f":"I45-J45-K45","v":11000},{"$f":"SUM('план на 2016'!$L46:M46)-SUM('членские взносы'!$M46:M46)","v":11000},{"$f":"SUM('план на 2016'!$L46:N46)-SUM('членские взносы'!$M46:N46)","v":11000},{"$f":"SUM('план на 2016'!$L46:O46)-SUM('членские взносы'!$M46:O46)","v":11000},{"$f":"SUM('план на 2016'!$L46:P46)-SUM('членские взносы'!$M46:P46)","v":11000},{"$f":"SUM('план на 2016'!$L46:Q46)-SUM('членские взносы'!$M46:Q46)","v":11000},{"$f":"SUM('план на 2016'!$L46:R46)-SUM('членские взносы'!$M46:R46)","v":11000},{"$f":"SUM('план на 2016'!$L46:S46)-SUM('членские взносы'!$M46:S46)","v":11000},{"$f":"SUM('план на 2016'!$L46:T46)-SUM('членские взносы'!$M46:T46)","v":11000},{"$f":"SUM('план на 2016'!$L46:U46)-SUM('членские взносы'!$M46:U46)","v":9400},{"$f":"SUM('план на 2016'!$L46:V46)-SUM('членские взносы'!$M46:V46)","v":8600},{"$f":"SUM('план на 2016'!$L46:W46)-SUM('членские взносы'!$M46:W46)","v":7800},{"$f":"SUM('план на 2016'!$L46:X46)-SUM('членские взносы'!$M46:X46)","v":7000},{"$f":"X45","v":7000}]
[{"$f":"VLOOKUP(B46,справочник!$B$2:$E$322,4,0)","v":175},{"$f":"CONCATENATE(C46;D46)","v":{"$error":"#VALUE!"}},183,"Буланова Лилия Михайловна","50:03:0070280:921","2014-08-14","2014-09-01",{"$f":"INT(($H$326-G46)/30)","v":16},{"$f":"H46*1000","v":16000},null,null,{"$f":"I46-J46-K46","v":16000},{"$f":"SUM('план на 2016'!$L47:M47)-SUM('членские взносы'!$M47:M47)","v":16800},{"$f":"SUM('план на 2016'!$L47:N47)-SUM('членские взносы'!$M47:N47)","v":17600},{"$f":"SUM('план на 2016'!$L47:O47)-SUM('членские взносы'!$M47:O47)","v":18400},{"$f":"SUM('план на 2016'!$L47:P47)-SUM('членские взносы'!$M47:P47)","v":19200},{"$f":"SUM('план на 2016'!$L47:Q47)-SUM('членские взносы'!$M47:Q47)","v":-1600},{"$f":"SUM('план на 2016'!$L47:R47)-SUM('членские взносы'!$M47:R47)","v":-800},{"$f":"SUM('план на 2016'!$L47:S47)-SUM('членские взносы'!$M47:S47)","v":0},{"$f":"SUM('план на 2016'!$L47:T47)-SUM('членские взносы'!$M47:T47)","v":800},{"$f":"SUM('план на 2016'!$L47:U47)-SUM('членские взносы'!$M47:U47)","v":-18400},{"$f":"SUM('план на 2016'!$L47:V47)-SUM('членские взносы'!$M47:V47)","v":-17600},{"$f":"SUM('план на 2016'!$L47:W47)-SUM('членские взносы'!$M47:W47)","v":-16800},{"$f":"SUM('план на 2016'!$L47:X47)-SUM('членские взносы'!$M47:X47)","v":-16000},{"$f":"X46","v":-16000}]
[{"$f":"VLOOKUP(B47,справочник!$B$2:$E$322,4,0)","v":175},{"$f":"CONCATENATE(C47;D47)","v":{"$error":"#VALUE!"}},187,"Буланова Лилия Михайловна","50:03:0070280:919","2014-08-14","2014-09-01",{"$f":"INT(($H$326-G47)/30)","v":16},{"$f":"H47*1000","v":16000},null,null,{"$f":"I47-J47-K47","v":16000},{"$f":"SUM('план на 2016'!$L48:M48)-SUM('членские взносы'!$M48:M48)","v":16000},{"$f":"SUM('план на 2016'!$L48:N48)-SUM('членские взносы'!$M48:N48)","v":16000},{"$f":"SUM('план на 2016'!$L48:O48)-SUM('членские взносы'!$M48:O48)","v":16000},{"$f":"SUM('план на 2016'!$L48:P48)-SUM('членские взносы'!$M48:P48)","v":16000},{"$f":"SUM('план на 2016'!$L48:Q48)-SUM('членские взносы'!$M48:Q48)","v":16000},{"$f":"SUM('план на 2016'!$L48:R48)-SUM('членские взносы'!$M48:R48)","v":16000},{"$f":"SUM('план на 2016'!$L48:S48)-SUM('членские взносы'!$M48:S48)","v":16000},{"$f":"SUM('план на 2016'!$L48:T48)-SUM('членские взносы'!$M48:T48)","v":16000},{"$f":"SUM('план на 2016'!$L48:U48)-SUM('членские взносы'!$M48:U48)","v":16000},{"$f":"SUM('план на 2016'!$L48:V48)-SUM('членские взносы'!$M48:V48)","v":16000},{"$f":"SUM('план на 2016'!$L48:W48)-SUM('членские взносы'!$M48:W48)","v":16000},{"$f":"SUM('план на 2016'!$L48:X48)-SUM('членские взносы'!$M48:X48)","v":16000},{"$f":"X47","v":16000}]
[{"$f":"VLOOKUP(B48,справочник!$B$2:$E$322,4,0)","v":303},{"$f":"CONCATENATE(C48;D48)","v":{"$error":"#VALUE!"}},318,"Бурдух Юрие","50:03:0070280:1009","2014-12-29","2015-01-01",{"$f":"INT(($H$326-G48)/30)","v":12},{"$f":"H48*1000","v":12000},null,null,{"$f":"I48-J48-K48","v":12000},{"$f":"SUM('план на 2016'!$L49:M49)-SUM('членские взносы'!$M49:M49)","v":12800},{"$f":"SUM('план на 2016'!$L49:N49)-SUM('членские взносы'!$M49:N49)","v":13600},{"$f":"SUM('план на 2016'!$L49:O49)-SUM('членские взносы'!$M49:O49)","v":14400},{"$f":"SUM('план на 2016'!$L49:P49)-SUM('членские взносы'!$M49:P49)","v":15200},{"$f":"SUM('план на 2016'!$L49:Q49)-SUM('членские взносы'!$M49:Q49)","v":16000},{"$f":"SUM('план на 2016'!$L49:R49)-SUM('членские взносы'!$M49:R49)","v":16800},{"$f":"SUM('план на 2016'!$L49:S49)-SUM('членские взносы'!$M49:S49)","v":17600},{"$f":"SUM('план на 2016'!$L49:T49)-SUM('членские взносы'!$M49:T49)","v":18400},{"$f":"SUM('план на 2016'!$L49:U49)-SUM('членские взносы'!$M49:U49)","v":19200},{"$f":"SUM('план на 2016'!$L49:V49)-SUM('членские взносы'!$M49:V49)","v":20000},{"$f":"SUM('план на 2016'!$L49:W49)-SUM('членские взносы'!$M49:W49)","v":20800},{"$f":"SUM('план на 2016'!$L49:X49)-SUM('членские взносы'!$M49:X49)","v":21600},{"$f":"X48","v":21600}]
[{"$f":"VLOOKUP(B49,справочник!$B$2:$E$322,4,0)","v":303},{"$f":"CONCATENATE(C49;D49)","v":{"$error":"#VALUE!"}},319,"Бурдух Юрие","50:03:0070280:1010","2014-12-29","2015-01-01",{"$f":"INT(($H$326-G49)/30)","v":12},{"$f":"H49*1000","v":12000},null,null,{"$f":"I49-J49-K49","v":12000},{"$f":"SUM('план на 2016'!$L50:M50)-SUM('членские взносы'!$M50:M50)","v":12000},{"$f":"SUM('план на 2016'!$L50:N50)-SUM('членские взносы'!$M50:N50)","v":12000},{"$f":"SUM('план на 2016'!$L50:O50)-SUM('членские взносы'!$M50:O50)","v":12000},{"$f":"SUM('план на 2016'!$L50:P50)-SUM('членские взносы'!$M50:P50)","v":12000},{"$f":"SUM('план на 2016'!$L50:Q50)-SUM('членские взносы'!$M50:Q50)","v":12000},{"$f":"SUM('план на 2016'!$L50:R50)-SUM('членские взносы'!$M50:R50)","v":12000},{"$f":"SUM('план на 2016'!$L50:S50)-SUM('членские взносы'!$M50:S50)","v":12000},{"$f":"SUM('план на 2016'!$L50:T50)-SUM('членские взносы'!$M50:T50)","v":12000},{"$f":"SUM('план на 2016'!$L50:U50)-SUM('членские взносы'!$M50:U50)","v":12000},{"$f":"SUM('план на 2016'!$L50:V50)-SUM('членские взносы'!$M50:V50)","v":12000},{"$f":"SUM('план на 2016'!$L50:W50)-SUM('членские взносы'!$M50:W50)","v":12000},{"$f":"SUM('план на 2016'!$L50:X50)-SUM('членские взносы'!$M50:X50)","v":12000},{"$f":"X49","v":12000}]
[{"$f":"VLOOKUP(B50,справочник!$B$2:$E$322,4,0)","v":90},{"$f":"CONCATENATE(C50;D50)","v":{"$error":"#VALUE!"}},95,"Быданцева Нина Юрьевна","50:03:0070280:825","2011-09-09","2011-09-01",{"$f":"INT(($H$326-G50)/30)","v":52},{"$f":"H50*1000","v":52000},{"$f":"36000+4000+12000","v":52000},null,{"$f":"I50-J50-K50","v":0},{"$f":"SUM('план на 2016'!$L51:M51)-SUM('членские взносы'!$M51:M51)","v":800},{"$f":"SUM('план на 2016'!$L51:N51)-SUM('членские взносы'!$M51:N51)","v":1600},{"$f":"SUM('план на 2016'!$L51:O51)-SUM('членские взносы'!$M51:O51)","v":2400},{"$f":"SUM('план на 2016'!$L51:P51)-SUM('членские взносы'!$M51:P51)","v":-1600},{"$f":"SUM('план на 2016'!$L51:Q51)-SUM('членские взносы'!$M51:Q51)","v":-800},{"$f":"SUM('план на 2016'!$L51:R51)-SUM('членские взносы'!$M51:R51)","v":0},{"$f":"SUM('план на 2016'!$L51:S51)-SUM('членские взносы'!$M51:S51)","v":800},{"$f":"SUM('план на 2016'!$L51:T51)-SUM('членские взносы'!$M51:T51)","v":1600},{"$f":"SUM('план на 2016'!$L51:U51)-SUM('членские взносы'!$M51:U51)","v":-2400},{"$f":"SUM('план на 2016'!$L51:V51)-SUM('членские взносы'!$M51:V51)","v":-1600},{"$f":"SUM('план на 2016'!$L51:W51)-SUM('членские взносы'!$M51:W51)","v":-800},{"$f":"SUM('план на 2016'!$L51:X51)-SUM('членские взносы'!$M51:X51)","v":0},{"$f":"X50","v":0}]
[{"$f":"VLOOKUP(B51,справочник!$B$2:$E$322,4,0)","v":206},{"$f":"CONCATENATE(C51;D51)","v":{"$error":"#VALUE!"}},216,"Валеев Артур Рашидович","50:03:0070280:1423","2012-02-14","2012-02-01",{"$f":"INT(($H$326-G51)/30)","v":47},{"$f":"H51*1000","v":47000},38000,null,{"$f":"I51-J51-K51","v":9000},{"$f":"SUM('план на 2016'!$L52:M52)-SUM('членские взносы'!$M52:M52)","v":9800},{"$f":"SUM('план на 2016'!$L52:N52)-SUM('членские взносы'!$M52:N52)","v":10600},{"$f":"SUM('план на 2016'!$L52:O52)-SUM('членские взносы'!$M52:O52)","v":11400},{"$f":"SUM('план на 2016'!$L52:P52)-SUM('членские взносы'!$M52:P52)","v":12200},{"$f":"SUM('план на 2016'!$L52:Q52)-SUM('членские взносы'!$M52:Q52)","v":13000},{"$f":"SUM('план на 2016'!$L52:R52)-SUM('членские взносы'!$M52:R52)","v":13800},{"$f":"SUM('план на 2016'!$L52:S52)-SUM('членские взносы'!$M52:S52)","v":14600},{"$f":"SUM('план на 2016'!$L52:T52)-SUM('членские взносы'!$M52:T52)","v":15400},{"$f":"SUM('план на 2016'!$L52:U52)-SUM('членские взносы'!$M52:U52)","v":16200},{"$f":"SUM('план на 2016'!$L52:V52)-SUM('членские взносы'!$M52:V52)","v":17000},{"$f":"SUM('план на 2016'!$L52:W52)-SUM('членские взносы'!$M52:W52)","v":17800},{"$f":"SUM('план на 2016'!$L52:X52)-SUM('членские взносы'!$M52:X52)","v":8600},{"$f":"X51","v":8600}]
[{"$f":"VLOOKUP(B52,справочник!$B$2:$E$322,4,0)","v":101},{"$f":"CONCATENATE(C52;D52)","v":{"$error":"#VALUE!"}},106,"Васильев Николай Владимирович","50:03:0070280:798","2011-09-30","2011-09-01",{"$f":"INT(($H$326-G52)/30)","v":52},{"$f":"H52*1000","v":52000},{"$f":"42000+1000","v":43000},null,{"$f":"I52-J52-K52","v":9000},{"$f":"SUM('план на 2016'!$L53:M53)-SUM('членские взносы'!$M53:M53)","v":2800},{"$f":"SUM('план на 2016'!$L53:N53)-SUM('членские взносы'!$M53:N53)","v":3600},{"$f":"SUM('план на 2016'!$L53:O53)-SUM('членские взносы'!$M53:O53)","v":4400},{"$f":"SUM('план на 2016'!$L53:P53)-SUM('членские взносы'!$M53:P53)","v":5200},{"$f":"SUM('план на 2016'!$L53:Q53)-SUM('членские взносы'!$M53:Q53)","v":6000},{"$f":"SUM('план на 2016'!$L53:R53)-SUM('членские взносы'!$M53:R53)","v":6800},{"$f":"SUM('план на 2016'!$L53:S53)-SUM('членские взносы'!$M53:S53)","v":7600},{"$f":"SUM('план на 2016'!$L53:T53)-SUM('членские взносы'!$M53:T53)","v":8400},{"$f":"SUM('план на 2016'!$L53:U53)-SUM('членские взносы'!$M53:U53)","v":9200},{"$f":"SUM('план на 2016'!$L53:V53)-SUM('членские взносы'!$M53:V53)","v":10000},{"$f":"SUM('план на 2016'!$L53:W53)-SUM('членские взносы'!$M53:W53)","v":10800},{"$f":"SUM('план на 2016'!$L53:X53)-SUM('членские взносы'!$M53:X53)","v":11600},{"$f":"X52","v":11600}]
[{"$f":"VLOOKUP(B53,справочник!$B$2:$E$322,4,0)","v":86},{"$f":"CONCATENATE(C53;D53)","v":{"$error":"#VALUE!"}},91,"Васильева Ольга Александровна","50:03:0070280:866","2011-10-31","2011-10-01",{"$f":"INT(($H$326-G53)/30)","v":51},{"$f":"H53*1000","v":51000},{"$f":"34000+13000","v":47000},4000,{"$f":"I53-J53-K53","v":0},{"$f":"SUM('план на 2016'!$L54:M54)-SUM('членские взносы'!$M54:M54)","v":-200},{"$f":"SUM('план на 2016'!$L54:N54)-SUM('членские взносы'!$M54:N54)","v":-1400},{"$f":"SUM('план на 2016'!$L54:O54)-SUM('членские взносы'!$M54:O54)","v":-600},{"$f":"SUM('план на 2016'!$L54:P54)-SUM('членские взносы'!$M54:P54)","v":-800},{"$f":"SUM('план на 2016'!$L54:Q54)-SUM('членские взносы'!$M54:Q54)","v":0},{"$f":"SUM('план на 2016'!$L54:R54)-SUM('членские взносы'!$M54:R54)","v":-800},{"$f":"SUM('план на 2016'!$L54:S54)-SUM('членские взносы'!$M54:S54)","v":0},{"$f":"SUM('план на 2016'!$L54:T54)-SUM('членские взносы'!$M54:T54)","v":0},{"$f":"SUM('план на 2016'!$L54:U54)-SUM('членские взносы'!$M54:U54)","v":0},{"$f":"SUM('план на 2016'!$L54:V54)-SUM('членские взносы'!$M54:V54)","v":800},{"$f":"SUM('план на 2016'!$L54:W54)-SUM('членские взносы'!$M54:W54)","v":-800},{"$f":"SUM('план на 2016'!$L54:X54)-SUM('членские взносы'!$M54:X54)","v":0},{"$f":"X53","v":0}]
[{"$f":"VLOOKUP(B54,справочник!$B$2:$E$322,4,0)","v":43},{"$f":"CONCATENATE(C54;D54)","v":{"$error":"#VALUE!"}},43,"Васильцова Елена Владимировна","50:03:0070280:972","2011-08-31","2011-09-01",{"$f":"INT(($H$326-G54)/30)","v":52},{"$f":"H54*1000","v":52000},{"$f":"27000+2000","v":29000},null,{"$f":"I54-J54-K54","v":23000},{"$f":"SUM('план на 2016'!$L55:M55)-SUM('членские взносы'!$M55:M55)","v":23800},{"$f":"SUM('план на 2016'!$L55:N55)-SUM('членские взносы'!$M55:N55)","v":24600},{"$f":"SUM('план на 2016'!$L55:O55)-SUM('членские взносы'!$M55:O55)","v":25400},{"$f":"SUM('план на 2016'!$L55:P55)-SUM('членские взносы'!$M55:P55)","v":26200},{"$f":"SUM('план на 2016'!$L55:Q55)-SUM('членские взносы'!$M55:Q55)","v":27000},{"$f":"SUM('план на 2016'!$L55:R55)-SUM('членские взносы'!$M55:R55)","v":25800},{"$f":"SUM('план на 2016'!$L55:S55)-SUM('членские взносы'!$M55:S55)","v":26600},{"$f":"SUM('план на 2016'!$L55:T55)-SUM('членские взносы'!$M55:T55)","v":25400},{"$f":"SUM('план на 2016'!$L55:U55)-SUM('членские взносы'!$M55:U55)","v":24200},{"$f":"SUM('план на 2016'!$L55:V55)-SUM('членские взносы'!$M55:V55)","v":25000},{"$f":"SUM('план на 2016'!$L55:W55)-SUM('членские взносы'!$M55:W55)","v":25800},{"$f":"SUM('план на 2016'!$L55:X55)-SUM('членские взносы'!$M55:X55)","v":26600},{"$f":"X54","v":26600}]
[{"$f":"VLOOKUP(B55,справочник!$B$2:$E$322,4,0)","v":25},{"$f":"CONCATENATE(C55;D55)","v":{"$error":"#VALUE!"}},25,"Вершинина Елена Анатольевна","50:03:0070280:854","2012-02-16","2012-02-01",{"$f":"INT(($H$326-G55)/30)","v":47},{"$f":"H55*1000","v":47000},{"$f":"33000+11000","v":44000},3000,{"$f":"I55-J55-K55","v":0},{"$f":"SUM('план на 2016'!$L56:M56)-SUM('членские взносы'!$M56:M56)","v":800},{"$f":"SUM('план на 2016'!$L56:N56)-SUM('членские взносы'!$M56:N56)","v":1600},{"$f":"SUM('план на 2016'!$L56:O56)-SUM('членские взносы'!$M56:O56)","v":-600},{"$f":"SUM('план на 2016'!$L56:P56)-SUM('членские взносы'!$M56:P56)","v":200},{"$f":"SUM('план на 2016'!$L56:Q56)-SUM('членские взносы'!$M56:Q56)","v":-2000},{"$f":"SUM('план на 2016'!$L56:R56)-SUM('членские взносы'!$M56:R56)","v":-2000},{"$f":"SUM('план на 2016'!$L56:S56)-SUM('членские взносы'!$M56:S56)","v":-1200},{"$f":"SUM('план на 2016'!$L56:T56)-SUM('членские взносы'!$M56:T56)","v":-3400},{"$f":"SUM('план на 2016'!$L56:U56)-SUM('членские взносы'!$M56:U56)","v":-2600},{"$f":"SUM('план на 2016'!$L56:V56)-SUM('членские взносы'!$M56:V56)","v":-4800},{"$f":"SUM('план на 2016'!$L56:W56)-SUM('членские взносы'!$M56:W56)","v":-4000},{"$f":"SUM('план на 2016'!$L56:X56)-SUM('членские взносы'!$M56:X56)","v":-3200},{"$f":"X55","v":-3200}]
[{"$f":"VLOOKUP(B56,справочник!$B$2:$E$322,4,0)","v":138},{"$f":"CONCATENATE(C56;D56)","v":{"$error":"#VALUE!"}},146,"Виноградова Наталья Дмитриевна (Николай)","50:03:0070280:987","2011-08-29","2011-08-01",{"$f":"INT(($H$326-G56)/30)","v":53},{"$f":"H56*1000","v":53000},{"$f":"53000","v":53000},null,{"$f":"I56-J56-K56","v":0},{"$f":"SUM('план на 2016'!$L57:M57)-SUM('членские взносы'!$M57:M57)","v":800},{"$f":"SUM('план на 2016'!$L57:N57)-SUM('членские взносы'!$M57:N57)","v":-1400},{"$f":"SUM('план на 2016'!$L57:O57)-SUM('членские взносы'!$M57:O57)","v":-600},{"$f":"SUM('план на 2016'!$L57:P57)-SUM('членские взносы'!$M57:P57)","v":200},{"$f":"SUM('план на 2016'!$L57:Q57)-SUM('членские взносы'!$M57:Q57)","v":1000},{"$f":"SUM('план на 2016'!$L57:R57)-SUM('членские взносы'!$M57:R57)","v":-1100},{"$f":"SUM('план на 2016'!$L57:S57)-SUM('членские взносы'!$M57:S57)","v":-300},{"$f":"SUM('план на 2016'!$L57:T57)-SUM('членские взносы'!$M57:T57)","v":500},{"$f":"SUM('план на 2016'!$L57:U57)-SUM('членские взносы'!$M57:U57)","v":1300},{"$f":"SUM('план на 2016'!$L57:V57)-SUM('членские взносы'!$M57:V57)","v":2100},{"$f":"SUM('план на 2016'!$L57:W57)-SUM('членские взносы'!$M57:W57)","v":-2100},{"$f":"SUM('план на 2016'!$L57:X57)-SUM('членские взносы'!$M57:X57)","v":-1300},{"$f":"X56","v":-1300}]
[{"$f":"VLOOKUP(B57,справочник!$B$2:$E$322,4,0)","v":228},{"$f":"CONCATENATE(C57;D57)","v":{"$error":"#VALUE!"}},237,"Виртилецкий Денис Вячеславович","50:03:0070280:898","2014-03-05","2014-04-01",{"$f":"INT(($H$326-G57)/30)","v":21},{"$f":"H57*1000","v":21000},null,null,{"$f":"I57-J57-K57","v":21000},{"$f":"SUM('план на 2016'!$L58:M58)-SUM('членские взносы'!$M58:M58)","v":21800},{"$f":"SUM('план на 2016'!$L58:N58)-SUM('членские взносы'!$M58:N58)","v":22600},{"$f":"SUM('план на 2016'!$L58:O58)-SUM('членские взносы'!$M58:O58)","v":23400},{"$f":"SUM('план на 2016'!$L58:P58)-SUM('членские взносы'!$M58:P58)","v":24200},{"$f":"SUM('план на 2016'!$L58:Q58)-SUM('членские взносы'!$M58:Q58)","v":25000},{"$f":"SUM('план на 2016'!$L58:R58)-SUM('членские взносы'!$M58:R58)","v":25800},{"$f":"SUM('план на 2016'!$L58:S58)-SUM('членские взносы'!$M58:S58)","v":800},{"$f":"SUM('план на 2016'!$L58:T58)-SUM('членские взносы'!$M58:T58)","v":1600},{"$f":"SUM('план на 2016'!$L58:U58)-SUM('членские взносы'!$M58:U58)","v":2400},{"$f":"SUM('план на 2016'!$L58:V58)-SUM('членские взносы'!$M58:V58)","v":3200},{"$f":"SUM('план на 2016'!$L58:W58)-SUM('членские взносы'!$M58:W58)","v":4000},{"$f":"SUM('план на 2016'!$L58:X58)-SUM('членские взносы'!$M58:X58)","v":4800},{"$f":"X57","v":4800}]
[{"$f":"VLOOKUP(B58,справочник!$B$2:$E$322,4,0)","v":37},{"$f":"CONCATENATE(C58;D58)","v":{"$error":"#VALUE!"}},37,"Водянова Ольга Александровна","50:03:0070280:907","2011-09-09","2011-09-01",{"$f":"INT(($H$326-G58)/30)","v":52},{"$f":"H58*1000","v":52000},{"$f":"48000+4000","v":52000},null,{"$f":"I58-J58-K58","v":0},{"$f":"SUM('план на 2016'!$L59:M59)-SUM('членские взносы'!$M59:M59)","v":800},{"$f":"SUM('план на 2016'!$L59:N59)-SUM('членские взносы'!$M59:N59)","v":1600},{"$f":"SUM('план на 2016'!$L59:O59)-SUM('членские взносы'!$M59:O59)","v":2400},{"$f":"SUM('план на 2016'!$L59:P59)-SUM('членские взносы'!$M59:P59)","v":3200},{"$f":"SUM('план на 2016'!$L59:Q59)-SUM('членские взносы'!$M59:Q59)","v":4000},{"$f":"SUM('план на 2016'!$L59:R59)-SUM('членские взносы'!$M59:R59)","v":4800},{"$f":"SUM('план на 2016'!$L59:S59)-SUM('членские взносы'!$M59:S59)","v":0},{"$f":"SUM('план на 2016'!$L59:T59)-SUM('членские взносы'!$M59:T59)","v":800},{"$f":"SUM('план на 2016'!$L59:U59)-SUM('членские взносы'!$M59:U59)","v":-2400},{"$f":"SUM('план на 2016'!$L59:V59)-SUM('членские взносы'!$M59:V59)","v":-1600},{"$f":"SUM('план на 2016'!$L59:W59)-SUM('членские взносы'!$M59:W59)","v":-800},{"$f":"SUM('план на 2016'!$L59:X59)-SUM('членские взносы'!$M59:X59)","v":0},{"$f":"X58","v":0}]
[{"$f":"VLOOKUP(B59,справочник!$B$2:$E$322,4,0)","v":126},{"$f":"CONCATENATE(C59;D59)","v":{"$error":"#VALUE!"}},131,"Волгушев Дмитрий Геннадиевич","50:03:0070280:813","2012-10-01","2012-12-01",{"$f":"INT(($H$326-G59)/30)","v":37},{"$f":"H59*1000","v":37000},{"$f":"24000","v":24000},13000,{"$f":"I59-J59-K59","v":0},{"$f":"SUM('план на 2016'!$L60:M60)-SUM('членские взносы'!$M60:M60)","v":800},{"$f":"SUM('план на 2016'!$L60:N60)-SUM('членские взносы'!$M60:N60)","v":1600},{"$f":"SUM('план на 2016'!$L60:O60)-SUM('членские взносы'!$M60:O60)","v":0},{"$f":"SUM('план на 2016'!$L60:P60)-SUM('членские взносы'!$M60:P60)","v":800},{"$f":"SUM('план на 2016'!$L60:Q60)-SUM('членские взносы'!$M60:Q60)","v":1600},{"$f":"SUM('план на 2016'!$L60:R60)-SUM('членские взносы'!$M60:R60)","v":2400},{"$f":"SUM('план на 2016'!$L60:S60)-SUM('членские взносы'!$M60:S60)","v":3200},{"$f":"SUM('план на 2016'!$L60:T60)-SUM('членские взносы'!$M60:T60)","v":4000},{"$f":"SUM('план на 2016'!$L60:U60)-SUM('членские взносы'!$M60:U60)","v":4800},{"$f":"SUM('план на 2016'!$L60:V60)-SUM('членские взносы'!$M60:V60)","v":5600},{"$f":"SUM('план на 2016'!$L60:W60)-SUM('членские взносы'!$M60:W60)","v":6400},{"$f":"SUM('план на 2016'!$L60:X60)-SUM('членские взносы'!$M60:X60)","v":7200},{"$f":"X59","v":7200}]
[{"$f":"VLOOKUP(B60,справочник!$B$2:$E$322,4,0)","v":58},{"$f":"CONCATENATE(C60;D60)","v":{"$error":"#VALUE!"}},60,"Володина Инна Александровна","50:03:0070280:961","2013-01-29","2013-02-01",{"$f":"INT(($H$326-G60)/30)","v":35},{"$f":"H60*1000","v":35000},{"$f":"31000","v":31000},null,{"$f":"I60-J60-K60","v":4000},{"$f":"SUM('план на 2016'!$L61:M61)-SUM('членские взносы'!$M61:M61)","v":4800},{"$f":"SUM('план на 2016'!$L61:N61)-SUM('членские взносы'!$M61:N61)","v":5600},{"$f":"SUM('план на 2016'!$L61:O61)-SUM('членские взносы'!$M61:O61)","v":4000},{"$f":"SUM('план на 2016'!$L61:P61)-SUM('членские взносы'!$M61:P61)","v":4800},{"$f":"SUM('план на 2016'!$L61:Q61)-SUM('членские взносы'!$M61:Q61)","v":5600},{"$f":"SUM('план на 2016'!$L61:R61)-SUM('членские взносы'!$M61:R61)","v":800},{"$f":"SUM('план на 2016'!$L61:S61)-SUM('членские взносы'!$M61:S61)","v":1600},{"$f":"SUM('план на 2016'!$L61:T61)-SUM('членские взносы'!$M61:T61)","v":2400},{"$f":"SUM('план на 2016'!$L61:U61)-SUM('членские взносы'!$M61:U61)","v":3200},{"$f":"SUM('план на 2016'!$L61:V61)-SUM('членские взносы'!$M61:V61)","v":4000},{"$f":"SUM('план на 2016'!$L61:W61)-SUM('членские взносы'!$M61:W61)","v":4800},{"$f":"SUM('план на 2016'!$L61:X61)-SUM('членские взносы'!$M61:X61)","v":5600},{"$f":"X60","v":5600}]
[{"$f":"VLOOKUP(B61,справочник!$B$2:$E$322,4,0)","v":117},{"$f":"CONCATENATE(C61;D61)","v":{"$error":"#VALUE!"}},122,"Вольский Андрей Юрьевич","50:03:0070280:1019","2013-05-13","2013-06-01",{"$f":"INT(($H$326-G61)/30)","v":31},{"$f":"H61*1000","v":31000},{"$f":"12000","v":12000},null,{"$f":"I61-J61-K61","v":19000},{"$f":"SUM('план на 2016'!$L62:M62)-SUM('членские взносы'!$M62:M62)","v":19800},{"$f":"SUM('план на 2016'!$L62:N62)-SUM('членские взносы'!$M62:N62)","v":20600},{"$f":"SUM('план на 2016'!$L62:O62)-SUM('членские взносы'!$M62:O62)","v":21400},{"$f":"SUM('план на 2016'!$L62:P62)-SUM('членские взносы'!$M62:P62)","v":22200},{"$f":"SUM('план на 2016'!$L62:Q62)-SUM('членские взносы'!$M62:Q62)","v":23000},{"$f":"SUM('план на 2016'!$L62:R62)-SUM('членские взносы'!$M62:R62)","v":23800},{"$f":"SUM('план на 2016'!$L62:S62)-SUM('членские взносы'!$M62:S62)","v":24600},{"$f":"SUM('план на 2016'!$L62:T62)-SUM('членские взносы'!$M62:T62)","v":25400},{"$f":"SUM('план на 2016'!$L62:U62)-SUM('членские взносы'!$M62:U62)","v":26200},{"$f":"SUM('план на 2016'!$L62:V62)-SUM('членские взносы'!$M62:V62)","v":27000},{"$f":"SUM('план на 2016'!$L62:W62)-SUM('членские взносы'!$M62:W62)","v":27800},{"$f":"SUM('план на 2016'!$L62:X62)-SUM('членские взносы'!$M62:X62)","v":28600},{"$f":"X61","v":28600}]
[{"$f":"VLOOKUP(B62,справочник!$B$2:$E$322,4,0)","v":61},{"$f":"CONCATENATE(C62;D62)","v":{"$error":"#VALUE!"}},63,"Высоких Антон Маркович","50:03:0070280:932","2012-01-13","2012-01-01",{"$f":"INT(($H$326-G62)/30)","v":48},{"$f":"H62*1000","v":48000},{"$f":"27000","v":27000},null,{"$f":"I62-J62-K62","v":21000},{"$f":"SUM('план на 2016'!$L63:M63)-SUM('членские взносы'!$M63:M63)","v":21800},{"$f":"SUM('план на 2016'!$L63:N63)-SUM('членские взносы'!$M63:N63)","v":22600},{"$f":"SUM('план на 2016'!$L63:O63)-SUM('членские взносы'!$M63:O63)","v":23400},{"$f":"SUM('план на 2016'!$L63:P63)-SUM('членские взносы'!$M63:P63)","v":24200},{"$f":"SUM('план на 2016'!$L63:Q63)-SUM('членские взносы'!$M63:Q63)","v":25000},{"$f":"SUM('план на 2016'!$L63:R63)-SUM('членские взносы'!$M63:R63)","v":25800},{"$f":"SUM('план на 2016'!$L63:S63)-SUM('членские взносы'!$M63:S63)","v":26600},{"$f":"SUM('план на 2016'!$L63:T63)-SUM('членские взносы'!$M63:T63)","v":27400},{"$f":"SUM('план на 2016'!$L63:U63)-SUM('членские взносы'!$M63:U63)","v":28200},{"$f":"SUM('план на 2016'!$L63:V63)-SUM('членские взносы'!$M63:V63)","v":29000},{"$f":"SUM('план на 2016'!$L63:W63)-SUM('членские взносы'!$M63:W63)","v":29800},{"$f":"SUM('план на 2016'!$L63:X63)-SUM('членские взносы'!$M63:X63)","v":30600},{"$f":"X62","v":30600}]
[{"$f":"VLOOKUP(B63,справочник!$B$2:$E$322,4,0)","v":294},{"$f":"CONCATENATE(C63;D63)","v":{"$error":"#VALUE!"}},309,"Гайкова (Дьякова) Мария Викторовна","50:03:0070280:1000","2012-02-14","2012-02-01",{"$f":"INT(($H$326-G63)/30)","v":47},{"$f":"H63*1000","v":47000},47000,null,{"$f":"I63-J63-K63","v":0},{"$f":"SUM('план на 2016'!$L64:M64)-SUM('членские взносы'!$M64:M64)","v":-8800},{"$f":"SUM('план на 2016'!$L64:N64)-SUM('членские взносы'!$M64:N64)","v":-8000},{"$f":"SUM('план на 2016'!$L64:O64)-SUM('членские взносы'!$M64:O64)","v":-7200},{"$f":"SUM('план на 2016'!$L64:P64)-SUM('членские взносы'!$M64:P64)","v":-6400},{"$f":"SUM('план на 2016'!$L64:Q64)-SUM('членские взносы'!$M64:Q64)","v":-5600},{"$f":"SUM('план на 2016'!$L64:R64)-SUM('членские взносы'!$M64:R64)","v":-4800},{"$f":"SUM('план на 2016'!$L64:S64)-SUM('членские взносы'!$M64:S64)","v":-4000},{"$f":"SUM('план на 2016'!$L64:T64)-SUM('членские взносы'!$M64:T64)","v":-3200},{"$f":"SUM('план на 2016'!$L64:U64)-SUM('членские взносы'!$M64:U64)","v":-2400},{"$f":"SUM('план на 2016'!$L64:V64)-SUM('членские взносы'!$M64:V64)","v":-1600},{"$f":"SUM('план на 2016'!$L64:W64)-SUM('членские взносы'!$M64:W64)","v":-800},{"$f":"SUM('план на 2016'!$L64:X64)-SUM('членские взносы'!$M64:X64)","v":0},{"$f":"X63","v":0}]
[{"$f":"VLOOKUP(B64,справочник!$B$2:$E$322,4,0)","v":286},{"$f":"CONCATENATE(C64;D64)","v":{"$error":"#VALUE!"}},298,"Ганин Александр Борисович","50:03:0070280:781","2014-06-01","2014-06-01",{"$f":"INT(($H$326-G64)/30)","v":19},{"$f":"H64*1000","v":19000},19000,null,{"$f":"I64-J64-K64","v":0},{"$f":"SUM('план на 2016'!$L65:M65)-SUM('членские взносы'!$M65:M65)","v":800},{"$f":"SUM('план на 2016'!$L65:N65)-SUM('членские взносы'!$M65:N65)","v":-6400},{"$f":"SUM('план на 2016'!$L65:O65)-SUM('членские взносы'!$M65:O65)","v":-5600},{"$f":"SUM('план на 2016'!$L65:P65)-SUM('членские взносы'!$M65:P65)","v":-4800},{"$f":"SUM('план на 2016'!$L65:Q65)-SUM('членские взносы'!$M65:Q65)","v":-4000},{"$f":"SUM('план на 2016'!$L65:R65)-SUM('членские взносы'!$M65:R65)","v":-7200},{"$f":"SUM('план на 2016'!$L65:S65)-SUM('членские взносы'!$M65:S65)","v":-9400},{"$f":"SUM('план на 2016'!$L65:T65)-SUM('членские взносы'!$M65:T65)","v":-8600},{"$f":"SUM('план на 2016'!$L65:U65)-SUM('членские взносы'!$M65:U65)","v":-7800},{"$f":"SUM('план на 2016'!$L65:V65)-SUM('членские взносы'!$M65:V65)","v":-7000},{"$f":"SUM('план на 2016'!$L65:W65)-SUM('членские взносы'!$M65:W65)","v":-6200},{"$f":"SUM('план на 2016'!$L65:X65)-SUM('членские взносы'!$M65:X65)","v":-11400},{"$f":"X64","v":-11400}]
[{"$f":"VLOOKUP(B65,справочник!$B$2:$E$322,4,0)","v":64},{"$f":"CONCATENATE(C65;D65)","v":{"$error":"#VALUE!"}},66,"Горбунов Владимир Александрович","50:03:0070280:935","2011-08-17","2011-08-01",{"$f":"INT(($H$326-G65)/30)","v":53},{"$f":"H65*1000","v":53000},{"$f":"1000+45000","v":46000},null,{"$f":"I65-J65-K65","v":7000},{"$f":"SUM('план на 2016'!$L66:M66)-SUM('членские взносы'!$M66:M66)","v":4800},{"$f":"SUM('план на 2016'!$L66:N66)-SUM('членские взносы'!$M66:N66)","v":5600},{"$f":"SUM('план на 2016'!$L66:O66)-SUM('членские взносы'!$M66:O66)","v":4800},{"$f":"SUM('план на 2016'!$L66:P66)-SUM('членские взносы'!$M66:P66)","v":5600},{"$f":"SUM('план на 2016'!$L66:Q66)-SUM('членские взносы'!$M66:Q66)","v":6400},{"$f":"SUM('план на 2016'!$L66:R66)-SUM('членские взносы'!$M66:R66)","v":5600},{"$f":"SUM('план на 2016'!$L66:S66)-SUM('членские взносы'!$M66:S66)","v":2400},{"$f":"SUM('план на 2016'!$L66:T66)-SUM('членские взносы'!$M66:T66)","v":3200},{"$f":"SUM('план на 2016'!$L66:U66)-SUM('членские взносы'!$M66:U66)","v":3200},{"$f":"SUM('план на 2016'!$L66:V66)-SUM('членские взносы'!$M66:V66)","v":3200},{"$f":"SUM('план на 2016'!$L66:W66)-SUM('членские взносы'!$M66:W66)","v":3200},{"$f":"SUM('план на 2016'!$L66:X66)-SUM('членские взносы'!$M66:X66)","v":2400},{"$f":"X65","v":2400}]
[{"$f":"VLOOKUP(B66,справочник!$B$2:$E$322,4,0)","v":94},{"$f":"CONCATENATE(C66;D66)","v":{"$error":"#VALUE!"}},99,"Горбунов Максим Николаевич","50:03:0070280:860","2011-08-19","2011-08-01",{"$f":"INT(($H$326-G66)/30)","v":53},{"$f":"H66*1000","v":53000},{"$f":"42000+5000","v":47000},null,{"$f":"I66-J66-K66","v":6000},{"$f":"SUM('план на 2016'!$L67:M67)-SUM('членские взносы'!$M67:M67)","v":6800},{"$f":"SUM('план на 2016'!$L67:N67)-SUM('членские взносы'!$M67:N67)","v":7600},{"$f":"SUM('план на 2016'!$L67:O67)-SUM('членские взносы'!$M67:O67)","v":8400},{"$f":"SUM('план на 2016'!$L67:P67)-SUM('членские взносы'!$M67:P67)","v":9200},{"$f":"SUM('план на 2016'!$L67:Q67)-SUM('членские взносы'!$M67:Q67)","v":10000},{"$f":"SUM('план на 2016'!$L67:R67)-SUM('членские взносы'!$M67:R67)","v":10800},{"$f":"SUM('план на 2016'!$L67:S67)-SUM('членские взносы'!$M67:S67)","v":11600},{"$f":"SUM('план на 2016'!$L67:T67)-SUM('членские взносы'!$M67:T67)","v":12400},{"$f":"SUM('план на 2016'!$L67:U67)-SUM('членские взносы'!$M67:U67)","v":13200},{"$f":"SUM('план на 2016'!$L67:V67)-SUM('членские взносы'!$M67:V67)","v":14000},{"$f":"SUM('план на 2016'!$L67:W67)-SUM('членские взносы'!$M67:W67)","v":14800},{"$f":"SUM('план на 2016'!$L67:X67)-SUM('членские взносы'!$M67:X67)","v":15600},{"$f":"X66","v":15600}]
[{"$f":"VLOOKUP(B67,справочник!$B$2:$E$322,4,0)","v":39},{"$f":"CONCATENATE(C67;D67)","v":{"$error":"#VALUE!"}},39,"Гордейчик Игорь Борисович","50:03:0070280:909","2011-06-04","2011-06-01",{"$f":"INT(($H$326-G67)/30)","v":55},{"$f":"H67*1000","v":55000},{"$f":"1000+42000","v":43000},null,{"$f":"I67-J67-K67","v":12000},{"$f":"SUM('план на 2016'!$L68:M68)-SUM('членские взносы'!$M68:M68)","v":12800},{"$f":"SUM('план на 2016'!$L68:N68)-SUM('членские взносы'!$M68:N68)","v":13600},{"$f":"SUM('план на 2016'!$L68:O68)-SUM('членские взносы'!$M68:O68)","v":14400},{"$f":"SUM('план на 2016'!$L68:P68)-SUM('членские взносы'!$M68:P68)","v":15200},{"$f":"SUM('план на 2016'!$L68:Q68)-SUM('членские взносы'!$M68:Q68)","v":16000},{"$f":"SUM('план на 2016'!$L68:R68)-SUM('членские взносы'!$M68:R68)","v":16800},{"$f":"SUM('план на 2016'!$L68:S68)-SUM('членские взносы'!$M68:S68)","v":17600},{"$f":"SUM('план на 2016'!$L68:T68)-SUM('членские взносы'!$M68:T68)","v":18400},{"$f":"SUM('план на 2016'!$L68:U68)-SUM('членские взносы'!$M68:U68)","v":9600},{"$f":"SUM('план на 2016'!$L68:V68)-SUM('членские взносы'!$M68:V68)","v":10400},{"$f":"SUM('план на 2016'!$L68:W68)-SUM('членские взносы'!$M68:W68)","v":11200},{"$f":"SUM('план на 2016'!$L68:X68)-SUM('членские взносы'!$M68:X68)","v":12000},{"$f":"X67","v":12000}]
[{"$f":"VLOOKUP(B68,справочник!$B$2:$E$322,4,0)","v":276},{"$f":"CONCATENATE(C68;D68)","v":{"$error":"#VALUE!"}},289,"Горянов Михаил Андреевич","50:03:0070280:780","2011-12-13","2011-12-01",{"$f":"INT(($H$326-G68)/30)","v":49},{"$f":"H68*1000","v":49000},{"$f":"1000+36000","v":37000},null,{"$f":"I68-J68-K68","v":12000},{"$f":"SUM('план на 2016'!$L69:M69)-SUM('членские взносы'!$M69:M69)","v":12800},{"$f":"SUM('план на 2016'!$L69:N69)-SUM('членские взносы'!$M69:N69)","v":13600},{"$f":"SUM('план на 2016'!$L69:O69)-SUM('членские взносы'!$M69:O69)","v":14400},{"$f":"SUM('план на 2016'!$L69:P69)-SUM('членские взносы'!$M69:P69)","v":15200},{"$f":"SUM('план на 2016'!$L69:Q69)-SUM('членские взносы'!$M69:Q69)","v":16000},{"$f":"SUM('план на 2016'!$L69:R69)-SUM('членские взносы'!$M69:R69)","v":-4800},{"$f":"SUM('план на 2016'!$L69:S69)-SUM('членские взносы'!$M69:S69)","v":-4000},{"$f":"SUM('план на 2016'!$L69:T69)-SUM('членские взносы'!$M69:T69)","v":-3200},{"$f":"SUM('план на 2016'!$L69:U69)-SUM('членские взносы'!$M69:U69)","v":-2400},{"$f":"SUM('план на 2016'!$L69:V69)-SUM('членские взносы'!$M69:V69)","v":-1600},{"$f":"SUM('план на 2016'!$L69:W69)-SUM('членские взносы'!$M69:W69)","v":-800},{"$f":"SUM('план на 2016'!$L69:X69)-SUM('членские взносы'!$M69:X69)","v":0},{"$f":"X68","v":0}]
[{"$f":"VLOOKUP(B69,справочник!$B$2:$E$322,4,0)","v":148},{"$f":"CONCATENATE(C69;D69)","v":{"$error":"#VALUE!"}},156,"Горячев Дмитрий Николаевич","50:03:0070280:957","2012-04-09","2012-04-01",{"$f":"INT(($H$326-G69)/30)","v":45},{"$f":"H69*1000","v":45000},{"$f":"12000","v":12000},null,{"$f":"I69-J69-K69","v":33000},{"$f":"SUM('план на 2016'!$L70:M70)-SUM('членские взносы'!$M70:M70)","v":33800},{"$f":"SUM('план на 2016'!$L70:N70)-SUM('членские взносы'!$M70:N70)","v":32800},{"$f":"SUM('план на 2016'!$L70:O70)-SUM('членские взносы'!$M70:O70)","v":31800},{"$f":"SUM('план на 2016'!$L70:P70)-SUM('членские взносы'!$M70:P70)","v":30800},{"$f":"SUM('план на 2016'!$L70:Q70)-SUM('членские взносы'!$M70:Q70)","v":31600},{"$f":"SUM('план на 2016'!$L70:R70)-SUM('членские взносы'!$M70:R70)","v":32400},{"$f":"SUM('план на 2016'!$L70:S70)-SUM('членские взносы'!$M70:S70)","v":33200},{"$f":"SUM('план на 2016'!$L70:T70)-SUM('членские взносы'!$M70:T70)","v":34000},{"$f":"SUM('план на 2016'!$L70:U70)-SUM('членские взносы'!$M70:U70)","v":34800},{"$f":"SUM('план на 2016'!$L70:V70)-SUM('членские взносы'!$M70:V70)","v":35600},{"$f":"SUM('план на 2016'!$L70:W70)-SUM('членские взносы'!$M70:W70)","v":36400},{"$f":"SUM('план на 2016'!$L70:X70)-SUM('членские взносы'!$M70:X70)","v":37200},{"$f":"X69","v":37200}]
[{"$f":"VLOOKUP(B70,справочник!$B$2:$E$322,4,0)","v":308},{"$f":"CONCATENATE(C70;D70)","v":{"$error":"#VALUE!"}},323,"Губарева Татьяна Григорьевна","50:03:0070280:1017","2015-01-21","2015-02-01",{"$f":"INT(($H$326-G70)/30)","v":11},{"$f":"H70*1000","v":11000},3000,null,{"$f":"I70-J70-K70","v":8000},{"$f":"SUM('план на 2016'!$L71:M71)-SUM('членские взносы'!$M71:M71)","v":8800},{"$f":"SUM('план на 2016'!$L71:N71)-SUM('членские взносы'!$M71:N71)","v":9600},{"$f":"SUM('план на 2016'!$L71:O71)-SUM('членские взносы'!$M71:O71)","v":10400},{"$f":"SUM('план на 2016'!$L71:P71)-SUM('членские взносы'!$M71:P71)","v":11200},{"$f":"SUM('план на 2016'!$L71:Q71)-SUM('членские взносы'!$M71:Q71)","v":12000},{"$f":"SUM('план на 2016'!$L71:R71)-SUM('членские взносы'!$M71:R71)","v":12800},{"$f":"SUM('план на 2016'!$L71:S71)-SUM('членские взносы'!$M71:S71)","v":8800},{"$f":"SUM('план на 2016'!$L71:T71)-SUM('членские взносы'!$M71:T71)","v":9600},{"$f":"SUM('план на 2016'!$L71:U71)-SUM('членские взносы'!$M71:U71)","v":10400},{"$f":"SUM('план на 2016'!$L71:V71)-SUM('членские взносы'!$M71:V71)","v":11200},{"$f":"SUM('план на 2016'!$L71:W71)-SUM('членские взносы'!$M71:W71)","v":12000},{"$f":"SUM('план на 2016'!$L71:X71)-SUM('членские взносы'!$M71:X71)","v":12800},{"$f":"X70","v":12800}]
[{"$f":"VLOOKUP(B71,справочник!$B$2:$E$322,4,0)","v":318},{"$f":"CONCATENATE(C71;D71)","v":{"$error":"#VALUE!"}},"71-72","Гусева Светлана Григорьевна","50:03:0070280:753","2011-05-31","2011-07-01",{"$f":"INT(($H$326-G71)/30)","v":54},{"$f":"H71*1000*2","v":108000},{"$f":"2000+102000","v":104000},4000,{"$f":"I71-J71-K71","v":0},{"$f":"SUM('план на 2016'!$L72:M72)-SUM('членские взносы'!$M72:M72)","v":800},{"$f":"SUM('план на 2016'!$L72:N72)-SUM('членские взносы'!$M72:N72)","v":-3200},{"$f":"SUM('план на 2016'!$L72:O72)-SUM('членские взносы'!$M72:O72)","v":-2400},{"$f":"SUM('план на 2016'!$L72:P72)-SUM('членские взносы'!$M72:P72)","v":-6400},{"$f":"SUM('план на 2016'!$L72:Q72)-SUM('членские взносы'!$M72:Q72)","v":-5600},{"$f":"SUM('план на 2016'!$L72:R72)-SUM('членские взносы'!$M72:R72)","v":-4800},{"$f":"SUM('план на 2016'!$L72:S72)-SUM('членские взносы'!$M72:S72)","v":-8800},{"$f":"SUM('план на 2016'!$L72:T72)-SUM('членские взносы'!$M72:T72)","v":-8000},{"$f":"SUM('план на 2016'!$L72:U72)-SUM('членские взносы'!$M72:U72)","v":-7200},{"$f":"SUM('план на 2016'!$L72:V72)-SUM('членские взносы'!$M72:V72)","v":-11200},{"$f":"SUM('план на 2016'!$L72:W72)-SUM('членские взносы'!$M72:W72)","v":-10400},{"$f":"SUM('план на 2016'!$L72:X72)-SUM('членские взносы'!$M72:X72)","v":-9600},{"$f":"X71","v":-9600}]
[{"$f":"VLOOKUP(B72,справочник!$B$2:$E$322,4,0)","v":236},{"$f":"CONCATENATE(C72;D72)","v":{"$error":"#VALUE!"}},245,"Давыдова Анна Сергеевна","50:03:0070280:875","2012-02-06","2012-02-01",{"$f":"INT(($H$326-G72)/30)","v":47},{"$f":"H72*1000","v":47000},{"$f":"18000+11000","v":29000},null,{"$f":"I72-J72-K72","v":18000},{"$f":"SUM('план на 2016'!$L73:M73)-SUM('членские взносы'!$M73:M73)","v":18800},{"$f":"SUM('план на 2016'!$L73:N73)-SUM('членские взносы'!$M73:N73)","v":19600},{"$f":"SUM('план на 2016'!$L73:O73)-SUM('членские взносы'!$M73:O73)","v":20400},{"$f":"SUM('план на 2016'!$L73:P73)-SUM('членские взносы'!$M73:P73)","v":21200},{"$f":"SUM('план на 2016'!$L73:Q73)-SUM('членские взносы'!$M73:Q73)","v":-3000},{"$f":"SUM('план на 2016'!$L73:R73)-SUM('членские взносы'!$M73:R73)","v":-2200},{"$f":"SUM('план на 2016'!$L73:S73)-SUM('членские взносы'!$M73:S73)","v":-1400},{"$f":"SUM('план на 2016'!$L73:T73)-SUM('членские взносы'!$M73:T73)","v":-600},{"$f":"SUM('план на 2016'!$L73:U73)-SUM('членские взносы'!$M73:U73)","v":200},{"$f":"SUM('план на 2016'!$L73:V73)-SUM('членские взносы'!$M73:V73)","v":-1600},{"$f":"SUM('план на 2016'!$L73:W73)-SUM('членские взносы'!$M73:W73)","v":-800},{"$f":"SUM('план на 2016'!$L73:X73)-SUM('членские взносы'!$M73:X73)","v":0},{"$f":"X72","v":0}]
[{"$f":"VLOOKUP(B73,справочник!$B$2:$E$322,4,0)","v":226},{"$f":"CONCATENATE(C73;D73)","v":{"$error":"#VALUE!"}},235,"Данильянц Юрий Константинович","50:03:0070280:900","2014-04-10","2014-05-01",{"$f":"INT(($H$326-G73)/30)","v":20},{"$f":"H73*1000","v":20000},null,null,{"$f":"I73-J73-K73","v":20000},{"$f":"SUM('план на 2016'!$L74:M74)-SUM('членские взносы'!$M74:M74)","v":20800},{"$f":"SUM('план на 2016'!$L74:N74)-SUM('членские взносы'!$M74:N74)","v":21600},{"$f":"SUM('план на 2016'!$L74:O74)-SUM('членские взносы'!$M74:O74)","v":22400},{"$f":"SUM('план на 2016'!$L74:P74)-SUM('членские взносы'!$M74:P74)","v":23200},{"$f":"SUM('план на 2016'!$L74:Q74)-SUM('членские взносы'!$M74:Q74)","v":24000},{"$f":"SUM('план на 2016'!$L74:R74)-SUM('членские взносы'!$M74:R74)","v":24800},{"$f":"SUM('план на 2016'!$L74:S74)-SUM('членские взносы'!$M74:S74)","v":25600},{"$f":"SUM('план на 2016'!$L74:T74)-SUM('членские взносы'!$M74:T74)","v":26400},{"$f":"SUM('план на 2016'!$L74:U74)-SUM('членские взносы'!$M74:U74)","v":23200},{"$f":"SUM('план на 2016'!$L74:V74)-SUM('членские взносы'!$M74:V74)","v":24000},{"$f":"SUM('план на 2016'!$L74:W74)-SUM('членские взносы'!$M74:W74)","v":24800},{"$f":"SUM('план на 2016'!$L74:X74)-SUM('членские взносы'!$M74:X74)","v":25600},{"$f":"X73","v":25600}]
[{"$f":"VLOOKUP(B74,справочник!$B$2:$E$322,4,0)","v":285},{"$f":"CONCATENATE(C74;D74)","v":{"$error":"#VALUE!"}},297,"Даточный Алексей Валерьевич","50:03:0070280:782",null,null,null,19000,19000,null,{"$f":"I74-J74-K74","v":0},{"$f":"SUM('план на 2016'!$L75:M75)-SUM('членские взносы'!$M75:M75)","v":800},{"$f":"SUM('план на 2016'!$L75:N75)-SUM('членские взносы'!$M75:N75)","v":-6400},{"$f":"SUM('план на 2016'!$L75:O75)-SUM('членские взносы'!$M75:O75)","v":-5600},{"$f":"SUM('план на 2016'!$L75:P75)-SUM('членские взносы'!$M75:P75)","v":-4800},{"$f":"SUM('план на 2016'!$L75:Q75)-SUM('членские взносы'!$M75:Q75)","v":-4000},{"$f":"SUM('план на 2016'!$L75:R75)-SUM('членские взносы'!$M75:R75)","v":-7200},{"$f":"SUM('план на 2016'!$L75:S75)-SUM('членские взносы'!$M75:S75)","v":-6400},{"$f":"SUM('план на 2016'!$L75:T75)-SUM('членские взносы'!$M75:T75)","v":-5600},{"$f":"SUM('план на 2016'!$L75:U75)-SUM('членские взносы'!$M75:U75)","v":-4800},{"$f":"SUM('план на 2016'!$L75:V75)-SUM('членские взносы'!$M75:V75)","v":-4000},{"$f":"SUM('план на 2016'!$L75:W75)-SUM('членские взносы'!$M75:W75)","v":-3200},{"$f":"SUM('план на 2016'!$L75:X75)-SUM('членские взносы'!$M75:X75)","v":-8400},{"$f":"X74","v":-8400}]
[{"$f":"VLOOKUP(B75,справочник!$B$2:$E$322,4,0)","v":24},{"$f":"CONCATENATE(C75;D75)","v":{"$error":"#VALUE!"}},24,"Двойрина Юлия Владимировна","50:03:0070280:746","2012-08-20","2012-09-01",{"$f":"INT(($H$326-G75)/30)","v":40},{"$f":"H75*1000","v":40000},30000,null,{"$f":"I75-J75-K75","v":10000},{"$f":"SUM('план на 2016'!$L76:M76)-SUM('членские взносы'!$M76:M76)","v":10800},{"$f":"SUM('план на 2016'!$L76:N76)-SUM('членские взносы'!$M76:N76)","v":11600},{"$f":"SUM('план на 2016'!$L76:O76)-SUM('членские взносы'!$M76:O76)","v":12400},{"$f":"SUM('план на 2016'!$L76:P76)-SUM('членские взносы'!$M76:P76)","v":13200},{"$f":"SUM('план на 2016'!$L76:Q76)-SUM('членские взносы'!$M76:Q76)","v":14000},{"$f":"SUM('план на 2016'!$L76:R76)-SUM('членские взносы'!$M76:R76)","v":14800},{"$f":"SUM('план на 2016'!$L76:S76)-SUM('членские взносы'!$M76:S76)","v":15600},{"$f":"SUM('план на 2016'!$L76:T76)-SUM('членские взносы'!$M76:T76)","v":16400},{"$f":"SUM('план на 2016'!$L76:U76)-SUM('членские взносы'!$M76:U76)","v":17200},{"$f":"SUM('план на 2016'!$L76:V76)-SUM('членские взносы'!$M76:V76)","v":18000},{"$f":"SUM('план на 2016'!$L76:W76)-SUM('членские взносы'!$M76:W76)","v":18800},{"$f":"SUM('план на 2016'!$L76:X76)-SUM('членские взносы'!$M76:X76)","v":19600},{"$f":"X75","v":19600}]
[{"$f":"VLOOKUP(B76,справочник!$B$2:$E$322,4,0)","v":50},{"$f":"CONCATENATE(C76;D76)","v":{"$error":"#VALUE!"}},50,"Денисов Дмитрий Алексеевич","50:03:0070280:969","2011-09-07","2011-09-01",{"$f":"INT(($H$326-G76)/30)","v":52},{"$f":"H76*1000","v":52000},{"$f":"1000+41000","v":42000},null,{"$f":"I76-J76-K76","v":10000},{"$f":"SUM('план на 2016'!$L77:M77)-SUM('членские взносы'!$M77:M77)","v":10800},{"$f":"SUM('план на 2016'!$L77:N77)-SUM('членские взносы'!$M77:N77)","v":11600},{"$f":"SUM('план на 2016'!$L77:O77)-SUM('членские взносы'!$M77:O77)","v":400},{"$f":"SUM('план на 2016'!$L77:P77)-SUM('членские взносы'!$M77:P77)","v":1200},{"$f":"SUM('план на 2016'!$L77:Q77)-SUM('членские взносы'!$M77:Q77)","v":2000},{"$f":"SUM('план на 2016'!$L77:R77)-SUM('членские взносы'!$M77:R77)","v":2800},{"$f":"SUM('план на 2016'!$L77:S77)-SUM('членские взносы'!$M77:S77)","v":400},{"$f":"SUM('план на 2016'!$L77:T77)-SUM('членские взносы'!$M77:T77)","v":1200},{"$f":"SUM('план на 2016'!$L77:U77)-SUM('членские взносы'!$M77:U77)","v":2000},{"$f":"SUM('план на 2016'!$L77:V77)-SUM('членские взносы'!$M77:V77)","v":2800},{"$f":"SUM('план на 2016'!$L77:W77)-SUM('членские взносы'!$M77:W77)","v":3600},{"$f":"SUM('план на 2016'!$L77:X77)-SUM('членские взносы'!$M77:X77)","v":4400},{"$f":"X76","v":4400}]
[{"$f":"VLOOKUP(B77,справочник!$B$2:$E$322,4,0)","v":122},{"$f":"CONCATENATE(C77;D77)","v":{"$error":"#VALUE!"}},127,"Денисов Сергей Александрович","50:03:0070280:807","2012-01-30","2012-02-01",{"$f":"INT(($H$326-G77)/30)","v":47},{"$f":"H77*1000","v":47000},37000,5000,{"$f":"I77-J77-K77","v":5000},{"$f":"SUM('план на 2016'!$L78:M78)-SUM('членские взносы'!$M78:M78)","v":800},{"$f":"SUM('план на 2016'!$L78:N78)-SUM('членские взносы'!$M78:N78)","v":-400},{"$f":"SUM('план на 2016'!$L78:O78)-SUM('членские взносы'!$M78:O78)","v":400},{"$f":"SUM('план на 2016'!$L78:P78)-SUM('членские взносы'!$M78:P78)","v":-800},{"$f":"SUM('план на 2016'!$L78:Q78)-SUM('членские взносы'!$M78:Q78)","v":0},{"$f":"SUM('план на 2016'!$L78:R78)-SUM('членские взносы'!$M78:R78)","v":800},{"$f":"SUM('план на 2016'!$L78:S78)-SUM('членские взносы'!$M78:S78)","v":1600},{"$f":"SUM('план на 2016'!$L78:T78)-SUM('членские взносы'!$M78:T78)","v":2400},{"$f":"SUM('план на 2016'!$L78:U78)-SUM('членские взносы'!$M78:U78)","v":0},{"$f":"SUM('план на 2016'!$L78:V78)-SUM('членские взносы'!$M78:V78)","v":800},{"$f":"SUM('план на 2016'!$L78:W78)-SUM('членские взносы'!$M78:W78)","v":1600},{"$f":"SUM('план на 2016'!$L78:X78)-SUM('членские взносы'!$M78:X78)","v":0},{"$f":"X77","v":0}]
[{"$f":"VLOOKUP(B78,справочник!$B$2:$E$322,4,0)","v":301},{"$f":"CONCATENATE(C78;D78)","v":{"$error":"#VALUE!"}},316,"Десюкова Марина Александровна","50:03:0070280:1007","2014-11-26","2014-12-01",{"$f":"INT(($H$326-G78)/30)","v":13},{"$f":"H78*1000","v":13000},1000,null,{"$f":"I78-J78-K78","v":12000},{"$f":"SUM('план на 2016'!$L79:M79)-SUM('членские взносы'!$M79:M79)","v":12800},{"$f":"SUM('план на 2016'!$L79:N79)-SUM('членские взносы'!$M79:N79)","v":13600},{"$f":"SUM('план на 2016'!$L79:O79)-SUM('членские взносы'!$M79:O79)","v":14400},{"$f":"SUM('план на 2016'!$L79:P79)-SUM('членские взносы'!$M79:P79)","v":15200},{"$f":"SUM('план на 2016'!$L79:Q79)-SUM('членские взносы'!$M79:Q79)","v":16000},{"$f":"SUM('план на 2016'!$L79:R79)-SUM('членские взносы'!$M79:R79)","v":16800},{"$f":"SUM('план на 2016'!$L79:S79)-SUM('членские взносы'!$M79:S79)","v":17600},{"$f":"SUM('план на 2016'!$L79:T79)-SUM('членские взносы'!$M79:T79)","v":18400},{"$f":"SUM('план на 2016'!$L79:U79)-SUM('членские взносы'!$M79:U79)","v":19200},{"$f":"SUM('план на 2016'!$L79:V79)-SUM('членские взносы'!$M79:V79)","v":20000},{"$f":"SUM('план на 2016'!$L79:W79)-SUM('членские взносы'!$M79:W79)","v":20800},{"$f":"SUM('план на 2016'!$L79:X79)-SUM('членские взносы'!$M79:X79)","v":21600},{"$f":"X78","v":21600}]
[{"$f":"VLOOKUP(B79,справочник!$B$2:$E$322,4,0)","v":18},{"$f":"CONCATENATE(C79;D79)","v":{"$error":"#VALUE!"}},18,"Дидушко Денис Васильевич (Василий)","50:03:0070280:822","2013-06-04","2013-08-01",{"$f":"INT(($H$326-G79)/30)","v":29},{"$f":"H79*1000","v":29000},29000,null,{"$f":"I79-J79-K79","v":0},{"$f":"SUM('план на 2016'!$L80:M80)-SUM('членские взносы'!$M80:M80)","v":800},{"$f":"SUM('план на 2016'!$L80:N80)-SUM('членские взносы'!$M80:N80)","v":1600},{"$f":"SUM('план на 2016'!$L80:O80)-SUM('членские взносы'!$M80:O80)","v":2400},{"$f":"SUM('план на 2016'!$L80:P80)-SUM('членские взносы'!$M80:P80)","v":3200},{"$f":"SUM('план на 2016'!$L80:Q80)-SUM('членские взносы'!$M80:Q80)","v":4000},{"$f":"SUM('план на 2016'!$L80:R80)-SUM('членские взносы'!$M80:R80)","v":4800},{"$f":"SUM('план на 2016'!$L80:S80)-SUM('членские взносы'!$M80:S80)","v":5600},{"$f":"SUM('план на 2016'!$L80:T80)-SUM('членские взносы'!$M80:T80)","v":6400},{"$f":"SUM('план на 2016'!$L80:U80)-SUM('членские взносы'!$M80:U80)","v":7200},{"$f":"SUM('план на 2016'!$L80:V80)-SUM('членские взносы'!$M80:V80)","v":8000},{"$f":"SUM('план на 2016'!$L80:W80)-SUM('членские взносы'!$M80:W80)","v":8800},{"$f":"SUM('план на 2016'!$L80:X80)-SUM('членские взносы'!$M80:X80)","v":9600},{"$f":"X79","v":9600}]
[{"$f":"VLOOKUP(B80,справочник!$B$2:$E$322,4,0)","v":155},{"$f":"CONCATENATE(C80;D80)","v":{"$error":"#VALUE!"}},163,"Дорошенко Владимир Алексеевич","50:03:0070280:985","2013-08-05","2013-09-01",{"$f":"INT(($H$326-G80)/30)","v":28},{"$f":"H80*1000","v":28000},28000,2000,{"$f":"I80-J80-K80","v":-2000},{"$f":"SUM('план на 2016'!$L81:M81)-SUM('членские взносы'!$M81:M81)","v":-1200},{"$f":"SUM('план на 2016'!$L81:N81)-SUM('членские взносы'!$M81:N81)","v":-1000},{"$f":"SUM('план на 2016'!$L81:O81)-SUM('членские взносы'!$M81:O81)","v":-1800},{"$f":"SUM('план на 2016'!$L81:P81)-SUM('членские взносы'!$M81:P81)","v":-1000},{"$f":"SUM('план на 2016'!$L81:Q81)-SUM('членские взносы'!$M81:Q81)","v":-1800},{"$f":"SUM('план на 2016'!$L81:R81)-SUM('членские взносы'!$M81:R81)","v":-1000},{"$f":"SUM('план на 2016'!$L81:S81)-SUM('членские взносы'!$M81:S81)","v":-1800},{"$f":"SUM('план на 2016'!$L81:T81)-SUM('членские взносы'!$M81:T81)","v":-1000},{"$f":"SUM('план на 2016'!$L81:U81)-SUM('членские взносы'!$M81:U81)","v":-200},{"$f":"SUM('план на 2016'!$L81:V81)-SUM('членские взносы'!$M81:V81)","v":-1000},{"$f":"SUM('план на 2016'!$L81:W81)-SUM('членские взносы'!$M81:W81)","v":-1800},{"$f":"SUM('план на 2016'!$L81:X81)-SUM('членские взносы'!$M81:X81)","v":-1000},{"$f":"X80","v":-1000}]
[{"$f":"VLOOKUP(B81,справочник!$B$2:$E$322,4,0)","v":44},{"$f":"CONCATENATE(C81;D81)","v":{"$error":"#VALUE!"}},44,"Дубов Александр Сергеевич","50:03:0070280:802","2012-07-10","2012-07-01",{"$f":"INT(($H$326-G81)/30)","v":42},{"$f":"H81*1000","v":42000},{"$f":"21000+6000","v":27000},13000,{"$f":"I81-J81-K81","v":2000},{"$f":"SUM('план на 2016'!$L82:M82)-SUM('членские взносы'!$M82:M82)","v":2800},{"$f":"SUM('план на 2016'!$L82:N82)-SUM('членские взносы'!$M82:N82)","v":3600},{"$f":"SUM('план на 2016'!$L82:O82)-SUM('членские взносы'!$M82:O82)","v":4400},{"$f":"SUM('план на 2016'!$L82:P82)-SUM('членские взносы'!$M82:P82)","v":5200},{"$f":"SUM('план на 2016'!$L82:Q82)-SUM('членские взносы'!$M82:Q82)","v":6000},{"$f":"SUM('план на 2016'!$L82:R82)-SUM('членские взносы'!$M82:R82)","v":6800},{"$f":"SUM('план на 2016'!$L82:S82)-SUM('членские взносы'!$M82:S82)","v":7600},{"$f":"SUM('план на 2016'!$L82:T82)-SUM('членские взносы'!$M82:T82)","v":8400},{"$f":"SUM('план на 2016'!$L82:U82)-SUM('членские взносы'!$M82:U82)","v":9200},{"$f":"SUM('план на 2016'!$L82:V82)-SUM('членские взносы'!$M82:V82)","v":10000},{"$f":"SUM('план на 2016'!$L82:W82)-SUM('членские взносы'!$M82:W82)","v":10800},{"$f":"SUM('план на 2016'!$L82:X82)-SUM('членские взносы'!$M82:X82)","v":11600},{"$f":"X81","v":11600}]
[{"$f":"VLOOKUP(B82,справочник!$B$2:$E$322,4,0)","v":132},{"$f":"CONCATENATE(C82;D82)","v":{"$error":"#VALUE!"}},139,"Евглевская Ольга Борисовна","50:03:0070280:975","2011-05-27","2011-06-01",{"$f":"INT(($H$326-G82)/30)","v":55},{"$f":"H82*1000","v":55000},{"$f":"41000+1000","v":42000},null,{"$f":"I82-J82-K82","v":13000},{"$f":"SUM('план на 2016'!$L83:M83)-SUM('членские взносы'!$M83:M83)","v":13800},{"$f":"SUM('план на 2016'!$L83:N83)-SUM('членские взносы'!$M83:N83)","v":14600},{"$f":"SUM('план на 2016'!$L83:O83)-SUM('членские взносы'!$M83:O83)","v":15400},{"$f":"SUM('план на 2016'!$L83:P83)-SUM('членские взносы'!$M83:P83)","v":16200},{"$f":"SUM('план на 2016'!$L83:Q83)-SUM('членские взносы'!$M83:Q83)","v":17000},{"$f":"SUM('план на 2016'!$L83:R83)-SUM('членские взносы'!$M83:R83)","v":17800},{"$f":"SUM('план на 2016'!$L83:S83)-SUM('членские взносы'!$M83:S83)","v":18600},{"$f":"SUM('план на 2016'!$L83:T83)-SUM('членские взносы'!$M83:T83)","v":19400},{"$f":"SUM('план на 2016'!$L83:U83)-SUM('членские взносы'!$M83:U83)","v":20200},{"$f":"SUM('план на 2016'!$L83:V83)-SUM('членские взносы'!$M83:V83)","v":21000},{"$f":"SUM('план на 2016'!$L83:W83)-SUM('членские взносы'!$M83:W83)","v":21800},{"$f":"SUM('план на 2016'!$L83:X83)-SUM('членские взносы'!$M83:X83)","v":22600},{"$f":"X82","v":22600}]
[{"$f":"VLOOKUP(B83,справочник!$B$2:$E$322,4,0)","v":159},{"$f":"CONCATENATE(C83;D83)","v":{"$error":"#VALUE!"}},167,"Евсеев Александр Сергеевич","50:03:0070280:925","2012-05-15","2012-05-01",{"$f":"INT(($H$326-G83)/30)","v":44},{"$f":"H83*1000","v":44000},{"$f":"32000","v":32000},null,{"$f":"I83-J83-K83","v":12000},{"$f":"SUM('план на 2016'!$L84:M84)-SUM('членские взносы'!$M84:M84)","v":12800},{"$f":"SUM('план на 2016'!$L84:N84)-SUM('членские взносы'!$M84:N84)","v":1600},{"$f":"SUM('план на 2016'!$L84:O84)-SUM('членские взносы'!$M84:O84)","v":2400},{"$f":"SUM('план на 2016'!$L84:P84)-SUM('членские взносы'!$M84:P84)","v":3200},{"$f":"SUM('план на 2016'!$L84:Q84)-SUM('членские взносы'!$M84:Q84)","v":4000},{"$f":"SUM('план на 2016'!$L84:R84)-SUM('членские взносы'!$M84:R84)","v":4800},{"$f":"SUM('план на 2016'!$L84:S84)-SUM('членские взносы'!$M84:S84)","v":0},{"$f":"SUM('план на 2016'!$L84:T84)-SUM('членские взносы'!$M84:T84)","v":800},{"$f":"SUM('план на 2016'!$L84:U84)-SUM('членские взносы'!$M84:U84)","v":1600},{"$f":"SUM('план на 2016'!$L84:V84)-SUM('членские взносы'!$M84:V84)","v":2400},{"$f":"SUM('план на 2016'!$L84:W84)-SUM('членские взносы'!$M84:W84)","v":3200},{"$f":"SUM('план на 2016'!$L84:X84)-SUM('членские взносы'!$M84:X84)","v":0},{"$f":"X83","v":0}]
[{"$f":"VLOOKUP(B84,справочник!$B$2:$E$322,4,0)","v":181},{"$f":"CONCATENATE(C84;D84)","v":{"$error":"#VALUE!"}},189,"Елисеев Сергей Вячеславович","50:03:0070280:760","2014-04-05","2014-05-01",{"$f":"INT(($H$326-G84)/30)","v":20},{"$f":"H84*1000","v":20000},17000,null,{"$f":"I84-J84-K84","v":3000},{"$f":"SUM('план на 2016'!$L85:M85)-SUM('членские взносы'!$M85:M85)","v":3800},{"$f":"SUM('план на 2016'!$L85:N85)-SUM('членские взносы'!$M85:N85)","v":4600},{"$f":"SUM('план на 2016'!$L85:O85)-SUM('членские взносы'!$M85:O85)","v":5400},{"$f":"SUM('план на 2016'!$L85:P85)-SUM('членские взносы'!$M85:P85)","v":6200},{"$f":"SUM('план на 2016'!$L85:Q85)-SUM('членские взносы'!$M85:Q85)","v":0},{"$f":"SUM('план на 2016'!$L85:R85)-SUM('членские взносы'!$M85:R85)","v":800},{"$f":"SUM('план на 2016'!$L85:S85)-SUM('членские взносы'!$M85:S85)","v":1600},{"$f":"SUM('план на 2016'!$L85:T85)-SUM('членские взносы'!$M85:T85)","v":2400},{"$f":"SUM('план на 2016'!$L85:U85)-SUM('членские взносы'!$M85:U85)","v":3200},{"$f":"SUM('план на 2016'!$L85:V85)-SUM('членские взносы'!$M85:V85)","v":4000},{"$f":"SUM('план на 2016'!$L85:W85)-SUM('членские взносы'!$M85:W85)","v":4800},{"$f":"SUM('план на 2016'!$L85:X85)-SUM('членские взносы'!$M85:X85)","v":5600},{"$f":"X84","v":5600}]
[{"$f":"VLOOKUP(B85,справочник!$B$2:$E$322,4,0)","v":284},{"$f":"CONCATENATE(C85;D85)","v":{"$error":"#VALUE!"}},296,"Епанчинцева Людмила Филипповна","50:03:0070280:783","2013-10-02","2013-11-01",{"$f":"INT(($H$326-G85)/30)","v":26},{"$f":"H85*1000","v":26000},{"$f":"12000","v":12000},5000,{"$f":"I85-J85-K85","v":9000},{"$f":"SUM('план на 2016'!$L86:M86)-SUM('членские взносы'!$M86:M86)","v":9800},{"$f":"SUM('план на 2016'!$L86:N86)-SUM('членские взносы'!$M86:N86)","v":10600},{"$f":"SUM('план на 2016'!$L86:O86)-SUM('членские взносы'!$M86:O86)","v":5400},{"$f":"SUM('план на 2016'!$L86:P86)-SUM('членские взносы'!$M86:P86)","v":6200},{"$f":"SUM('план на 2016'!$L86:Q86)-SUM('членские взносы'!$M86:Q86)","v":7000},{"$f":"SUM('план на 2016'!$L86:R86)-SUM('членские взносы'!$M86:R86)","v":7800},{"$f":"SUM('план на 2016'!$L86:S86)-SUM('членские взносы'!$M86:S86)","v":6200},{"$f":"SUM('план на 2016'!$L86:T86)-SUM('членские взносы'!$M86:T86)","v":7000},{"$f":"SUM('план на 2016'!$L86:U86)-SUM('членские взносы'!$M86:U86)","v":7800},{"$f":"SUM('план на 2016'!$L86:V86)-SUM('членские взносы'!$M86:V86)","v":5400},{"$f":"SUM('план на 2016'!$L86:W86)-SUM('членские взносы'!$M86:W86)","v":6200},{"$f":"SUM('план на 2016'!$L86:X86)-SUM('членские взносы'!$M86:X86)","v":7000},{"$f":"X85","v":7000}]
[{"$f":"VLOOKUP(B86,справочник!$B$2:$E$322,4,0)","v":264},{"$f":"CONCATENATE(C86;D86)","v":{"$error":"#VALUE!"}},277,"Еременко Виктор Александрович (Валентина)","50:03:0070280:726","2012-07-03","2012-07-01",{"$f":"INT(($H$326-G86)/30)","v":42},{"$f":"H86*1000","v":42000},{"$f":"38000","v":38000},null,{"$f":"I86-J86-K86","v":4000},{"$f":"SUM('план на 2016'!$L87:M87)-SUM('членские взносы'!$M87:M87)","v":800},{"$f":"SUM('план на 2016'!$L87:N87)-SUM('членские взносы'!$M87:N87)","v":1600},{"$f":"SUM('план на 2016'!$L87:O87)-SUM('членские взносы'!$M87:O87)","v":400},{"$f":"SUM('план на 2016'!$L87:P87)-SUM('членские взносы'!$M87:P87)","v":1200},{"$f":"SUM('план на 2016'!$L87:Q87)-SUM('членские взносы'!$M87:Q87)","v":2000},{"$f":"SUM('план на 2016'!$L87:R87)-SUM('членские взносы'!$M87:R87)","v":2800},{"$f":"SUM('план на 2016'!$L87:S87)-SUM('членские взносы'!$M87:S87)","v":-2400},{"$f":"SUM('план на 2016'!$L87:T87)-SUM('членские взносы'!$M87:T87)","v":-1600},{"$f":"SUM('план на 2016'!$L87:U87)-SUM('членские взносы'!$M87:U87)","v":-800},{"$f":"SUM('план на 2016'!$L87:V87)-SUM('членские взносы'!$M87:V87)","v":0},{"$f":"SUM('план на 2016'!$L87:W87)-SUM('членские взносы'!$M87:W87)","v":800},{"$f":"SUM('план на 2016'!$L87:X87)-SUM('членские взносы'!$M87:X87)","v":1600},{"$f":"X86","v":1600}]
[{"$f":"VLOOKUP(B87,справочник!$B$2:$E$322,4,0)","v":32},{"$f":"CONCATENATE(C87;D87)","v":{"$error":"#VALUE!"}},32,"Ермакова Татьяна Викторовна","50:03:0070280:902","2011-06-01","2011-06-01",{"$f":"INT(($H$326-G87)/30)","v":55},{"$f":"H87*1000","v":55000},{"$f":"7000+48000","v":55000},null,{"$f":"I87-J87-K87","v":0},{"$f":"SUM('план на 2016'!$L88:M88)-SUM('членские взносы'!$M88:M88)","v":-1600},{"$f":"SUM('план на 2016'!$L88:N88)-SUM('членские взносы'!$M88:N88)","v":-800},{"$f":"SUM('план на 2016'!$L88:O88)-SUM('членские взносы'!$M88:O88)","v":0},{"$f":"SUM('план на 2016'!$L88:P88)-SUM('членские взносы'!$M88:P88)","v":800},{"$f":"SUM('план на 2016'!$L88:Q88)-SUM('членские взносы'!$M88:Q88)","v":1600},{"$f":"SUM('план на 2016'!$L88:R88)-SUM('членские взносы'!$M88:R88)","v":0},{"$f":"SUM('план на 2016'!$L88:S88)-SUM('членские взносы'!$M88:S88)","v":-4000},{"$f":"SUM('план на 2016'!$L88:T88)-SUM('членские взносы'!$M88:T88)","v":-3200},{"$f":"SUM('план на 2016'!$L88:U88)-SUM('членские взносы'!$M88:U88)","v":-2400},{"$f":"SUM('план на 2016'!$L88:V88)-SUM('членские взносы'!$M88:V88)","v":-1600},{"$f":"SUM('план на 2016'!$L88:W88)-SUM('членские взносы'!$M88:W88)","v":-800},{"$f":"SUM('план на 2016'!$L88:X88)-SUM('членские взносы'!$M88:X88)","v":0},{"$f":"X87","v":0}]
[{"$f":"VLOOKUP(B88,справочник!$B$2:$E$322,4,0)","v":49},{"$f":"CONCATENATE(C88;D88)","v":{"$error":"#VALUE!"}},49,"Ермолаева Виктория Александровна","50:03:0070280:968","2011-07-05","2011-08-01",{"$f":"INT(($H$326-G88)/30)","v":53},{"$f":"H88*1000","v":53000},{"$f":"42000","v":42000},null,{"$f":"I88-J88-K88","v":11000},{"$f":"SUM('план на 2016'!$L89:M89)-SUM('членские взносы'!$M89:M89)","v":11800},{"$f":"SUM('план на 2016'!$L89:N89)-SUM('членские взносы'!$M89:N89)","v":12600},{"$f":"SUM('план на 2016'!$L89:O89)-SUM('членские взносы'!$M89:O89)","v":13400},{"$f":"SUM('план на 2016'!$L89:P89)-SUM('членские взносы'!$M89:P89)","v":14200},{"$f":"SUM('план на 2016'!$L89:Q89)-SUM('членские взносы'!$M89:Q89)","v":10200},{"$f":"SUM('план на 2016'!$L89:R89)-SUM('членские взносы'!$M89:R89)","v":800},{"$f":"SUM('план на 2016'!$L89:S89)-SUM('членские взносы'!$M89:S89)","v":1600},{"$f":"SUM('план на 2016'!$L89:T89)-SUM('членские взносы'!$M89:T89)","v":2400},{"$f":"SUM('план на 2016'!$L89:U89)-SUM('членские взносы'!$M89:U89)","v":3200},{"$f":"SUM('план на 2016'!$L89:V89)-SUM('членские взносы'!$M89:V89)","v":4000},{"$f":"SUM('план на 2016'!$L89:W89)-SUM('членские взносы'!$M89:W89)","v":4800},{"$f":"SUM('план на 2016'!$L89:X89)-SUM('членские взносы'!$M89:X89)","v":800},{"$f":"X88","v":800}]
[{"$f":"VLOOKUP(B89,справочник!$B$2:$E$322,4,0)","v":234},{"$f":"CONCATENATE(C89;D89)","v":{"$error":"#VALUE!"}},243,"Ермошина Татьяна Евгеньевна (Владимир)","50:03:0070280:1428","2012-12-05","2013-04-01",3,{"$f":"H89*1000","v":3000},null,3000,{"$f":"I89-J89-K89","v":0},{"$f":"SUM('план на 2016'!$L90:M90)-SUM('членские взносы'!$M90:M90)","v":0},{"$f":"SUM('план на 2016'!$L90:N90)-SUM('членские взносы'!$M90:N90)","v":-4800},{"$f":"SUM('план на 2016'!$L90:O90)-SUM('членские взносы'!$M90:O90)","v":-4800},{"$f":"SUM('план на 2016'!$L90:P90)-SUM('членские взносы'!$M90:P90)","v":-4800},{"$f":"SUM('план на 2016'!$L90:Q90)-SUM('членские взносы'!$M90:Q90)","v":-4800},{"$f":"SUM('план на 2016'!$L90:R90)-SUM('членские взносы'!$M90:R90)","v":-4800},{"$f":"SUM('план на 2016'!$L90:S90)-SUM('членские взносы'!$M90:S90)","v":-4800},{"$f":"SUM('план на 2016'!$L90:T90)-SUM('членские взносы'!$M90:T90)","v":-7300},{"$f":"SUM('план на 2016'!$L90:U90)-SUM('членские взносы'!$M90:U90)","v":-9600},{"$f":"SUM('план на 2016'!$L90:V90)-SUM('членские взносы'!$M90:V90)","v":-9600},{"$f":"SUM('план на 2016'!$L90:W90)-SUM('членские взносы'!$M90:W90)","v":-9600},{"$f":"SUM('план на 2016'!$L90:X90)-SUM('членские взносы'!$M90:X90)","v":-9600},{"$f":"X89","v":-9600}]
[{"$f":"VLOOKUP(B90,справочник!$B$2:$E$322,4,0)","v":234},{"$f":"CONCATENATE(C90;D90)","v":{"$error":"#VALUE!"}},244,"Ермошина Татьяна Евгеньевна (Владимир)",null,"2012-12-05","2013-04-01",3,{"$f":"H90*1000","v":3000},null,3000,{"$f":"I90-J90-K90","v":0},{"$f":"SUM('план на 2016'!$L91:M91)-SUM('членские взносы'!$M91:M91)","v":0},{"$f":"SUM('план на 2016'!$L91:N91)-SUM('членские взносы'!$M91:N91)","v":0},{"$f":"SUM('план на 2016'!$L91:O91)-SUM('членские взносы'!$M91:O91)","v":0},{"$f":"SUM('план на 2016'!$L91:P91)-SUM('членские взносы'!$M91:P91)","v":0},{"$f":"SUM('план на 2016'!$L91:Q91)-SUM('членские взносы'!$M91:Q91)","v":0},{"$f":"SUM('план на 2016'!$L91:R91)-SUM('членские взносы'!$M91:R91)","v":0},{"$f":"SUM('план на 2016'!$L91:S91)-SUM('членские взносы'!$M91:S91)","v":0},{"$f":"SUM('план на 2016'!$L91:T91)-SUM('членские взносы'!$M91:T91)","v":0},{"$f":"SUM('план на 2016'!$L91:U91)-SUM('членские взносы'!$M91:U91)","v":0},{"$f":"SUM('план на 2016'!$L91:V91)-SUM('членские взносы'!$M91:V91)","v":0},{"$f":"SUM('план на 2016'!$L91:W91)-SUM('членские взносы'!$M91:W91)","v":0},{"$f":"SUM('план на 2016'!$L91:X91)-SUM('членские взносы'!$M91:X91)","v":0},{"$f":"X90","v":0}]
[{"$f":"VLOOKUP(B91,справочник!$B$2:$E$322,4,0)","v":234},{"$f":"CONCATENATE(C91;D91)","v":{"$error":"#VALUE!"}},"243-244","Ермошина Татьяна Евгеньевна (Владимир)",null,"2013-07-01","2013-07-01",{"$f":"INT(($H$326-G91)/30)","v":30},{"$f":"H91*1000","v":30000},null,30000,{"$f":"I91-J91-K91","v":0},{"$f":"SUM('план на 2016'!$L92:M92)-SUM('членские взносы'!$M92:M92)","v":800},{"$f":"SUM('план на 2016'!$L92:N92)-SUM('членские взносы'!$M92:N92)","v":1600},{"$f":"SUM('план на 2016'!$L92:O92)-SUM('членские взносы'!$M92:O92)","v":2400},{"$f":"SUM('план на 2016'!$L92:P92)-SUM('членские взносы'!$M92:P92)","v":3200},{"$f":"SUM('план на 2016'!$L92:Q92)-SUM('членские взносы'!$M92:Q92)","v":4000},{"$f":"SUM('план на 2016'!$L92:R92)-SUM('членские взносы'!$M92:R92)","v":4800},{"$f":"SUM('план на 2016'!$L92:S92)-SUM('членские взносы'!$M92:S92)","v":5600},{"$f":"SUM('план на 2016'!$L92:T92)-SUM('членские взносы'!$M92:T92)","v":6400},{"$f":"SUM('план на 2016'!$L92:U92)-SUM('членские взносы'!$M92:U92)","v":7200},{"$f":"SUM('план на 2016'!$L92:V92)-SUM('членские взносы'!$M92:V92)","v":8000},{"$f":"SUM('план на 2016'!$L92:W92)-SUM('членские взносы'!$M92:W92)","v":8800},{"$f":"SUM('план на 2016'!$L92:X92)-SUM('членские взносы'!$M92:X92)","v":9600},{"$f":"X91","v":9600}]
[{"$f":"VLOOKUP(B92,справочник!$B$2:$E$322,4,0)","v":254},{"$f":"CONCATENATE(C92;D92)","v":{"$error":"#VALUE!"}},267,"Ершова Виктория Львовна","50:03:0070280:736","2012-02-14","2012-02-01",{"$f":"INT(($H$326-G92)/30)","v":47},{"$f":"H92*1000","v":47000},{"$f":"39000+5000","v":44000},null,{"$f":"I92-J92-K92","v":3000},{"$f":"SUM('план на 2016'!$L93:M93)-SUM('членские взносы'!$M93:M93)","v":3800},{"$f":"SUM('план на 2016'!$L93:N93)-SUM('членские взносы'!$M93:N93)","v":4600},{"$f":"SUM('план на 2016'!$L93:O93)-SUM('членские взносы'!$M93:O93)","v":5400},{"$f":"SUM('план на 2016'!$L93:P93)-SUM('членские взносы'!$M93:P93)","v":6200},{"$f":"SUM('план на 2016'!$L93:Q93)-SUM('членские взносы'!$M93:Q93)","v":7000},{"$f":"SUM('план на 2016'!$L93:R93)-SUM('членские взносы'!$M93:R93)","v":7800},{"$f":"SUM('план на 2016'!$L93:S93)-SUM('членские взносы'!$M93:S93)","v":8600},{"$f":"SUM('план на 2016'!$L93:T93)-SUM('членские взносы'!$M93:T93)","v":9400},{"$f":"SUM('план на 2016'!$L93:U93)-SUM('членские взносы'!$M93:U93)","v":10200},{"$f":"SUM('план на 2016'!$L93:V93)-SUM('членские взносы'!$M93:V93)","v":11000},{"$f":"SUM('план на 2016'!$L93:W93)-SUM('членские взносы'!$M93:W93)","v":11800},{"$f":"SUM('план на 2016'!$L93:X93)-SUM('членские взносы'!$M93:X93)","v":12600},{"$f":"X92","v":12600}]
[{"$f":"VLOOKUP(B93,справочник!$B$2:$E$322,4,0)","v":230},{"$f":"CONCATENATE(C93;D93)","v":{"$error":"#VALUE!"}},239,"Жарикова Светлана Юрьевна","50:03:0070280:896","2013-11-12","2013-11-01",{"$f":"INT(($H$326-G93)/30)","v":26},{"$f":"H93*1000","v":26000},26000,null,{"$f":"I93-J93-K93","v":0},{"$f":"SUM('план на 2016'!$L94:M94)-SUM('членские взносы'!$M94:M94)","v":800},{"$f":"SUM('план на 2016'!$L94:N94)-SUM('членские взносы'!$M94:N94)","v":1600},{"$f":"SUM('план на 2016'!$L94:O94)-SUM('членские взносы'!$M94:O94)","v":2400},{"$f":"SUM('план на 2016'!$L94:P94)-SUM('членские взносы'!$M94:P94)","v":3200},{"$f":"SUM('план на 2016'!$L94:Q94)-SUM('членские взносы'!$M94:Q94)","v":4000},{"$f":"SUM('план на 2016'!$L94:R94)-SUM('членские взносы'!$M94:R94)","v":4800},{"$f":"SUM('план на 2016'!$L94:S94)-SUM('членские взносы'!$M94:S94)","v":5600},{"$f":"SUM('план на 2016'!$L94:T94)-SUM('членские взносы'!$M94:T94)","v":6400},{"$f":"SUM('план на 2016'!$L94:U94)-SUM('членские взносы'!$M94:U94)","v":7200},{"$f":"SUM('план на 2016'!$L94:V94)-SUM('членские взносы'!$M94:V94)","v":8000},{"$f":"SUM('план на 2016'!$L94:W94)-SUM('членские взносы'!$M94:W94)","v":8800},{"$f":"SUM('план на 2016'!$L94:X94)-SUM('членские взносы'!$M94:X94)","v":9600},{"$f":"X93","v":9600}]
[{"$f":"VLOOKUP(B94,справочник!$B$2:$E$322,4,0)","v":230},{"$f":"CONCATENATE(C94;D94)","v":{"$error":"#VALUE!"}},257,"Жарикова Светлана Юрьевна","50:03:0070280:788","2014-08-31","2014-11-01",{"$f":"INT(($H$326-G94)/30)","v":14},{"$f":"H94*1000","v":14000},0,4000,{"$f":"I94-J94-K94","v":10000},{"$f":"SUM('план на 2016'!$L95:M95)-SUM('членские взносы'!$M95:M95)","v":10000},{"$f":"SUM('план на 2016'!$L95:N95)-SUM('членские взносы'!$M95:N95)","v":-2100},{"$f":"SUM('план на 2016'!$L95:O95)-SUM('членские взносы'!$M95:O95)","v":-2100},{"$f":"SUM('план на 2016'!$L95:P95)-SUM('членские взносы'!$M95:P95)","v":-2100},{"$f":"SUM('план на 2016'!$L95:Q95)-SUM('членские взносы'!$M95:Q95)","v":-5600},{"$f":"SUM('план на 2016'!$L95:R95)-SUM('членские взносы'!$M95:R95)","v":-5600},{"$f":"SUM('план на 2016'!$L95:S95)-SUM('членские взносы'!$M95:S95)","v":-5600},{"$f":"SUM('план на 2016'!$L95:T95)-SUM('членские взносы'!$M95:T95)","v":-8300},{"$f":"SUM('план на 2016'!$L95:U95)-SUM('членские взносы'!$M95:U95)","v":-8300},{"$f":"SUM('план на 2016'!$L95:V95)-SUM('членские взносы'!$M95:V95)","v":-8300},{"$f":"SUM('план на 2016'!$L95:W95)-SUM('членские взносы'!$M95:W95)","v":-8300},{"$f":"SUM('план на 2016'!$L95:X95)-SUM('членские взносы'!$M95:X95)","v":-8300},{"$f":"X94","v":-8300}]
[{"$f":"VLOOKUP(B95,справочник!$B$2:$E$322,4,0)","v":4},{"$f":"CONCATENATE(C95;D95)","v":{"$error":"#VALUE!"}},4,"Жигунов Юрий Александрович","50:03:0070280:693","2013-06-11","2013-07-01",{"$f":"INT(($H$326-G95)/30)","v":30},{"$f":"H95*1000","v":30000},27000,null,{"$f":"I95-J95-K95","v":3000},{"$f":"SUM('план на 2016'!$L96:M96)-SUM('членские взносы'!$M96:M96)","v":3800},{"$f":"SUM('план на 2016'!$L96:N96)-SUM('членские взносы'!$M96:N96)","v":4600},{"$f":"SUM('план на 2016'!$L96:O96)-SUM('членские взносы'!$M96:O96)","v":5400},{"$f":"SUM('план на 2016'!$L96:P96)-SUM('членские взносы'!$M96:P96)","v":6200},{"$f":"SUM('план на 2016'!$L96:Q96)-SUM('членские взносы'!$M96:Q96)","v":2000},{"$f":"SUM('план на 2016'!$L96:R96)-SUM('членские взносы'!$M96:R96)","v":2800},{"$f":"SUM('план на 2016'!$L96:S96)-SUM('членские взносы'!$M96:S96)","v":3600},{"$f":"SUM('план на 2016'!$L96:T96)-SUM('членские взносы'!$M96:T96)","v":4400},{"$f":"SUM('план на 2016'!$L96:U96)-SUM('членские взносы'!$M96:U96)","v":5200},{"$f":"SUM('план на 2016'!$L96:V96)-SUM('членские взносы'!$M96:V96)","v":6000},{"$f":"SUM('план на 2016'!$L96:W96)-SUM('членские взносы'!$M96:W96)","v":6800},{"$f":"SUM('план на 2016'!$L96:X96)-SUM('членские взносы'!$M96:X96)","v":7600},{"$f":"X95","v":7600}]
[{"$f":"VLOOKUP(B96,справочник!$B$2:$E$322,4,0)","v":213},{"$f":"CONCATENATE(C96;D96)","v":{"$error":"#VALUE!"}},222,"Жирная Татьяна Сергеевна","50:03:0070280:841","2014-05-07","2014-06-01",{"$f":"INT(($H$326-G96)/30)","v":19},{"$f":"H96*1000","v":19000},500,null,{"$f":"I96-J96-K96","v":18500},{"$f":"SUM('план на 2016'!$L97:M97)-SUM('членские взносы'!$M97:M97)","v":19300},{"$f":"SUM('план на 2016'!$L97:N97)-SUM('членские взносы'!$M97:N97)","v":20100},{"$f":"SUM('план на 2016'!$L97:O97)-SUM('членские взносы'!$M97:O97)","v":20900},{"$f":"SUM('план на 2016'!$L97:P97)-SUM('членские взносы'!$M97:P97)","v":21700},{"$f":"SUM('план на 2016'!$L97:Q97)-SUM('членские взносы'!$M97:Q97)","v":22500},{"$f":"SUM('план на 2016'!$L97:R97)-SUM('членские взносы'!$M97:R97)","v":23300},{"$f":"SUM('план на 2016'!$L97:S97)-SUM('членские взносы'!$M97:S97)","v":24100},{"$f":"SUM('план на 2016'!$L97:T97)-SUM('членские взносы'!$M97:T97)","v":24900},{"$f":"SUM('план на 2016'!$L97:U97)-SUM('членские взносы'!$M97:U97)","v":25700},{"$f":"SUM('план на 2016'!$L97:V97)-SUM('членские взносы'!$M97:V97)","v":26500},{"$f":"SUM('план на 2016'!$L97:W97)-SUM('членские взносы'!$M97:W97)","v":27300},{"$f":"SUM('план на 2016'!$L97:X97)-SUM('членские взносы'!$M97:X97)","v":28100},{"$f":"X96","v":28100}]
[{"$f":"VLOOKUP(B97,справочник!$B$2:$E$322,4,0)","v":127},{"$f":"CONCATENATE(C97;D97)","v":{"$error":"#VALUE!"}},132,"Жохова Елена Сергеевна","50:03:0070280:981","2011-06-07","2011-06-01",{"$f":"INT(($H$326-G97)/30)","v":55},{"$f":"H97*1000","v":55000},{"$f":"36000+7000","v":43000},null,{"$f":"I97-J97-K97","v":12000},{"$f":"SUM('план на 2016'!$L98:M98)-SUM('членские взносы'!$M98:M98)","v":800},{"$f":"SUM('план на 2016'!$L98:N98)-SUM('членские взносы'!$M98:N98)","v":0},{"$f":"SUM('план на 2016'!$L98:O98)-SUM('членские взносы'!$M98:O98)","v":800},{"$f":"SUM('план на 2016'!$L98:P98)-SUM('членские взносы'!$M98:P98)","v":1600},{"$f":"SUM('план на 2016'!$L98:Q98)-SUM('членские взносы'!$M98:Q98)","v":2400},{"$f":"SUM('план на 2016'!$L98:R98)-SUM('членские взносы'!$M98:R98)","v":3200},{"$f":"SUM('план на 2016'!$L98:S98)-SUM('членские взносы'!$M98:S98)","v":4000},{"$f":"SUM('план на 2016'!$L98:T98)-SUM('членские взносы'!$M98:T98)","v":2400},{"$f":"SUM('план на 2016'!$L98:U98)-SUM('членские взносы'!$M98:U98)","v":3200},{"$f":"SUM('план на 2016'!$L98:V98)-SUM('членские взносы'!$M98:V98)","v":4000},{"$f":"SUM('план на 2016'!$L98:W98)-SUM('членские взносы'!$M98:W98)","v":4800},{"$f":"SUM('план на 2016'!$L98:X98)-SUM('членские взносы'!$M98:X98)","v":5600},{"$f":"X97","v":5600}]
[{"$f":"VLOOKUP(B98,справочник!$B$2:$E$322,4,0)","v":66},{"$f":"CONCATENATE(C98;D98)","v":{"$error":"#VALUE!"}},68,"Заборская Светлана Анатольевна (Андрей)","50:03:0070280:937","2012-07-10","2012-07-01",{"$f":"INT(($H$326-G98)/30)","v":42},{"$f":"H98*1000","v":42000},39780,null,{"$f":"I98-J98-K98","v":2220},{"$f":"SUM('план на 2016'!$L99:M99)-SUM('членские взносы'!$M99:M99)","v":3020},{"$f":"SUM('план на 2016'!$L99:N99)-SUM('членские взносы'!$M99:N99)","v":3820},{"$f":"SUM('план на 2016'!$L99:O99)-SUM('членские взносы'!$M99:O99)","v":4620},{"$f":"SUM('план на 2016'!$L99:P99)-SUM('членские взносы'!$M99:P99)","v":5420},{"$f":"SUM('план на 2016'!$L99:Q99)-SUM('членские взносы'!$M99:Q99)","v":6220},{"$f":"SUM('план на 2016'!$L99:R99)-SUM('членские взносы'!$M99:R99)","v":7020},{"$f":"SUM('план на 2016'!$L99:S99)-SUM('членские взносы'!$M99:S99)","v":7820},{"$f":"SUM('план на 2016'!$L99:T99)-SUM('членские взносы'!$M99:T99)","v":8620},{"$f":"SUM('план на 2016'!$L99:U99)-SUM('членские взносы'!$M99:U99)","v":9420},{"$f":"SUM('план на 2016'!$L99:V99)-SUM('членские взносы'!$M99:V99)","v":10220},{"$f":"SUM('план на 2016'!$L99:W99)-SUM('членские взносы'!$M99:W99)","v":3020},{"$f":"SUM('план на 2016'!$L99:X99)-SUM('членские взносы'!$M99:X99)","v":3820},{"$f":"X98","v":3820}]
[{"$f":"VLOOKUP(B99,справочник!$B$2:$E$322,4,0)","v":36},{"$f":"CONCATENATE(C99;D99)","v":{"$error":"#VALUE!"}},36,"Закревская Марина Владимировна","50:03:0070280:906","2011-07-12","2011-08-01",{"$f":"INT(($H$326-G99)/30)","v":53},{"$f":"H99*1000","v":53000},{"$f":"42000+1000","v":43000},null,{"$f":"I99-J99-K99","v":10000},{"$f":"SUM('план на 2016'!$L100:M100)-SUM('членские взносы'!$M100:M100)","v":10800},{"$f":"SUM('план на 2016'!$L100:N100)-SUM('членские взносы'!$M100:N100)","v":11600},{"$f":"SUM('план на 2016'!$L100:O100)-SUM('членские взносы'!$M100:O100)","v":12400},{"$f":"SUM('план на 2016'!$L100:P100)-SUM('членские взносы'!$M100:P100)","v":13200},{"$f":"SUM('план на 2016'!$L100:Q100)-SUM('членские взносы'!$M100:Q100)","v":14000},{"$f":"SUM('план на 2016'!$L100:R100)-SUM('членские взносы'!$M100:R100)","v":14800},{"$f":"SUM('план на 2016'!$L100:S100)-SUM('членские взносы'!$M100:S100)","v":15600},{"$f":"SUM('план на 2016'!$L100:T100)-SUM('членские взносы'!$M100:T100)","v":12400},{"$f":"SUM('план на 2016'!$L100:U100)-SUM('членские взносы'!$M100:U100)","v":13200},{"$f":"SUM('план на 2016'!$L100:V100)-SUM('членские взносы'!$M100:V100)","v":14000},{"$f":"SUM('план на 2016'!$L100:W100)-SUM('членские взносы'!$M100:W100)","v":14800},{"$f":"SUM('план на 2016'!$L100:X100)-SUM('членские взносы'!$M100:X100)","v":12800},{"$f":"X99","v":12800}]
[{"$f":"VLOOKUP(B100,справочник!$B$2:$E$322,4,0)","v":38},{"$f":"CONCATENATE(C100;D100)","v":{"$error":"#VALUE!"}},255,"Заручинский Вячеслав Владимирович","50:03:0070280:790","2011-08-15","2011-09-01",{"$f":"INT(($H$326-G100)/30)","v":52},{"$f":"H100*1000","v":52000},{"$f":"5000+18000+29000","v":52000},null,{"$f":"I100-J100-K100","v":0},{"$f":"SUM('план на 2016'!$L101:M101)-SUM('членские взносы'!$M101:M101)","v":0},{"$f":"SUM('план на 2016'!$L101:N101)-SUM('членские взносы'!$M101:N101)","v":0},{"$f":"SUM('план на 2016'!$L101:O101)-SUM('членские взносы'!$M101:O101)","v":0},{"$f":"SUM('план на 2016'!$L101:P101)-SUM('членские взносы'!$M101:P101)","v":0},{"$f":"SUM('план на 2016'!$L101:Q101)-SUM('членские взносы'!$M101:Q101)","v":0},{"$f":"SUM('план на 2016'!$L101:R101)-SUM('членские взносы'!$M101:R101)","v":-1600},{"$f":"SUM('план на 2016'!$L101:S101)-SUM('членские взносы'!$M101:S101)","v":-2400},{"$f":"SUM('план на 2016'!$L101:T101)-SUM('членские взносы'!$M101:T101)","v":-4000},{"$f":"SUM('план на 2016'!$L101:U101)-SUM('членские взносы'!$M101:U101)","v":-6161.78},{"$f":"SUM('план на 2016'!$L101:V101)-SUM('членские взносы'!$M101:V101)","v":-6161.78},{"$f":"SUM('план на 2016'!$L101:W101)-SUM('членские взносы'!$M101:W101)","v":-6961.78},{"$f":"SUM('план на 2016'!$L101:X101)-SUM('членские взносы'!$M101:X101)","v":-7761.78},{"$f":"X100","v":-7761.78}]
[{"$f":"VLOOKUP(B101,справочник!$B$2:$E$322,4,0)","v":38},{"$f":"CONCATENATE(C101;D101)","v":{"$error":"#VALUE!"}},38,"Заручинский Вячеслав Владимирович","50:03:0070280:908","2012-07-10","2012-07-01",{"$f":"INT(($H$326-G101)/30)","v":42},{"$f":"H101*1000","v":42000},35000,null,{"$f":"I101-J101-K101","v":7000},{"$f":"SUM('план на 2016'!$L102:M102)-SUM('членские взносы'!$M102:M102)","v":7800},{"$f":"SUM('план на 2016'!$L102:N102)-SUM('членские взносы'!$M102:N102)","v":8600},{"$f":"SUM('план на 2016'!$L102:O102)-SUM('членские взносы'!$M102:O102)","v":9400},{"$f":"SUM('план на 2016'!$L102:P102)-SUM('членские взносы'!$M102:P102)","v":10200},{"$f":"SUM('план на 2016'!$L102:Q102)-SUM('членские взносы'!$M102:Q102)","v":11000},{"$f":"SUM('план на 2016'!$L102:R102)-SUM('членские взносы'!$M102:R102)","v":11800},{"$f":"SUM('план на 2016'!$L102:S102)-SUM('членские взносы'!$M102:S102)","v":12600},{"$f":"SUM('план на 2016'!$L102:T102)-SUM('членские взносы'!$M102:T102)","v":13400},{"$f":"SUM('план на 2016'!$L102:U102)-SUM('членские взносы'!$M102:U102)","v":14200},{"$f":"SUM('план на 2016'!$L102:V102)-SUM('членские взносы'!$M102:V102)","v":13861.78},{"$f":"SUM('план на 2016'!$L102:W102)-SUM('членские взносы'!$M102:W102)","v":14661.78},{"$f":"SUM('план на 2016'!$L102:X102)-SUM('членские взносы'!$M102:X102)","v":14761.78},{"$f":"X101","v":14761.78}]
[{"$f":"VLOOKUP(B102,справочник!$B$2:$E$322,4,0)","v":12},{"$f":"CONCATENATE(C102;D102)","v":{"$error":"#VALUE!"}},12,"Захаренкова Светлана Евгеньевна","50:03:0070280:703","2013-05-20","2013-06-01",{"$f":"INT(($H$326-G102)/30)","v":31},{"$f":"H102*1000","v":31000},5000,null,{"$f":"I102-J102-K102","v":26000},{"$f":"SUM('план на 2016'!$L103:M103)-SUM('членские взносы'!$M103:M103)","v":26800},{"$f":"SUM('план на 2016'!$L103:N103)-SUM('членские взносы'!$M103:N103)","v":27600},{"$f":"SUM('план на 2016'!$L103:O103)-SUM('членские взносы'!$M103:O103)","v":28400},{"$f":"SUM('план на 2016'!$L103:P103)-SUM('членские взносы'!$M103:P103)","v":29200},{"$f":"SUM('план на 2016'!$L103:Q103)-SUM('членские взносы'!$M103:Q103)","v":30000},{"$f":"SUM('план на 2016'!$L103:R103)-SUM('членские взносы'!$M103:R103)","v":30800},{"$f":"SUM('план на 2016'!$L103:S103)-SUM('членские взносы'!$M103:S103)","v":31600},{"$f":"SUM('план на 2016'!$L103:T103)-SUM('членские взносы'!$M103:T103)","v":28400},{"$f":"SUM('план на 2016'!$L103:U103)-SUM('членские взносы'!$M103:U103)","v":29200},{"$f":"SUM('план на 2016'!$L103:V103)-SUM('членские взносы'!$M103:V103)","v":30000},{"$f":"SUM('план на 2016'!$L103:W103)-SUM('членские взносы'!$M103:W103)","v":30800},{"$f":"SUM('план на 2016'!$L103:X103)-SUM('членские взносы'!$M103:X103)","v":31600},{"$f":"X102","v":31600}]
[{"$f":"VLOOKUP(B103,справочник!$B$2:$E$322,4,0)","v":63},{"$f":"CONCATENATE(C103;D103)","v":{"$error":"#VALUE!"}},65,"Захаров Михаил Сергеевич","50:03:0070280:934","2013-08-27","2013-09-01",{"$f":"INT(($H$326-G103)/30)","v":28},{"$f":"H103*1000","v":28000},0,null,{"$f":"I103-J103-K103","v":28000},{"$f":"SUM('план на 2016'!$L104:M104)-SUM('членские взносы'!$M104:M104)","v":28800},{"$f":"SUM('план на 2016'!$L104:N104)-SUM('членские взносы'!$M104:N104)","v":29600},{"$f":"SUM('план на 2016'!$L104:O104)-SUM('членские взносы'!$M104:O104)","v":30400},{"$f":"SUM('план на 2016'!$L104:P104)-SUM('членские взносы'!$M104:P104)","v":31200},{"$f":"SUM('план на 2016'!$L104:Q104)-SUM('членские взносы'!$M104:Q104)","v":32000},{"$f":"SUM('план на 2016'!$L104:R104)-SUM('членские взносы'!$M104:R104)","v":32000},{"$f":"SUM('план на 2016'!$L104:S104)-SUM('членские взносы'!$M104:S104)","v":32800},{"$f":"SUM('план на 2016'!$L104:T104)-SUM('членские взносы'!$M104:T104)","v":33600},{"$f":"SUM('план на 2016'!$L104:U104)-SUM('членские взносы'!$M104:U104)","v":34400},{"$f":"SUM('план на 2016'!$L104:V104)-SUM('членские взносы'!$M104:V104)","v":35200},{"$f":"SUM('план на 2016'!$L104:W104)-SUM('членские взносы'!$M104:W104)","v":36000},{"$f":"SUM('план на 2016'!$L104:X104)-SUM('членские взносы'!$M104:X104)","v":36000},{"$f":"X103","v":36000}]
[{"$f":"VLOOKUP(B104,справочник!$B$2:$E$322,4,0)","v":16},{"$f":"CONCATENATE(C104;D104)","v":{"$error":"#VALUE!"}},16,"Захарова Людмила Захаровна","50:03:0070280:697","2012-12-11","2013-01-01",{"$f":"INT(($H$326-G104)/30)","v":36},{"$f":"H104*1000","v":36000},36000,null,{"$f":"I104-J104-K104","v":0},{"$f":"SUM('план на 2016'!$L105:M105)-SUM('членские взносы'!$M105:M105)","v":800},{"$f":"SUM('план на 2016'!$L105:N105)-SUM('членские взносы'!$M105:N105)","v":1600},{"$f":"SUM('план на 2016'!$L105:O105)-SUM('членские взносы'!$M105:O105)","v":2400},{"$f":"SUM('план на 2016'!$L105:P105)-SUM('членские взносы'!$M105:P105)","v":3200},{"$f":"SUM('план на 2016'!$L105:Q105)-SUM('членские взносы'!$M105:Q105)","v":4000},{"$f":"SUM('план на 2016'!$L105:R105)-SUM('членские взносы'!$M105:R105)","v":-7200},{"$f":"SUM('план на 2016'!$L105:S105)-SUM('членские взносы'!$M105:S105)","v":-6400},{"$f":"SUM('план на 2016'!$L105:T105)-SUM('членские взносы'!$M105:T105)","v":-5600},{"$f":"SUM('план на 2016'!$L105:U105)-SUM('членские взносы'!$M105:U105)","v":-4800},{"$f":"SUM('план на 2016'!$L105:V105)-SUM('членские взносы'!$M105:V105)","v":-4000},{"$f":"SUM('план на 2016'!$L105:W105)-SUM('членские взносы'!$M105:W105)","v":-3200},{"$f":"SUM('план на 2016'!$L105:X105)-SUM('членские взносы'!$M105:X105)","v":-2400},{"$f":"X104","v":-2400}]
[{"$f":"VLOOKUP(B105,справочник!$B$2:$E$322,4,0)","v":121},{"$f":"CONCATENATE(C105;D105)","v":{"$error":"#VALUE!"}},126,"Зиннатов Рафаэль Шакурович","50:03:0070280:1026","2012-10-08","2012-11-01",{"$f":"INT(($H$326-G105)/30)","v":38},{"$f":"H105*1000","v":38000},32000,null,{"$f":"I105-J105-K105","v":6000},{"$f":"SUM('план на 2016'!$L106:M106)-SUM('членские взносы'!$M106:M106)","v":3800},{"$f":"SUM('план на 2016'!$L106:N106)-SUM('членские взносы'!$M106:N106)","v":4600},{"$f":"SUM('план на 2016'!$L106:O106)-SUM('членские взносы'!$M106:O106)","v":5400},{"$f":"SUM('план на 2016'!$L106:P106)-SUM('членские взносы'!$M106:P106)","v":3000},{"$f":"SUM('план на 2016'!$L106:Q106)-SUM('членские взносы'!$M106:Q106)","v":3800},{"$f":"SUM('план на 2016'!$L106:R106)-SUM('членские взносы'!$M106:R106)","v":4600},{"$f":"SUM('план на 2016'!$L106:S106)-SUM('членские взносы'!$M106:S106)","v":5400},{"$f":"SUM('план на 2016'!$L106:T106)-SUM('членские взносы'!$M106:T106)","v":3000},{"$f":"SUM('план на 2016'!$L106:U106)-SUM('членские взносы'!$M106:U106)","v":3800},{"$f":"SUM('план на 2016'!$L106:V106)-SUM('членские взносы'!$M106:V106)","v":600},{"$f":"SUM('план на 2016'!$L106:W106)-SUM('членские взносы'!$M106:W106)","v":1400},{"$f":"SUM('план на 2016'!$L106:X106)-SUM('членские взносы'!$M106:X106)","v":2200},{"$f":"X105","v":2200}]
[{"$f":"VLOOKUP(B106,справочник!$B$2:$E$322,4,0)","v":156},{"$f":"CONCATENATE(C106;D106)","v":{"$error":"#VALUE!"}},164,"Иваненко Петр Олегович","50:03:0070280:928","2013-04-30","2013-06-01",{"$f":"INT(($H$326-G106)/30)","v":31},{"$f":"H106*1000","v":31000},28000,null,{"$f":"I106-J106-K106","v":3000},{"$f":"SUM('план на 2016'!$L107:M107)-SUM('членские взносы'!$M107:M107)","v":3800},{"$f":"SUM('план на 2016'!$L107:N107)-SUM('членские взносы'!$M107:N107)","v":-400},{"$f":"SUM('план на 2016'!$L107:O107)-SUM('членские взносы'!$M107:O107)","v":-600},{"$f":"SUM('план на 2016'!$L107:P107)-SUM('членские взносы'!$M107:P107)","v":-800},{"$f":"SUM('план на 2016'!$L107:Q107)-SUM('членские взносы'!$M107:Q107)","v":-1000},{"$f":"SUM('план на 2016'!$L107:R107)-SUM('членские взносы'!$M107:R107)","v":-1200},{"$f":"SUM('план на 2016'!$L107:S107)-SUM('членские взносы'!$M107:S107)","v":-1400},{"$f":"SUM('план на 2016'!$L107:T107)-SUM('членские взносы'!$M107:T107)","v":-1600},{"$f":"SUM('план на 2016'!$L107:U107)-SUM('членские взносы'!$M107:U107)","v":-1800},{"$f":"SUM('план на 2016'!$L107:V107)-SUM('членские взносы'!$M107:V107)","v":-2000},{"$f":"SUM('план на 2016'!$L107:W107)-SUM('членские взносы'!$M107:W107)","v":-2200},{"$f":"SUM('план на 2016'!$L107:X107)-SUM('членские взносы'!$M107:X107)","v":-2400},{"$f":"X106","v":-2400}]
[{"$f":"VLOOKUP(B107,справочник!$B$2:$E$322,4,0)","v":5},{"$f":"CONCATENATE(C107;D107)","v":{"$error":"#VALUE!"}},5,"Иванов Владимир Николаевич","50:03:0070280:709","2012-06-11","2012-06-01",{"$f":"INT(($H$326-G107)/30)","v":43},{"$f":"H107*1000","v":43000},{"$f":"32000","v":32000},null,{"$f":"I107-J107-K107","v":11000},{"$f":"SUM('план на 2016'!$L108:M108)-SUM('членские взносы'!$M108:M108)","v":11800},{"$f":"SUM('план на 2016'!$L108:N108)-SUM('членские взносы'!$M108:N108)","v":12600},{"$f":"SUM('план на 2016'!$L108:O108)-SUM('членские взносы'!$M108:O108)","v":13400},{"$f":"SUM('план на 2016'!$L108:P108)-SUM('членские взносы'!$M108:P108)","v":14200},{"$f":"SUM('план на 2016'!$L108:Q108)-SUM('членские взносы'!$M108:Q108)","v":15000},{"$f":"SUM('план на 2016'!$L108:R108)-SUM('членские взносы'!$M108:R108)","v":15800},{"$f":"SUM('план на 2016'!$L108:S108)-SUM('членские взносы'!$M108:S108)","v":16600},{"$f":"SUM('план на 2016'!$L108:T108)-SUM('членские взносы'!$M108:T108)","v":17400},{"$f":"SUM('план на 2016'!$L108:U108)-SUM('членские взносы'!$M108:U108)","v":18200},{"$f":"SUM('план на 2016'!$L108:V108)-SUM('членские взносы'!$M108:V108)","v":19000},{"$f":"SUM('план на 2016'!$L108:W108)-SUM('членские взносы'!$M108:W108)","v":19800},{"$f":"SUM('план на 2016'!$L108:X108)-SUM('членские взносы'!$M108:X108)","v":20600},{"$f":"X107","v":20600}]
[{"$f":"VLOOKUP(B108,справочник!$B$2:$E$322,4,0)","v":214},{"$f":"CONCATENATE(C108;D108)","v":{"$error":"#VALUE!"}},223,"Иванов Денис Сильвестрович","50:03:0070280:840","2014-06-17","2014-06-01",{"$f":"INT(($H$326-G108)/30)","v":19},{"$f":"H108*1000","v":19000},19000,null,{"$f":"I108-J108-K108","v":0},{"$f":"SUM('план на 2016'!$L109:M109)-SUM('членские взносы'!$M109:M109)","v":800},{"$f":"SUM('план на 2016'!$L109:N109)-SUM('членские взносы'!$M109:N109)","v":-1400},{"$f":"SUM('план на 2016'!$L109:O109)-SUM('членские взносы'!$M109:O109)","v":-600},{"$f":"SUM('план на 2016'!$L109:P109)-SUM('членские взносы'!$M109:P109)","v":200},{"$f":"SUM('план на 2016'!$L109:Q109)-SUM('членские взносы'!$M109:Q109)","v":1000},{"$f":"SUM('план на 2016'!$L109:R109)-SUM('членские взносы'!$M109:R109)","v":-200},{"$f":"SUM('план на 2016'!$L109:S109)-SUM('членские взносы'!$M109:S109)","v":600},{"$f":"SUM('план на 2016'!$L109:T109)-SUM('членские взносы'!$M109:T109)","v":1400},{"$f":"SUM('план на 2016'!$L109:U109)-SUM('членские взносы'!$M109:U109)","v":0},{"$f":"SUM('план на 2016'!$L109:V109)-SUM('членские взносы'!$M109:V109)","v":800},{"$f":"SUM('план на 2016'!$L109:W109)-SUM('членские взносы'!$M109:W109)","v":800},{"$f":"SUM('план на 2016'!$L109:X109)-SUM('членские взносы'!$M109:X109)","v":0},{"$f":"X108","v":0}]
[{"$f":"VLOOKUP(B109,справочник!$B$2:$E$322,4,0)","v":279},{"$f":"CONCATENATE(C109;D109)","v":{"$error":"#VALUE!"}},291,"Иванова Светлана Сергеевна","50:03:0070280:778","2011-12-13","2011-12-01",{"$f":"INT(($H$326-G109)/30)","v":49},{"$f":"H109*1000","v":49000},{"$f":"42000+1000","v":43000},null,{"$f":"I109-J109-K109","v":6000},{"$f":"SUM('план на 2016'!$L110:M110)-SUM('членские взносы'!$M110:M110)","v":6800},{"$f":"SUM('план на 2016'!$L110:N110)-SUM('членские взносы'!$M110:N110)","v":7600},{"$f":"SUM('план на 2016'!$L110:O110)-SUM('членские взносы'!$M110:O110)","v":8400},{"$f":"SUM('план на 2016'!$L110:P110)-SUM('членские взносы'!$M110:P110)","v":9200},{"$f":"SUM('план на 2016'!$L110:Q110)-SUM('членские взносы'!$M110:Q110)","v":10000},{"$f":"SUM('план на 2016'!$L110:R110)-SUM('членские взносы'!$M110:R110)","v":10800},{"$f":"SUM('план на 2016'!$L110:S110)-SUM('членские взносы'!$M110:S110)","v":11600},{"$f":"SUM('план на 2016'!$L110:T110)-SUM('членские взносы'!$M110:T110)","v":12400},{"$f":"SUM('план на 2016'!$L110:U110)-SUM('членские взносы'!$M110:U110)","v":13200},{"$f":"SUM('план на 2016'!$L110:V110)-SUM('членские взносы'!$M110:V110)","v":14000},{"$f":"SUM('план на 2016'!$L110:W110)-SUM('членские взносы'!$M110:W110)","v":14800},{"$f":"SUM('план на 2016'!$L110:X110)-SUM('членские взносы'!$M110:X110)","v":15600},{"$f":"X109","v":15600}]
[{"$f":"VLOOKUP(B110,справочник!$B$2:$E$322,4,0)","v":197},{"$f":"CONCATENATE(C110;D110)","v":{"$error":"#VALUE!"}},205,"Иванова Татьяна Викторовна","50:03:0070280:911","2011-11-15","2011-11-01",{"$f":"INT(($H$326-G110)/30)","v":50},{"$f":"H110*1000","v":50000},16000,null,{"$f":"I110-J110-K110","v":34000},{"$f":"SUM('план на 2016'!$L111:M111)-SUM('членские взносы'!$M111:M111)","v":1800},{"$f":"SUM('план на 2016'!$L111:N111)-SUM('членские взносы'!$M111:N111)","v":2600},{"$f":"SUM('план на 2016'!$L111:O111)-SUM('членские взносы'!$M111:O111)","v":3400},{"$f":"SUM('план на 2016'!$L111:P111)-SUM('членские взносы'!$M111:P111)","v":4200},{"$f":"SUM('план на 2016'!$L111:Q111)-SUM('членские взносы'!$M111:Q111)","v":5000},{"$f":"SUM('план на 2016'!$L111:R111)-SUM('членские взносы'!$M111:R111)","v":5800},{"$f":"SUM('план на 2016'!$L111:S111)-SUM('членские взносы'!$M111:S111)","v":0},{"$f":"SUM('план на 2016'!$L111:T111)-SUM('членские взносы'!$M111:T111)","v":800},{"$f":"SUM('план на 2016'!$L111:U111)-SUM('членские взносы'!$M111:U111)","v":1600},{"$f":"SUM('план на 2016'!$L111:V111)-SUM('членские взносы'!$M111:V111)","v":2400},{"$f":"SUM('план на 2016'!$L111:W111)-SUM('членские взносы'!$M111:W111)","v":3200},{"$f":"SUM('план на 2016'!$L111:X111)-SUM('членские взносы'!$M111:X111)","v":4000},{"$f":"X110","v":4000}]
[{"$f":"VLOOKUP(B111,справочник!$B$2:$E$322,4,0)","v":295},{"$f":"CONCATENATE(C111;D111)","v":{"$error":"#VALUE!"}},310,"Измайлов Михаил Михайлович","50:03:0070280:1001","2014-12-21","2015-01-01",{"$f":"INT(($H$326-G111)/30)","v":12},{"$f":"H111*1000","v":12000},null,null,{"$f":"I111-J111-K111","v":12000},{"$f":"SUM('план на 2016'!$L112:M112)-SUM('членские взносы'!$M112:M112)","v":12800},{"$f":"SUM('план на 2016'!$L112:N112)-SUM('членские взносы'!$M112:N112)","v":13600},{"$f":"SUM('план на 2016'!$L112:O112)-SUM('членские взносы'!$M112:O112)","v":14400},{"$f":"SUM('план на 2016'!$L112:P112)-SUM('членские взносы'!$M112:P112)","v":15200},{"$f":"SUM('план на 2016'!$L112:Q112)-SUM('членские взносы'!$M112:Q112)","v":16000},{"$f":"SUM('план на 2016'!$L112:R112)-SUM('членские взносы'!$M112:R112)","v":16800},{"$f":"SUM('план на 2016'!$L112:S112)-SUM('членские взносы'!$M112:S112)","v":17600},{"$f":"SUM('план на 2016'!$L112:T112)-SUM('членские взносы'!$M112:T112)","v":250},{"$f":"SUM('план на 2016'!$L112:U112)-SUM('членские взносы'!$M112:U112)","v":1050},{"$f":"SUM('план на 2016'!$L112:V112)-SUM('членские взносы'!$M112:V112)","v":1850},{"$f":"SUM('план на 2016'!$L112:W112)-SUM('членские взносы'!$M112:W112)","v":2650},{"$f":"SUM('план на 2016'!$L112:X112)-SUM('членские взносы'!$M112:X112)","v":3450},{"$f":"X111","v":3450}]
[{"$f":"VLOOKUP(B112,справочник!$B$2:$E$322,4,0)","v":196},{"$f":"CONCATENATE(C112;D112)","v":{"$error":"#VALUE!"}},204,"Казарин Сергей Викторович","50:03:0070280:912","2012-02-06","2012-03-01",{"$f":"INT(($H$326-G112)/30)","v":46},{"$f":"H112*1000","v":46000},{"$f":"46000","v":46000},null,{"$f":"I112-J112-K112","v":0},{"$f":"SUM('план на 2016'!$L113:M113)-SUM('членские взносы'!$M113:M113)","v":800},{"$f":"SUM('план на 2016'!$L113:N113)-SUM('членские взносы'!$M113:N113)","v":1600},{"$f":"SUM('план на 2016'!$L113:O113)-SUM('членские взносы'!$M113:O113)","v":-2400},{"$f":"SUM('план на 2016'!$L113:P113)-SUM('членские взносы'!$M113:P113)","v":-1600},{"$f":"SUM('план на 2016'!$L113:Q113)-SUM('членские взносы'!$M113:Q113)","v":-800},{"$f":"SUM('план на 2016'!$L113:R113)-SUM('членские взносы'!$M113:R113)","v":0},{"$f":"SUM('план на 2016'!$L113:S113)-SUM('членские взносы'!$M113:S113)","v":800},{"$f":"SUM('план на 2016'!$L113:T113)-SUM('членские взносы'!$M113:T113)","v":-800},{"$f":"SUM('план на 2016'!$L113:U113)-SUM('членские взносы'!$M113:U113)","v":0},{"$f":"SUM('план на 2016'!$L113:V113)-SUM('членские взносы'!$M113:V113)","v":800},{"$f":"SUM('план на 2016'!$L113:W113)-SUM('членские взносы'!$M113:W113)","v":-800},{"$f":"SUM('план на 2016'!$L113:X113)-SUM('членские взносы'!$M113:X113)","v":0},{"$f":"X112","v":0}]
[{"$f":"VLOOKUP(B113,справочник!$B$2:$E$322,4,0)","v":124},{"$f":"CONCATENATE(C113;D113)","v":{"$error":"#VALUE!"}},129,"Казымов Горхмаз Гамид/Лавренчук Александр Владиславович","50:03:0070280:811","2013-11-02","2013-12-01",{"$f":"INT(($H$326-G113)/30)","v":25},{"$f":"H113*1000","v":25000},{"$f":"5000+1500+5000","v":11500},null,{"$f":"I113-J113-K113","v":13500},{"$f":"SUM('план на 2016'!$L114:M114)-SUM('членские взносы'!$M114:M114)","v":14300},{"$f":"SUM('план на 2016'!$L114:N114)-SUM('членские взносы'!$M114:N114)","v":15100},{"$f":"SUM('план на 2016'!$L114:O114)-SUM('членские взносы'!$M114:O114)","v":15900},{"$f":"SUM('план на 2016'!$L114:P114)-SUM('членские взносы'!$M114:P114)","v":16700},{"$f":"SUM('план на 2016'!$L114:Q114)-SUM('членские взносы'!$M114:Q114)","v":17500},{"$f":"SUM('план на 2016'!$L114:R114)-SUM('членские взносы'!$M114:R114)","v":18300},{"$f":"SUM('план на 2016'!$L114:S114)-SUM('членские взносы'!$M114:S114)","v":19100},{"$f":"SUM('план на 2016'!$L114:T114)-SUM('членские взносы'!$M114:T114)","v":19900},{"$f":"SUM('план на 2016'!$L114:U114)-SUM('членские взносы'!$M114:U114)","v":20700},{"$f":"SUM('план на 2016'!$L114:V114)-SUM('членские взносы'!$M114:V114)","v":21500},{"$f":"SUM('план на 2016'!$L114:W114)-SUM('членские взносы'!$M114:W114)","v":22300},{"$f":"SUM('план на 2016'!$L114:X114)-SUM('членские взносы'!$M114:X114)","v":23100},{"$f":"X113","v":23100}]
[{"$f":"VLOOKUP(B114,справочник!$B$2:$E$322,4,0)","v":250},{"$f":"CONCATENATE(C114;D114)","v":{"$error":"#VALUE!"}},261,"Каляникова Наталья Сергеевна","50:03:0070280:742","2013-08-12","2013-09-01",{"$f":"INT(($H$326-G114)/30)","v":28},{"$f":"H114*1000","v":28000},13000,1000,{"$f":"I114-J114-K114","v":14000},{"$f":"SUM('план на 2016'!$L115:M115)-SUM('членские взносы'!$M115:M115)","v":14800},{"$f":"SUM('план на 2016'!$L115:N115)-SUM('членские взносы'!$M115:N115)","v":15600},{"$f":"SUM('план на 2016'!$L115:O115)-SUM('членские взносы'!$M115:O115)","v":15400},{"$f":"SUM('план на 2016'!$L115:P115)-SUM('членские взносы'!$M115:P115)","v":15200},{"$f":"SUM('план на 2016'!$L115:Q115)-SUM('членские взносы'!$M115:Q115)","v":15000},{"$f":"SUM('план на 2016'!$L115:R115)-SUM('членские взносы'!$M115:R115)","v":15800},{"$f":"SUM('план на 2016'!$L115:S115)-SUM('членские взносы'!$M115:S115)","v":15600},{"$f":"SUM('план на 2016'!$L115:T115)-SUM('членские взносы'!$M115:T115)","v":16400},{"$f":"SUM('план на 2016'!$L115:U115)-SUM('членские взносы'!$M115:U115)","v":14700},{"$f":"SUM('план на 2016'!$L115:V115)-SUM('членские взносы'!$M115:V115)","v":14500},{"$f":"SUM('план на 2016'!$L115:W115)-SUM('членские взносы'!$M115:W115)","v":13300},{"$f":"SUM('план на 2016'!$L115:X115)-SUM('членские взносы'!$M115:X115)","v":14100},{"$f":"X114","v":14100}]
[{"$f":"VLOOKUP(B115,справочник!$B$2:$E$322,4,0)","v":153},{"$f":"CONCATENATE(C115;D115)","v":{"$error":"#VALUE!"}},161,"Канышкина Юлия Юрьевна","50:03:0070280:756","2012-03-26","2012-04-01",{"$f":"INT(($H$326-G115)/30)","v":45},{"$f":"H115*1000","v":45000},41000,null,{"$f":"I115-J115-K115","v":4000},{"$f":"SUM('план на 2016'!$L116:M116)-SUM('членские взносы'!$M116:M116)","v":4800},{"$f":"SUM('план на 2016'!$L116:N116)-SUM('членские взносы'!$M116:N116)","v":5600},{"$f":"SUM('план на 2016'!$L116:O116)-SUM('членские взносы'!$M116:O116)","v":6400},{"$f":"SUM('план на 2016'!$L116:P116)-SUM('членские взносы'!$M116:P116)","v":0},{"$f":"SUM('план на 2016'!$L116:Q116)-SUM('членские взносы'!$M116:Q116)","v":800},{"$f":"SUM('план на 2016'!$L116:R116)-SUM('членские взносы'!$M116:R116)","v":1600},{"$f":"SUM('план на 2016'!$L116:S116)-SUM('членские взносы'!$M116:S116)","v":800},{"$f":"SUM('план на 2016'!$L116:T116)-SUM('членские взносы'!$M116:T116)","v":1600},{"$f":"SUM('план на 2016'!$L116:U116)-SUM('членские взносы'!$M116:U116)","v":2400},{"$f":"SUM('план на 2016'!$L116:V116)-SUM('членские взносы'!$M116:V116)","v":3200},{"$f":"SUM('план на 2016'!$L116:W116)-SUM('членские взносы'!$M116:W116)","v":0},{"$f":"SUM('план на 2016'!$L116:X116)-SUM('членские взносы'!$M116:X116)","v":800},{"$f":"X115","v":800}]
[{"$f":"VLOOKUP(B116,справочник!$B$2:$E$322,4,0)","v":106},{"$f":"CONCATENATE(C116;D116)","v":{"$error":"#VALUE!"}},111,"Карпекина Лилия Рафаэльевна","50:03:0070280:817","2013-07-08","2013-01-08",{"$f":"INT(($H$326-G116)/30)","v":36},{"$f":"H116*1000","v":36000},1000,null,{"$f":"I116-J116-K116","v":35000},{"$f":"SUM('план на 2016'!$L117:M117)-SUM('членские взносы'!$M117:M117)","v":35800},{"$f":"SUM('план на 2016'!$L117:N117)-SUM('членские взносы'!$M117:N117)","v":36600},{"$f":"SUM('план на 2016'!$L117:O117)-SUM('членские взносы'!$M117:O117)","v":37400},{"$f":"SUM('план на 2016'!$L117:P117)-SUM('членские взносы'!$M117:P117)","v":38200},{"$f":"SUM('план на 2016'!$L117:Q117)-SUM('членские взносы'!$M117:Q117)","v":39000},{"$f":"SUM('план на 2016'!$L117:R117)-SUM('членские взносы'!$M117:R117)","v":39800},{"$f":"SUM('план на 2016'!$L117:S117)-SUM('членские взносы'!$M117:S117)","v":40600},{"$f":"SUM('план на 2016'!$L117:T117)-SUM('членские взносы'!$M117:T117)","v":41400},{"$f":"SUM('план на 2016'!$L117:U117)-SUM('членские взносы'!$M117:U117)","v":42200},{"$f":"SUM('план на 2016'!$L117:V117)-SUM('членские взносы'!$M117:V117)","v":43000},{"$f":"SUM('план на 2016'!$L117:W117)-SUM('членские взносы'!$M117:W117)","v":43800},{"$f":"SUM('план на 2016'!$L117:X117)-SUM('членские взносы'!$M117:X117)","v":44600},{"$f":"X116","v":44600}]
[{"$f":"VLOOKUP(B117,справочник!$B$2:$E$322,4,0)","v":222},{"$f":"CONCATENATE(C117;D117)","v":{"$error":"#VALUE!"}},231,"Карпова Елена Витальевна","50:03:0070280:832","2013-06-04","2013-07-01",{"$f":"INT(($H$326-G117)/30)","v":30},{"$f":"H117*1000","v":30000},25000,5000,{"$f":"I117-J117-K117","v":0},{"$f":"SUM('план на 2016'!$L118:M118)-SUM('членские взносы'!$M118:M118)","v":800},{"$f":"SUM('план на 2016'!$L118:N118)-SUM('членские взносы'!$M118:N118)","v":-1600},{"$f":"SUM('план на 2016'!$L118:O118)-SUM('членские взносы'!$M118:O118)","v":-800},{"$f":"SUM('план на 2016'!$L118:P118)-SUM('членские взносы'!$M118:P118)","v":0},{"$f":"SUM('план на 2016'!$L118:Q118)-SUM('членские взносы'!$M118:Q118)","v":-3200},{"$f":"SUM('план на 2016'!$L118:R118)-SUM('членские взносы'!$M118:R118)","v":-2400},{"$f":"SUM('план на 2016'!$L118:S118)-SUM('членские взносы'!$M118:S118)","v":-1600},{"$f":"SUM('план на 2016'!$L118:T118)-SUM('членские взносы'!$M118:T118)","v":-800},{"$f":"SUM('план на 2016'!$L118:U118)-SUM('членские взносы'!$M118:U118)","v":0},{"$f":"SUM('план на 2016'!$L118:V118)-SUM('членские взносы'!$M118:V118)","v":-1600},{"$f":"SUM('план на 2016'!$L118:W118)-SUM('членские взносы'!$M118:W118)","v":-800},{"$f":"SUM('план на 2016'!$L118:X118)-SUM('членские взносы'!$M118:X118)","v":0},{"$f":"X117","v":0}]
[{"$f":"VLOOKUP(B118,справочник!$B$2:$E$322,4,0)","v":208},{"$f":"CONCATENATE(C118;D118)","v":{"$error":"#VALUE!"}},218,"Катушкин Роман Юрьевич","50:03:0070280:1422","2012-05-23","2012-06-01",{"$f":"INT(($H$326-G118)/30)","v":43},{"$f":"H118*1000","v":43000},{"$f":"40500","v":40500},null,{"$f":"I118-J118-K118","v":2500},{"$f":"SUM('план на 2016'!$L119:M119)-SUM('членские взносы'!$M119:M119)","v":3300},{"$f":"SUM('план на 2016'!$L119:N119)-SUM('членские взносы'!$M119:N119)","v":4100},{"$f":"SUM('план на 2016'!$L119:O119)-SUM('членские взносы'!$M119:O119)","v":4900},{"$f":"SUM('план на 2016'!$L119:P119)-SUM('членские взносы'!$M119:P119)","v":5700},{"$f":"SUM('план на 2016'!$L119:Q119)-SUM('членские взносы'!$M119:Q119)","v":6500},{"$f":"SUM('план на 2016'!$L119:R119)-SUM('членские взносы'!$M119:R119)","v":7300},{"$f":"SUM('план на 2016'!$L119:S119)-SUM('членские взносы'!$M119:S119)","v":8100},{"$f":"SUM('план на 2016'!$L119:T119)-SUM('членские взносы'!$M119:T119)","v":5300},{"$f":"SUM('план на 2016'!$L119:U119)-SUM('членские взносы'!$M119:U119)","v":6100},{"$f":"SUM('план на 2016'!$L119:V119)-SUM('членские взносы'!$M119:V119)","v":6900},{"$f":"SUM('план на 2016'!$L119:W119)-SUM('членские взносы'!$M119:W119)","v":7700},{"$f":"SUM('план на 2016'!$L119:X119)-SUM('членские взносы'!$M119:X119)","v":8500},{"$f":"X118","v":8500}]
[{"$f":"VLOOKUP(B119,справочник!$B$2:$E$322,4,0)","v":207},{"$f":"CONCATENATE(C119;D119)","v":{"$error":"#VALUE!"}},217,"Катушкин Роман Юрьевич//Валеев Артур Рашидович",{"$nulls":4},{"$f":"H119*1000","v":0},null,null,{"$f":"I119-J119-K119","v":0},{"$f":"SUM('план на 2016'!$L120:M120)-SUM('членские взносы'!$M120:M120)","v":800},{"$f":"SUM('план на 2016'!$L120:N120)-SUM('членские взносы'!$M120:N120)","v":1600},{"$f":"SUM('план на 2016'!$L120:O120)-SUM('членские взносы'!$M120:O120)","v":2400},{"$f":"SUM('план на 2016'!$L120:P120)-SUM('членские взносы'!$M120:P120)","v":3200},{"$f":"SUM('план на 2016'!$L120:Q120)-SUM('членские взносы'!$M120:Q120)","v":4000},{"$f":"SUM('план на 2016'!$L120:R120)-SUM('членские взносы'!$M120:R120)","v":4800},{"$f":"SUM('план на 2016'!$L120:S120)-SUM('членские взносы'!$M120:S120)","v":5600},{"$f":"SUM('план на 2016'!$L120:T120)-SUM('членские взносы'!$M120:T120)","v":6400},{"$f":"SUM('план на 2016'!$L120:U120)-SUM('членские взносы'!$M120:U120)","v":7200},{"$f":"SUM('план на 2016'!$L120:V120)-SUM('членские взносы'!$M120:V120)","v":8000},{"$f":"SUM('план на 2016'!$L120:W120)-SUM('членские взносы'!$M120:W120)","v":8800},{"$f":"SUM('план на 2016'!$L120:X120)-SUM('членские взносы'!$M120:X120)","v":9600},{"$f":"X119","v":9600}]
[{"$f":"VLOOKUP(B120,справочник!$B$2:$E$322,4,0)","v":231},{"$f":"CONCATENATE(C120;D120)","v":{"$error":"#VALUE!"}},240,"Кашичкин Александр Борисович","50:03:0070280:895","2013-03-24","2013-04-01",{"$f":"INT(($H$326-G120)/30)","v":33},{"$f":"H120*1000","v":33000},28000,null,{"$f":"I120-J120-K120","v":5000},{"$f":"SUM('план на 2016'!$L121:M121)-SUM('членские взносы'!$M121:M121)","v":5800},{"$f":"SUM('план на 2016'!$L121:N121)-SUM('членские взносы'!$M121:N121)","v":1600},{"$f":"SUM('план на 2016'!$L121:O121)-SUM('членские взносы'!$M121:O121)","v":2400},{"$f":"SUM('план на 2016'!$L121:P121)-SUM('членские взносы'!$M121:P121)","v":2200},{"$f":"SUM('план на 2016'!$L121:Q121)-SUM('членские взносы'!$M121:Q121)","v":3000},{"$f":"SUM('план на 2016'!$L121:R121)-SUM('членские взносы'!$M121:R121)","v":3800},{"$f":"SUM('план на 2016'!$L121:S121)-SUM('членские взносы'!$M121:S121)","v":4600},{"$f":"SUM('план на 2016'!$L121:T121)-SUM('членские взносы'!$M121:T121)","v":5400},{"$f":"SUM('план на 2016'!$L121:U121)-SUM('членские взносы'!$M121:U121)","v":6200},{"$f":"SUM('план на 2016'!$L121:V121)-SUM('членские взносы'!$M121:V121)","v":7000},{"$f":"SUM('план на 2016'!$L121:W121)-SUM('членские взносы'!$M121:W121)","v":7800},{"$f":"SUM('план на 2016'!$L121:X121)-SUM('членские взносы'!$M121:X121)","v":8600},{"$f":"X120","v":8600}]
[{"$f":"VLOOKUP(B121,справочник!$B$2:$E$322,4,0)","v":76},{"$f":"CONCATENATE(C121;D121)","v":{"$error":"#VALUE!"}},82,"Киеня Валентина Александровна (Анатолий)","50:03:0070280:751","2011-05-19","2011-06-01",{"$f":"INT(($H$326-G121)/30)","v":55},{"$f":"H121*1000","v":55000},54000,3000,{"$f":"I121-J121-K121","v":-2000},{"$f":"SUM('план на 2016'!$L122:M122)-SUM('членские взносы'!$M122:M122)","v":-1200},{"$f":"SUM('план на 2016'!$L122:N122)-SUM('членские взносы'!$M122:N122)","v":-2800},{"$f":"SUM('план на 2016'!$L122:O122)-SUM('членские взносы'!$M122:O122)","v":-2000},{"$f":"SUM('план на 2016'!$L122:P122)-SUM('членские взносы'!$M122:P122)","v":-3600},{"$f":"SUM('план на 2016'!$L122:Q122)-SUM('членские взносы'!$M122:Q122)","v":-2800},{"$f":"SUM('план на 2016'!$L122:R122)-SUM('членские взносы'!$M122:R122)","v":-2000},{"$f":"SUM('план на 2016'!$L122:S122)-SUM('членские взносы'!$M122:S122)","v":-1200},{"$f":"SUM('план на 2016'!$L122:T122)-SUM('членские взносы'!$M122:T122)","v":-2800},{"$f":"SUM('план на 2016'!$L122:U122)-SUM('членские взносы'!$M122:U122)","v":-2000},{"$f":"SUM('план на 2016'!$L122:V122)-SUM('членские взносы'!$M122:V122)","v":-1200},{"$f":"SUM('план на 2016'!$L122:W122)-SUM('членские взносы'!$M122:W122)","v":-2800},{"$f":"SUM('план на 2016'!$L122:X122)-SUM('членские взносы'!$M122:X122)","v":-2000},{"$f":"X121","v":-2000}]
[{"$f":"VLOOKUP(B122,справочник!$B$2:$E$322,4,0)","v":82},{"$f":"CONCATENATE(C122;D122)","v":{"$error":"#VALUE!"}},87,"Кикоть Наталья Петровна (Андрей)","50:03:0070280:863","2012-08-27","2012-09-01",{"$f":"INT(($H$326-G122)/30)","v":40},{"$f":"H122*1000","v":40000},35000,null,{"$f":"I122-J122-K122","v":5000},{"$f":"SUM('план на 2016'!$L123:M123)-SUM('членские взносы'!$M123:M123)","v":2800},{"$f":"SUM('план на 2016'!$L123:N123)-SUM('членские взносы'!$M123:N123)","v":3600},{"$f":"SUM('план на 2016'!$L123:O123)-SUM('членские взносы'!$M123:O123)","v":1400},{"$f":"SUM('план на 2016'!$L123:P123)-SUM('членские взносы'!$M123:P123)","v":2200},{"$f":"SUM('план на 2016'!$L123:Q123)-SUM('членские взносы'!$M123:Q123)","v":3000},{"$f":"SUM('план на 2016'!$L123:R123)-SUM('членские взносы'!$M123:R123)","v":3800},{"$f":"SUM('план на 2016'!$L123:S123)-SUM('членские взносы'!$M123:S123)","v":4600},{"$f":"SUM('план на 2016'!$L123:T123)-SUM('членские взносы'!$M123:T123)","v":5400},{"$f":"SUM('план на 2016'!$L123:U123)-SUM('членские взносы'!$M123:U123)","v":6200},{"$f":"SUM('план на 2016'!$L123:V123)-SUM('членские взносы'!$M123:V123)","v":5000},{"$f":"SUM('план на 2016'!$L123:W123)-SUM('членские взносы'!$M123:W123)","v":5800},{"$f":"SUM('план на 2016'!$L123:X123)-SUM('членские взносы'!$M123:X123)","v":6600},{"$f":"X122","v":6600}]
[{"$f":"VLOOKUP(B123,справочник!$B$2:$E$322,4,0)","v":8},{"$f":"CONCATENATE(C123;D123)","v":{"$error":"#VALUE!"}},8,"Кириенко Раиса Федоровна","50:03:0070280:692","2014-04-12","2014-05-01",{"$f":"INT(($H$326-G123)/30)","v":20},{"$f":"H123*1000","v":20000},18000,null,{"$f":"I123-J123-K123","v":2000},{"$f":"SUM('план на 2016'!$L124:M124)-SUM('членские взносы'!$M124:M124)","v":2800},{"$f":"SUM('план на 2016'!$L124:N124)-SUM('членские взносы'!$M124:N124)","v":3600},{"$f":"SUM('план на 2016'!$L124:O124)-SUM('членские взносы'!$M124:O124)","v":4400},{"$f":"SUM('план на 2016'!$L124:P124)-SUM('членские взносы'!$M124:P124)","v":5200},{"$f":"SUM('план на 2016'!$L124:Q124)-SUM('членские взносы'!$M124:Q124)","v":6000},{"$f":"SUM('план на 2016'!$L124:R124)-SUM('членские взносы'!$M124:R124)","v":2800},{"$f":"SUM('план на 2016'!$L124:S124)-SUM('членские взносы'!$M124:S124)","v":3600},{"$f":"SUM('план на 2016'!$L124:T124)-SUM('членские взносы'!$M124:T124)","v":4400},{"$f":"SUM('план на 2016'!$L124:U124)-SUM('членские взносы'!$M124:U124)","v":5200},{"$f":"SUM('план на 2016'!$L124:V124)-SUM('членские взносы'!$M124:V124)","v":-1600},{"$f":"SUM('план на 2016'!$L124:W124)-SUM('членские взносы'!$M124:W124)","v":-800},{"$f":"SUM('план на 2016'!$L124:X124)-SUM('членские взносы'!$M124:X124)","v":0},{"$f":"X123","v":0}]
[{"$f":"VLOOKUP(B124,справочник!$B$2:$E$322,4,0)","v":149},{"$f":"CONCATENATE(C124;D124)","v":{"$error":"#VALUE!"}},157,"Кириллов Вадим Александрович","50:03:0070280:958","2011-10-04","2011-10-01",{"$f":"INT(($H$326-G124)/30)","v":51},{"$f":"H124*1000","v":51000},{"$f":"1000","v":1000},1000,{"$f":"I124-J124-K124","v":49000},{"$f":"SUM('план на 2016'!$L125:M125)-SUM('членские взносы'!$M125:M125)","v":49800},{"$f":"SUM('план на 2016'!$L125:N125)-SUM('членские взносы'!$M125:N125)","v":50600},{"$f":"SUM('план на 2016'!$L125:O125)-SUM('членские взносы'!$M125:O125)","v":50400},{"$f":"SUM('план на 2016'!$L125:P125)-SUM('членские взносы'!$M125:P125)","v":51200},{"$f":"SUM('план на 2016'!$L125:Q125)-SUM('членские взносы'!$M125:Q125)","v":51000},{"$f":"SUM('план на 2016'!$L125:R125)-SUM('членские взносы'!$M125:R125)","v":51800},{"$f":"SUM('план на 2016'!$L125:S125)-SUM('членские взносы'!$M125:S125)","v":52600},{"$f":"SUM('план на 2016'!$L125:T125)-SUM('членские взносы'!$M125:T125)","v":53400},{"$f":"SUM('план на 2016'!$L125:U125)-SUM('членские взносы'!$M125:U125)","v":54200},{"$f":"SUM('план на 2016'!$L125:V125)-SUM('членские взносы'!$M125:V125)","v":55000},{"$f":"SUM('план на 2016'!$L125:W125)-SUM('членские взносы'!$M125:W125)","v":55800},{"$f":"SUM('план на 2016'!$L125:X125)-SUM('членские взносы'!$M125:X125)","v":56600},{"$f":"X124","v":56600}]
[{"$f":"VLOOKUP(B125,справочник!$B$2:$E$322,4,0)","v":30},{"$f":"CONCATENATE(C125;D125)","v":{"$error":"#VALUE!"}},30,"Кириллов Дмитрий Александрович","50:03:0070280:859","2011-12-29","2012-01-01",{"$f":"INT(($H$326-G125)/30)","v":48},{"$f":"H125*1000","v":48000},{"$f":"1000","v":1000},null,{"$f":"I125-J125-K125","v":47000},{"$f":"SUM('план на 2016'!$L126:M126)-SUM('членские взносы'!$M126:M126)","v":47800},{"$f":"SUM('план на 2016'!$L126:N126)-SUM('членские взносы'!$M126:N126)","v":48600},{"$f":"SUM('план на 2016'!$L126:O126)-SUM('членские взносы'!$M126:O126)","v":49400},{"$f":"SUM('план на 2016'!$L126:P126)-SUM('членские взносы'!$M126:P126)","v":50200},{"$f":"SUM('план на 2016'!$L126:Q126)-SUM('членские взносы'!$M126:Q126)","v":51000},{"$f":"SUM('план на 2016'!$L126:R126)-SUM('членские взносы'!$M126:R126)","v":51800},{"$f":"SUM('план на 2016'!$L126:S126)-SUM('членские взносы'!$M126:S126)","v":52600},{"$f":"SUM('план на 2016'!$L126:T126)-SUM('членские взносы'!$M126:T126)","v":53400},{"$f":"SUM('план на 2016'!$L126:U126)-SUM('членские взносы'!$M126:U126)","v":54200},{"$f":"SUM('план на 2016'!$L126:V126)-SUM('членские взносы'!$M126:V126)","v":55000},{"$f":"SUM('план на 2016'!$L126:W126)-SUM('членские взносы'!$M126:W126)","v":55800},{"$f":"SUM('план на 2016'!$L126:X126)-SUM('членские взносы'!$M126:X126)","v":56600},{"$f":"X125","v":56600}]
[{"$f":"VLOOKUP(B126,справочник!$B$2:$E$322,4,0)","v":269},{"$f":"CONCATENATE(C126;D126)","v":{"$error":"#VALUE!"}},282,"Коваленко Ирина Леонидовна","50:03:0070280:718","2012-12-11","2013-01-01",{"$f":"INT(($H$326-G126)/30)","v":36},{"$f":"H126*1000","v":36000},18000,null,{"$f":"I126-J126-K126","v":18000},{"$f":"SUM('план на 2016'!$L127:M127)-SUM('членские взносы'!$M127:M127)","v":18800},{"$f":"SUM('план на 2016'!$L127:N127)-SUM('членские взносы'!$M127:N127)","v":19600},{"$f":"SUM('план на 2016'!$L127:O127)-SUM('членские взносы'!$M127:O127)","v":20400},{"$f":"SUM('план на 2016'!$L127:P127)-SUM('членские взносы'!$M127:P127)","v":21200},{"$f":"SUM('план на 2016'!$L127:Q127)-SUM('членские взносы'!$M127:Q127)","v":22000},{"$f":"SUM('план на 2016'!$L127:R127)-SUM('членские взносы'!$M127:R127)","v":22800},{"$f":"SUM('план на 2016'!$L127:S127)-SUM('членские взносы'!$M127:S127)","v":23600},{"$f":"SUM('план на 2016'!$L127:T127)-SUM('членские взносы'!$M127:T127)","v":24400},{"$f":"SUM('план на 2016'!$L127:U127)-SUM('членские взносы'!$M127:U127)","v":25200},{"$f":"SUM('план на 2016'!$L127:V127)-SUM('членские взносы'!$M127:V127)","v":26000},{"$f":"SUM('план на 2016'!$L127:W127)-SUM('членские взносы'!$M127:W127)","v":14800},{"$f":"SUM('план на 2016'!$L127:X127)-SUM('членские взносы'!$M127:X127)","v":15600},{"$f":"X126","v":15600}]
[{"$f":"VLOOKUP(B127,справочник!$B$2:$E$322,4,0)","v":271},{"$f":"CONCATENATE(C127;D127)","v":{"$error":"#VALUE!"}},284,"Кожемякин Сергей Владимирович","50:03:0070280:716","2015-02-09","2015-04-01",{"$f":"INT(($H$326-G127)/30)","v":9},{"$f":"H127*1000","v":9000},4000,5000,{"$f":"I127-J127-K127","v":0},{"$f":"SUM('план на 2016'!$L128:M128)-SUM('членские взносы'!$M128:M128)","v":800},{"$f":"SUM('план на 2016'!$L128:N128)-SUM('членские взносы'!$M128:N128)","v":1600},{"$f":"SUM('план на 2016'!$L128:O128)-SUM('членские взносы'!$M128:O128)","v":2400},{"$f":"SUM('план на 2016'!$L128:P128)-SUM('членские взносы'!$M128:P128)","v":3200},{"$f":"SUM('план на 2016'!$L128:Q128)-SUM('членские взносы'!$M128:Q128)","v":4000},{"$f":"SUM('план на 2016'!$L128:R128)-SUM('членские взносы'!$M128:R128)","v":-200},{"$f":"SUM('план на 2016'!$L128:S128)-SUM('членские взносы'!$M128:S128)","v":600},{"$f":"SUM('план на 2016'!$L128:T128)-SUM('членские взносы'!$M128:T128)","v":1400},{"$f":"SUM('план на 2016'!$L128:U128)-SUM('членские взносы'!$M128:U128)","v":2200},{"$f":"SUM('план на 2016'!$L128:V128)-SUM('членские взносы'!$M128:V128)","v":3000},{"$f":"SUM('план на 2016'!$L128:W128)-SUM('членские взносы'!$M128:W128)","v":3800},{"$f":"SUM('план на 2016'!$L128:X128)-SUM('членские взносы'!$M128:X128)","v":1600},{"$f":"X127","v":1600}]
[{"$f":"VLOOKUP(B128,справочник!$B$2:$E$322,4,0)","v":265},{"$f":"CONCATENATE(C128;D128)","v":{"$error":"#VALUE!"}},278,"Козловский Алексей Гаврилович","50:03:0070280:725","2011-09-26","2011-09-01",{"$f":"INT(($H$326-G128)/30)","v":52},{"$f":"H128*1000","v":52000},{"$f":"2000+27000","v":29000},null,{"$f":"I128-J128-K128","v":23000},{"$f":"SUM('план на 2016'!$L129:M129)-SUM('членские взносы'!$M129:M129)","v":23800},{"$f":"SUM('план на 2016'!$L129:N129)-SUM('членские взносы'!$M129:N129)","v":24600},{"$f":"SUM('план на 2016'!$L129:O129)-SUM('членские взносы'!$M129:O129)","v":22400},{"$f":"SUM('план на 2016'!$L129:P129)-SUM('членские взносы'!$M129:P129)","v":23200},{"$f":"SUM('план на 2016'!$L129:Q129)-SUM('членские взносы'!$M129:Q129)","v":24000},{"$f":"SUM('план на 2016'!$L129:R129)-SUM('членские взносы'!$M129:R129)","v":24800},{"$f":"SUM('план на 2016'!$L129:S129)-SUM('членские взносы'!$M129:S129)","v":22600},{"$f":"SUM('план на 2016'!$L129:T129)-SUM('членские взносы'!$M129:T129)","v":23400},{"$f":"SUM('план на 2016'!$L129:U129)-SUM('членские взносы'!$M129:U129)","v":21200},{"$f":"SUM('план на 2016'!$L129:V129)-SUM('членские взносы'!$M129:V129)","v":22000},{"$f":"SUM('план на 2016'!$L129:W129)-SUM('членские взносы'!$M129:W129)","v":19800},{"$f":"SUM('план на 2016'!$L129:X129)-SUM('членские взносы'!$M129:X129)","v":20600},{"$f":"X128","v":20600}]
[{"$f":"VLOOKUP(B129,справочник!$B$2:$E$322,4,0)","v":173},{"$f":"CONCATENATE(C129;D129)","v":{"$error":"#VALUE!"}},181,"Колесников Никита Олегович(у Кряжковой Виктория Сергеевна","50:03:0070280:764","2011-09-07","2011-09-01",{"$f":"INT(($H$326-G129)/30)","v":52},{"$f":"H129*1000","v":52000},1000,null,{"$f":"I129-J129-K129","v":51000},{"$f":"SUM('план на 2016'!$L130:M130)-SUM('членские взносы'!$M130:M130)","v":51800},{"$f":"SUM('план на 2016'!$L130:N130)-SUM('членские взносы'!$M130:N130)","v":52600},{"$f":"SUM('план на 2016'!$L130:O130)-SUM('членские взносы'!$M130:O130)","v":53400},{"$f":"SUM('план на 2016'!$L130:P130)-SUM('членские взносы'!$M130:P130)","v":54200},{"$f":"SUM('план на 2016'!$L130:Q130)-SUM('членские взносы'!$M130:Q130)","v":55000},{"$f":"SUM('план на 2016'!$L130:R130)-SUM('членские взносы'!$M130:R130)","v":55800},{"$f":"SUM('план на 2016'!$L130:S130)-SUM('членские взносы'!$M130:S130)","v":56600},{"$f":"SUM('план на 2016'!$L130:T130)-SUM('членские взносы'!$M130:T130)","v":57400},{"$f":"SUM('план на 2016'!$L130:U130)-SUM('членские взносы'!$M130:U130)","v":58200},{"$f":"SUM('план на 2016'!$L130:V130)-SUM('членские взносы'!$M130:V130)","v":59000},{"$f":"SUM('план на 2016'!$L130:W130)-SUM('членские взносы'!$M130:W130)","v":59800},{"$f":"SUM('план на 2016'!$L130:X130)-SUM('членские взносы'!$M130:X130)","v":60600},{"$f":"X129","v":60600}]
[{"$f":"VLOOKUP(B130,справочник!$B$2:$E$322,4,0)","v":305},{"$f":"CONCATENATE(C130;D130)","v":{"$error":"#VALUE!"}},320,"Колесов Вадим Владимирович","50:03:0070280:1011","2014-10-17","2014-11-01",{"$f":"INT(($H$326-G130)/30)","v":14},{"$f":"H130*1000","v":14000},1000,null,{"$f":"I130-J130-K130","v":13000},{"$f":"SUM('план на 2016'!$L131:M131)-SUM('членские взносы'!$M131:M131)","v":13800},{"$f":"SUM('план на 2016'!$L131:N131)-SUM('членские взносы'!$M131:N131)","v":14600},{"$f":"SUM('план на 2016'!$L131:O131)-SUM('членские взносы'!$M131:O131)","v":15400},{"$f":"SUM('план на 2016'!$L131:P131)-SUM('членские взносы'!$M131:P131)","v":16200},{"$f":"SUM('план на 2016'!$L131:Q131)-SUM('членские взносы'!$M131:Q131)","v":17000},{"$f":"SUM('план на 2016'!$L131:R131)-SUM('членские взносы'!$M131:R131)","v":17800},{"$f":"SUM('план на 2016'!$L131:S131)-SUM('членские взносы'!$M131:S131)","v":18600},{"$f":"SUM('план на 2016'!$L131:T131)-SUM('членские взносы'!$M131:T131)","v":19400},{"$f":"SUM('план на 2016'!$L131:U131)-SUM('членские взносы'!$M131:U131)","v":20200},{"$f":"SUM('план на 2016'!$L131:V131)-SUM('членские взносы'!$M131:V131)","v":21000},{"$f":"SUM('план на 2016'!$L131:W131)-SUM('членские взносы'!$M131:W131)","v":21800},{"$f":"SUM('план на 2016'!$L131:X131)-SUM('членские взносы'!$M131:X131)","v":22600},{"$f":"X130","v":22600}]
[{"$f":"VLOOKUP(B131,справочник!$B$2:$E$322,4,0)","v":69},{"$f":"CONCATENATE(C131;D131)","v":{"$error":"#VALUE!"}},75,"Колташ Анна Владимировна","50:03:0070280:882","23.08.2011","2011-09-01",{"$f":"INT(($H$326-G131)/30)","v":52},{"$f":"H131*1000","v":52000},{"$f":"3000+10000","v":13000},null,{"$f":"I131-J131-K131","v":39000},{"$f":"SUM('план на 2016'!$L132:M132)-SUM('членские взносы'!$M132:M132)","v":39800},{"$f":"SUM('план на 2016'!$L132:N132)-SUM('членские взносы'!$M132:N132)","v":40600},{"$f":"SUM('план на 2016'!$L132:O132)-SUM('членские взносы'!$M132:O132)","v":41400},{"$f":"SUM('план на 2016'!$L132:P132)-SUM('членские взносы'!$M132:P132)","v":42200},{"$f":"SUM('план на 2016'!$L132:Q132)-SUM('членские взносы'!$M132:Q132)","v":43000},{"$f":"SUM('план на 2016'!$L132:R132)-SUM('членские взносы'!$M132:R132)","v":43800},{"$f":"SUM('план на 2016'!$L132:S132)-SUM('членские взносы'!$M132:S132)","v":44600},{"$f":"SUM('план на 2016'!$L132:T132)-SUM('членские взносы'!$M132:T132)","v":45400},{"$f":"SUM('план на 2016'!$L132:U132)-SUM('членские взносы'!$M132:U132)","v":46200},{"$f":"SUM('план на 2016'!$L132:V132)-SUM('членские взносы'!$M132:V132)","v":47000},{"$f":"SUM('план на 2016'!$L132:W132)-SUM('членские взносы'!$M132:W132)","v":47800},{"$f":"SUM('план на 2016'!$L132:X132)-SUM('членские взносы'!$M132:X132)","v":48600},{"$f":"X131","v":48600}]
[{"$f":"VLOOKUP(B132,справочник!$B$2:$E$322,4,0)","v":69},{"$f":"CONCATENATE(C132;D132)","v":{"$error":"#VALUE!"}},76,"Колташ Анна Владимировна","50:03:0070280:804",null,null,null,{"$f":"H132*1000","v":0},null,null,null,{"$f":"SUM('план на 2016'!$L133:M133)-SUM('членские взносы'!$M133:M133)","v":0},{"$f":"SUM('план на 2016'!$L133:N133)-SUM('членские взносы'!$M133:N133)","v":0},{"$f":"SUM('план на 2016'!$L133:O133)-SUM('членские взносы'!$M133:O133)","v":0},{"$f":"SUM('план на 2016'!$L133:P133)-SUM('членские взносы'!$M133:P133)","v":0},{"$f":"SUM('план на 2016'!$L133:Q133)-SUM('членские взносы'!$M133:Q133)","v":0},{"$f":"SUM('план на 2016'!$L133:R133)-SUM('членские взносы'!$M133:R133)","v":0},{"$f":"SUM('план на 2016'!$L133:S133)-SUM('членские взносы'!$M133:S133)","v":0},{"$f":"SUM('план на 2016'!$L133:T133)-SUM('членские взносы'!$M133:T133)","v":0},{"$f":"SUM('план на 2016'!$L133:U133)-SUM('членские взносы'!$M133:U133)","v":0},{"$f":"SUM('план на 2016'!$L133:V133)-SUM('членские взносы'!$M133:V133)","v":0},{"$f":"SUM('план на 2016'!$L133:W133)-SUM('членские взносы'!$M133:W133)","v":0},{"$f":"SUM('план на 2016'!$L133:X133)-SUM('членские взносы'!$M133:X133)","v":0},{"$f":"X132","v":0}]
[{"$f":"VLOOKUP(B133,справочник!$B$2:$E$322,4,0)","v":1},{"$f":"CONCATENATE(C133;D133)","v":{"$error":"#VALUE!"}},1,"Колыгина Нина Николаевна","50:03:0070280:711","2013-05-15","2013-10-01",{"$f":"INT(($H$326-G133)/30)","v":27},{"$f":"H133*1000","v":27000},24000,null,{"$f":"I133-J133-K133","v":3000},{"$f":"SUM('план на 2016'!$L134:M134)-SUM('членские взносы'!$M134:M134)","v":3800},{"$f":"SUM('план на 2016'!$L134:N134)-SUM('членские взносы'!$M134:N134)","v":400},{"$f":"SUM('план на 2016'!$L134:O134)-SUM('членские взносы'!$M134:O134)","v":1200},{"$f":"SUM('план на 2016'!$L134:P134)-SUM('членские взносы'!$M134:P134)","v":2000},{"$f":"SUM('план на 2016'!$L134:Q134)-SUM('членские взносы'!$M134:Q134)","v":2800},{"$f":"SUM('план на 2016'!$L134:R134)-SUM('членские взносы'!$M134:R134)","v":3600},{"$f":"SUM('план на 2016'!$L134:S134)-SUM('членские взносы'!$M134:S134)","v":4400},{"$f":"SUM('план на 2016'!$L134:T134)-SUM('членские взносы'!$M134:T134)","v":5200},{"$f":"SUM('план на 2016'!$L134:U134)-SUM('членские взносы'!$M134:U134)","v":6000},{"$f":"SUM('план на 2016'!$L134:V134)-SUM('членские взносы'!$M134:V134)","v":6800},{"$f":"SUM('план на 2016'!$L134:W134)-SUM('членские взносы'!$M134:W134)","v":7600},{"$f":"SUM('план на 2016'!$L134:X134)-SUM('членские взносы'!$M134:X134)","v":2800},{"$f":"X133","v":2800}]
[{"$f":"VLOOKUP(B134,справочник!$B$2:$E$322,4,0)","v":302},{"$f":"CONCATENATE(C134;D134)","v":{"$error":"#VALUE!"}},317,"Колышкина Александра Сергеевна","50:03:0070280:1008","2012-03-29","2012-04-01",{"$f":"INT(($H$326-G134)/30)","v":45},{"$f":"H134*1000","v":45000},32000,null,{"$f":"I134-J134-K134","v":13000},{"$f":"SUM('план на 2016'!$L135:M135)-SUM('членские взносы'!$M135:M135)","v":13800},{"$f":"SUM('план на 2016'!$L135:N135)-SUM('членские взносы'!$M135:N135)","v":14600},{"$f":"SUM('план на 2016'!$L135:O135)-SUM('членские взносы'!$M135:O135)","v":15400},{"$f":"SUM('план на 2016'!$L135:P135)-SUM('членские взносы'!$M135:P135)","v":16200},{"$f":"SUM('план на 2016'!$L135:Q135)-SUM('членские взносы'!$M135:Q135)","v":17000},{"$f":"SUM('план на 2016'!$L135:R135)-SUM('членские взносы'!$M135:R135)","v":17800},{"$f":"SUM('план на 2016'!$L135:S135)-SUM('членские взносы'!$M135:S135)","v":18600},{"$f":"SUM('план на 2016'!$L135:T135)-SUM('членские взносы'!$M135:T135)","v":19400},{"$f":"SUM('план на 2016'!$L135:U135)-SUM('членские взносы'!$M135:U135)","v":20200},{"$f":"SUM('план на 2016'!$L135:V135)-SUM('членские взносы'!$M135:V135)","v":21000},{"$f":"SUM('план на 2016'!$L135:W135)-SUM('членские взносы'!$M135:W135)","v":21800},{"$f":"SUM('план на 2016'!$L135:X135)-SUM('членские взносы'!$M135:X135)","v":22600},{"$f":"X134","v":22600}]
[{"$f":"VLOOKUP(B135,справочник!$B$2:$E$322,4,0)","v":123},{"$f":"CONCATENATE(C135;D135)","v":{"$error":"#VALUE!"}},128,"Кондратьева Юлия Викторовна","50:03:0070280:810","2012-02-21","2012-02-01",{"$f":"INT(($H$326-G135)/30)","v":47},{"$f":"H135*1000","v":47000},34000,null,{"$f":"I135-J135-K135","v":13000},{"$f":"SUM('план на 2016'!$L136:M136)-SUM('членские взносы'!$M136:M136)","v":13800},{"$f":"SUM('план на 2016'!$L136:N136)-SUM('членские взносы'!$M136:N136)","v":14600},{"$f":"SUM('план на 2016'!$L136:O136)-SUM('членские взносы'!$M136:O136)","v":15400},{"$f":"SUM('план на 2016'!$L136:P136)-SUM('членские взносы'!$M136:P136)","v":16200},{"$f":"SUM('план на 2016'!$L136:Q136)-SUM('членские взносы'!$M136:Q136)","v":17000},{"$f":"SUM('план на 2016'!$L136:R136)-SUM('членские взносы'!$M136:R136)","v":17800},{"$f":"SUM('план на 2016'!$L136:S136)-SUM('членские взносы'!$M136:S136)","v":-1400},{"$f":"SUM('план на 2016'!$L136:T136)-SUM('членские взносы'!$M136:T136)","v":-600},{"$f":"SUM('план на 2016'!$L136:U136)-SUM('членские взносы'!$M136:U136)","v":200},{"$f":"SUM('план на 2016'!$L136:V136)-SUM('членские взносы'!$M136:V136)","v":1000},{"$f":"SUM('план на 2016'!$L136:W136)-SUM('членские взносы'!$M136:W136)","v":1800},{"$f":"SUM('план на 2016'!$L136:X136)-SUM('членские взносы'!$M136:X136)","v":2600},{"$f":"X135","v":2600}]
[{"$f":"VLOOKUP(B136,справочник!$B$2:$E$322,4,0)","v":163},{"$f":"CONCATENATE(C136;D136)","v":{"$error":"#VALUE!"}},171,"Кондратюк Наталья Петровна 1/2,  Соболев Олег Юрьевич 1/2",null,"2014-06-19","2014-07-01",{"$f":"INT(($H$326-G136)/30)","v":18},{"$f":"H136*1000","v":18000},{"$f":"5000+4000","v":9000},null,{"$f":"I136-J136-K136","v":9000},{"$f":"SUM('план на 2016'!$L137:M137)-SUM('членские взносы'!$M137:M137)","v":9800},{"$f":"SUM('план на 2016'!$L137:N137)-SUM('членские взносы'!$M137:N137)","v":10600},{"$f":"SUM('план на 2016'!$L137:O137)-SUM('членские взносы'!$M137:O137)","v":11400},{"$f":"SUM('план на 2016'!$L137:P137)-SUM('членские взносы'!$M137:P137)","v":12200},{"$f":"SUM('план на 2016'!$L137:Q137)-SUM('членские взносы'!$M137:Q137)","v":13000},{"$f":"SUM('план на 2016'!$L137:R137)-SUM('членские взносы'!$M137:R137)","v":13800},{"$f":"SUM('план на 2016'!$L137:S137)-SUM('членские взносы'!$M137:S137)","v":14600},{"$f":"SUM('план на 2016'!$L137:T137)-SUM('членские взносы'!$M137:T137)","v":9300},{"$f":"SUM('план на 2016'!$L137:U137)-SUM('членские взносы'!$M137:U137)","v":10100},{"$f":"SUM('план на 2016'!$L137:V137)-SUM('членские взносы'!$M137:V137)","v":10900},{"$f":"SUM('план на 2016'!$L137:W137)-SUM('членские взносы'!$M137:W137)","v":11700},{"$f":"SUM('план на 2016'!$L137:X137)-SUM('членские взносы'!$M137:X137)","v":12500},{"$f":"X136","v":12500}]
[{"$f":"VLOOKUP(B137,справочник!$B$2:$E$322,4,0)","v":110},{"$f":"CONCATENATE(C137;D137)","v":{"$error":"#VALUE!"}},115,"Кондрашов Роман Вячеславович","50:03:0070280:808","2012-07-11","2012-07-01",{"$f":"INT(($H$326-G137)/30)","v":42},{"$f":"H137*1000","v":42000},23000,null,{"$f":"I137-J137-K137","v":19000},{"$f":"SUM('план на 2016'!$L138:M138)-SUM('членские взносы'!$M138:M138)","v":19800},{"$f":"SUM('план на 2016'!$L138:N138)-SUM('членские взносы'!$M138:N138)","v":20600},{"$f":"SUM('план на 2016'!$L138:O138)-SUM('членские взносы'!$M138:O138)","v":21400},{"$f":"SUM('план на 2016'!$L138:P138)-SUM('членские взносы'!$M138:P138)","v":22200},{"$f":"SUM('план на 2016'!$L138:Q138)-SUM('членские взносы'!$M138:Q138)","v":23000},{"$f":"SUM('план на 2016'!$L138:R138)-SUM('членские взносы'!$M138:R138)","v":23800},{"$f":"SUM('план на 2016'!$L138:S138)-SUM('членские взносы'!$M138:S138)","v":22200},{"$f":"SUM('план на 2016'!$L138:T138)-SUM('членские взносы'!$M138:T138)","v":19400},{"$f":"SUM('план на 2016'!$L138:U138)-SUM('членские взносы'!$M138:U138)","v":20200},{"$f":"SUM('план на 2016'!$L138:V138)-SUM('членские взносы'!$M138:V138)","v":19400},{"$f":"SUM('план на 2016'!$L138:W138)-SUM('членские взносы'!$M138:W138)","v":20200},{"$f":"SUM('план на 2016'!$L138:X138)-SUM('членские взносы'!$M138:X138)","v":12000},{"$f":"X137","v":12000}]
[{"$f":"VLOOKUP(B138,справочник!$B$2:$E$322,4,0)","v":112},{"$f":"CONCATENATE(C138;D138)","v":{"$error":"#VALUE!"}},117,"Кондрашов Сергей Вячеславович//Балыкин Александр Иванович",null,"2012-07-11","2012-07-01",{"$f":"INT(($H$326-G138)/30)","v":42},{"$f":"H138*1000","v":42000},{"$f":"25000","v":25000},null,{"$f":"I138-J138-K138","v":17000},{"$f":"SUM('план на 2016'!$L139:M139)-SUM('членские взносы'!$M139:M139)","v":17800},{"$f":"SUM('план на 2016'!$L139:N139)-SUM('членские взносы'!$M139:N139)","v":13800},{"$f":"SUM('план на 2016'!$L139:O139)-SUM('членские взносы'!$M139:O139)","v":14600},{"$f":"SUM('план на 2016'!$L139:P139)-SUM('членские взносы'!$M139:P139)","v":15400},{"$f":"SUM('план на 2016'!$L139:Q139)-SUM('членские взносы'!$M139:Q139)","v":16200},{"$f":"SUM('план на 2016'!$L139:R139)-SUM('членские взносы'!$M139:R139)","v":17000},{"$f":"SUM('план на 2016'!$L139:S139)-SUM('членские взносы'!$M139:S139)","v":13000},{"$f":"SUM('план на 2016'!$L139:T139)-SUM('членские взносы'!$M139:T139)","v":13800},{"$f":"SUM('план на 2016'!$L139:U139)-SUM('членские взносы'!$M139:U139)","v":14600},{"$f":"SUM('план на 2016'!$L139:V139)-SUM('членские взносы'!$M139:V139)","v":15400},{"$f":"SUM('план на 2016'!$L139:W139)-SUM('членские взносы'!$M139:W139)","v":16200},{"$f":"SUM('план на 2016'!$L139:X139)-SUM('членские взносы'!$M139:X139)","v":12200},{"$f":"X138","v":12200}]
[{"$f":"VLOOKUP(B139,справочник!$B$2:$E$322,4,0)","v":190},{"$f":"CONCATENATE(C139;D139)","v":{"$error":"#VALUE!"}},198,"Коновальцев Олег Серафимович","50:03:0070280:984","2013-05-13","2013-06-01",{"$f":"INT(($H$326-G139)/30)","v":31},{"$f":"H139*1000","v":31000},15000,null,{"$f":"I139-J139-K139","v":16000},{"$f":"SUM('план на 2016'!$L140:M140)-SUM('членские взносы'!$M140:M140)","v":16800},{"$f":"SUM('план на 2016'!$L140:N140)-SUM('членские взносы'!$M140:N140)","v":17600},{"$f":"SUM('план на 2016'!$L140:O140)-SUM('членские взносы'!$M140:O140)","v":18400},{"$f":"SUM('план на 2016'!$L140:P140)-SUM('членские взносы'!$M140:P140)","v":19200},{"$f":"SUM('план на 2016'!$L140:Q140)-SUM('членские взносы'!$M140:Q140)","v":20000},{"$f":"SUM('план на 2016'!$L140:R140)-SUM('членские взносы'!$M140:R140)","v":20000},{"$f":"SUM('план на 2016'!$L140:S140)-SUM('членские взносы'!$M140:S140)","v":20800},{"$f":"SUM('план на 2016'!$L140:T140)-SUM('членские взносы'!$M140:T140)","v":21600},{"$f":"SUM('план на 2016'!$L140:U140)-SUM('членские взносы'!$M140:U140)","v":22400},{"$f":"SUM('план на 2016'!$L140:V140)-SUM('членские взносы'!$M140:V140)","v":23200},{"$f":"SUM('план на 2016'!$L140:W140)-SUM('членские взносы'!$M140:W140)","v":24000},{"$f":"SUM('план на 2016'!$L140:X140)-SUM('членские взносы'!$M140:X140)","v":24800},{"$f":"X139","v":24800}]
[{"$f":"VLOOKUP(B140,справочник!$B$2:$E$322,4,0)","v":83},{"$f":"CONCATENATE(C140;D140)","v":{"$error":"#VALUE!"}},88,"Кононенко Алла Николаевна (Александр)","50:03:0070280:869","2011-05-12","2011-06-01",{"$f":"INT(($H$326-G140)/30)","v":55},{"$f":"H140*1000","v":55000},{"$f":"1000+49000","v":50000},null,{"$f":"I140-J140-K140","v":5000},{"$f":"SUM('план на 2016'!$L141:M141)-SUM('членские взносы'!$M141:M141)","v":3000},{"$f":"SUM('план на 2016'!$L141:N141)-SUM('членские взносы'!$M141:N141)","v":3000},{"$f":"SUM('план на 2016'!$L141:O141)-SUM('членские взносы'!$M141:O141)","v":3000},{"$f":"SUM('план на 2016'!$L141:P141)-SUM('членские взносы'!$M141:P141)","v":3000},{"$f":"SUM('план на 2016'!$L141:Q141)-SUM('членские взносы'!$M141:Q141)","v":3000},{"$f":"SUM('план на 2016'!$L141:R141)-SUM('членские взносы'!$M141:R141)","v":3000},{"$f":"SUM('план на 2016'!$L141:S141)-SUM('членские взносы'!$M141:S141)","v":3000},{"$f":"SUM('план на 2016'!$L141:T141)-SUM('членские взносы'!$M141:T141)","v":3000},{"$f":"SUM('план на 2016'!$L141:U141)-SUM('членские взносы'!$M141:U141)","v":3800},{"$f":"SUM('план на 2016'!$L141:V141)-SUM('членские взносы'!$M141:V141)","v":3000},{"$f":"SUM('план на 2016'!$L141:W141)-SUM('членские взносы'!$M141:W141)","v":3000},{"$f":"SUM('план на 2016'!$L141:X141)-SUM('членские взносы'!$M141:X141)","v":3000},{"$f":"X140","v":3000}]
[{"$f":"VLOOKUP(B141,справочник!$B$2:$E$322,4,0)","v":133},{"$f":"CONCATENATE(C141;D141)","v":{"$error":"#VALUE!"}},140,"Короткевич Наталья Владимировна","50:03:0070280:892","2012-04-09","2012-04-01",{"$f":"INT(($H$326-G141)/30)","v":45},{"$f":"H141*1000","v":45000},41000,4000,{"$f":"I141-J141-K141","v":0},{"$f":"SUM('план на 2016'!$L142:M142)-SUM('членские взносы'!$M142:M142)","v":800},{"$f":"SUM('план на 2016'!$L142:N142)-SUM('членские взносы'!$M142:N142)","v":600},{"$f":"SUM('план на 2016'!$L142:O142)-SUM('членские взносы'!$M142:O142)","v":400},{"$f":"SUM('план на 2016'!$L142:P142)-SUM('членские взносы'!$M142:P142)","v":200},{"$f":"SUM('план на 2016'!$L142:Q142)-SUM('членские взносы'!$M142:Q142)","v":0},{"$f":"SUM('план на 2016'!$L142:R142)-SUM('членские взносы'!$M142:R142)","v":-200},{"$f":"SUM('план на 2016'!$L142:S142)-SUM('членские взносы'!$M142:S142)","v":-400},{"$f":"SUM('план на 2016'!$L142:T142)-SUM('членские взносы'!$M142:T142)","v":-600},{"$f":"SUM('план на 2016'!$L142:U142)-SUM('членские взносы'!$M142:U142)","v":-800},{"$f":"SUM('план на 2016'!$L142:V142)-SUM('членские взносы'!$M142:V142)","v":-1000},{"$f":"SUM('план на 2016'!$L142:W142)-SUM('членские взносы'!$M142:W142)","v":-200},{"$f":"SUM('план на 2016'!$L142:X142)-SUM('членские взносы'!$M142:X142)","v":600},{"$f":"X141","v":600}]
[{"$f":"VLOOKUP(B142,справочник!$B$2:$E$322,4,0)","v":202},{"$f":"CONCATENATE(C142;D142)","v":{"$error":"#VALUE!"}},212,"Корчинская Ирина Анатольевна","50:03:0070280:851","2012-07-10","2012-07-01",{"$f":"INT(($H$326-G142)/30)","v":42},{"$f":"H142*1000","v":42000},18000,null,{"$f":"I142-J142-K142","v":24000},{"$f":"SUM('план на 2016'!$L143:M143)-SUM('членские взносы'!$M143:M143)","v":24800},{"$f":"SUM('план на 2016'!$L143:N143)-SUM('членские взносы'!$M143:N143)","v":25600},{"$f":"SUM('план на 2016'!$L143:O143)-SUM('членские взносы'!$M143:O143)","v":26400},{"$f":"SUM('план на 2016'!$L143:P143)-SUM('членские взносы'!$M143:P143)","v":27200},{"$f":"SUM('план на 2016'!$L143:Q143)-SUM('членские взносы'!$M143:Q143)","v":28000},{"$f":"SUM('план на 2016'!$L143:R143)-SUM('членские взносы'!$M143:R143)","v":28800},{"$f":"SUM('план на 2016'!$L143:S143)-SUM('членские взносы'!$M143:S143)","v":29600},{"$f":"SUM('план на 2016'!$L143:T143)-SUM('членские взносы'!$M143:T143)","v":30400},{"$f":"SUM('план на 2016'!$L143:U143)-SUM('членские взносы'!$M143:U143)","v":31200},{"$f":"SUM('план на 2016'!$L143:V143)-SUM('членские взносы'!$M143:V143)","v":32000},{"$f":"SUM('план на 2016'!$L143:W143)-SUM('членские взносы'!$M143:W143)","v":32800},{"$f":"SUM('план на 2016'!$L143:X143)-SUM('членские взносы'!$M143:X143)","v":33600},{"$f":"X142","v":33600}]
[{"$f":"VLOOKUP(B143,справочник!$B$2:$E$322,4,0)","v":192},{"$f":"CONCATENATE(C143;D143)","v":{"$error":"#VALUE!"}},200,"Косенков Степан Фед-ч(Галактионова)","50:03:0070280:887","2014-07-09","2014-08-01",{"$f":"INT(($H$326-G143)/30)","v":17},{"$f":"H143*1000","v":17000},null,null,{"$f":"I143-J143-K143","v":17000},{"$f":"SUM('план на 2016'!$L144:M144)-SUM('членские взносы'!$M144:M144)","v":17800},{"$f":"SUM('план на 2016'!$L144:N144)-SUM('членские взносы'!$M144:N144)","v":18600},{"$f":"SUM('план на 2016'!$L144:O144)-SUM('членские взносы'!$M144:O144)","v":19400},{"$f":"SUM('план на 2016'!$L144:P144)-SUM('членские взносы'!$M144:P144)","v":20200},{"$f":"SUM('план на 2016'!$L144:Q144)-SUM('членские взносы'!$M144:Q144)","v":21000},{"$f":"SUM('план на 2016'!$L144:R144)-SUM('членские взносы'!$M144:R144)","v":21800},{"$f":"SUM('план на 2016'!$L144:S144)-SUM('членские взносы'!$M144:S144)","v":22600},{"$f":"SUM('план на 2016'!$L144:T144)-SUM('членские взносы'!$M144:T144)","v":23400},{"$f":"SUM('план на 2016'!$L144:U144)-SUM('членские взносы'!$M144:U144)","v":24200},{"$f":"SUM('план на 2016'!$L144:V144)-SUM('членские взносы'!$M144:V144)","v":25000},{"$f":"SUM('план на 2016'!$L144:W144)-SUM('членские взносы'!$M144:W144)","v":25800},{"$f":"SUM('план на 2016'!$L144:X144)-SUM('членские взносы'!$M144:X144)","v":26600},{"$f":"X143","v":26600}]
[{"$f":"VLOOKUP(B144,справочник!$B$2:$E$322,4,0)","v":289},{"$f":"CONCATENATE(C144;D144)","v":{"$error":"#VALUE!"}},301,"Косенкова Елизавета Евгеньевна","50:03:0070280:772","2014-12-03","2015-01-01",{"$f":"INT(($H$326-G144)/30)","v":12},{"$f":"H144*1000","v":12000},3000,null,{"$f":"I144-J144-K144","v":9000},{"$f":"SUM('план на 2016'!$L145:M145)-SUM('членские взносы'!$M145:M145)","v":9800},{"$f":"SUM('план на 2016'!$L145:N145)-SUM('членские взносы'!$M145:N145)","v":10600},{"$f":"SUM('план на 2016'!$L145:O145)-SUM('членские взносы'!$M145:O145)","v":11400},{"$f":"SUM('план на 2016'!$L145:P145)-SUM('членские взносы'!$M145:P145)","v":12200},{"$f":"SUM('план на 2016'!$L145:Q145)-SUM('членские взносы'!$M145:Q145)","v":13000},{"$f":"SUM('план на 2016'!$L145:R145)-SUM('членские взносы'!$M145:R145)","v":13800},{"$f":"SUM('план на 2016'!$L145:S145)-SUM('членские взносы'!$M145:S145)","v":14600},{"$f":"SUM('план на 2016'!$L145:T145)-SUM('членские взносы'!$M145:T145)","v":15400},{"$f":"SUM('план на 2016'!$L145:U145)-SUM('членские взносы'!$M145:U145)","v":16200},{"$f":"SUM('план на 2016'!$L145:V145)-SUM('членские взносы'!$M145:V145)","v":7000},{"$f":"SUM('план на 2016'!$L145:W145)-SUM('членские взносы'!$M145:W145)","v":7800},{"$f":"SUM('план на 2016'!$L145:X145)-SUM('членские взносы'!$M145:X145)","v":8600},{"$f":"X144","v":8600}]
[{"$f":"VLOOKUP(B145,справочник!$B$2:$E$322,4,0)","v":143},{"$f":"CONCATENATE(C145;D145)","v":{"$error":"#VALUE!"}},151,"Красникова Раиса Михайловна","50:03:0070280:952","2011-10-25","2011-11-01",{"$f":"INT(($H$326-G145)/30)","v":50},{"$f":"H145*1000","v":50000},37000,null,{"$f":"I145-J145-K145","v":13000},{"$f":"SUM('план на 2016'!$L146:M146)-SUM('членские взносы'!$M146:M146)","v":13800},{"$f":"SUM('план на 2016'!$L146:N146)-SUM('членские взносы'!$M146:N146)","v":14600},{"$f":"SUM('план на 2016'!$L146:O146)-SUM('членские взносы'!$M146:O146)","v":15400},{"$f":"SUM('план на 2016'!$L146:P146)-SUM('членские взносы'!$M146:P146)","v":16200},{"$f":"SUM('план на 2016'!$L146:Q146)-SUM('членские взносы'!$M146:Q146)","v":17000},{"$f":"SUM('план на 2016'!$L146:R146)-SUM('членские взносы'!$M146:R146)","v":13000},{"$f":"SUM('план на 2016'!$L146:S146)-SUM('членские взносы'!$M146:S146)","v":13800},{"$f":"SUM('план на 2016'!$L146:T146)-SUM('членские взносы'!$M146:T146)","v":14600},{"$f":"SUM('план на 2016'!$L146:U146)-SUM('членские взносы'!$M146:U146)","v":15400},{"$f":"SUM('план на 2016'!$L146:V146)-SUM('членские взносы'!$M146:V146)","v":13300},{"$f":"SUM('план на 2016'!$L146:W146)-SUM('членские взносы'!$M146:W146)","v":14100},{"$f":"SUM('план на 2016'!$L146:X146)-SUM('членские взносы'!$M146:X146)","v":12500},{"$f":"X145","v":12500}]
[{"$f":"VLOOKUP(B146,справочник!$B$2:$E$322,4,0)","v":62},{"$f":"CONCATENATE(C146;D146)","v":{"$error":"#VALUE!"}},64,"Кривой Владимир Аркадьевич","50:03:0070280:933","2011-09-30","2011-10-01",{"$f":"INT(($H$326-G146)/30)","v":51},{"$f":"H146*1000","v":51000},{"$f":"1000+47000","v":48000},3000,{"$f":"I146-J146-K146","v":0},{"$f":"SUM('план на 2016'!$L147:M147)-SUM('членские взносы'!$M147:M147)","v":800},{"$f":"SUM('план на 2016'!$L147:N147)-SUM('членские взносы'!$M147:N147)","v":1600},{"$f":"SUM('план на 2016'!$L147:O147)-SUM('членские взносы'!$M147:O147)","v":-800},{"$f":"SUM('план на 2016'!$L147:P147)-SUM('членские взносы'!$M147:P147)","v":0},{"$f":"SUM('план на 2016'!$L147:Q147)-SUM('членские взносы'!$M147:Q147)","v":800},{"$f":"SUM('план на 2016'!$L147:R147)-SUM('членские взносы'!$M147:R147)","v":1600},{"$f":"SUM('план на 2016'!$L147:S147)-SUM('членские взносы'!$M147:S147)","v":2400},{"$f":"SUM('план на 2016'!$L147:T147)-SUM('членские взносы'!$M147:T147)","v":0},{"$f":"SUM('план на 2016'!$L147:U147)-SUM('членские взносы'!$M147:U147)","v":800},{"$f":"SUM('план на 2016'!$L147:V147)-SUM('членские взносы'!$M147:V147)","v":1600},{"$f":"SUM('план на 2016'!$L147:W147)-SUM('членские взносы'!$M147:W147)","v":2400},{"$f":"SUM('план на 2016'!$L147:X147)-SUM('членские взносы'!$M147:X147)","v":0},{"$f":"X146","v":0}]
[{"$f":"VLOOKUP(B147,справочник!$B$2:$E$322,4,0)","v":225},{"$f":"CONCATENATE(C147;D147)","v":{"$error":"#VALUE!"}},234,"Крупник Андрей Валерьевич","50:03:0070280:829","2014-08-20","2014-09-01",{"$f":"INT(($H$326-G147)/30)","v":16},{"$f":"H147*1000","v":16000},null,null,{"$f":"I147-J147-K147","v":16000},{"$f":"SUM('план на 2016'!$L148:M148)-SUM('членские взносы'!$M148:M148)","v":16800},{"$f":"SUM('план на 2016'!$L148:N148)-SUM('членские взносы'!$M148:N148)","v":17600},{"$f":"SUM('план на 2016'!$L148:O148)-SUM('членские взносы'!$M148:O148)","v":18400},{"$f":"SUM('план на 2016'!$L148:P148)-SUM('членские взносы'!$M148:P148)","v":19200},{"$f":"SUM('план на 2016'!$L148:Q148)-SUM('членские взносы'!$M148:Q148)","v":20000},{"$f":"SUM('план на 2016'!$L148:R148)-SUM('членские взносы'!$M148:R148)","v":20800},{"$f":"SUM('план на 2016'!$L148:S148)-SUM('членские взносы'!$M148:S148)","v":5600},{"$f":"SUM('план на 2016'!$L148:T148)-SUM('членские взносы'!$M148:T148)","v":6400},{"$f":"SUM('план на 2016'!$L148:U148)-SUM('членские взносы'!$M148:U148)","v":7200},{"$f":"SUM('план на 2016'!$L148:V148)-SUM('членские взносы'!$M148:V148)","v":8000},{"$f":"SUM('план на 2016'!$L148:W148)-SUM('членские взносы'!$M148:W148)","v":8800},{"$f":"SUM('план на 2016'!$L148:X148)-SUM('членские взносы'!$M148:X148)","v":9600},{"$f":"X147","v":9600}]
[{"$f":"VLOOKUP(B148,справочник!$B$2:$E$322,4,0)","v":266},{"$f":"CONCATENATE(C148;D148)","v":{"$error":"#VALUE!"}},279,"Кудревцев Евгений Александрович","50:03:0070280:724","2011-09-13","2011-09-01",{"$f":"INT(($H$326-G148)/30)","v":52},{"$f":"H148*1000","v":52000},{"$f":"40000+1000","v":41000},null,{"$f":"I148-J148-K148","v":11000},{"$f":"SUM('план на 2016'!$L149:M149)-SUM('членские взносы'!$M149:M149)","v":11800},{"$f":"SUM('план на 2016'!$L149:N149)-SUM('членские взносы'!$M149:N149)","v":12600},{"$f":"SUM('план на 2016'!$L149:O149)-SUM('членские взносы'!$M149:O149)","v":13400},{"$f":"SUM('план на 2016'!$L149:P149)-SUM('членские взносы'!$M149:P149)","v":14200},{"$f":"SUM('план на 2016'!$L149:Q149)-SUM('членские взносы'!$M149:Q149)","v":15000},{"$f":"SUM('план на 2016'!$L149:R149)-SUM('членские взносы'!$M149:R149)","v":15800},{"$f":"SUM('план на 2016'!$L149:S149)-SUM('членские взносы'!$M149:S149)","v":16600},{"$f":"SUM('план на 2016'!$L149:T149)-SUM('членские взносы'!$M149:T149)","v":17400},{"$f":"SUM('план на 2016'!$L149:U149)-SUM('членские взносы'!$M149:U149)","v":18200},{"$f":"SUM('план на 2016'!$L149:V149)-SUM('членские взносы'!$M149:V149)","v":19000},{"$f":"SUM('план на 2016'!$L149:W149)-SUM('членские взносы'!$M149:W149)","v":1800},{"$f":"SUM('план на 2016'!$L149:X149)-SUM('членские взносы'!$M149:X149)","v":2600},{"$f":"X148","v":2600}]
[{"$f":"VLOOKUP(B149,справочник!$B$2:$E$322,4,0)","v":157},{"$f":"CONCATENATE(C149;D149)","v":{"$error":"#VALUE!"}},165,"Кудрявцева Наталья Викторовна","50:03:0070280:927","2011-12-08","2011-12-01",{"$f":"INT(($H$326-G149)/30)","v":49},{"$f":"H149*1000","v":49000},{"$f":"12000+13000","v":25000},null,{"$f":"I149-J149-K149","v":24000},{"$f":"SUM('план на 2016'!$L150:M150)-SUM('членские взносы'!$M150:M150)","v":23800},{"$f":"SUM('план на 2016'!$L150:N150)-SUM('членские взносы'!$M150:N150)","v":24600},{"$f":"SUM('план на 2016'!$L150:O150)-SUM('членские взносы'!$M150:O150)","v":25400},{"$f":"SUM('план на 2016'!$L150:P150)-SUM('членские взносы'!$M150:P150)","v":26200},{"$f":"SUM('план на 2016'!$L150:Q150)-SUM('членские взносы'!$M150:Q150)","v":27000},{"$f":"SUM('план на 2016'!$L150:R150)-SUM('членские взносы'!$M150:R150)","v":27800},{"$f":"SUM('план на 2016'!$L150:S150)-SUM('членские взносы'!$M150:S150)","v":28600},{"$f":"SUM('план на 2016'!$L150:T150)-SUM('членские взносы'!$M150:T150)","v":17400},{"$f":"SUM('план на 2016'!$L150:U150)-SUM('членские взносы'!$M150:U150)","v":6200},{"$f":"SUM('план на 2016'!$L150:V150)-SUM('членские взносы'!$M150:V150)","v":7000},{"$f":"SUM('план на 2016'!$L150:W150)-SUM('членские взносы'!$M150:W150)","v":7800},{"$f":"SUM('план на 2016'!$L150:X150)-SUM('членские взносы'!$M150:X150)","v":8600},{"$f":"X149","v":8600}]
[{"$f":"VLOOKUP(B150,справочник!$B$2:$E$322,4,0)","v":194},{"$f":"CONCATENATE(C150;D150)","v":{"$error":"#VALUE!"}},202,"Куликов Александр Владимирович","50:03:0070280:886","2014-09-16","2014-10-01",{"$f":"INT(($H$326-G150)/30)","v":15},{"$f":"H150*1000","v":15000},11000,null,{"$f":"I150-J150-K150","v":4000},{"$f":"SUM('план на 2016'!$L151:M151)-SUM('членские взносы'!$M151:M151)","v":4800},{"$f":"SUM('план на 2016'!$L151:N151)-SUM('членские взносы'!$M151:N151)","v":600},{"$f":"SUM('план на 2016'!$L151:O151)-SUM('членские взносы'!$M151:O151)","v":1400},{"$f":"SUM('план на 2016'!$L151:P151)-SUM('членские взносы'!$M151:P151)","v":2200},{"$f":"SUM('план на 2016'!$L151:Q151)-SUM('членские взносы'!$M151:Q151)","v":3000},{"$f":"SUM('план на 2016'!$L151:R151)-SUM('членские взносы'!$M151:R151)","v":3800},{"$f":"SUM('план на 2016'!$L151:S151)-SUM('членские взносы'!$M151:S151)","v":4600},{"$f":"SUM('план на 2016'!$L151:T151)-SUM('членские взносы'!$M151:T151)","v":5400},{"$f":"SUM('план на 2016'!$L151:U151)-SUM('членские взносы'!$M151:U151)","v":-3400},{"$f":"SUM('план на 2016'!$L151:V151)-SUM('членские взносы'!$M151:V151)","v":-2600},{"$f":"SUM('план на 2016'!$L151:W151)-SUM('членские взносы'!$M151:W151)","v":-1800},{"$f":"SUM('план на 2016'!$L151:X151)-SUM('членские взносы'!$M151:X151)","v":-1000},{"$f":"X150","v":-1000}]
[{"$f":"VLOOKUP(B151,справочник!$B$2:$E$322,4,0)","v":65},{"$f":"CONCATENATE(C151;D151)","v":{"$error":"#VALUE!"}},67,"Куликова Наталья Александровна","50:03:0070280:936","2011-11-25","2011-11-01",{"$f":"INT(($H$326-G151)/30)","v":50},{"$f":"H151*1000","v":50000},{"$f":"30000","v":30000},null,{"$f":"I151-J151-K151","v":20000},{"$f":"SUM('план на 2016'!$L152:M152)-SUM('членские взносы'!$M152:M152)","v":20800},{"$f":"SUM('план на 2016'!$L152:N152)-SUM('членские взносы'!$M152:N152)","v":21600},{"$f":"SUM('план на 2016'!$L152:O152)-SUM('членские взносы'!$M152:O152)","v":22400},{"$f":"SUM('план на 2016'!$L152:P152)-SUM('членские взносы'!$M152:P152)","v":23200},{"$f":"SUM('план на 2016'!$L152:Q152)-SUM('членские взносы'!$M152:Q152)","v":24000},{"$f":"SUM('план на 2016'!$L152:R152)-SUM('членские взносы'!$M152:R152)","v":24800},{"$f":"SUM('план на 2016'!$L152:S152)-SUM('членские взносы'!$M152:S152)","v":25600},{"$f":"SUM('план на 2016'!$L152:T152)-SUM('членские взносы'!$M152:T152)","v":26400},{"$f":"SUM('план на 2016'!$L152:U152)-SUM('членские взносы'!$M152:U152)","v":27200},{"$f":"SUM('план на 2016'!$L152:V152)-SUM('членские взносы'!$M152:V152)","v":28000},{"$f":"SUM('план на 2016'!$L152:W152)-SUM('членские взносы'!$M152:W152)","v":28800},{"$f":"SUM('план на 2016'!$L152:X152)-SUM('членские взносы'!$M152:X152)","v":29600},{"$f":"X151","v":29600}]
[{"$f":"VLOOKUP(B152,справочник!$B$2:$E$322,4,0)","v":216},{"$f":"CONCATENATE(C152;D152)","v":{"$error":"#VALUE!"}},225,"Кулиш Сергей Александрович","50:03:0070280:838","2014-05-14","2014-05-01",{"$f":"INT(($H$326-G152)/30)","v":20},{"$f":"H152*1000","v":20000},20000,null,{"$f":"I152-J152-K152","v":0},{"$f":"SUM('план на 2016'!$L153:M153)-SUM('членские взносы'!$M153:M153)","v":800},{"$f":"SUM('план на 2016'!$L153:N153)-SUM('членские взносы'!$M153:N153)","v":-3600},{"$f":"SUM('план на 2016'!$L153:O153)-SUM('членские взносы'!$M153:O153)","v":-2800},{"$f":"SUM('план на 2016'!$L153:P153)-SUM('членские взносы'!$M153:P153)","v":-2000},{"$f":"SUM('план на 2016'!$L153:Q153)-SUM('членские взносы'!$M153:Q153)","v":-1200},{"$f":"SUM('план на 2016'!$L153:R153)-SUM('членские взносы'!$M153:R153)","v":-400},{"$f":"SUM('план на 2016'!$L153:S153)-SUM('членские взносы'!$M153:S153)","v":400},{"$f":"SUM('план на 2016'!$L153:T153)-SUM('членские взносы'!$M153:T153)","v":1200},{"$f":"SUM('план на 2016'!$L153:U153)-SUM('членские взносы'!$M153:U153)","v":2000},{"$f":"SUM('план на 2016'!$L153:V153)-SUM('членские взносы'!$M153:V153)","v":2800},{"$f":"SUM('план на 2016'!$L153:W153)-SUM('членские взносы'!$M153:W153)","v":-800},{"$f":"SUM('план на 2016'!$L153:X153)-SUM('членские взносы'!$M153:X153)","v":0},{"$f":"X152","v":0}]
[{"$f":"VLOOKUP(B153,справочник!$B$2:$E$322,4,0)","v":216},{"$f":"CONCATENATE(C153;D153)","v":{"$error":"#VALUE!"}},226,"Кулиш Сергей Александрович","50:03:0070280:837","2014-05-14","2014-05-01",{"$f":"INT(($H$326-G153)/30)","v":20},{"$f":"H153*1000","v":20000},20000,null,{"$f":"I153-J153-K153","v":0},{"$f":"SUM('план на 2016'!$L154:M154)-SUM('членские взносы'!$M154:M154)","v":0},{"$f":"SUM('план на 2016'!$L154:N154)-SUM('членские взносы'!$M154:N154)","v":0},{"$f":"SUM('план на 2016'!$L154:O154)-SUM('членские взносы'!$M154:O154)","v":0},{"$f":"SUM('план на 2016'!$L154:P154)-SUM('членские взносы'!$M154:P154)","v":0},{"$f":"SUM('план на 2016'!$L154:Q154)-SUM('членские взносы'!$M154:Q154)","v":0},{"$f":"SUM('план на 2016'!$L154:R154)-SUM('членские взносы'!$M154:R154)","v":0},{"$f":"SUM('план на 2016'!$L154:S154)-SUM('членские взносы'!$M154:S154)","v":0},{"$f":"SUM('план на 2016'!$L154:T154)-SUM('членские взносы'!$M154:T154)","v":0},{"$f":"SUM('план на 2016'!$L154:U154)-SUM('членские взносы'!$M154:U154)","v":0},{"$f":"SUM('план на 2016'!$L154:V154)-SUM('членские взносы'!$M154:V154)","v":0},{"$f":"SUM('план на 2016'!$L154:W154)-SUM('членские взносы'!$M154:W154)","v":0},{"$f":"SUM('план на 2016'!$L154:X154)-SUM('членские взносы'!$M154:X154)","v":0},{"$f":"X153","v":0}]
[{"$f":"VLOOKUP(B154,справочник!$B$2:$E$322,4,0)","v":56},{"$f":"CONCATENATE(C154;D154)","v":{"$error":"#VALUE!"}},58,"Кушваха Виджай Шанкар","50:03:0070280:963","2011-06-21","2011-07-01",{"$f":"INT(($H$326-G154)/30)","v":54},{"$f":"H154*1000","v":54000},1000,null,{"$f":"I154-J154-K154","v":53000},{"$f":"SUM('план на 2016'!$L155:M155)-SUM('членские взносы'!$M155:M155)","v":53800},{"$f":"SUM('план на 2016'!$L155:N155)-SUM('членские взносы'!$M155:N155)","v":54600},{"$f":"SUM('план на 2016'!$L155:O155)-SUM('членские взносы'!$M155:O155)","v":55400},{"$f":"SUM('план на 2016'!$L155:P155)-SUM('членские взносы'!$M155:P155)","v":56200},{"$f":"SUM('план на 2016'!$L155:Q155)-SUM('членские взносы'!$M155:Q155)","v":57000},{"$f":"SUM('план на 2016'!$L155:R155)-SUM('членские взносы'!$M155:R155)","v":57800},{"$f":"SUM('план на 2016'!$L155:S155)-SUM('членские взносы'!$M155:S155)","v":58600},{"$f":"SUM('план на 2016'!$L155:T155)-SUM('членские взносы'!$M155:T155)","v":59400},{"$f":"SUM('план на 2016'!$L155:U155)-SUM('членские взносы'!$M155:U155)","v":60200},{"$f":"SUM('план на 2016'!$L155:V155)-SUM('членские взносы'!$M155:V155)","v":61000},{"$f":"SUM('план на 2016'!$L155:W155)-SUM('членские взносы'!$M155:W155)","v":61800},{"$f":"SUM('план на 2016'!$L155:X155)-SUM('членские взносы'!$M155:X155)","v":62600},{"$f":"X154","v":62600}]
[{"$f":"VLOOKUP(B155,справочник!$B$2:$E$322,4,0)","v":150},{"$f":"CONCATENATE(C155;D155)","v":{"$error":"#VALUE!"}},158,"Лайпанов Рустам Сеитбиевич","50:03:0070280:959","2011-08-15","2011-09-01",{"$f":"INT(($H$326-G155)/30)","v":52},{"$f":"H155*1000","v":52000},{"$f":"21000+1000","v":22000},null,{"$f":"I155-J155-K155","v":30000},{"$f":"SUM('план на 2016'!$L156:M156)-SUM('членские взносы'!$M156:M156)","v":30800},{"$f":"SUM('план на 2016'!$L156:N156)-SUM('членские взносы'!$M156:N156)","v":31600},{"$f":"SUM('план на 2016'!$L156:O156)-SUM('членские взносы'!$M156:O156)","v":32400},{"$f":"SUM('план на 2016'!$L156:P156)-SUM('членские взносы'!$M156:P156)","v":33200},{"$f":"SUM('план на 2016'!$L156:Q156)-SUM('членские взносы'!$M156:Q156)","v":34000},{"$f":"SUM('план на 2016'!$L156:R156)-SUM('членские взносы'!$M156:R156)","v":34800},{"$f":"SUM('план на 2016'!$L156:S156)-SUM('членские взносы'!$M156:S156)","v":35600},{"$f":"SUM('план на 2016'!$L156:T156)-SUM('членские взносы'!$M156:T156)","v":31600},{"$f":"SUM('план на 2016'!$L156:U156)-SUM('членские взносы'!$M156:U156)","v":26400},{"$f":"SUM('план на 2016'!$L156:V156)-SUM('членские взносы'!$M156:V156)","v":27200},{"$f":"SUM('план на 2016'!$L156:W156)-SUM('членские взносы'!$M156:W156)","v":28000},{"$f":"SUM('план на 2016'!$L156:X156)-SUM('членские взносы'!$M156:X156)","v":24000},{"$f":"X155","v":24000}]
[{"$f":"VLOOKUP(B156,справочник!$B$2:$E$322,4,0)","v":243},{"$f":"CONCATENATE(C156;D156)","v":{"$error":"#VALUE!"}},254,"Лапшин Сергей Николаевич","50:03:0070280:791","2011-09-05","2011-09-01",{"$f":"INT(($H$326-G156)/30)","v":52},{"$f":"H156*1000","v":52000},{"$f":"1000","v":1000},45000,{"$f":"I156-J156-K156","v":6000},{"$f":"SUM('план на 2016'!$L157:M157)-SUM('членские взносы'!$M157:M157)","v":1800},{"$f":"SUM('план на 2016'!$L157:N157)-SUM('членские взносы'!$M157:N157)","v":-2200},{"$f":"SUM('план на 2016'!$L157:O157)-SUM('членские взносы'!$M157:O157)","v":-1400},{"$f":"SUM('план на 2016'!$L157:P157)-SUM('членские взносы'!$M157:P157)","v":-600},{"$f":"SUM('план на 2016'!$L157:Q157)-SUM('членские взносы'!$M157:Q157)","v":200},{"$f":"SUM('план на 2016'!$L157:R157)-SUM('членские взносы'!$M157:R157)","v":-3800},{"$f":"SUM('план на 2016'!$L157:S157)-SUM('членские взносы'!$M157:S157)","v":-3000},{"$f":"SUM('план на 2016'!$L157:T157)-SUM('членские взносы'!$M157:T157)","v":-2200},{"$f":"SUM('план на 2016'!$L157:U157)-SUM('членские взносы'!$M157:U157)","v":-1400},{"$f":"SUM('план на 2016'!$L157:V157)-SUM('членские взносы'!$M157:V157)","v":-600},{"$f":"SUM('план на 2016'!$L157:W157)-SUM('членские взносы'!$M157:W157)","v":200},{"$f":"SUM('план на 2016'!$L157:X157)-SUM('членские взносы'!$M157:X157)","v":1000},{"$f":"X156","v":1000}]
[{"$f":"VLOOKUP(B157,справочник!$B$2:$E$322,4,0)","v":220},{"$f":"CONCATENATE(C157;D157)","v":{"$error":"#VALUE!"}},229,"Ларионова Наталья Владимировна","50:03:0070280:834","2014-06-10","2014-07-01",{"$f":"INT(($H$326-G157)/30)","v":18},{"$f":"H157*1000","v":18000},{"$f":"1000","v":1000},null,{"$f":"I157-J157-K157","v":17000},{"$f":"SUM('план на 2016'!$L158:M158)-SUM('членские взносы'!$M158:M158)","v":17800},{"$f":"SUM('план на 2016'!$L158:N158)-SUM('членские взносы'!$M158:N158)","v":18600},{"$f":"SUM('план на 2016'!$L158:O158)-SUM('членские взносы'!$M158:O158)","v":19400},{"$f":"SUM('план на 2016'!$L158:P158)-SUM('членские взносы'!$M158:P158)","v":20200},{"$f":"SUM('план на 2016'!$L158:Q158)-SUM('членские взносы'!$M158:Q158)","v":21000},{"$f":"SUM('план на 2016'!$L158:R158)-SUM('членские взносы'!$M158:R158)","v":21800},{"$f":"SUM('план на 2016'!$L158:S158)-SUM('членские взносы'!$M158:S158)","v":22600},{"$f":"SUM('план на 2016'!$L158:T158)-SUM('членские взносы'!$M158:T158)","v":23400},{"$f":"SUM('план на 2016'!$L158:U158)-SUM('членские взносы'!$M158:U158)","v":24200},{"$f":"SUM('план на 2016'!$L158:V158)-SUM('членские взносы'!$M158:V158)","v":25000},{"$f":"SUM('план на 2016'!$L158:W158)-SUM('членские взносы'!$M158:W158)","v":25800},{"$f":"SUM('план на 2016'!$L158:X158)-SUM('членские взносы'!$M158:X158)","v":26600},{"$f":"X157","v":26600}]
[{"$f":"VLOOKUP(B158,справочник!$B$2:$E$322,4,0)","v":3},{"$f":"CONCATENATE(C158;D158)","v":{"$error":"#VALUE!"}},3,"Лебедев Андрей Анатольевич","50:03:0070280:700","2014-11-11","2013-12-01",{"$f":"INT(($H$326-G158)/30)","v":25},{"$f":"H158*1000","v":25000},{"$f":"4000","v":4000},null,{"$f":"I158-J158-K158","v":21000},{"$f":"SUM('план на 2016'!$L159:M159)-SUM('членские взносы'!$M159:M159)","v":21800},{"$f":"SUM('план на 2016'!$L159:N159)-SUM('членские взносы'!$M159:N159)","v":22600},{"$f":"SUM('план на 2016'!$L159:O159)-SUM('членские взносы'!$M159:O159)","v":23400},{"$f":"SUM('план на 2016'!$L159:P159)-SUM('членские взносы'!$M159:P159)","v":24200},{"$f":"SUM('план на 2016'!$L159:Q159)-SUM('членские взносы'!$M159:Q159)","v":25000},{"$f":"SUM('план на 2016'!$L159:R159)-SUM('членские взносы'!$M159:R159)","v":25800},{"$f":"SUM('план на 2016'!$L159:S159)-SUM('членские взносы'!$M159:S159)","v":26600},{"$f":"SUM('план на 2016'!$L159:T159)-SUM('членские взносы'!$M159:T159)","v":27400},{"$f":"SUM('план на 2016'!$L159:U159)-SUM('членские взносы'!$M159:U159)","v":13200},{"$f":"SUM('план на 2016'!$L159:V159)-SUM('членские взносы'!$M159:V159)","v":14000},{"$f":"SUM('план на 2016'!$L159:W159)-SUM('членские взносы'!$M159:W159)","v":14800},{"$f":"SUM('план на 2016'!$L159:X159)-SUM('членские взносы'!$M159:X159)","v":15600},{"$f":"X158","v":15600}]
[{"$f":"VLOOKUP(B159,справочник!$B$2:$E$322,4,0)","v":158},{"$f":"CONCATENATE(C159;D159)","v":{"$error":"#VALUE!"}},166,"Лебедева Елена Александровна","50:03:0070280:926","2014-01-21","2014-02-01",{"$f":"INT(($H$326-G159)/30)","v":23},{"$f":"H159*1000","v":23000},{"$f":"1000","v":1000},null,{"$f":"I159-J159-K159","v":22000},{"$f":"SUM('план на 2016'!$L160:M160)-SUM('членские взносы'!$M160:M160)","v":22800},{"$f":"SUM('план на 2016'!$L160:N160)-SUM('членские взносы'!$M160:N160)","v":23600},{"$f":"SUM('план на 2016'!$L160:O160)-SUM('членские взносы'!$M160:O160)","v":24400},{"$f":"SUM('план на 2016'!$L160:P160)-SUM('членские взносы'!$M160:P160)","v":25200},{"$f":"SUM('план на 2016'!$L160:Q160)-SUM('членские взносы'!$M160:Q160)","v":26000},{"$f":"SUM('план на 2016'!$L160:R160)-SUM('членские взносы'!$M160:R160)","v":26800},{"$f":"SUM('план на 2016'!$L160:S160)-SUM('членские взносы'!$M160:S160)","v":27600},{"$f":"SUM('план на 2016'!$L160:T160)-SUM('членские взносы'!$M160:T160)","v":28400},{"$f":"SUM('план на 2016'!$L160:U160)-SUM('членские взносы'!$M160:U160)","v":29200},{"$f":"SUM('план на 2016'!$L160:V160)-SUM('членские взносы'!$M160:V160)","v":30000},{"$f":"SUM('план на 2016'!$L160:W160)-SUM('членские взносы'!$M160:W160)","v":30800},{"$f":"SUM('план на 2016'!$L160:X160)-SUM('членские взносы'!$M160:X160)","v":31600},{"$f":"X159","v":31600}]
[{"$f":"VLOOKUP(B160,справочник!$B$2:$E$322,4,0)","v":139},{"$f":"CONCATENATE(C160;D160)","v":{"$error":"#VALUE!"}},149,"Левина Елена Александровна (Дмитрий)","50:03:0070280:943","2011-06-21","2011-07-01",{"$f":"INT(($H$326-G160)/30)","v":54},{"$f":"H160*1000","v":54000},54000,null,{"$f":"I160-J160-K160","v":0},{"$f":"SUM('план на 2016'!$L161:M161)-SUM('членские взносы'!$M161:M161)","v":0},{"$f":"SUM('план на 2016'!$L161:N161)-SUM('членские взносы'!$M161:N161)","v":0},{"$f":"SUM('план на 2016'!$L161:O161)-SUM('членские взносы'!$M161:O161)","v":0},{"$f":"SUM('план на 2016'!$L161:P161)-SUM('членские взносы'!$M161:P161)","v":0},{"$f":"SUM('план на 2016'!$L161:Q161)-SUM('членские взносы'!$M161:Q161)","v":-4800},{"$f":"SUM('план на 2016'!$L161:R161)-SUM('членские взносы'!$M161:R161)","v":-4800},{"$f":"SUM('план на 2016'!$L161:S161)-SUM('членские взносы'!$M161:S161)","v":-4800},{"$f":"SUM('план на 2016'!$L161:T161)-SUM('членские взносы'!$M161:T161)","v":-9600},{"$f":"SUM('план на 2016'!$L161:U161)-SUM('членские взносы'!$M161:U161)","v":-9600},{"$f":"SUM('план на 2016'!$L161:V161)-SUM('членские взносы'!$M161:V161)","v":-9600},{"$f":"SUM('план на 2016'!$L161:W161)-SUM('членские взносы'!$M161:W161)","v":-9600},{"$f":"SUM('план на 2016'!$L161:X161)-SUM('членские взносы'!$M161:X161)","v":-9600},{"$f":"X160","v":-9600}]
[{"$f":"VLOOKUP(B161,справочник!$B$2:$E$322,4,0)","v":139},{"$f":"CONCATENATE(C161;D161)","v":{"$error":"#VALUE!"}},147,"Левина Елена Александровна (Дмитрий)","50:03:0070280:941","2011-06-21","2011-07-01",{"$f":"INT(($H$326-G161)/30)","v":54},{"$f":"H161*1000","v":54000},54000,null,{"$f":"I161-J161-K161","v":0},{"$f":"SUM('план на 2016'!$L162:M162)-SUM('членские взносы'!$M162:M162)","v":0},{"$f":"SUM('план на 2016'!$L162:N162)-SUM('членские взносы'!$M162:N162)","v":0},{"$f":"SUM('план на 2016'!$L162:O162)-SUM('членские взносы'!$M162:O162)","v":0},{"$f":"SUM('план на 2016'!$L162:P162)-SUM('членские взносы'!$M162:P162)","v":0},{"$f":"SUM('план на 2016'!$L162:Q162)-SUM('членские взносы'!$M162:Q162)","v":0},{"$f":"SUM('план на 2016'!$L162:R162)-SUM('членские взносы'!$M162:R162)","v":0},{"$f":"SUM('план на 2016'!$L162:S162)-SUM('членские взносы'!$M162:S162)","v":0},{"$f":"SUM('план на 2016'!$L162:T162)-SUM('членские взносы'!$M162:T162)","v":0},{"$f":"SUM('план на 2016'!$L162:U162)-SUM('членские взносы'!$M162:U162)","v":0},{"$f":"SUM('план на 2016'!$L162:V162)-SUM('членские взносы'!$M162:V162)","v":0},{"$f":"SUM('план на 2016'!$L162:W162)-SUM('членские взносы'!$M162:W162)","v":0},{"$f":"SUM('план на 2016'!$L162:X162)-SUM('членские взносы'!$M162:X162)","v":0},{"$f":"X161","v":0}]
[{"$f":"VLOOKUP(B162,справочник!$B$2:$E$322,4,0)","v":139},{"$f":"CONCATENATE(C162;D162)","v":{"$error":"#VALUE!"}},148,"Левина Елена Александровна (Дмитрий)","50:03:0070280:942","2011-06-21","2011-07-01",{"$f":"INT(($H$326-G162)/30)","v":54},{"$f":"H162*1000","v":54000},{"$f":"11000+4000","v":15000},null,{"$f":"I162-J162-K162","v":39000},{"$f":"SUM('план на 2016'!$L163:M163)-SUM('членские взносы'!$M163:M163)","v":39800},{"$f":"SUM('план на 2016'!$L163:N163)-SUM('членские взносы'!$M163:N163)","v":40600},{"$f":"SUM('план на 2016'!$L163:O163)-SUM('членские взносы'!$M163:O163)","v":41400},{"$f":"SUM('план на 2016'!$L163:P163)-SUM('членские взносы'!$M163:P163)","v":42200},{"$f":"SUM('план на 2016'!$L163:Q163)-SUM('членские взносы'!$M163:Q163)","v":43000},{"$f":"SUM('план на 2016'!$L163:R163)-SUM('членские взносы'!$M163:R163)","v":43800},{"$f":"SUM('план на 2016'!$L163:S163)-SUM('членские взносы'!$M163:S163)","v":44600},{"$f":"SUM('план на 2016'!$L163:T163)-SUM('членские взносы'!$M163:T163)","v":45400},{"$f":"SUM('план на 2016'!$L163:U163)-SUM('членские взносы'!$M163:U163)","v":46200},{"$f":"SUM('план на 2016'!$L163:V163)-SUM('членские взносы'!$M163:V163)","v":47000},{"$f":"SUM('план на 2016'!$L163:W163)-SUM('членские взносы'!$M163:W163)","v":47800},{"$f":"SUM('план на 2016'!$L163:X163)-SUM('членские взносы'!$M163:X163)","v":48600},{"$f":"X162","v":48600}]
[{"$f":"VLOOKUP(B163,справочник!$B$2:$E$322,4,0)","v":261},{"$f":"CONCATENATE(C163;D163)","v":{"$error":"#VALUE!"}},274,"Леськов Олег Петрович","50:03:0070280:1465","2013-04-09","2013-05-01",{"$f":"INT(($H$326-G163)/30)","v":32},{"$f":"H163*1000","v":32000},19000,null,{"$f":"I163-J163-K163","v":13000},{"$f":"SUM('план на 2016'!$L164:M164)-SUM('членские взносы'!$M164:M164)","v":10600},{"$f":"SUM('план на 2016'!$L164:N164)-SUM('членские взносы'!$M164:N164)","v":10600},{"$f":"SUM('план на 2016'!$L164:O164)-SUM('членские взносы'!$M164:O164)","v":10600},{"$f":"SUM('план на 2016'!$L164:P164)-SUM('членские взносы'!$M164:P164)","v":8200},{"$f":"SUM('план на 2016'!$L164:Q164)-SUM('членские взносы'!$M164:Q164)","v":8200},{"$f":"SUM('план на 2016'!$L164:R164)-SUM('членские взносы'!$M164:R164)","v":8200},{"$f":"SUM('план на 2016'!$L164:S164)-SUM('членские взносы'!$M164:S164)","v":5000},{"$f":"SUM('план на 2016'!$L164:T164)-SUM('членские взносы'!$M164:T164)","v":5000},{"$f":"SUM('план на 2016'!$L164:U164)-SUM('членские взносы'!$M164:U164)","v":5000},{"$f":"SUM('план на 2016'!$L164:V164)-SUM('членские взносы'!$M164:V164)","v":5000},{"$f":"SUM('план на 2016'!$L164:W164)-SUM('членские взносы'!$M164:W164)","v":5000},{"$f":"SUM('план на 2016'!$L164:X164)-SUM('членские взносы'!$M164:X164)","v":1000},{"$f":"X163","v":1000}]
[{"$f":"VLOOKUP(B164,справочник!$B$2:$E$322,4,0)","v":261},{"$f":"CONCATENATE(C164;D164)","v":{"$error":"#VALUE!"}},275,"Леськов Олег Петрович",null,"2012-04-17","2012-04-01",{"$f":"INT(($H$326-G164)/30)","v":45},{"$f":"H164*1000","v":45000},{"$f":"9000+19000","v":28000},null,{"$f":"I164-J164-K164","v":17000},{"$f":"SUM('план на 2016'!$L165:M165)-SUM('членские взносы'!$M165:M165)","v":17800},{"$f":"SUM('план на 2016'!$L165:N165)-SUM('членские взносы'!$M165:N165)","v":18600},{"$f":"SUM('план на 2016'!$L165:O165)-SUM('членские взносы'!$M165:O165)","v":19400},{"$f":"SUM('план на 2016'!$L165:P165)-SUM('членские взносы'!$M165:P165)","v":20200},{"$f":"SUM('план на 2016'!$L165:Q165)-SUM('членские взносы'!$M165:Q165)","v":21000},{"$f":"SUM('план на 2016'!$L165:R165)-SUM('членские взносы'!$M165:R165)","v":21800},{"$f":"SUM('план на 2016'!$L165:S165)-SUM('членские взносы'!$M165:S165)","v":22600},{"$f":"SUM('план на 2016'!$L165:T165)-SUM('членские взносы'!$M165:T165)","v":23400},{"$f":"SUM('план на 2016'!$L165:U165)-SUM('членские взносы'!$M165:U165)","v":24200},{"$f":"SUM('план на 2016'!$L165:V165)-SUM('членские взносы'!$M165:V165)","v":25000},{"$f":"SUM('план на 2016'!$L165:W165)-SUM('членские взносы'!$M165:W165)","v":25800},{"$f":"SUM('план на 2016'!$L165:X165)-SUM('членские взносы'!$M165:X165)","v":26600},{"$f":"X164","v":26600}]
[{"$f":"VLOOKUP(B165,справочник!$B$2:$E$322,4,0)","v":288},{"$f":"CONCATENATE(C165;D165)","v":{"$error":"#VALUE!"}},300,"Ли Наталья Сергеевна","50:03:0070280:773","2013-08-27","2013-09-01",{"$f":"INT(($H$326-G165)/30)","v":28},{"$f":"H165*1000","v":28000},null,null,{"$f":"I165-J165-K165","v":28000},{"$f":"SUM('план на 2016'!$L166:M166)-SUM('членские взносы'!$M166:M166)","v":28800},{"$f":"SUM('план на 2016'!$L166:N166)-SUM('членские взносы'!$M166:N166)","v":29600},{"$f":"SUM('план на 2016'!$L166:O166)-SUM('членские взносы'!$M166:O166)","v":30400},{"$f":"SUM('план на 2016'!$L166:P166)-SUM('членские взносы'!$M166:P166)","v":31200},{"$f":"SUM('план на 2016'!$L166:Q166)-SUM('членские взносы'!$M166:Q166)","v":32000},{"$f":"SUM('план на 2016'!$L166:R166)-SUM('членские взносы'!$M166:R166)","v":32800},{"$f":"SUM('план на 2016'!$L166:S166)-SUM('членские взносы'!$M166:S166)","v":33600},{"$f":"SUM('план на 2016'!$L166:T166)-SUM('членские взносы'!$M166:T166)","v":34400},{"$f":"SUM('план на 2016'!$L166:U166)-SUM('членские взносы'!$M166:U166)","v":35200},{"$f":"SUM('план на 2016'!$L166:V166)-SUM('членские взносы'!$M166:V166)","v":36000},{"$f":"SUM('план на 2016'!$L166:W166)-SUM('членские взносы'!$M166:W166)","v":36800},{"$f":"SUM('план на 2016'!$L166:X166)-SUM('членские взносы'!$M166:X166)","v":37600},{"$f":"X165","v":37600}]
[{"$f":"VLOOKUP(B166,справочник!$B$2:$E$322,4,0)","v":166},{"$f":"CONCATENATE(C166;D166)","v":{"$error":"#VALUE!"}},174,"Ловыгина Татьяна Александровна","50:03:0070280:891","2014-07-09","2014-08-01",{"$f":"INT(($H$326-G166)/30)","v":17},{"$f":"H166*1000","v":17000},5000,null,{"$f":"I166-J166-K166","v":12000},{"$f":"SUM('план на 2016'!$L167:M167)-SUM('членские взносы'!$M167:M167)","v":12800},{"$f":"SUM('план на 2016'!$L167:N167)-SUM('членские взносы'!$M167:N167)","v":13600},{"$f":"SUM('план на 2016'!$L167:O167)-SUM('членские взносы'!$M167:O167)","v":14400},{"$f":"SUM('план на 2016'!$L167:P167)-SUM('членские взносы'!$M167:P167)","v":15200},{"$f":"SUM('план на 2016'!$L167:Q167)-SUM('членские взносы'!$M167:Q167)","v":16000},{"$f":"SUM('план на 2016'!$L167:R167)-SUM('членские взносы'!$M167:R167)","v":16800},{"$f":"SUM('план на 2016'!$L167:S167)-SUM('членские взносы'!$M167:S167)","v":10800},{"$f":"SUM('план на 2016'!$L167:T167)-SUM('членские взносы'!$M167:T167)","v":6600},{"$f":"SUM('план на 2016'!$L167:U167)-SUM('членские взносы'!$M167:U167)","v":5000},{"$f":"SUM('план на 2016'!$L167:V167)-SUM('членские взносы'!$M167:V167)","v":5800},{"$f":"SUM('план на 2016'!$L167:W167)-SUM('членские взносы'!$M167:W167)","v":6600},{"$f":"SUM('план на 2016'!$L167:X167)-SUM('членские взносы'!$M167:X167)","v":7400},{"$f":"X166","v":7400}]
[{"$f":"VLOOKUP(B167,справочник!$B$2:$E$322,4,0)","v":118},{"$f":"CONCATENATE(C167;D167)","v":{"$error":"#VALUE!"}},123,"Лопухинова Надежда Михайловна","50:03:0070280:1020","2013-06-10","2013-07-01",{"$f":"INT(($H$326-G167)/30)","v":30},{"$f":"H167*1000","v":30000},23000,null,{"$f":"I167-J167-K167","v":7000},{"$f":"SUM('план на 2016'!$L168:M168)-SUM('членские взносы'!$M168:M168)","v":7800},{"$f":"SUM('план на 2016'!$L168:N168)-SUM('членские взносы'!$M168:N168)","v":8600},{"$f":"SUM('план на 2016'!$L168:O168)-SUM('членские взносы'!$M168:O168)","v":9400},{"$f":"SUM('план на 2016'!$L168:P168)-SUM('членские взносы'!$M168:P168)","v":10200},{"$f":"SUM('план на 2016'!$L168:Q168)-SUM('членские взносы'!$M168:Q168)","v":11000},{"$f":"SUM('план на 2016'!$L168:R168)-SUM('членские взносы'!$M168:R168)","v":11800},{"$f":"SUM('план на 2016'!$L168:S168)-SUM('членские взносы'!$M168:S168)","v":600},{"$f":"SUM('план на 2016'!$L168:T168)-SUM('членские взносы'!$M168:T168)","v":1400},{"$f":"SUM('план на 2016'!$L168:U168)-SUM('членские взносы'!$M168:U168)","v":2200},{"$f":"SUM('план на 2016'!$L168:V168)-SUM('членские взносы'!$M168:V168)","v":3000},{"$f":"SUM('план на 2016'!$L168:W168)-SUM('членские взносы'!$M168:W168)","v":3800},{"$f":"SUM('план на 2016'!$L168:X168)-SUM('членские взносы'!$M168:X168)","v":4600},{"$f":"X167","v":4600}]
[{"$f":"VLOOKUP(B168,справочник!$B$2:$E$322,4,0)","v":199},{"$f":"CONCATENATE(C168;D168)","v":{"$error":"#VALUE!"}},207,"Лошкарев Виктор Ильич","50:03:0070280:775","2012-05-07","2012-05-01",{"$f":"INT(($H$326-G168)/30)","v":44},{"$f":"H168*1000","v":44000},1000,null,{"$f":"I168-J168-K168","v":43000},{"$f":"SUM('план на 2016'!$L169:M169)-SUM('членские взносы'!$M169:M169)","v":43800},{"$f":"SUM('план на 2016'!$L169:N169)-SUM('членские взносы'!$M169:N169)","v":44600},{"$f":"SUM('план на 2016'!$L169:O169)-SUM('членские взносы'!$M169:O169)","v":45400},{"$f":"SUM('план на 2016'!$L169:P169)-SUM('членские взносы'!$M169:P169)","v":46200},{"$f":"SUM('план на 2016'!$L169:Q169)-SUM('членские взносы'!$M169:Q169)","v":47000},{"$f":"SUM('план на 2016'!$L169:R169)-SUM('членские взносы'!$M169:R169)","v":47800},{"$f":"SUM('план на 2016'!$L169:S169)-SUM('членские взносы'!$M169:S169)","v":48600},{"$f":"SUM('план на 2016'!$L169:T169)-SUM('членские взносы'!$M169:T169)","v":49400},{"$f":"SUM('план на 2016'!$L169:U169)-SUM('членские взносы'!$M169:U169)","v":50200},{"$f":"SUM('план на 2016'!$L169:V169)-SUM('членские взносы'!$M169:V169)","v":51000},{"$f":"SUM('план на 2016'!$L169:W169)-SUM('членские взносы'!$M169:W169)","v":51800},{"$f":"SUM('план на 2016'!$L169:X169)-SUM('членские взносы'!$M169:X169)","v":52600},{"$f":"X168","v":52600}]
[{"$f":"VLOOKUP(B169,справочник!$B$2:$E$322,4,0)","v":199},{"$f":"CONCATENATE(C169;D169)","v":{"$error":"#VALUE!"}},208,"Лошкарев Виктор Ильич","50:03:0070280:892","2012-05-07","2012-05-01",{"$f":"INT(($H$326-G169)/30)","v":44},{"$f":"H169*1000","v":44000},1000,null,{"$f":"I169-J169-K169","v":43000},{"$f":"SUM('план на 2016'!$L170:M170)-SUM('членские взносы'!$M170:M170)","v":43000},{"$f":"SUM('план на 2016'!$L170:N170)-SUM('членские взносы'!$M170:N170)","v":43000},{"$f":"SUM('план на 2016'!$L170:O170)-SUM('членские взносы'!$M170:O170)","v":43000},{"$f":"SUM('план на 2016'!$L170:P170)-SUM('членские взносы'!$M170:P170)","v":43000},{"$f":"SUM('план на 2016'!$L170:Q170)-SUM('членские взносы'!$M170:Q170)","v":43000},{"$f":"SUM('план на 2016'!$L170:R170)-SUM('членские взносы'!$M170:R170)","v":43000},{"$f":"SUM('план на 2016'!$L170:S170)-SUM('членские взносы'!$M170:S170)","v":43000},{"$f":"SUM('план на 2016'!$L170:T170)-SUM('членские взносы'!$M170:T170)","v":43000},{"$f":"SUM('план на 2016'!$L170:U170)-SUM('членские взносы'!$M170:U170)","v":43000},{"$f":"SUM('план на 2016'!$L170:V170)-SUM('членские взносы'!$M170:V170)","v":43000},{"$f":"SUM('план на 2016'!$L170:W170)-SUM('членские взносы'!$M170:W170)","v":43000},{"$f":"SUM('план на 2016'!$L170:X170)-SUM('членские взносы'!$M170:X170)","v":43000},{"$f":"X169","v":43000}]
[{"$f":"VLOOKUP(B170,справочник!$B$2:$E$322,4,0)","v":164},{"$f":"CONCATENATE(C170;D170)","v":{"$error":"#VALUE!"}},172,"Лунёв Денис Александрович","50:03:0070280:769","2013-10-29","2013-11-01",{"$f":"INT(($H$326-G170)/30)","v":26},{"$f":"H170*1000","v":26000},1000,null,{"$f":"I170-J170-K170","v":25000},{"$f":"SUM('план на 2016'!$L171:M171)-SUM('членские взносы'!$M171:M171)","v":25800},{"$f":"SUM('план на 2016'!$L171:N171)-SUM('членские взносы'!$M171:N171)","v":26600},{"$f":"SUM('план на 2016'!$L171:O171)-SUM('членские взносы'!$M171:O171)","v":27400},{"$f":"SUM('план на 2016'!$L171:P171)-SUM('членские взносы'!$M171:P171)","v":28200},{"$f":"SUM('план на 2016'!$L171:Q171)-SUM('членские взносы'!$M171:Q171)","v":29000},{"$f":"SUM('план на 2016'!$L171:R171)-SUM('членские взносы'!$M171:R171)","v":29800},{"$f":"SUM('план на 2016'!$L171:S171)-SUM('членские взносы'!$M171:S171)","v":30600},{"$f":"SUM('план на 2016'!$L171:T171)-SUM('членские взносы'!$M171:T171)","v":31400},{"$f":"SUM('план на 2016'!$L171:U171)-SUM('членские взносы'!$M171:U171)","v":32200},{"$f":"SUM('план на 2016'!$L171:V171)-SUM('членские взносы'!$M171:V171)","v":33000},{"$f":"SUM('план на 2016'!$L171:W171)-SUM('членские взносы'!$M171:W171)","v":23200},{"$f":"SUM('план на 2016'!$L171:X171)-SUM('членские взносы'!$M171:X171)","v":24000},{"$f":"X170","v":24000}]
[{"$f":"VLOOKUP(B171,справочник!$B$2:$E$322,4,0)","v":34},{"$f":"CONCATENATE(C171;D171)","v":{"$error":"#VALUE!"}},34,"Лунева Ольга Петровна","50:03:0070280:904","2011-08-26","2011-09-01",{"$f":"INT(($H$326-G171)/30)","v":52},{"$f":"H171*1000","v":52000},55000,null,{"$f":"I171-J171-K171","v":-3000},{"$f":"SUM('план на 2016'!$L172:M172)-SUM('членские взносы'!$M172:M172)","v":-2200},{"$f":"SUM('план на 2016'!$L172:N172)-SUM('членские взносы'!$M172:N172)","v":-1400},{"$f":"SUM('план на 2016'!$L172:O172)-SUM('членские взносы'!$M172:O172)","v":-600},{"$f":"SUM('план на 2016'!$L172:P172)-SUM('членские взносы'!$M172:P172)","v":200},{"$f":"SUM('план на 2016'!$L172:Q172)-SUM('членские взносы'!$M172:Q172)","v":1000},{"$f":"SUM('план на 2016'!$L172:R172)-SUM('членские взносы'!$M172:R172)","v":1800},{"$f":"SUM('план на 2016'!$L172:S172)-SUM('членские взносы'!$M172:S172)","v":2600},{"$f":"SUM('план на 2016'!$L172:T172)-SUM('членские взносы'!$M172:T172)","v":3400},{"$f":"SUM('план на 2016'!$L172:U172)-SUM('членские взносы'!$M172:U172)","v":4200},{"$f":"SUM('план на 2016'!$L172:V172)-SUM('членские взносы'!$M172:V172)","v":5000},{"$f":"SUM('план на 2016'!$L172:W172)-SUM('членские взносы'!$M172:W172)","v":5800},{"$f":"SUM('план на 2016'!$L172:X172)-SUM('членские взносы'!$M172:X172)","v":6600},{"$f":"X171","v":6600}]
[{"$f":"VLOOKUP(B172,справочник!$B$2:$E$322,4,0)","v":13},{"$f":"CONCATENATE(C172;D172)","v":{"$error":"#VALUE!"}},13,"Малов Алексей Викторович","50:03:0070280:702","2013-07-09","2013-08-01",{"$f":"INT(($H$326-G172)/30)","v":29},{"$f":"H172*1000","v":29000},13000,null,{"$f":"I172-J172-K172","v":16000},{"$f":"SUM('план на 2016'!$L173:M173)-SUM('членские взносы'!$M173:M173)","v":16800},{"$f":"SUM('план на 2016'!$L173:N173)-SUM('членские взносы'!$M173:N173)","v":17600},{"$f":"SUM('план на 2016'!$L173:O173)-SUM('членские взносы'!$M173:O173)","v":18400},{"$f":"SUM('план на 2016'!$L173:P173)-SUM('членские взносы'!$M173:P173)","v":19200},{"$f":"SUM('план на 2016'!$L173:Q173)-SUM('членские взносы'!$M173:Q173)","v":20000},{"$f":"SUM('план на 2016'!$L173:R173)-SUM('членские взносы'!$M173:R173)","v":20800},{"$f":"SUM('план на 2016'!$L173:S173)-SUM('членские взносы'!$M173:S173)","v":1600},{"$f":"SUM('план на 2016'!$L173:T173)-SUM('членские взносы'!$M173:T173)","v":2400},{"$f":"SUM('план на 2016'!$L173:U173)-SUM('членские взносы'!$M173:U173)","v":3200},{"$f":"SUM('план на 2016'!$L173:V173)-SUM('членские взносы'!$M173:V173)","v":4000},{"$f":"SUM('план на 2016'!$L173:W173)-SUM('членские взносы'!$M173:W173)","v":4800},{"$f":"SUM('план на 2016'!$L173:X173)-SUM('членские взносы'!$M173:X173)","v":5600},{"$f":"X172","v":5600}]
[{"$f":"VLOOKUP(B173,справочник!$B$2:$E$322,4,0)","v":273},{"$f":"CONCATENATE(C173;D173)","v":{"$error":"#VALUE!"}},286,"Маргиева Марина Евгеньевна","50:03:0070280:714","2014-12-19","2015-01-01",{"$f":"INT(($H$326-G173)/30)","v":12},{"$f":"H173*1000","v":12000},8000,null,{"$f":"I173-J173-K173","v":4000},{"$f":"SUM('план на 2016'!$L174:M174)-SUM('членские взносы'!$M174:M174)","v":4800},{"$f":"SUM('план на 2016'!$L174:N174)-SUM('членские взносы'!$M174:N174)","v":5600},{"$f":"SUM('план на 2016'!$L174:O174)-SUM('членские взносы'!$M174:O174)","v":6400},{"$f":"SUM('план на 2016'!$L174:P174)-SUM('членские взносы'!$M174:P174)","v":7200},{"$f":"SUM('план на 2016'!$L174:Q174)-SUM('членские взносы'!$M174:Q174)","v":8000},{"$f":"SUM('план на 2016'!$L174:R174)-SUM('членские взносы'!$M174:R174)","v":800},{"$f":"SUM('план на 2016'!$L174:S174)-SUM('членские взносы'!$M174:S174)","v":1600},{"$f":"SUM('план на 2016'!$L174:T174)-SUM('членские взносы'!$M174:T174)","v":2400},{"$f":"SUM('план на 2016'!$L174:U174)-SUM('членские взносы'!$M174:U174)","v":1600},{"$f":"SUM('план на 2016'!$L174:V174)-SUM('членские взносы'!$M174:V174)","v":2400},{"$f":"SUM('план на 2016'!$L174:W174)-SUM('членские взносы'!$M174:W174)","v":3200},{"$f":"SUM('план на 2016'!$L174:X174)-SUM('членские взносы'!$M174:X174)","v":800},{"$f":"X173","v":800}]
[{"$f":"VLOOKUP(B174,справочник!$B$2:$E$322,4,0)","v":87},{"$f":"CONCATENATE(C174;D174)","v":{"$error":"#VALUE!"}},92,"Маркина Людмила Николаевна, Марина","50:03:0070280:865","2012-08-23","2012-09-01",{"$f":"INT(($H$326-G174)/30)","v":40},{"$f":"H174*1000","v":40000},37000,null,{"$f":"I174-J174-K174","v":3000},{"$f":"SUM('план на 2016'!$L175:M175)-SUM('членские взносы'!$M175:M175)","v":3800},{"$f":"SUM('план на 2016'!$L175:N175)-SUM('членские взносы'!$M175:N175)","v":4600},{"$f":"SUM('план на 2016'!$L175:O175)-SUM('членские взносы'!$M175:O175)","v":5400},{"$f":"SUM('план на 2016'!$L175:P175)-SUM('членские взносы'!$M175:P175)","v":6200},{"$f":"SUM('план на 2016'!$L175:Q175)-SUM('членские взносы'!$M175:Q175)","v":7000},{"$f":"SUM('план на 2016'!$L175:R175)-SUM('членские взносы'!$M175:R175)","v":7800},{"$f":"SUM('план на 2016'!$L175:S175)-SUM('членские взносы'!$M175:S175)","v":8600},{"$f":"SUM('план на 2016'!$L175:T175)-SUM('членские взносы'!$M175:T175)","v":9400},{"$f":"SUM('план на 2016'!$L175:U175)-SUM('членские взносы'!$M175:U175)","v":10200},{"$f":"SUM('план на 2016'!$L175:V175)-SUM('членские взносы'!$M175:V175)","v":11000},{"$f":"SUM('план на 2016'!$L175:W175)-SUM('членские взносы'!$M175:W175)","v":11800},{"$f":"SUM('план на 2016'!$L175:X175)-SUM('членские взносы'!$M175:X175)","v":12600},{"$f":"X174","v":12600}]
[{"$f":"VLOOKUP(B175,справочник!$B$2:$E$322,4,0)","v":154},{"$f":"CONCATENATE(C175;D175)","v":{"$error":"#VALUE!"}},162,"Марков Максим Юрьевич","50:03:0070280:959","2011-06-26","2011-07-01",{"$f":"INT(($H$326-G175)/30)","v":54},{"$f":"H175*1000","v":54000},50000,null,{"$f":"I175-J175-K175","v":4000},{"$f":"SUM('план на 2016'!$L176:M176)-SUM('членские взносы'!$M176:M176)","v":4800},{"$f":"SUM('план на 2016'!$L176:N176)-SUM('членские взносы'!$M176:N176)","v":5600},{"$f":"SUM('план на 2016'!$L176:O176)-SUM('членские взносы'!$M176:O176)","v":6400},{"$f":"SUM('план на 2016'!$L176:P176)-SUM('членские взносы'!$M176:P176)","v":4800},{"$f":"SUM('план на 2016'!$L176:Q176)-SUM('членские взносы'!$M176:Q176)","v":4800},{"$f":"SUM('план на 2016'!$L176:R176)-SUM('членские взносы'!$M176:R176)","v":4000},{"$f":"SUM('план на 2016'!$L176:S176)-SUM('членские взносы'!$M176:S176)","v":4000},{"$f":"SUM('план на 2016'!$L176:T176)-SUM('членские взносы'!$M176:T176)","v":4000},{"$f":"SUM('план на 2016'!$L176:U176)-SUM('членские взносы'!$M176:U176)","v":4000},{"$f":"SUM('план на 2016'!$L176:V176)-SUM('членские взносы'!$M176:V176)","v":4000},{"$f":"SUM('план на 2016'!$L176:W176)-SUM('членские взносы'!$M176:W176)","v":4000},{"$f":"SUM('план на 2016'!$L176:X176)-SUM('членские взносы'!$M176:X176)","v":4000},{"$f":"X175","v":4000}]
[{"$f":"VLOOKUP(B176,справочник!$B$2:$E$322,4,0)","v":270},{"$f":"CONCATENATE(C176;D176)","v":{"$error":"#VALUE!"}},283,"Маркова Тамара Ивановна","50:03:0070280:717","2013-05-28","2013-07-01",{"$f":"INT(($H$326-G176)/30)","v":30},{"$f":"H176*1000","v":30000},20000,null,{"$f":"I176-J176-K176","v":10000},{"$f":"SUM('план на 2016'!$L177:M177)-SUM('членские взносы'!$M177:M177)","v":10800},{"$f":"SUM('план на 2016'!$L177:N177)-SUM('членские взносы'!$M177:N177)","v":11600},{"$f":"SUM('план на 2016'!$L177:O177)-SUM('членские взносы'!$M177:O177)","v":12400},{"$f":"SUM('план на 2016'!$L177:P177)-SUM('членские взносы'!$M177:P177)","v":13200},{"$f":"SUM('план на 2016'!$L177:Q177)-SUM('членские взносы'!$M177:Q177)","v":14000},{"$f":"SUM('план на 2016'!$L177:R177)-SUM('членские взносы'!$M177:R177)","v":14800},{"$f":"SUM('план на 2016'!$L177:S177)-SUM('членские взносы'!$M177:S177)","v":15600},{"$f":"SUM('план на 2016'!$L177:T177)-SUM('членские взносы'!$M177:T177)","v":1600},{"$f":"SUM('план на 2016'!$L177:U177)-SUM('членские взносы'!$M177:U177)","v":2400},{"$f":"SUM('план на 2016'!$L177:V177)-SUM('членские взносы'!$M177:V177)","v":3200},{"$f":"SUM('план на 2016'!$L177:W177)-SUM('членские взносы'!$M177:W177)","v":4000},{"$f":"SUM('план на 2016'!$L177:X177)-SUM('членские взносы'!$M177:X177)","v":4800},{"$f":"X176","v":4800}]
[{"$f":"VLOOKUP(B177,справочник!$B$2:$E$322,4,0)","v":9},{"$f":"CONCATENATE(C177;D177)","v":{"$error":"#VALUE!"}},9,"Марковнина Светлана Викторовна","50:03:0070280:706","2012-07-24","2012-08-01",{"$f":"INT(($H$326-G177)/30)","v":41},{"$f":"H177*1000","v":41000},18000,null,{"$f":"I177-J177-K177","v":23000},{"$f":"SUM('план на 2016'!$L178:M178)-SUM('членские взносы'!$M178:M178)","v":23800},{"$f":"SUM('план на 2016'!$L178:N178)-SUM('членские взносы'!$M178:N178)","v":24600},{"$f":"SUM('план на 2016'!$L178:O178)-SUM('членские взносы'!$M178:O178)","v":25400},{"$f":"SUM('план на 2016'!$L178:P178)-SUM('членские взносы'!$M178:P178)","v":26200},{"$f":"SUM('план на 2016'!$L178:Q178)-SUM('членские взносы'!$M178:Q178)","v":18000},{"$f":"SUM('план на 2016'!$L178:R178)-SUM('членские взносы'!$M178:R178)","v":17200},{"$f":"SUM('план на 2016'!$L178:S178)-SUM('членские взносы'!$M178:S178)","v":17000},{"$f":"SUM('план на 2016'!$L178:T178)-SUM('членские взносы'!$M178:T178)","v":6800},{"$f":"SUM('план на 2016'!$L178:U178)-SUM('членские взносы'!$M178:U178)","v":7600},{"$f":"SUM('план на 2016'!$L178:V178)-SUM('членские взносы'!$M178:V178)","v":1400},{"$f":"SUM('план на 2016'!$L178:W178)-SUM('членские взносы'!$M178:W178)","v":2200},{"$f":"SUM('план на 2016'!$L178:X178)-SUM('членские взносы'!$M178:X178)","v":0},{"$f":"X177","v":0}]
[{"$f":"VLOOKUP(B178,справочник!$B$2:$E$322,4,0)","v":129},{"$f":"CONCATENATE(C178;D178)","v":{"$error":"#VALUE!"}},136,"Маслов Александр Александрович","50:03:0070280:978","2013-03-19","2013-04-01",{"$f":"INT(($H$326-G178)/30)","v":33},{"$f":"H178*1000","v":33000},31000,null,{"$f":"I178-J178-K178","v":2000},{"$f":"SUM('план на 2016'!$L179:M179)-SUM('членские взносы'!$M179:M179)","v":2800},{"$f":"SUM('план на 2016'!$L179:N179)-SUM('членские взносы'!$M179:N179)","v":600},{"$f":"SUM('план на 2016'!$L179:O179)-SUM('членские взносы'!$M179:O179)","v":1400},{"$f":"SUM('план на 2016'!$L179:P179)-SUM('членские взносы'!$M179:P179)","v":-800},{"$f":"SUM('план на 2016'!$L179:Q179)-SUM('членские взносы'!$M179:Q179)","v":0},{"$f":"SUM('план на 2016'!$L179:R179)-SUM('членские взносы'!$M179:R179)","v":800},{"$f":"SUM('план на 2016'!$L179:S179)-SUM('членские взносы'!$M179:S179)","v":-1400},{"$f":"SUM('план на 2016'!$L179:T179)-SUM('членские взносы'!$M179:T179)","v":-600},{"$f":"SUM('план на 2016'!$L179:U179)-SUM('членские взносы'!$M179:U179)","v":200},{"$f":"SUM('план на 2016'!$L179:V179)-SUM('членские взносы'!$M179:V179)","v":1000},{"$f":"SUM('план на 2016'!$L179:W179)-SUM('членские взносы'!$M179:W179)","v":1800},{"$f":"SUM('план на 2016'!$L179:X179)-SUM('членские взносы'!$M179:X179)","v":2600},{"$f":"X178","v":2600}]
[{"$f":"VLOOKUP(B179,справочник!$B$2:$E$322,4,0)","v":42},{"$f":"CONCATENATE(C179;D179)","v":{"$error":"#VALUE!"}},42,"Маслов Андрей Геннадьевич (1/2)                 Щербакова Надежда Михайловна (1/2)","50:03:0070280:800","2011-08-30","2011-09-01",{"$f":"INT(($H$326-G179)/30)","v":52},{"$f":"H179*1000","v":52000},{"$f":"19500+500+4500+23500","v":48000},null,{"$f":"I179-J179-K179","v":4000},{"$f":"SUM('план на 2016'!$L180:M180)-SUM('членские взносы'!$M180:M180)","v":-200},{"$f":"SUM('план на 2016'!$L180:N180)-SUM('членские взносы'!$M180:N180)","v":-800},{"$f":"SUM('план на 2016'!$L180:O180)-SUM('членские взносы'!$M180:O180)","v":0},{"$f":"SUM('план на 2016'!$L180:P180)-SUM('членские взносы'!$M180:P180)","v":-800},{"$f":"SUM('план на 2016'!$L180:Q180)-SUM('членские взносы'!$M180:Q180)","v":0},{"$f":"SUM('план на 2016'!$L180:R180)-SUM('членские взносы'!$M180:R180)","v":-800},{"$f":"SUM('план на 2016'!$L180:S180)-SUM('членские взносы'!$M180:S180)","v":0},{"$f":"SUM('план на 2016'!$L180:T180)-SUM('членские взносы'!$M180:T180)","v":800},{"$f":"SUM('план на 2016'!$L180:U180)-SUM('членские взносы'!$M180:U180)","v":1600},{"$f":"SUM('план на 2016'!$L180:V180)-SUM('членские взносы'!$M180:V180)","v":0},{"$f":"SUM('план на 2016'!$L180:W180)-SUM('членские взносы'!$M180:W180)","v":800},{"$f":"SUM('план на 2016'!$L180:X180)-SUM('членские взносы'!$M180:X180)","v":0},{"$f":"X179","v":0}]
[{"$f":"VLOOKUP(B180,справочник!$B$2:$E$322,4,0)","v":96},{"$f":"CONCATENATE(C180;D180)","v":{"$error":"#VALUE!"}},101,"Маслова Валентина Петровна","50:03:0070280:1651","2011-06-14","2011-07-01",{"$f":"INT(($H$326-G180)/30)","v":54},{"$f":"H180*1000","v":54000},41012,null,{"$f":"I180-J180-K180","v":12988},{"$f":"SUM('план на 2016'!$L181:M181)-SUM('членские взносы'!$M181:M181)","v":3988},{"$f":"SUM('план на 2016'!$L181:N181)-SUM('членские взносы'!$M181:N181)","v":3988},{"$f":"SUM('план на 2016'!$L181:O181)-SUM('членские взносы'!$M181:O181)","v":3988},{"$f":"SUM('план на 2016'!$L181:P181)-SUM('членские взносы'!$M181:P181)","v":1988},{"$f":"SUM('план на 2016'!$L181:Q181)-SUM('членские взносы'!$M181:Q181)","v":1988},{"$f":"SUM('план на 2016'!$L181:R181)-SUM('членские взносы'!$M181:R181)","v":-12},{"$f":"SUM('план на 2016'!$L181:S181)-SUM('членские взносы'!$M181:S181)","v":-12},{"$f":"SUM('план на 2016'!$L181:T181)-SUM('членские взносы'!$M181:T181)","v":-2012},{"$f":"SUM('план на 2016'!$L181:U181)-SUM('членские взносы'!$M181:U181)","v":-2012},{"$f":"SUM('план на 2016'!$L181:V181)-SUM('членские взносы'!$M181:V181)","v":-4012},{"$f":"SUM('план на 2016'!$L181:W181)-SUM('членские взносы'!$M181:W181)","v":-4012},{"$f":"SUM('план на 2016'!$L181:X181)-SUM('членские взносы'!$M181:X181)","v":-6012},{"$f":"X180","v":-6012}]
[{"$f":"VLOOKUP(B181,справочник!$B$2:$E$322,4,0)","v":96},{"$f":"CONCATENATE(C181;D181)","v":{"$error":"#VALUE!"}},102,"Маслова Валентина Петровна",null,"2011-06-14","2011-07-01",{"$f":"INT(($H$326-G181)/30)","v":54},{"$f":"H181*1000","v":54000},41000,null,{"$f":"I181-J181-K181","v":13000},{"$f":"SUM('план на 2016'!$L182:M182)-SUM('членские взносы'!$M182:M182)","v":13800},{"$f":"SUM('план на 2016'!$L182:N182)-SUM('членские взносы'!$M182:N182)","v":14600},{"$f":"SUM('план на 2016'!$L182:O182)-SUM('членские взносы'!$M182:O182)","v":15400},{"$f":"SUM('план на 2016'!$L182:P182)-SUM('членские взносы'!$M182:P182)","v":16200},{"$f":"SUM('план на 2016'!$L182:Q182)-SUM('членские взносы'!$M182:Q182)","v":17000},{"$f":"SUM('план на 2016'!$L182:R182)-SUM('членские взносы'!$M182:R182)","v":17800},{"$f":"SUM('план на 2016'!$L182:S182)-SUM('членские взносы'!$M182:S182)","v":18600},{"$f":"SUM('план на 2016'!$L182:T182)-SUM('членские взносы'!$M182:T182)","v":19400},{"$f":"SUM('план на 2016'!$L182:U182)-SUM('членские взносы'!$M182:U182)","v":20200},{"$f":"SUM('план на 2016'!$L182:V182)-SUM('членские взносы'!$M182:V182)","v":21000},{"$f":"SUM('план на 2016'!$L182:W182)-SUM('членские взносы'!$M182:W182)","v":21800},{"$f":"SUM('план на 2016'!$L182:X182)-SUM('членские взносы'!$M182:X182)","v":22600},{"$f":"X181","v":22600}]
[{"$f":"VLOOKUP(B182,справочник!$B$2:$E$322,4,0)","v":292},{"$f":"CONCATENATE(C182;D182)","v":{"$error":"#VALUE!"}},305,"Матвеев Денис Львович","50:03:0070280:996","2015-01-14","2015-02-01",{"$f":"INT(($H$326-G182)/30)","v":11},{"$f":"H182*1000","v":11000},null,null,{"$f":"I182-J182-K182","v":11000},{"$f":"SUM('план на 2016'!$L183:M183)-SUM('членские взносы'!$M183:M183)","v":11800},{"$f":"SUM('план на 2016'!$L183:N183)-SUM('членские взносы'!$M183:N183)","v":12600},{"$f":"SUM('план на 2016'!$L183:O183)-SUM('членские взносы'!$M183:O183)","v":13400},{"$f":"SUM('план на 2016'!$L183:P183)-SUM('членские взносы'!$M183:P183)","v":14200},{"$f":"SUM('план на 2016'!$L183:Q183)-SUM('членские взносы'!$M183:Q183)","v":15000},{"$f":"SUM('план на 2016'!$L183:R183)-SUM('членские взносы'!$M183:R183)","v":15800},{"$f":"SUM('план на 2016'!$L183:S183)-SUM('членские взносы'!$M183:S183)","v":16600},{"$f":"SUM('план на 2016'!$L183:T183)-SUM('членские взносы'!$M183:T183)","v":17400},{"$f":"SUM('план на 2016'!$L183:U183)-SUM('членские взносы'!$M183:U183)","v":18200},{"$f":"SUM('план на 2016'!$L183:V183)-SUM('членские взносы'!$M183:V183)","v":19000},{"$f":"SUM('план на 2016'!$L183:W183)-SUM('членские взносы'!$M183:W183)","v":19800},{"$f":"SUM('план на 2016'!$L183:X183)-SUM('членские взносы'!$M183:X183)","v":20600},{"$f":"X182","v":20600}]
[{"$f":"VLOOKUP(B183,справочник!$B$2:$E$322,4,0)","v":209},{"$f":"CONCATENATE(C183;D183)","v":{"$error":"#VALUE!"}},219,"Мельников Михаил Вячеславович / Диденко",null,"2012-12-05","2013-03-01",20,{"$f":"H183*1000","v":20000},null,null,{"$f":"I183-J183-K183","v":20000},{"$f":"SUM('план на 2016'!$L184:M184)-SUM('членские взносы'!$M184:M184)","v":20800},{"$f":"SUM('план на 2016'!$L184:N184)-SUM('членские взносы'!$M184:N184)","v":21600},{"$f":"SUM('план на 2016'!$L184:O184)-SUM('членские взносы'!$M184:O184)","v":22400},{"$f":"SUM('план на 2016'!$L184:P184)-SUM('членские взносы'!$M184:P184)","v":23200},{"$f":"SUM('план на 2016'!$L184:Q184)-SUM('членские взносы'!$M184:Q184)","v":22000},{"$f":"SUM('план на 2016'!$L184:R184)-SUM('членские взносы'!$M184:R184)","v":19800},{"$f":"SUM('план на 2016'!$L184:S184)-SUM('членские взносы'!$M184:S184)","v":20600},{"$f":"SUM('план на 2016'!$L184:T184)-SUM('членские взносы'!$M184:T184)","v":18400},{"$f":"SUM('план на 2016'!$L184:U184)-SUM('членские взносы'!$M184:U184)","v":19200},{"$f":"SUM('план на 2016'!$L184:V184)-SUM('членские взносы'!$M184:V184)","v":17000},{"$f":"SUM('план на 2016'!$L184:W184)-SUM('членские взносы'!$M184:W184)","v":15800},{"$f":"SUM('план на 2016'!$L184:X184)-SUM('членские взносы'!$M184:X184)","v":16600},{"$f":"X183","v":16600}]
[{"$f":"VLOOKUP(B184,справочник!$B$2:$E$322,4,0)","v":257},{"$f":"CONCATENATE(C184;D184)","v":{"$error":"#VALUE!"}},270,"Месхидзе Оксана Валерьевна","50:03:0070280:733","2013-09-09","2013-10-01",{"$f":"INT(($H$326-G184)/30)","v":27},{"$f":"H184*1000","v":27000},1000,null,{"$f":"I184-J184-K184","v":26000},{"$f":"SUM('план на 2016'!$L185:M185)-SUM('членские взносы'!$M185:M185)","v":26800},{"$f":"SUM('план на 2016'!$L185:N185)-SUM('членские взносы'!$M185:N185)","v":27600},{"$f":"SUM('план на 2016'!$L185:O185)-SUM('членские взносы'!$M185:O185)","v":28400},{"$f":"SUM('план на 2016'!$L185:P185)-SUM('членские взносы'!$M185:P185)","v":29200},{"$f":"SUM('план на 2016'!$L185:Q185)-SUM('членские взносы'!$M185:Q185)","v":30000},{"$f":"SUM('план на 2016'!$L185:R185)-SUM('членские взносы'!$M185:R185)","v":30800},{"$f":"SUM('план на 2016'!$L185:S185)-SUM('членские взносы'!$M185:S185)","v":31600},{"$f":"SUM('план на 2016'!$L185:T185)-SUM('членские взносы'!$M185:T185)","v":32400},{"$f":"SUM('план на 2016'!$L185:U185)-SUM('членские взносы'!$M185:U185)","v":33200},{"$f":"SUM('план на 2016'!$L185:V185)-SUM('членские взносы'!$M185:V185)","v":34000},{"$f":"SUM('план на 2016'!$L185:W185)-SUM('членские взносы'!$M185:W185)","v":34800},{"$f":"SUM('план на 2016'!$L185:X185)-SUM('членские взносы'!$M185:X185)","v":35600},{"$f":"X184","v":35600}]
[{"$f":"VLOOKUP(B185,справочник!$B$2:$E$322,4,0)","v":212},{"$f":"CONCATENATE(C185;D185)","v":{"$error":"#VALUE!"}},221,"Милишенко Надежда Ивановна","50:03:0070280:842","2013-10-05","2013-11-01",{"$f":"INT(($H$326-G185)/30)","v":26},{"$f":"H185*1000","v":26000},23000,null,{"$f":"I185-J185-K185","v":3000},{"$f":"SUM('план на 2016'!$L186:M186)-SUM('членские взносы'!$M186:M186)","v":3200},{"$f":"SUM('план на 2016'!$L186:N186)-SUM('членские взносы'!$M186:N186)","v":4000},{"$f":"SUM('план на 2016'!$L186:O186)-SUM('членские взносы'!$M186:O186)","v":3200},{"$f":"SUM('план на 2016'!$L186:P186)-SUM('членские взносы'!$M186:P186)","v":3200},{"$f":"SUM('план на 2016'!$L186:Q186)-SUM('членские взносы'!$M186:Q186)","v":4000},{"$f":"SUM('план на 2016'!$L186:R186)-SUM('членские взносы'!$M186:R186)","v":4800},{"$f":"SUM('план на 2016'!$L186:S186)-SUM('членские взносы'!$M186:S186)","v":4800},{"$f":"SUM('план на 2016'!$L186:T186)-SUM('членские взносы'!$M186:T186)","v":4800},{"$f":"SUM('план на 2016'!$L186:U186)-SUM('членские взносы'!$M186:U186)","v":5600},{"$f":"SUM('план на 2016'!$L186:V186)-SUM('членские взносы'!$M186:V186)","v":4800},{"$f":"SUM('план на 2016'!$L186:W186)-SUM('членские взносы'!$M186:W186)","v":5600},{"$f":"SUM('план на 2016'!$L186:X186)-SUM('членские взносы'!$M186:X186)","v":4800},{"$f":"X185","v":4800}]
[{"$f":"VLOOKUP(B186,справочник!$B$2:$E$322,4,0)","v":320},{"$f":"CONCATENATE(C186;D186)","v":{"$error":"#VALUE!"}},null,"Милоянин Алексей Леонидович",{"$nulls":8},{"$f":"SUM('план на 2016'!$L187:M187)-SUM('членские взносы'!$M187:M187)","v":800},{"$f":"SUM('план на 2016'!$L187:N187)-SUM('членские взносы'!$M187:N187)","v":1600},{"$f":"SUM('план на 2016'!$L187:O187)-SUM('членские взносы'!$M187:O187)","v":2400},{"$f":"SUM('план на 2016'!$L187:P187)-SUM('членские взносы'!$M187:P187)","v":0},{"$f":"SUM('план на 2016'!$L187:Q187)-SUM('членские взносы'!$M187:Q187)","v":800},{"$f":"SUM('план на 2016'!$L187:R187)-SUM('членские взносы'!$M187:R187)","v":1600},{"$f":"SUM('план на 2016'!$L187:S187)-SUM('членские взносы'!$M187:S187)","v":2400},{"$f":"SUM('план на 2016'!$L187:T187)-SUM('членские взносы'!$M187:T187)","v":3200},{"$f":"SUM('план на 2016'!$L187:U187)-SUM('членские взносы'!$M187:U187)","v":4000},{"$f":"SUM('план на 2016'!$L187:V187)-SUM('членские взносы'!$M187:V187)","v":4800},{"$f":"SUM('план на 2016'!$L187:W187)-SUM('членские взносы'!$M187:W187)","v":-800},{"$f":"SUM('план на 2016'!$L187:X187)-SUM('членские взносы'!$M187:X187)","v":0},{"$f":"X186","v":0}]
[{"$f":"VLOOKUP(B187,справочник!$B$2:$E$322,4,0)","v":186},{"$f":"CONCATENATE(C187;D187)","v":{"$error":"#VALUE!"}},194,"Мирошниченко Андрей Иванович Захарова Елена Александровна","50:03:0070280:914","2014-08-21","2014-09-01",{"$f":"INT(($H$326-G187)/30)","v":16},{"$f":"H187*1000","v":16000},12000,null,{"$f":"I187-J187-K187","v":4000},{"$f":"SUM('план на 2016'!$L188:M188)-SUM('членские взносы'!$M188:M188)","v":4800},{"$f":"SUM('план на 2016'!$L188:N188)-SUM('членские взносы'!$M188:N188)","v":5600},{"$f":"SUM('план на 2016'!$L188:O188)-SUM('членские взносы'!$M188:O188)","v":6400},{"$f":"SUM('план на 2016'!$L188:P188)-SUM('членские взносы'!$M188:P188)","v":2200},{"$f":"SUM('план на 2016'!$L188:Q188)-SUM('членские взносы'!$M188:Q188)","v":3000},{"$f":"SUM('план на 2016'!$L188:R188)-SUM('членские взносы'!$M188:R188)","v":3800},{"$f":"SUM('план на 2016'!$L188:S188)-SUM('членские взносы'!$M188:S188)","v":4600},{"$f":"SUM('план на 2016'!$L188:T188)-SUM('членские взносы'!$M188:T188)","v":5400},{"$f":"SUM('план на 2016'!$L188:U188)-SUM('членские взносы'!$M188:U188)","v":6200},{"$f":"SUM('план на 2016'!$L188:V188)-SUM('членские взносы'!$M188:V188)","v":7000},{"$f":"SUM('план на 2016'!$L188:W188)-SUM('членские взносы'!$M188:W188)","v":7800},{"$f":"SUM('план на 2016'!$L188:X188)-SUM('членские взносы'!$M188:X188)","v":8600},{"$f":"X187","v":8600}]
[{"$f":"VLOOKUP(B188,справочник!$B$2:$E$322,4,0)","v":187},{"$f":"CONCATENATE(C188;D188)","v":{"$error":"#VALUE!"}},195,"Мирошниченко Екатерина Олеговна","50:03:0070280:913","2013-09-25","2013-10-01",{"$f":"INT(($H$326-G188)/30)","v":27},{"$f":"H188*1000","v":27000},null,null,{"$f":"I188-J188-K188","v":27000},{"$f":"SUM('план на 2016'!$L189:M189)-SUM('членские взносы'!$M189:M189)","v":27800},{"$f":"SUM('план на 2016'!$L189:N189)-SUM('членские взносы'!$M189:N189)","v":28600},{"$f":"SUM('план на 2016'!$L189:O189)-SUM('членские взносы'!$M189:O189)","v":29400},{"$f":"SUM('план на 2016'!$L189:P189)-SUM('членские взносы'!$M189:P189)","v":25200},{"$f":"SUM('план на 2016'!$L189:Q189)-SUM('членские взносы'!$M189:Q189)","v":26000},{"$f":"SUM('план на 2016'!$L189:R189)-SUM('членские взносы'!$M189:R189)","v":26800},{"$f":"SUM('план на 2016'!$L189:S189)-SUM('членские взносы'!$M189:S189)","v":27600},{"$f":"SUM('план на 2016'!$L189:T189)-SUM('членские взносы'!$M189:T189)","v":23400},{"$f":"SUM('план на 2016'!$L189:U189)-SUM('членские взносы'!$M189:U189)","v":24200},{"$f":"SUM('план на 2016'!$L189:V189)-SUM('членские взносы'!$M189:V189)","v":25000},{"$f":"SUM('план на 2016'!$L189:W189)-SUM('членские взносы'!$M189:W189)","v":25800},{"$f":"SUM('план на 2016'!$L189:X189)-SUM('членские взносы'!$M189:X189)","v":26600},{"$f":"X188","v":26600}]
[{"$f":"VLOOKUP(B189,справочник!$B$2:$E$322,4,0)","v":211},{"$f":"CONCATENATE(C189;D189)","v":{"$error":"#VALUE!"}},220,"Модин Игорь Николаевич","50:03:0070280:843","2013-05-23","2013-06-01",{"$f":"INT(($H$326-G189)/30)","v":31},{"$f":"H189*1000","v":31000},26000,7000,{"$f":"I189-J189-K189","v":-2000},{"$f":"SUM('план на 2016'!$L190:M190)-SUM('членские взносы'!$M190:M190)","v":-1200},{"$f":"SUM('план на 2016'!$L190:N190)-SUM('членские взносы'!$M190:N190)","v":-400},{"$f":"SUM('план на 2016'!$L190:O190)-SUM('членские взносы'!$M190:O190)","v":400},{"$f":"SUM('план на 2016'!$L190:P190)-SUM('членские взносы'!$M190:P190)","v":1200},{"$f":"SUM('план на 2016'!$L190:Q190)-SUM('членские взносы'!$M190:Q190)","v":2000},{"$f":"SUM('план на 2016'!$L190:R190)-SUM('членские взносы'!$M190:R190)","v":2800},{"$f":"SUM('план на 2016'!$L190:S190)-SUM('членские взносы'!$M190:S190)","v":3600},{"$f":"SUM('план на 2016'!$L190:T190)-SUM('членские взносы'!$M190:T190)","v":4400},{"$f":"SUM('план на 2016'!$L190:U190)-SUM('членские взносы'!$M190:U190)","v":5200},{"$f":"SUM('план на 2016'!$L190:V190)-SUM('членские взносы'!$M190:V190)","v":-3600},{"$f":"SUM('план на 2016'!$L190:W190)-SUM('членские взносы'!$M190:W190)","v":-2800},{"$f":"SUM('план на 2016'!$L190:X190)-SUM('членские взносы'!$M190:X190)","v":-2000},{"$f":"X189","v":-2000}]
[{"$f":"VLOOKUP(B190,справочник!$B$2:$E$322,4,0)","v":242},{"$f":"CONCATENATE(C190;D190)","v":{"$error":"#VALUE!"}},253,"Моисеев Андрей Валентинович","50:03:0070280:792","2013-03-19","2013-04-01",{"$f":"INT(($H$326-G190)/30)","v":33},{"$f":"H190*1000","v":33000},4000,null,{"$f":"I190-J190-K190","v":29000},{"$f":"SUM('план на 2016'!$L191:M191)-SUM('членские взносы'!$M191:M191)","v":29800},{"$f":"SUM('план на 2016'!$L191:N191)-SUM('членские взносы'!$M191:N191)","v":30600},{"$f":"SUM('план на 2016'!$L191:O191)-SUM('членские взносы'!$M191:O191)","v":31400},{"$f":"SUM('план на 2016'!$L191:P191)-SUM('членские взносы'!$M191:P191)","v":32200},{"$f":"SUM('план на 2016'!$L191:Q191)-SUM('членские взносы'!$M191:Q191)","v":33000},{"$f":"SUM('план на 2016'!$L191:R191)-SUM('членские взносы'!$M191:R191)","v":33800},{"$f":"SUM('план на 2016'!$L191:S191)-SUM('членские взносы'!$M191:S191)","v":34600},{"$f":"SUM('план на 2016'!$L191:T191)-SUM('членские взносы'!$M191:T191)","v":35400},{"$f":"SUM('план на 2016'!$L191:U191)-SUM('членские взносы'!$M191:U191)","v":36200},{"$f":"SUM('план на 2016'!$L191:V191)-SUM('членские взносы'!$M191:V191)","v":37000},{"$f":"SUM('план на 2016'!$L191:W191)-SUM('членские взносы'!$M191:W191)","v":37800},{"$f":"SUM('план на 2016'!$L191:X191)-SUM('членские взносы'!$M191:X191)","v":38600},{"$f":"X190","v":38600}]
[{"$f":"VLOOKUP(B191,справочник!$B$2:$E$322,4,0)","v":218},{"$f":"CONCATENATE(C191;D191)","v":{"$error":"#VALUE!"}},227,"Молчанова Ирина Владимировна","50:03:0070280:836","2011-09-07","2011-09-01",{"$f":"INT(($H$326-G191)/30)","v":52},{"$f":"H191*1000","v":52000},33000,5000,{"$f":"I191-J191-K191","v":14000},{"$f":"SUM('план на 2016'!$L192:M192)-SUM('членские взносы'!$M192:M192)","v":14800},{"$f":"SUM('план на 2016'!$L192:N192)-SUM('членские взносы'!$M192:N192)","v":15600},{"$f":"SUM('план на 2016'!$L192:O192)-SUM('членские взносы'!$M192:O192)","v":15400},{"$f":"SUM('план на 2016'!$L192:P192)-SUM('членские взносы'!$M192:P192)","v":16200},{"$f":"SUM('план на 2016'!$L192:Q192)-SUM('членские взносы'!$M192:Q192)","v":17000},{"$f":"SUM('план на 2016'!$L192:R192)-SUM('членские взносы'!$M192:R192)","v":12800},{"$f":"SUM('план на 2016'!$L192:S192)-SUM('членские взносы'!$M192:S192)","v":1600},{"$f":"SUM('план на 2016'!$L192:T192)-SUM('членские взносы'!$M192:T192)","v":2400},{"$f":"SUM('план на 2016'!$L192:U192)-SUM('членские взносы'!$M192:U192)","v":0},{"$f":"SUM('план на 2016'!$L192:V192)-SUM('членские взносы'!$M192:V192)","v":800},{"$f":"SUM('план на 2016'!$L192:W192)-SUM('членские взносы'!$M192:W192)","v":1600},{"$f":"SUM('план на 2016'!$L192:X192)-SUM('членские взносы'!$M192:X192)","v":0},{"$f":"X191","v":0}]
[{"$f":"VLOOKUP(B192,справочник!$B$2:$E$322,4,0)","v":120},{"$f":"CONCATENATE(C192;D192)","v":{"$error":"#VALUE!"}},125,"Мудрак Владимир Григорьевич (Марина)","50:03:0070280:1022","2013-05-23","2013-06-01",{"$f":"INT(($H$326-G192)/30)","v":31},{"$f":"H192*1000","v":31000},21000,null,{"$f":"I192-J192-K192","v":10000},{"$f":"SUM('план на 2016'!$L193:M193)-SUM('членские взносы'!$M193:M193)","v":5800},{"$f":"SUM('план на 2016'!$L193:N193)-SUM('членские взносы'!$M193:N193)","v":0},{"$f":"SUM('план на 2016'!$L193:O193)-SUM('членские взносы'!$M193:O193)","v":-1200},{"$f":"SUM('план на 2016'!$L193:P193)-SUM('членские взносы'!$M193:P193)","v":-400},{"$f":"SUM('план на 2016'!$L193:Q193)-SUM('членские взносы'!$M193:Q193)","v":400},{"$f":"SUM('план на 2016'!$L193:R193)-SUM('членские взносы'!$M193:R193)","v":0},{"$f":"SUM('план на 2016'!$L193:S193)-SUM('членские взносы'!$M193:S193)","v":800},{"$f":"SUM('план на 2016'!$L193:T193)-SUM('членские взносы'!$M193:T193)","v":1600},{"$f":"SUM('план на 2016'!$L193:U193)-SUM('членские взносы'!$M193:U193)","v":2400},{"$f":"SUM('план на 2016'!$L193:V193)-SUM('членские взносы'!$M193:V193)","v":0},{"$f":"SUM('план на 2016'!$L193:W193)-SUM('членские взносы'!$M193:W193)","v":800},{"$f":"SUM('план на 2016'!$L193:X193)-SUM('членские взносы'!$M193:X193)","v":0},{"$f":"X192","v":0}]
[{"$f":"VLOOKUP(B193,справочник!$B$2:$E$322,4,0)","v":287},{"$f":"CONCATENATE(C193;D193)","v":{"$error":"#VALUE!"}},299,"Мурадова Альбина Сергеевна","50:03:0070280:774","2014-09-15","2014-10-01",{"$f":"INT(($H$326-G193)/30)","v":15},{"$f":"H193*1000","v":15000},13000,null,{"$f":"I193-J193-K193","v":2000},{"$f":"SUM('план на 2016'!$L194:M194)-SUM('членские взносы'!$M194:M194)","v":2800},{"$f":"SUM('план на 2016'!$L194:N194)-SUM('членские взносы'!$M194:N194)","v":3600},{"$f":"SUM('план на 2016'!$L194:O194)-SUM('членские взносы'!$M194:O194)","v":4400},{"$f":"SUM('план на 2016'!$L194:P194)-SUM('членские взносы'!$M194:P194)","v":5200},{"$f":"SUM('план на 2016'!$L194:Q194)-SUM('членские взносы'!$M194:Q194)","v":6000},{"$f":"SUM('план на 2016'!$L194:R194)-SUM('членские взносы'!$M194:R194)","v":6800},{"$f":"SUM('план на 2016'!$L194:S194)-SUM('членские взносы'!$M194:S194)","v":2400},{"$f":"SUM('план на 2016'!$L194:T194)-SUM('членские взносы'!$M194:T194)","v":3200},{"$f":"SUM('план на 2016'!$L194:U194)-SUM('членские взносы'!$M194:U194)","v":4000},{"$f":"SUM('план на 2016'!$L194:V194)-SUM('членские взносы'!$M194:V194)","v":4800},{"$f":"SUM('план на 2016'!$L194:W194)-SUM('членские взносы'!$M194:W194)","v":5600},{"$f":"SUM('план на 2016'!$L194:X194)-SUM('членские взносы'!$M194:X194)","v":800},{"$f":"X193","v":800}]
[{"$f":"VLOOKUP(B194,справочник!$B$2:$E$322,4,0)","v":170},{"$f":"CONCATENATE(C194;D194)","v":{"$error":"#VALUE!"}},178,"Науменко Дмитрий Александрович","50:03:0070280:767","2013-05-20","2013-07-01",{"$f":"INT(($H$326-G194)/30)","v":30},{"$f":"H194*1000","v":30000},29000,1000,{"$f":"I194-J194-K194","v":0},{"$f":"SUM('план на 2016'!$L195:M195)-SUM('членские взносы'!$M195:M195)","v":-2400},{"$f":"SUM('план на 2016'!$L195:N195)-SUM('членские взносы'!$M195:N195)","v":-2400},{"$f":"SUM('план на 2016'!$L195:O195)-SUM('членские взносы'!$M195:O195)","v":-4800},{"$f":"SUM('план на 2016'!$L195:P195)-SUM('членские взносы'!$M195:P195)","v":-4800},{"$f":"SUM('план на 2016'!$L195:Q195)-SUM('членские взносы'!$M195:Q195)","v":-4800},{"$f":"SUM('план на 2016'!$L195:R195)-SUM('членские взносы'!$M195:R195)","v":-7200},{"$f":"SUM('план на 2016'!$L195:S195)-SUM('членские взносы'!$M195:S195)","v":-7200},{"$f":"SUM('план на 2016'!$L195:T195)-SUM('членские взносы'!$M195:T195)","v":-7200},{"$f":"SUM('план на 2016'!$L195:U195)-SUM('членские взносы'!$M195:U195)","v":-7200},{"$f":"SUM('план на 2016'!$L195:V195)-SUM('членские взносы'!$M195:V195)","v":-9600},{"$f":"SUM('план на 2016'!$L195:W195)-SUM('членские взносы'!$M195:W195)","v":-9600},{"$f":"SUM('план на 2016'!$L195:X195)-SUM('членские взносы'!$M195:X195)","v":-12000},{"$f":"X194","v":-12000}]
[{"$f":"VLOOKUP(B195,справочник!$B$2:$E$322,4,0)","v":170},{"$f":"CONCATENATE(C195;D195)","v":{"$error":"#VALUE!"}},179,"Науменко Дмитрий Александрович","50:03:0070280:766","2013-05-20","2013-07-01",{"$f":"INT(($H$326-G195)/30)","v":30},{"$f":"H195*1000","v":30000},29000,1000,{"$f":"I195-J195-K195","v":0},{"$f":"SUM('план на 2016'!$L196:M196)-SUM('членские взносы'!$M196:M196)","v":800},{"$f":"SUM('план на 2016'!$L196:N196)-SUM('членские взносы'!$M196:N196)","v":1600},{"$f":"SUM('план на 2016'!$L196:O196)-SUM('членские взносы'!$M196:O196)","v":2400},{"$f":"SUM('план на 2016'!$L196:P196)-SUM('членские взносы'!$M196:P196)","v":3200},{"$f":"SUM('план на 2016'!$L196:Q196)-SUM('членские взносы'!$M196:Q196)","v":4000},{"$f":"SUM('план на 2016'!$L196:R196)-SUM('членские взносы'!$M196:R196)","v":4800},{"$f":"SUM('план на 2016'!$L196:S196)-SUM('членские взносы'!$M196:S196)","v":5600},{"$f":"SUM('план на 2016'!$L196:T196)-SUM('членские взносы'!$M196:T196)","v":6400},{"$f":"SUM('план на 2016'!$L196:U196)-SUM('членские взносы'!$M196:U196)","v":7200},{"$f":"SUM('план на 2016'!$L196:V196)-SUM('членские взносы'!$M196:V196)","v":8000},{"$f":"SUM('план на 2016'!$L196:W196)-SUM('членские взносы'!$M196:W196)","v":8800},{"$f":"SUM('план на 2016'!$L196:X196)-SUM('членские взносы'!$M196:X196)","v":9600},{"$f":"X195","v":9600}]
[{"$f":"VLOOKUP(B196,справочник!$B$2:$E$322,4,0)","v":290},{"$f":"CONCATENATE(C196;D196)","v":{"$error":"#VALUE!"}},303,"Недосенко Татьяна Сергеевна (Олег)","50:03:0070280:994","2012-02-20","2012-02-01",{"$f":"INT(($H$326-G196)/30)","v":47},{"$f":"H196*1000","v":47000},42000,5000,{"$f":"I196-J196-K196","v":0},{"$f":"SUM('план на 2016'!$L197:M197)-SUM('членские взносы'!$M197:M197)","v":800},{"$f":"SUM('план на 2016'!$L197:N197)-SUM('членские взносы'!$M197:N197)","v":1600},{"$f":"SUM('план на 2016'!$L197:O197)-SUM('членские взносы'!$M197:O197)","v":2400},{"$f":"SUM('план на 2016'!$L197:P197)-SUM('членские взносы'!$M197:P197)","v":3200},{"$f":"SUM('план на 2016'!$L197:Q197)-SUM('членские взносы'!$M197:Q197)","v":-1000},{"$f":"SUM('план на 2016'!$L197:R197)-SUM('членские взносы'!$M197:R197)","v":-200},{"$f":"SUM('план на 2016'!$L197:S197)-SUM('членские взносы'!$M197:S197)","v":600},{"$f":"SUM('план на 2016'!$L197:T197)-SUM('членские взносы'!$M197:T197)","v":1400},{"$f":"SUM('план на 2016'!$L197:U197)-SUM('членские взносы'!$M197:U197)","v":-2800},{"$f":"SUM('план на 2016'!$L197:V197)-SUM('членские взносы'!$M197:V197)","v":-2000},{"$f":"SUM('план на 2016'!$L197:W197)-SUM('членские взносы'!$M197:W197)","v":-1200},{"$f":"SUM('план на 2016'!$L197:X197)-SUM('членские взносы'!$M197:X197)","v":-400},{"$f":"X196","v":-400}]
[{"$f":"VLOOKUP(B197,справочник!$B$2:$E$322,4,0)","v":81},{"$f":"CONCATENATE(C197;D197)","v":{"$error":"#VALUE!"}},86,"Нелюбов Сергей Владимирович","50:03:0070280:879","2012-02-10","2012-02-01",{"$f":"INT(($H$326-G197)/30)","v":47},{"$f":"H197*1000","v":47000},44000,3000,{"$f":"I197-J197-K197","v":0},{"$f":"SUM('план на 2016'!$L198:M198)-SUM('членские взносы'!$M198:M198)","v":800},{"$f":"SUM('план на 2016'!$L198:N198)-SUM('членские взносы'!$M198:N198)","v":1600},{"$f":"SUM('план на 2016'!$L198:O198)-SUM('членские взносы'!$M198:O198)","v":-800},{"$f":"SUM('план на 2016'!$L198:P198)-SUM('членские взносы'!$M198:P198)","v":0},{"$f":"SUM('план на 2016'!$L198:Q198)-SUM('членские взносы'!$M198:Q198)","v":800},{"$f":"SUM('план на 2016'!$L198:R198)-SUM('членские взносы'!$M198:R198)","v":1600},{"$f":"SUM('план на 2016'!$L198:S198)-SUM('членские взносы'!$M198:S198)","v":2400},{"$f":"SUM('план на 2016'!$L198:T198)-SUM('членские взносы'!$M198:T198)","v":0},{"$f":"SUM('план на 2016'!$L198:U198)-SUM('членские взносы'!$M198:U198)","v":800},{"$f":"SUM('план на 2016'!$L198:V198)-SUM('членские взносы'!$M198:V198)","v":1600},{"$f":"SUM('план на 2016'!$L198:W198)-SUM('членские взносы'!$M198:W198)","v":2400},{"$f":"SUM('план на 2016'!$L198:X198)-SUM('членские взносы'!$M198:X198)","v":0},{"$f":"X197","v":0}]
[{"$f":"VLOOKUP(B198,справочник!$B$2:$E$322,4,0)","v":31},{"$f":"CONCATENATE(C198;D198)","v":{"$error":"#VALUE!"}},31,"Нефедов Михаил Владимирович","50:03:0070280:901","2011-08-31","2011-09-01",{"$f":"INT(($H$326-G198)/30)","v":52},{"$f":"H198*1000","v":52000},{"$f":"10000+42000","v":52000},null,{"$f":"I198-J198-K198","v":0},{"$f":"SUM('план на 2016'!$L199:M199)-SUM('членские взносы'!$M199:M199)","v":800},{"$f":"SUM('план на 2016'!$L199:N199)-SUM('членские взносы'!$M199:N199)","v":1600},{"$f":"SUM('план на 2016'!$L199:O199)-SUM('членские взносы'!$M199:O199)","v":2400},{"$f":"SUM('план на 2016'!$L199:P199)-SUM('членские взносы'!$M199:P199)","v":800},{"$f":"SUM('план на 2016'!$L199:Q199)-SUM('членские взносы'!$M199:Q199)","v":-800},{"$f":"SUM('план на 2016'!$L199:R199)-SUM('членские взносы'!$M199:R199)","v":0},{"$f":"SUM('план на 2016'!$L199:S199)-SUM('членские взносы'!$M199:S199)","v":800},{"$f":"SUM('план на 2016'!$L199:T199)-SUM('членские взносы'!$M199:T199)","v":-3200},{"$f":"SUM('план на 2016'!$L199:U199)-SUM('членские взносы'!$M199:U199)","v":-2400},{"$f":"SUM('план на 2016'!$L199:V199)-SUM('членские взносы'!$M199:V199)","v":-1600},{"$f":"SUM('план на 2016'!$L199:W199)-SUM('членские взносы'!$M199:W199)","v":-800},{"$f":"SUM('план на 2016'!$L199:X199)-SUM('членские взносы'!$M199:X199)","v":0},{"$f":"X198","v":0}]
[{"$f":"VLOOKUP(B199,справочник!$B$2:$E$322,4,0)","v":104},{"$f":"CONCATENATE(C199;D199)","v":{"$error":"#VALUE!"}},109,"Никифоров Андрей Леонидович","50:03:0070280:819","2011-12-16","2011-12-01",{"$f":"INT(($H$326-G199)/30)","v":49},{"$f":"H199*1000","v":49000},{"$f":"1000+45000","v":46000},null,{"$f":"I199-J199-K199","v":3000},{"$f":"SUM('план на 2016'!$L200:M200)-SUM('членские взносы'!$M200:M200)","v":3800},{"$f":"SUM('план на 2016'!$L200:N200)-SUM('членские взносы'!$M200:N200)","v":4600},{"$f":"SUM('план на 2016'!$L200:O200)-SUM('членские взносы'!$M200:O200)","v":5400},{"$f":"SUM('план на 2016'!$L200:P200)-SUM('членские взносы'!$M200:P200)","v":6200},{"$f":"SUM('план на 2016'!$L200:Q200)-SUM('членские взносы'!$M200:Q200)","v":7000},{"$f":"SUM('план на 2016'!$L200:R200)-SUM('членские взносы'!$M200:R200)","v":7800},{"$f":"SUM('план на 2016'!$L200:S200)-SUM('членские взносы'!$M200:S200)","v":8600},{"$f":"SUM('план на 2016'!$L200:T200)-SUM('членские взносы'!$M200:T200)","v":9400},{"$f":"SUM('план на 2016'!$L200:U200)-SUM('членские взносы'!$M200:U200)","v":10200},{"$f":"SUM('план на 2016'!$L200:V200)-SUM('членские взносы'!$M200:V200)","v":11000},{"$f":"SUM('план на 2016'!$L200:W200)-SUM('членские взносы'!$M200:W200)","v":11800},{"$f":"SUM('план на 2016'!$L200:X200)-SUM('членские взносы'!$M200:X200)","v":12600},{"$f":"X199","v":12600}]
[{"$f":"VLOOKUP(B200,справочник!$B$2:$E$322,4,0)","v":85},{"$f":"CONCATENATE(C200;D200)","v":{"$error":"#VALUE!"}},90,"Новиков Виктор Викторович","50:03:0070280:867","2011-06-01","2011-07-01",{"$f":"INT(($H$326-G200)/30)","v":54},{"$f":"H200*1000","v":54000},{"$f":"1000+53000","v":54000},null,{"$f":"I200-J200-K200","v":0},{"$f":"SUM('план на 2016'!$L201:M201)-SUM('членские взносы'!$M201:M201)","v":800},{"$f":"SUM('план на 2016'!$L201:N201)-SUM('членские взносы'!$M201:N201)","v":1600},{"$f":"SUM('план на 2016'!$L201:O201)-SUM('членские взносы'!$M201:O201)","v":2400},{"$f":"SUM('план на 2016'!$L201:P201)-SUM('членские взносы'!$M201:P201)","v":-1600},{"$f":"SUM('план на 2016'!$L201:Q201)-SUM('членские взносы'!$M201:Q201)","v":-800},{"$f":"SUM('план на 2016'!$L201:R201)-SUM('членские взносы'!$M201:R201)","v":0},{"$f":"SUM('план на 2016'!$L201:S201)-SUM('членские взносы'!$M201:S201)","v":800},{"$f":"SUM('план на 2016'!$L201:T201)-SUM('членские взносы'!$M201:T201)","v":1600},{"$f":"SUM('план на 2016'!$L201:U201)-SUM('членские взносы'!$M201:U201)","v":2400},{"$f":"SUM('план на 2016'!$L201:V201)-SUM('членские взносы'!$M201:V201)","v":3200},{"$f":"SUM('план на 2016'!$L201:W201)-SUM('членские взносы'!$M201:W201)","v":4000},{"$f":"SUM('план на 2016'!$L201:X201)-SUM('членские взносы'!$M201:X201)","v":4800},{"$f":"X200","v":4800}]
[{"$f":"VLOOKUP(B201,справочник!$B$2:$E$322,4,0)","v":300},{"$f":"CONCATENATE(C201;D201)","v":{"$error":"#VALUE!"}},315,"Новикова Наталья Петровна","50:03:0070280:1006","2014-12-26","2015-01-01",{"$f":"INT(($H$326-G201)/30)","v":12},{"$f":"H201*1000","v":12000},1000,null,{"$f":"I201-J201-K201","v":11000},{"$f":"SUM('план на 2016'!$L202:M202)-SUM('членские взносы'!$M202:M202)","v":11800},{"$f":"SUM('план на 2016'!$L202:N202)-SUM('членские взносы'!$M202:N202)","v":12600},{"$f":"SUM('план на 2016'!$L202:O202)-SUM('членские взносы'!$M202:O202)","v":13400},{"$f":"SUM('план на 2016'!$L202:P202)-SUM('членские взносы'!$M202:P202)","v":14200},{"$f":"SUM('план на 2016'!$L202:Q202)-SUM('членские взносы'!$M202:Q202)","v":15000},{"$f":"SUM('план на 2016'!$L202:R202)-SUM('членские взносы'!$M202:R202)","v":15800},{"$f":"SUM('план на 2016'!$L202:S202)-SUM('членские взносы'!$M202:S202)","v":16600},{"$f":"SUM('план на 2016'!$L202:T202)-SUM('членские взносы'!$M202:T202)","v":17400},{"$f":"SUM('план на 2016'!$L202:U202)-SUM('членские взносы'!$M202:U202)","v":18200},{"$f":"SUM('план на 2016'!$L202:V202)-SUM('членские взносы'!$M202:V202)","v":19000},{"$f":"SUM('план на 2016'!$L202:W202)-SUM('членские взносы'!$M202:W202)","v":19800},{"$f":"SUM('план на 2016'!$L202:X202)-SUM('членские взносы'!$M202:X202)","v":20600},{"$f":"X201","v":20600}]
[{"$f":"VLOOKUP(B202,справочник!$B$2:$E$322,4,0)","v":47},{"$f":"CONCATENATE(C202;D202)","v":{"$error":"#VALUE!"}},47,"Новикова Светлана Владимировна (Анатолий)","50:03:0070280:990","2013-04-11","2013-05-01",{"$f":"INT(($H$326-G202)/30)","v":32},{"$f":"H202*1000","v":32000},9000,null,{"$f":"I202-J202-K202","v":23000},{"$f":"SUM('план на 2016'!$L203:M203)-SUM('членские взносы'!$M203:M203)","v":23800},{"$f":"SUM('план на 2016'!$L203:N203)-SUM('членские взносы'!$M203:N203)","v":24600},{"$f":"SUM('план на 2016'!$L203:O203)-SUM('членские взносы'!$M203:O203)","v":25400},{"$f":"SUM('план на 2016'!$L203:P203)-SUM('членские взносы'!$M203:P203)","v":26200},{"$f":"SUM('план на 2016'!$L203:Q203)-SUM('членские взносы'!$M203:Q203)","v":27000},{"$f":"SUM('план на 2016'!$L203:R203)-SUM('членские взносы'!$M203:R203)","v":27800},{"$f":"SUM('план на 2016'!$L203:S203)-SUM('членские взносы'!$M203:S203)","v":28600},{"$f":"SUM('план на 2016'!$L203:T203)-SUM('членские взносы'!$M203:T203)","v":29400},{"$f":"SUM('план на 2016'!$L203:U203)-SUM('членские взносы'!$M203:U203)","v":30200},{"$f":"SUM('план на 2016'!$L203:V203)-SUM('членские взносы'!$M203:V203)","v":31000},{"$f":"SUM('план на 2016'!$L203:W203)-SUM('членские взносы'!$M203:W203)","v":31800},{"$f":"SUM('план на 2016'!$L203:X203)-SUM('членские взносы'!$M203:X203)","v":32600},{"$f":"X202","v":32600}]
[{"$f":"VLOOKUP(B203,справочник!$B$2:$E$322,4,0)","v":282},{"$f":"CONCATENATE(C203;D203)","v":{"$error":"#VALUE!"}},294,"Нормуротов Анваржон Абдирайимович","50:03:0070280:775","2014-03-18","2014-04-01",{"$f":"INT(($H$326-G203)/30)","v":21},{"$f":"H203*1000","v":21000},18000,null,{"$f":"I203-J203-K203","v":3000},{"$f":"SUM('план на 2016'!$L204:M204)-SUM('членские взносы'!$M204:M204)","v":3800},{"$f":"SUM('план на 2016'!$L204:N204)-SUM('членские взносы'!$M204:N204)","v":4600},{"$f":"SUM('план на 2016'!$L204:O204)-SUM('членские взносы'!$M204:O204)","v":5400},{"$f":"SUM('план на 2016'!$L204:P204)-SUM('членские взносы'!$M204:P204)","v":6200},{"$f":"SUM('план на 2016'!$L204:Q204)-SUM('членские взносы'!$M204:Q204)","v":7000},{"$f":"SUM('план на 2016'!$L204:R204)-SUM('членские взносы'!$M204:R204)","v":7800},{"$f":"SUM('план на 2016'!$L204:S204)-SUM('членские взносы'!$M204:S204)","v":8600},{"$f":"SUM('план на 2016'!$L204:T204)-SUM('членские взносы'!$M204:T204)","v":9400},{"$f":"SUM('план на 2016'!$L204:U204)-SUM('членские взносы'!$M204:U204)","v":10200},{"$f":"SUM('план на 2016'!$L204:V204)-SUM('членские взносы'!$M204:V204)","v":11000},{"$f":"SUM('план на 2016'!$L204:W204)-SUM('членские взносы'!$M204:W204)","v":11800},{"$f":"SUM('план на 2016'!$L204:X204)-SUM('членские взносы'!$M204:X204)","v":12600},{"$f":"X203","v":12600}]
[{"$f":"VLOOKUP(B204,справочник!$B$2:$E$322,4,0)","v":204},{"$f":"CONCATENATE(C204;D204)","v":{"$error":"#VALUE!"}},214,"Носикова Александра Васильевна","50:03:0070280:849",null,null,null,{"$f":"H204*1000","v":0},null,null,{"$f":"I204-J204-K204","v":0},{"$f":"SUM('план на 2016'!$L205:M205)-SUM('членские взносы'!$M205:M205)","v":800},{"$f":"SUM('план на 2016'!$L205:N205)-SUM('членские взносы'!$M205:N205)","v":1600},{"$f":"SUM('план на 2016'!$L205:O205)-SUM('членские взносы'!$M205:O205)","v":2400},{"$f":"SUM('план на 2016'!$L205:P205)-SUM('членские взносы'!$M205:P205)","v":3200},{"$f":"SUM('план на 2016'!$L205:Q205)-SUM('членские взносы'!$M205:Q205)","v":4000},{"$f":"SUM('план на 2016'!$L205:R205)-SUM('членские взносы'!$M205:R205)","v":4800},{"$f":"SUM('план на 2016'!$L205:S205)-SUM('членские взносы'!$M205:S205)","v":5600},{"$f":"SUM('план на 2016'!$L205:T205)-SUM('членские взносы'!$M205:T205)","v":6400},{"$f":"SUM('план на 2016'!$L205:U205)-SUM('членские взносы'!$M205:U205)","v":7200},{"$f":"SUM('план на 2016'!$L205:V205)-SUM('членские взносы'!$M205:V205)","v":8000},{"$f":"SUM('план на 2016'!$L205:W205)-SUM('членские взносы'!$M205:W205)","v":8800},{"$f":"SUM('план на 2016'!$L205:X205)-SUM('членские взносы'!$M205:X205)","v":9600},{"$f":"X204","v":9600}]
[{"$f":"VLOOKUP(B205,справочник!$B$2:$E$322,4,0)","v":291},{"$f":"CONCATENATE(C205;D205)","v":{"$error":"#VALUE!"}},304,"Носикова Мария Леонидовна","50:03:0070280:995",null,null,null,{"$f":"H205*1000","v":0},null,null,{"$f":"I205-J205-K205","v":0},{"$f":"SUM('план на 2016'!$L206:M206)-SUM('членские взносы'!$M206:M206)","v":800},{"$f":"SUM('план на 2016'!$L206:N206)-SUM('членские взносы'!$M206:N206)","v":1600},{"$f":"SUM('план на 2016'!$L206:O206)-SUM('членские взносы'!$M206:O206)","v":2400},{"$f":"SUM('план на 2016'!$L206:P206)-SUM('членские взносы'!$M206:P206)","v":3200},{"$f":"SUM('план на 2016'!$L206:Q206)-SUM('членские взносы'!$M206:Q206)","v":4000},{"$f":"SUM('план на 2016'!$L206:R206)-SUM('членские взносы'!$M206:R206)","v":4800},{"$f":"SUM('план на 2016'!$L206:S206)-SUM('членские взносы'!$M206:S206)","v":5600},{"$f":"SUM('план на 2016'!$L206:T206)-SUM('членские взносы'!$M206:T206)","v":6400},{"$f":"SUM('план на 2016'!$L206:U206)-SUM('членские взносы'!$M206:U206)","v":7200},{"$f":"SUM('план на 2016'!$L206:V206)-SUM('членские взносы'!$M206:V206)","v":8000},{"$f":"SUM('план на 2016'!$L206:W206)-SUM('членские взносы'!$M206:W206)","v":8800},{"$f":"SUM('план на 2016'!$L206:X206)-SUM('членские взносы'!$M206:X206)","v":9600},{"$f":"X205","v":9600}]
[{"$f":"VLOOKUP(B206,справочник!$B$2:$E$322,4,0)","v":89},{"$f":"CONCATENATE(C206;D206)","v":{"$error":"#VALUE!"}},94,"Олег (Гусев Николай Михайлович — был)","50:03:0070280:826","2012-07-16","2012-07-01",{"$f":"INT(($H$326-G206)/30)","v":42},{"$f":"H206*1000","v":42000},{"$f":"21000","v":21000},null,{"$f":"I206-J206-K206","v":21000},{"$f":"SUM('план на 2016'!$L207:M207)-SUM('членские взносы'!$M207:M207)","v":21800},{"$f":"SUM('план на 2016'!$L207:N207)-SUM('членские взносы'!$M207:N207)","v":22600},{"$f":"SUM('план на 2016'!$L207:O207)-SUM('членские взносы'!$M207:O207)","v":23400},{"$f":"SUM('план на 2016'!$L207:P207)-SUM('членские взносы'!$M207:P207)","v":24200},{"$f":"SUM('план на 2016'!$L207:Q207)-SUM('членские взносы'!$M207:Q207)","v":25000},{"$f":"SUM('план на 2016'!$L207:R207)-SUM('членские взносы'!$M207:R207)","v":25800},{"$f":"SUM('план на 2016'!$L207:S207)-SUM('членские взносы'!$M207:S207)","v":26600},{"$f":"SUM('план на 2016'!$L207:T207)-SUM('членские взносы'!$M207:T207)","v":27400},{"$f":"SUM('план на 2016'!$L207:U207)-SUM('членские взносы'!$M207:U207)","v":28200},{"$f":"SUM('план на 2016'!$L207:V207)-SUM('членские взносы'!$M207:V207)","v":29000},{"$f":"SUM('план на 2016'!$L207:W207)-SUM('членские взносы'!$M207:W207)","v":29800},{"$f":"SUM('план на 2016'!$L207:X207)-SUM('членские взносы'!$M207:X207)","v":30600},{"$f":"X206","v":30600}]
[{"$f":"VLOOKUP(B207,справочник!$B$2:$E$322,4,0)","v":26},{"$f":"CONCATENATE(C207;D207)","v":{"$error":"#VALUE!"}},26,"Олейников Дмитрий Александрович","50:03:0070280:855","2011-09-02","2011-09-01",{"$f":"INT(($H$326-G207)/30)","v":52},{"$f":"H207*1000","v":52000},null,null,{"$f":"I207-J207-K207","v":52000},{"$f":"SUM('план на 2016'!$L208:M208)-SUM('членские взносы'!$M208:M208)","v":52800},{"$f":"SUM('план на 2016'!$L208:N208)-SUM('членские взносы'!$M208:N208)","v":53600},{"$f":"SUM('план на 2016'!$L208:O208)-SUM('членские взносы'!$M208:O208)","v":54400},{"$f":"SUM('план на 2016'!$L208:P208)-SUM('членские взносы'!$M208:P208)","v":55200},{"$f":"SUM('план на 2016'!$L208:Q208)-SUM('членские взносы'!$M208:Q208)","v":56000},{"$f":"SUM('план на 2016'!$L208:R208)-SUM('членские взносы'!$M208:R208)","v":56800},{"$f":"SUM('план на 2016'!$L208:S208)-SUM('членские взносы'!$M208:S208)","v":57600},{"$f":"SUM('план на 2016'!$L208:T208)-SUM('членские взносы'!$M208:T208)","v":58400},{"$f":"SUM('план на 2016'!$L208:U208)-SUM('членские взносы'!$M208:U208)","v":59200},{"$f":"SUM('план на 2016'!$L208:V208)-SUM('членские взносы'!$M208:V208)","v":60000},{"$f":"SUM('план на 2016'!$L208:W208)-SUM('членские взносы'!$M208:W208)","v":60800},{"$f":"SUM('план на 2016'!$L208:X208)-SUM('членские взносы'!$M208:X208)","v":61600},{"$f":"X207","v":61600}]
[{"$f":"VLOOKUP(B208,справочник!$B$2:$E$322,4,0)","v":71},{"$f":"CONCATENATE(C208;D208)","v":{"$error":"#VALUE!"}},77,"Олейникова Евгения Александровна","50:03:0070280:803","2011-09-02","2011-09-01",{"$f":"INT(($H$326-G208)/30)","v":52},{"$f":"H208*1000","v":52000},{"$f":"36000+4000","v":40000},null,{"$f":"I208-J208-K208","v":12000},{"$f":"SUM('план на 2016'!$L209:M209)-SUM('членские взносы'!$M209:M209)","v":12800},{"$f":"SUM('план на 2016'!$L209:N209)-SUM('членские взносы'!$M209:N209)","v":13600},{"$f":"SUM('план на 2016'!$L209:O209)-SUM('членские взносы'!$M209:O209)","v":14400},{"$f":"SUM('план на 2016'!$L209:P209)-SUM('членские взносы'!$M209:P209)","v":15200},{"$f":"SUM('план на 2016'!$L209:Q209)-SUM('членские взносы'!$M209:Q209)","v":16000},{"$f":"SUM('план на 2016'!$L209:R209)-SUM('членские взносы'!$M209:R209)","v":16800},{"$f":"SUM('план на 2016'!$L209:S209)-SUM('членские взносы'!$M209:S209)","v":17600},{"$f":"SUM('план на 2016'!$L209:T209)-SUM('членские взносы'!$M209:T209)","v":18400},{"$f":"SUM('план на 2016'!$L209:U209)-SUM('членские взносы'!$M209:U209)","v":19200},{"$f":"SUM('план на 2016'!$L209:V209)-SUM('членские взносы'!$M209:V209)","v":20000},{"$f":"SUM('план на 2016'!$L209:W209)-SUM('членские взносы'!$M209:W209)","v":20800},{"$f":"SUM('план на 2016'!$L209:X209)-SUM('членские взносы'!$M209:X209)","v":21600},{"$f":"X208","v":21600}]
[{"$f":"VLOOKUP(B209,справочник!$B$2:$E$322,4,0)","v":6},{"$f":"CONCATENATE(C209;D209)","v":{"$error":"#VALUE!"}},6,"Осадчев Константин Владимирович","50:03:0070280:708","2014-10-27","2014-11-01",{"$f":"INT(($H$326-G209)/30)","v":14},{"$f":"H209*1000","v":14000},null,null,{"$f":"I209-J209-K209","v":14000},{"$f":"SUM('план на 2016'!$L210:M210)-SUM('членские взносы'!$M210:M210)","v":14800},{"$f":"SUM('план на 2016'!$L210:N210)-SUM('членские взносы'!$M210:N210)","v":15600},{"$f":"SUM('план на 2016'!$L210:O210)-SUM('членские взносы'!$M210:O210)","v":16400},{"$f":"SUM('план на 2016'!$L210:P210)-SUM('членские взносы'!$M210:P210)","v":17200},{"$f":"SUM('план на 2016'!$L210:Q210)-SUM('членские взносы'!$M210:Q210)","v":14000},{"$f":"SUM('план на 2016'!$L210:R210)-SUM('членские взносы'!$M210:R210)","v":14800},{"$f":"SUM('план на 2016'!$L210:S210)-SUM('членские взносы'!$M210:S210)","v":15600},{"$f":"SUM('план на 2016'!$L210:T210)-SUM('членские взносы'!$M210:T210)","v":16400},{"$f":"SUM('план на 2016'!$L210:U210)-SUM('членские взносы'!$M210:U210)","v":17200},{"$f":"SUM('план на 2016'!$L210:V210)-SUM('членские взносы'!$M210:V210)","v":18000},{"$f":"SUM('план на 2016'!$L210:W210)-SUM('членские взносы'!$M210:W210)","v":18800},{"$f":"SUM('план на 2016'!$L210:X210)-SUM('членские взносы'!$M210:X210)","v":1600},{"$f":"X209","v":1600}]
[{"$f":"VLOOKUP(B210,справочник!$B$2:$E$322,4,0)","v":80},{"$f":"CONCATENATE(C210;D210)","v":{"$error":"#VALUE!"}},85,"Острикова Наталья Львовна","50:03:0070280:880","2012-03-27","2012-04-01",{"$f":"INT(($H$326-G210)/30)","v":45},{"$f":"H210*1000","v":45000},45000,null,{"$f":"I210-J210-K210","v":0},{"$f":"SUM('план на 2016'!$L211:M211)-SUM('членские взносы'!$M211:M211)","v":800},{"$f":"SUM('план на 2016'!$L211:N211)-SUM('членские взносы'!$M211:N211)","v":1600},{"$f":"SUM('план на 2016'!$L211:O211)-SUM('членские взносы'!$M211:O211)","v":2400},{"$f":"SUM('план на 2016'!$L211:P211)-SUM('членские взносы'!$M211:P211)","v":3200},{"$f":"SUM('план на 2016'!$L211:Q211)-SUM('членские взносы'!$M211:Q211)","v":4000},{"$f":"SUM('план на 2016'!$L211:R211)-SUM('членские взносы'!$M211:R211)","v":800},{"$f":"SUM('план на 2016'!$L211:S211)-SUM('членские взносы'!$M211:S211)","v":-400},{"$f":"SUM('план на 2016'!$L211:T211)-SUM('членские взносы'!$M211:T211)","v":-1600},{"$f":"SUM('план на 2016'!$L211:U211)-SUM('членские взносы'!$M211:U211)","v":-800},{"$f":"SUM('план на 2016'!$L211:V211)-SUM('членские взносы'!$M211:V211)","v":0},{"$f":"SUM('план на 2016'!$L211:W211)-SUM('членские взносы'!$M211:W211)","v":800},{"$f":"SUM('план на 2016'!$L211:X211)-SUM('членские взносы'!$M211:X211)","v":1600},{"$f":"X210","v":1600}]
[{"$f":"VLOOKUP(B211,справочник!$B$2:$E$322,4,0)","v":201},{"$f":"CONCATENATE(C211;D211)","v":{"$error":"#VALUE!"}},209,"Пархачева Эльвира Валентиновна (Алксандр)","50:03:0070280:871","2012-03-06","2012-03-01",{"$f":"INT(($H$326-G211)/30)","v":46},{"$f":"H211*1000","v":46000},38000,null,{"$f":"I211-J211-K211","v":8000},{"$f":"SUM('план на 2016'!$L212:M212)-SUM('членские взносы'!$M212:M212)","v":4800},{"$f":"SUM('план на 2016'!$L212:N212)-SUM('членские взносы'!$M212:N212)","v":5600},{"$f":"SUM('план на 2016'!$L212:O212)-SUM('членские взносы'!$M212:O212)","v":6400},{"$f":"SUM('план на 2016'!$L212:P212)-SUM('членские взносы'!$M212:P212)","v":7200},{"$f":"SUM('план на 2016'!$L212:Q212)-SUM('членские взносы'!$M212:Q212)","v":4800},{"$f":"SUM('план на 2016'!$L212:R212)-SUM('членские взносы'!$M212:R212)","v":5600},{"$f":"SUM('план на 2016'!$L212:S212)-SUM('членские взносы'!$M212:S212)","v":5600},{"$f":"SUM('план на 2016'!$L212:T212)-SUM('членские взносы'!$M212:T212)","v":4800},{"$f":"SUM('план на 2016'!$L212:U212)-SUM('членские взносы'!$M212:U212)","v":5600},{"$f":"SUM('план на 2016'!$L212:V212)-SUM('членские взносы'!$M212:V212)","v":6400},{"$f":"SUM('план на 2016'!$L212:W212)-SUM('членские взносы'!$M212:W212)","v":7200},{"$f":"SUM('план на 2016'!$L212:X212)-SUM('членские взносы'!$M212:X212)","v":4000},{"$f":"X211","v":4000}]
[{"$f":"VLOOKUP(B212,справочник!$B$2:$E$322,4,0)","v":147},{"$f":"CONCATENATE(C212;D212)","v":{"$error":"#VALUE!"}},155,"Пахарева Ольга Александровна (Дмитрий)","50:03:0070280:955","2012-02-13","2012-02-01",{"$f":"INT(($H$326-G212)/30)","v":47},{"$f":"H212*1000","v":47000},32000,null,{"$f":"I212-J212-K212","v":15000},{"$f":"SUM('план на 2016'!$L213:M213)-SUM('членские взносы'!$M213:M213)","v":15800},{"$f":"SUM('план на 2016'!$L213:N213)-SUM('членские взносы'!$M213:N213)","v":16600},{"$f":"SUM('план на 2016'!$L213:O213)-SUM('членские взносы'!$M213:O213)","v":17400},{"$f":"SUM('план на 2016'!$L213:P213)-SUM('членские взносы'!$M213:P213)","v":18200},{"$f":"SUM('план на 2016'!$L213:Q213)-SUM('членские взносы'!$M213:Q213)","v":19000},{"$f":"SUM('план на 2016'!$L213:R213)-SUM('членские взносы'!$M213:R213)","v":19800},{"$f":"SUM('план на 2016'!$L213:S213)-SUM('членские взносы'!$M213:S213)","v":19600},{"$f":"SUM('план на 2016'!$L213:T213)-SUM('членские взносы'!$M213:T213)","v":19400},{"$f":"SUM('план на 2016'!$L213:U213)-SUM('членские взносы'!$M213:U213)","v":19200},{"$f":"SUM('план на 2016'!$L213:V213)-SUM('членские взносы'!$M213:V213)","v":20000},{"$f":"SUM('план на 2016'!$L213:W213)-SUM('членские взносы'!$M213:W213)","v":20800},{"$f":"SUM('план на 2016'!$L213:X213)-SUM('членские взносы'!$M213:X213)","v":20600},{"$f":"X212","v":20600}]
[{"$f":"VLOOKUP(B213,справочник!$B$2:$E$322,4,0)","v":{"$error":"#VALUE!"}},{"$f":"CONCATENATE(C213;D213)","v":{"$error":"#VALUE!"}},"29_","Петрик Наталья Вячеславовна","50:03:0070280:858","2012-01-15","2012-01-01",7,{"$f":"H213*1000","v":7000},7000,null,{"$f":"I213-J213-K213","v":0},{"$f":"SUM('план на 2016'!$L214:M214)-SUM('членские взносы'!#ref!:'членские взносы'!#ref!)","v":{"$error":"#VALUE!"}},{"$f":"SUM('план на 2016'!$L214:N214)-SUM('членские взносы'!#ref!:'членские взносы'!#ref!)","v":{"$error":"#VALUE!"}},{"$f":"SUM('план на 2016'!$L214:O214)-SUM('членские взносы'!#ref!:'членские взносы'!#ref!)","v":{"$error":"#VALUE!"}},{"$f":"SUM('план на 2016'!$L214:P214)-SUM('членские взносы'!#ref!:'членские взносы'!#ref!)","v":{"$error":"#VALUE!"}},{"$f":"SUM('план на 2016'!$L214:Q214)-SUM('членские взносы'!#ref!:'членские взносы'!#ref!)","v":{"$error":"#VALUE!"}},{"$f":"SUM('план на 2016'!$L214:R214)-SUM('членские взносы'!#ref!:'членские взносы'!#ref!)","v":{"$error":"#VALUE!"}},{"$f":"SUM('план на 2016'!$L214:S214)-SUM('членские взносы'!#ref!:'членские взносы'!#ref!)","v":{"$error":"#VALUE!"}},{"$f":"SUM('план на 2016'!$L214:T214)-SUM('членские взносы'!#ref!:'членские взносы'!#ref!)","v":{"$error":"#VALUE!"}},{"$f":"SUM('план на 2016'!$L214:U214)-SUM('членские взносы'!#ref!:'членские взносы'!#ref!)","v":{"$error":"#VALUE!"}},{"$f":"SUM('план на 2016'!$L214:V214)-SUM('членские взносы'!#ref!:'членские взносы'!#ref!)","v":{"$error":"#VALUE!"}},{"$f":"SUM('план на 2016'!$L214:W214)-SUM('членские взносы'!#ref!:'членские взносы'!#ref!)","v":{"$error":"#VALUE!"}},{"$f":"SUM('план на 2016'!$L214:X214)-SUM('членские взносы'!#ref!:'членские взносы'!#ref!)","v":{"$error":"#VALUE!"}},{"$f":"X213","v":{"$error":"#VALUE!"}}]
[{"$f":"VLOOKUP(B214,справочник!$B$2:$E$322,4,0)","v":33},{"$f":"CONCATENATE(C214;D214)","v":{"$error":"#VALUE!"}},33,"Петров Борис Викторович","50:03:0070280:903","2011-09-05","2011-09-01",{"$f":"INT(($H$326-G214)/30)","v":52},{"$f":"H214*1000","v":52000},{"$f":"1000+44000","v":45000},null,{"$f":"I214-J214-K214","v":7000},{"$f":"SUM('план на 2016'!$L215:M215)-SUM('членские взносы'!$M214:M214)","v":7800},{"$f":"SUM('план на 2016'!$L215:N215)-SUM('членские взносы'!$M214:N214)","v":8600},{"$f":"SUM('план на 2016'!$L215:O215)-SUM('членские взносы'!$M214:O214)","v":9400},{"$f":"SUM('план на 2016'!$L215:P215)-SUM('членские взносы'!$M214:P214)","v":10200},{"$f":"SUM('план на 2016'!$L215:Q215)-SUM('членские взносы'!$M214:Q214)","v":950},{"$f":"SUM('план на 2016'!$L215:R215)-SUM('членские взносы'!$M214:R214)","v":1750},{"$f":"SUM('план на 2016'!$L215:S215)-SUM('членские взносы'!$M214:S214)","v":2550},{"$f":"SUM('план на 2016'!$L215:T215)-SUM('членские взносы'!$M214:T214)","v":3350},{"$f":"SUM('план на 2016'!$L215:U215)-SUM('членские взносы'!$M214:U214)","v":4150},{"$f":"SUM('план на 2016'!$L215:V215)-SUM('членские взносы'!$M214:V214)","v":4950},{"$f":"SUM('план на 2016'!$L215:W215)-SUM('членские взносы'!$M214:W214)","v":5750},{"$f":"SUM('план на 2016'!$L215:X215)-SUM('членские взносы'!$M214:X214)","v":6550},{"$f":"X214","v":6550}]
[{"$f":"VLOOKUP(B215,справочник!$B$2:$E$322,4,0)","v":169},{"$f":"CONCATENATE(C215;D215)","v":{"$error":"#VALUE!"}},177,"Петрова Елена Николаевна","50:03:0070280:768","2013-11-20","2013-12-01",{"$f":"INT(($H$326-G215)/30)","v":25},{"$f":"H215*1000","v":25000},21000,null,{"$f":"I215-J215-K215","v":4000},{"$f":"SUM('план на 2016'!$L216:M216)-SUM('членские взносы'!$M215:M215)","v":4800},{"$f":"SUM('план на 2016'!$L216:N216)-SUM('членские взносы'!$M215:N215)","v":5600},{"$f":"SUM('план на 2016'!$L216:O216)-SUM('членские взносы'!$M215:O215)","v":1000},{"$f":"SUM('план на 2016'!$L216:P216)-SUM('членские взносы'!$M215:P215)","v":1800},{"$f":"SUM('план на 2016'!$L216:Q216)-SUM('членские взносы'!$M215:Q215)","v":200},{"$f":"SUM('план на 2016'!$L216:R216)-SUM('членские взносы'!$M215:R215)","v":1000},{"$f":"SUM('план на 2016'!$L216:S216)-SUM('членские взносы'!$M215:S215)","v":1800},{"$f":"SUM('план на 2016'!$L216:T216)-SUM('членские взносы'!$M215:T215)","v":2600},{"$f":"SUM('план на 2016'!$L216:U216)-SUM('членские взносы'!$M215:U215)","v":3400},{"$f":"SUM('план на 2016'!$L216:V216)-SUM('членские взносы'!$M215:V215)","v":1800},{"$f":"SUM('план на 2016'!$L216:W216)-SUM('членские взносы'!$M215:W215)","v":200},{"$f":"SUM('план на 2016'!$L216:X216)-SUM('членские взносы'!$M215:X215)","v":1000},{"$f":"X215","v":1000}]
[{"$f":"VLOOKUP(B216,справочник!$B$2:$E$322,4,0)","v":185},{"$f":"CONCATENATE(C216;D216)","v":{"$error":"#VALUE!"}},193,"Петункин Игорь Минович","50:03:0070280:915","2013-08-20","2013-09-01",{"$f":"INT(($H$326-G216)/30)","v":28},{"$f":"H216*1000","v":28000},14000,null,{"$f":"I216-J216-K216","v":14000},{"$f":"SUM('план на 2016'!$L217:M217)-SUM('членские взносы'!$M216:M216)","v":14800},{"$f":"SUM('план на 2016'!$L217:N217)-SUM('членские взносы'!$M216:N216)","v":15600},{"$f":"SUM('план на 2016'!$L217:O217)-SUM('членские взносы'!$M216:O216)","v":16400},{"$f":"SUM('план на 2016'!$L217:P217)-SUM('членские взносы'!$M216:P216)","v":17200},{"$f":"SUM('план на 2016'!$L217:Q217)-SUM('членские взносы'!$M216:Q216)","v":18000},{"$f":"SUM('план на 2016'!$L217:R217)-SUM('членские взносы'!$M216:R216)","v":18800},{"$f":"SUM('план на 2016'!$L217:S217)-SUM('членские взносы'!$M216:S216)","v":19600},{"$f":"SUM('план на 2016'!$L217:T217)-SUM('членские взносы'!$M216:T216)","v":20400},{"$f":"SUM('план на 2016'!$L217:U217)-SUM('членские взносы'!$M216:U216)","v":21200},{"$f":"SUM('план на 2016'!$L217:V217)-SUM('членские взносы'!$M216:V216)","v":22000},{"$f":"SUM('план на 2016'!$L217:W217)-SUM('членские взносы'!$M216:W216)","v":22800},{"$f":"SUM('план на 2016'!$L217:X217)-SUM('членские взносы'!$M216:X216)","v":23600},{"$f":"X216","v":23600}]
[{"$f":"VLOOKUP(B217,справочник!$B$2:$E$322,4,0)","v":176},{"$f":"CONCATENATE(C217;D217)","v":{"$error":"#VALUE!"}},184,"Пикалёва Алла Григорьевна (Юрий)","50:03:0070280:920","2014-04-05","2014-05-01",{"$f":"INT(($H$326-G217)/30)","v":20},{"$f":"H217*1000","v":20000},3000,null,{"$f":"I217-J217-K217","v":17000},{"$f":"SUM('план на 2016'!$L218:M218)-SUM('членские взносы'!$M217:M217)","v":12800},{"$f":"SUM('план на 2016'!$L218:N218)-SUM('членские взносы'!$M217:N217)","v":10600},{"$f":"SUM('план на 2016'!$L218:O218)-SUM('членские взносы'!$M217:O217)","v":11400},{"$f":"SUM('план на 2016'!$L218:P218)-SUM('членские взносы'!$M217:P217)","v":12200},{"$f":"SUM('план на 2016'!$L218:Q218)-SUM('членские взносы'!$M217:Q217)","v":10000},{"$f":"SUM('план на 2016'!$L218:R218)-SUM('членские взносы'!$M217:R217)","v":7300},{"$f":"SUM('план на 2016'!$L218:S218)-SUM('членские взносы'!$M217:S217)","v":8100},{"$f":"SUM('план на 2016'!$L218:T218)-SUM('членские взносы'!$M217:T217)","v":8900},{"$f":"SUM('план на 2016'!$L218:U218)-SUM('членские взносы'!$M217:U217)","v":9700},{"$f":"SUM('план на 2016'!$L218:V218)-SUM('членские взносы'!$M217:V217)","v":10500},{"$f":"SUM('план на 2016'!$L218:W218)-SUM('членские взносы'!$M217:W217)","v":11300},{"$f":"SUM('план на 2016'!$L218:X218)-SUM('членские взносы'!$M217:X217)","v":12100},{"$f":"X217","v":12100}]
[{"$f":"VLOOKUP(B218,справочник!$B$2:$E$322,4,0)","v":307},{"$f":"CONCATENATE(C218;D218)","v":{"$error":"#VALUE!"}},322,"Поликарпова Наталья Дмитриевна","50:03:0070280:1012","2012-07-24","2012-08-01",{"$f":"INT(($H$326-G218)/30)","v":41},{"$f":"H218*1000","v":41000},27000,null,{"$f":"I218-J218-K218","v":14000},{"$f":"SUM('план на 2016'!$L219:M219)-SUM('членские взносы'!$M218:M218)","v":14800},{"$f":"SUM('план на 2016'!$L219:N219)-SUM('членские взносы'!$M218:N218)","v":15600},{"$f":"SUM('план на 2016'!$L219:O219)-SUM('членские взносы'!$M218:O218)","v":16400},{"$f":"SUM('план на 2016'!$L219:P219)-SUM('членские взносы'!$M218:P218)","v":17200},{"$f":"SUM('план на 2016'!$L219:Q219)-SUM('членские взносы'!$M218:Q218)","v":10000},{"$f":"SUM('план на 2016'!$L219:R219)-SUM('членские взносы'!$M218:R218)","v":10800},{"$f":"SUM('план на 2016'!$L219:S219)-SUM('членские взносы'!$M218:S218)","v":11600},{"$f":"SUM('план на 2016'!$L219:T219)-SUM('членские взносы'!$M218:T218)","v":12400},{"$f":"SUM('план на 2016'!$L219:U219)-SUM('членские взносы'!$M218:U218)","v":13200},{"$f":"SUM('план на 2016'!$L219:V219)-SUM('членские взносы'!$M218:V218)","v":14000},{"$f":"SUM('план на 2016'!$L219:W219)-SUM('членские взносы'!$M218:W218)","v":14800},{"$f":"SUM('план на 2016'!$L219:X219)-SUM('членские взносы'!$M218:X218)","v":15600},{"$f":"X218","v":15600}]
[{"$f":"VLOOKUP(B219,справочник!$B$2:$E$322,4,0)","v":177},{"$f":"CONCATENATE(C219;D219)","v":{"$error":"#VALUE!"}},185,"Полякова Марина Александровна","50:03:0070280:762","2014-09-16","2014-10-01",{"$f":"INT(($H$326-G219)/30)","v":15},{"$f":"H219*1000","v":15000},12000,null,{"$f":"I219-J219-K219","v":3000},{"$f":"SUM('план на 2016'!$L220:M220)-SUM('членские взносы'!$M219:M219)","v":3800},{"$f":"SUM('план на 2016'!$L220:N220)-SUM('членские взносы'!$M219:N219)","v":4600},{"$f":"SUM('план на 2016'!$L220:O220)-SUM('членские взносы'!$M219:O219)","v":5400},{"$f":"SUM('план на 2016'!$L220:P220)-SUM('членские взносы'!$M219:P219)","v":6200},{"$f":"SUM('план на 2016'!$L220:Q220)-SUM('членские взносы'!$M219:Q219)","v":7000},{"$f":"SUM('план на 2016'!$L220:R220)-SUM('членские взносы'!$M219:R219)","v":7800},{"$f":"SUM('план на 2016'!$L220:S220)-SUM('членские взносы'!$M219:S219)","v":8600},{"$f":"SUM('план на 2016'!$L220:T220)-SUM('членские взносы'!$M219:T219)","v":9400},{"$f":"SUM('план на 2016'!$L220:U220)-SUM('членские взносы'!$M219:U219)","v":10200},{"$f":"SUM('план на 2016'!$L220:V220)-SUM('членские взносы'!$M219:V219)","v":11000},{"$f":"SUM('план на 2016'!$L220:W220)-SUM('членские взносы'!$M219:W219)","v":6800},{"$f":"SUM('план на 2016'!$L220:X220)-SUM('членские взносы'!$M219:X219)","v":7600},{"$f":"X219","v":7600}]
[{"$f":"VLOOKUP(B220,справочник!$B$2:$E$322,4,0)","v":160},{"$f":"CONCATENATE(C220;D220)","v":{"$error":"#VALUE!"}},168,"Пономарева Олеся Сергеевна","50:03:0070280:924","2012-06-19","2012-07-01",{"$f":"INT(($H$326-G220)/30)","v":42},{"$f":"H220*1000","v":42000},21000,null,{"$f":"I220-J220-K220","v":21000},{"$f":"SUM('план на 2016'!$L221:M221)-SUM('членские взносы'!$M220:M220)","v":21800},{"$f":"SUM('план на 2016'!$L221:N221)-SUM('членские взносы'!$M220:N220)","v":22600},{"$f":"SUM('план на 2016'!$L221:O221)-SUM('членские взносы'!$M220:O220)","v":23400},{"$f":"SUM('план на 2016'!$L221:P221)-SUM('членские взносы'!$M220:P220)","v":24200},{"$f":"SUM('план на 2016'!$L221:Q221)-SUM('членские взносы'!$M220:Q220)","v":25000},{"$f":"SUM('план на 2016'!$L221:R221)-SUM('членские взносы'!$M220:R220)","v":25800},{"$f":"SUM('план на 2016'!$L221:S221)-SUM('членские взносы'!$M220:S220)","v":26600},{"$f":"SUM('план на 2016'!$L221:T221)-SUM('членские взносы'!$M220:T220)","v":27400},{"$f":"SUM('план на 2016'!$L221:U221)-SUM('членские взносы'!$M220:U220)","v":28200},{"$f":"SUM('план на 2016'!$L221:V221)-SUM('членские взносы'!$M220:V220)","v":24200},{"$f":"SUM('план на 2016'!$L221:W221)-SUM('членские взносы'!$M220:W220)","v":25000},{"$f":"SUM('план на 2016'!$L221:X221)-SUM('членские взносы'!$M220:X220)","v":21000},{"$f":"X220","v":21000}]
[{"$f":"VLOOKUP(B221,справочник!$B$2:$E$322,4,0)","v":53},{"$f":"CONCATENATE(C221;D221)","v":{"$error":"#VALUE!"}},55,"Попова Нина Ивановна","50:03:0070280:944","2014-12-22","2015-01-01",{"$f":"INT(($H$326-G221)/30)","v":12},{"$f":"H221*1000","v":12000},12000,null,{"$f":"I221-J221-K221","v":0},{"$f":"SUM('план на 2016'!$L222:M222)-SUM('членские взносы'!$M221:M221)","v":800},{"$f":"SUM('план на 2016'!$L222:N222)-SUM('членские взносы'!$M221:N221)","v":1600},{"$f":"SUM('план на 2016'!$L222:O222)-SUM('членские взносы'!$M221:O221)","v":2400},{"$f":"SUM('план на 2016'!$L222:P222)-SUM('членские взносы'!$M221:P221)","v":3200},{"$f":"SUM('план на 2016'!$L222:Q222)-SUM('членские взносы'!$M221:Q221)","v":4000},{"$f":"SUM('план на 2016'!$L222:R222)-SUM('членские взносы'!$M221:R221)","v":4800},{"$f":"SUM('план на 2016'!$L222:S222)-SUM('членские взносы'!$M221:S221)","v":5600},{"$f":"SUM('план на 2016'!$L222:T222)-SUM('членские взносы'!$M221:T221)","v":6400},{"$f":"SUM('план на 2016'!$L222:U222)-SUM('членские взносы'!$M221:U221)","v":7200},{"$f":"SUM('план на 2016'!$L222:V222)-SUM('членские взносы'!$M221:V221)","v":8000},{"$f":"SUM('план на 2016'!$L222:W222)-SUM('членские взносы'!$M221:W221)","v":8800},{"$f":"SUM('план на 2016'!$L222:X222)-SUM('членские взносы'!$M221:X221)","v":9600},{"$f":"X221","v":9600}]
[{"$f":"VLOOKUP(B222,справочник!$B$2:$E$322,4,0)","v":102},{"$f":"CONCATENATE(C222;D222)","v":{"$error":"#VALUE!"}},107,"Постернак Татьяна Николаевна","50:03:0070280:821","2011-08-02","2011-08-01",{"$f":"INT(($H$326-G222)/30)","v":53},{"$f":"H222*1000","v":53000},{"$f":"52000+1000","v":53000},null,{"$f":"I222-J222-K222","v":0},{"$f":"SUM('план на 2016'!$L223:M223)-SUM('членские взносы'!$M222:M222)","v":0},{"$f":"SUM('план на 2016'!$L223:N223)-SUM('членские взносы'!$M222:N222)","v":0},{"$f":"SUM('план на 2016'!$L223:O223)-SUM('членские взносы'!$M222:O222)","v":0},{"$f":"SUM('план на 2016'!$L223:P223)-SUM('членские взносы'!$M222:P222)","v":0},{"$f":"SUM('план на 2016'!$L223:Q223)-SUM('членские взносы'!$M222:Q222)","v":800},{"$f":"SUM('план на 2016'!$L223:R223)-SUM('членские взносы'!$M222:R222)","v":800},{"$f":"SUM('план на 2016'!$L223:S223)-SUM('членские взносы'!$M222:S222)","v":800},{"$f":"SUM('план на 2016'!$L223:T223)-SUM('членские взносы'!$M222:T222)","v":0},{"$f":"SUM('план на 2016'!$L223:U223)-SUM('членские взносы'!$M222:U222)","v":0},{"$f":"SUM('план на 2016'!$L223:V223)-SUM('членские взносы'!$M222:V222)","v":0},{"$f":"SUM('план на 2016'!$L223:W223)-SUM('членские взносы'!$M222:W222)","v":0},{"$f":"SUM('план на 2016'!$L223:X223)-SUM('членские взносы'!$M222:X222)","v":0},{"$f":"X222","v":0}]
[{"$f":"VLOOKUP(B223,справочник!$B$2:$E$322,4,0)","v":174},{"$f":"CONCATENATE(C223;D223)","v":{"$error":"#VALUE!"}},182,"Просянов Александр Александрович","50:03:0070280:763","2013-03-19","2013-04-01",{"$f":"INT(($H$326-G223)/30)","v":33},{"$f":"H223*1000","v":33000},33000,null,{"$f":"I223-J223-K223","v":0},{"$f":"SUM('план на 2016'!$L224:M224)-SUM('членские взносы'!$M223:M223)","v":-200},{"$f":"SUM('план на 2016'!$L224:N224)-SUM('членские взносы'!$M223:N223)","v":600},{"$f":"SUM('план на 2016'!$L224:O224)-SUM('членские взносы'!$M223:O223)","v":1400},{"$f":"SUM('план на 2016'!$L224:P224)-SUM('членские взносы'!$M223:P223)","v":2200},{"$f":"SUM('план на 2016'!$L224:Q224)-SUM('членские взносы'!$M223:Q223)","v":0},{"$f":"SUM('план на 2016'!$L224:R224)-SUM('членские взносы'!$M223:R223)","v":800},{"$f":"SUM('план на 2016'!$L224:S224)-SUM('членские взносы'!$M223:S223)","v":0},{"$f":"SUM('план на 2016'!$L224:T224)-SUM('членские взносы'!$M223:T223)","v":800},{"$f":"SUM('план на 2016'!$L224:U224)-SUM('членские взносы'!$M223:U223)","v":1600},{"$f":"SUM('план на 2016'!$L224:V224)-SUM('членские взносы'!$M223:V223)","v":2400},{"$f":"SUM('план на 2016'!$L224:W224)-SUM('членские взносы'!$M223:W223)","v":3200},{"$f":"SUM('план на 2016'!$L224:X224)-SUM('членские взносы'!$M223:X223)","v":4000},{"$f":"X223","v":4000}]
[{"$f":"VLOOKUP(B224,справочник!$B$2:$E$322,4,0)","v":165},{"$f":"CONCATENATE(C224;D224)","v":{"$error":"#VALUE!"}},173,"Прохоров Владимир Михайлович","50:03:0070280:922",null,null,17,{"$f":"H224*1000","v":17000},17000,null,{"$f":"I224-J224-K224","v":0},{"$f":"SUM('план на 2016'!$L225:M225)-SUM('членские взносы'!$M224:M224)","v":800},{"$f":"SUM('план на 2016'!$L225:N225)-SUM('членские взносы'!$M224:N224)","v":1600},{"$f":"SUM('план на 2016'!$L225:O225)-SUM('членские взносы'!$M224:O224)","v":2400},{"$f":"SUM('план на 2016'!$L225:P225)-SUM('членские взносы'!$M224:P224)","v":3200},{"$f":"SUM('план на 2016'!$L225:Q225)-SUM('членские взносы'!$M224:Q224)","v":4000},{"$f":"SUM('план на 2016'!$L225:R225)-SUM('членские взносы'!$M224:R224)","v":4800},{"$f":"SUM('план на 2016'!$L225:S225)-SUM('членские взносы'!$M224:S224)","v":5600},{"$f":"SUM('план на 2016'!$L225:T225)-SUM('членские взносы'!$M224:T224)","v":6400},{"$f":"SUM('план на 2016'!$L225:U225)-SUM('членские взносы'!$M224:U224)","v":7200},{"$f":"SUM('план на 2016'!$L225:V225)-SUM('членские взносы'!$M224:V224)","v":8000},{"$f":"SUM('план на 2016'!$L225:W225)-SUM('членские взносы'!$M224:W224)","v":8800},{"$f":"SUM('план на 2016'!$L225:X225)-SUM('членские взносы'!$M224:X224)","v":9600},{"$f":"X224","v":9600}]
[{"$f":"VLOOKUP(B225,справочник!$B$2:$E$322,4,0)","v":251},{"$f":"CONCATENATE(C225;D225)","v":{"$error":"#VALUE!"}},262,"Пузанова Екатерина Вячеславовна","50:03:0070280:741","2014-04-22","2014-05-01",{"$f":"INT(($H$326-G225)/30)","v":20},{"$f":"H225*1000","v":20000},null,null,{"$f":"I225-J225-K225","v":20000},{"$f":"SUM('план на 2016'!$L226:M226)-SUM('членские взносы'!$M225:M225)","v":20800},{"$f":"SUM('план на 2016'!$L226:N226)-SUM('членские взносы'!$M225:N225)","v":21600},{"$f":"SUM('план на 2016'!$L226:O226)-SUM('членские взносы'!$M225:O225)","v":22400},{"$f":"SUM('план на 2016'!$L226:P226)-SUM('членские взносы'!$M225:P225)","v":23200},{"$f":"SUM('план на 2016'!$L226:Q226)-SUM('членские взносы'!$M225:Q225)","v":24000},{"$f":"SUM('план на 2016'!$L226:R226)-SUM('членские взносы'!$M225:R225)","v":24800},{"$f":"SUM('план на 2016'!$L226:S226)-SUM('членские взносы'!$M225:S225)","v":25600},{"$f":"SUM('план на 2016'!$L226:T226)-SUM('членские взносы'!$M225:T225)","v":26400},{"$f":"SUM('план на 2016'!$L226:U226)-SUM('членские взносы'!$M225:U225)","v":27200},{"$f":"SUM('план на 2016'!$L226:V226)-SUM('членские взносы'!$M225:V225)","v":28000},{"$f":"SUM('план на 2016'!$L226:W226)-SUM('членские взносы'!$M225:W225)","v":28800},{"$f":"SUM('план на 2016'!$L226:X226)-SUM('членские взносы'!$M225:X225)","v":29600},{"$f":"X225","v":29600}]
[{"$f":"VLOOKUP(B226,справочник!$B$2:$E$322,4,0)","v":315},{"$f":"CONCATENATE(C226;D226)","v":{"$error":"#VALUE!"}},"265-266","Ратников Алексей Сергеевич","50:03:0070280:738","2011-12-13","2011-12-01",{"$f":"INT(($H$326-G226)/30)","v":49},{"$f":"H226*1000","v":49000},{"$f":"28000+2000","v":30000},null,{"$f":"I226-J226-K226","v":19000},{"$f":"SUM('план на 2016'!$L227:M227)-SUM('членские взносы'!$M226:M226)","v":19800},{"$f":"SUM('план на 2016'!$L227:N227)-SUM('членские взносы'!$M226:N226)","v":20600},{"$f":"SUM('план на 2016'!$L227:O227)-SUM('членские взносы'!$M226:O226)","v":21400},{"$f":"SUM('план на 2016'!$L227:P227)-SUM('членские взносы'!$M226:P226)","v":22200},{"$f":"SUM('план на 2016'!$L227:Q227)-SUM('членские взносы'!$M226:Q226)","v":23000},{"$f":"SUM('план на 2016'!$L227:R227)-SUM('членские взносы'!$M226:R226)","v":23800},{"$f":"SUM('план на 2016'!$L227:S227)-SUM('членские взносы'!$M226:S226)","v":24600},{"$f":"SUM('план на 2016'!$L227:T227)-SUM('членские взносы'!$M226:T226)","v":25400},{"$f":"SUM('план на 2016'!$L227:U227)-SUM('членские взносы'!$M226:U226)","v":26200},{"$f":"SUM('план на 2016'!$L227:V227)-SUM('членские взносы'!$M226:V226)","v":27000},{"$f":"SUM('план на 2016'!$L227:W227)-SUM('членские взносы'!$M226:W226)","v":27800},{"$f":"SUM('план на 2016'!$L227:X227)-SUM('членские взносы'!$M226:X226)","v":28600},{"$f":"X226","v":28600}]
[{"$f":"VLOOKUP(B227,справочник!$B$2:$E$322,4,0)","v":{"$error":"#VALUE!"}},{"$f":"CONCATENATE(C227;D227)","v":{"$error":"#VALUE!"}},"210-211","Решетов Владимир Генадьевич","50:03:0070280:1464","2011-09-30","2011-10-01",{"$f":"INT(($H$326-G227)/30)","v":51},61000,{"$f":"2000+55000","v":57000},4000,{"$f":"I227-J227-K227","v":0},{"$f":"SUM('план на 2016'!$L228:M228)-SUM('членские взносы'!$M227:M227)","v":-1200},{"$f":"SUM('план на 2016'!$L228:N228)-SUM('членские взносы'!$M227:N227)","v":-400},{"$f":"SUM('план на 2016'!$L228:O228)-SUM('членские взносы'!$M227:O227)","v":400},{"$f":"SUM('план на 2016'!$L228:P228)-SUM('членские взносы'!$M227:P227)","v":-800},{"$f":"SUM('план на 2016'!$L228:Q228)-SUM('членские взносы'!$M227:Q227)","v":0},{"$f":"SUM('план на 2016'!$L228:R228)-SUM('членские взносы'!$M227:R227)","v":-1200},{"$f":"SUM('план на 2016'!$L228:S228)-SUM('членские взносы'!$M227:S227)","v":-400},{"$f":"SUM('план на 2016'!$L228:T228)-SUM('членские взносы'!$M227:T227)","v":-1600},{"$f":"SUM('план на 2016'!$L228:U228)-SUM('членские взносы'!$M227:U227)","v":-800},{"$f":"SUM('план на 2016'!$L228:V228)-SUM('членские взносы'!$M227:V227)","v":-2000},{"$f":"SUM('план на 2016'!$L228:W228)-SUM('членские взносы'!$M227:W227)","v":-1200},{"$f":"SUM('план на 2016'!$L228:X228)-SUM('членские взносы'!$M227:X227)","v":-2400},{"$f":"X227","v":-2400}]
[{"$f":"VLOOKUP(B228,справочник!$B$2:$E$322,4,0)","v":{"$error":"#VALUE!"}},{"$f":"CONCATENATE(C228;D228)","v":{"$error":"#VALUE!"}},"210-211","Решетов Владимир Генадьевич","50:03:0070280:1464","2011-09-30","2011-10-01",{"$f":"INT(($H$326-G228)/30)","v":51},61000,58000,3000,{"$f":"I228-J228-K228","v":0},{"$f":"SUM('план на 2016'!$L229:M229)-SUM('членские взносы'!$M228:M228)","v":0},{"$f":"SUM('план на 2016'!$L229:N229)-SUM('членские взносы'!$M228:N228)","v":0},{"$f":"SUM('план на 2016'!$L229:O229)-SUM('членские взносы'!$M228:O228)","v":0},{"$f":"SUM('план на 2016'!$L229:P229)-SUM('членские взносы'!$M228:P228)","v":0},{"$f":"SUM('план на 2016'!$L229:Q229)-SUM('членские взносы'!$M228:Q228)","v":0},{"$f":"SUM('план на 2016'!$L229:R229)-SUM('членские взносы'!$M228:R228)","v":0},{"$f":"SUM('план на 2016'!$L229:S229)-SUM('членские взносы'!$M228:S228)","v":0},{"$f":"SUM('план на 2016'!$L229:T229)-SUM('членские взносы'!$M228:T228)","v":0},{"$f":"SUM('план на 2016'!$L229:U229)-SUM('членские взносы'!$M228:U228)","v":0},{"$f":"SUM('план на 2016'!$L229:V229)-SUM('членские взносы'!$M228:V228)","v":0},{"$f":"SUM('план на 2016'!$L229:W229)-SUM('членские взносы'!$M228:W228)","v":0},{"$f":"SUM('план на 2016'!$L229:X229)-SUM('членские взносы'!$M228:X228)","v":0},{"$f":"X228","v":0}]
[{"$f":"VLOOKUP(B229,справочник!$B$2:$E$322,4,0)","v":195},{"$f":"CONCATENATE(C229;D229)","v":{"$error":"#VALUE!"}},203,"Родичева Наталья Николаевна - Завилевская Е.И. ???","50:03:0070280:885","2013-11-21","2013-12-01",{"$f":"INT(($H$326-G229)/30)","v":25},{"$f":"H229*1000","v":25000},1000,null,{"$f":"I229-J229-K229","v":24000},{"$f":"SUM('план на 2016'!$L230:M230)-SUM('членские взносы'!$M229:M229)","v":24800},{"$f":"SUM('план на 2016'!$L230:N230)-SUM('членские взносы'!$M229:N229)","v":25600},{"$f":"SUM('план на 2016'!$L230:O230)-SUM('членские взносы'!$M229:O229)","v":26400},{"$f":"SUM('план на 2016'!$L230:P230)-SUM('членские взносы'!$M229:P229)","v":27200},{"$f":"SUM('план на 2016'!$L230:Q230)-SUM('членские взносы'!$M229:Q229)","v":28000},{"$f":"SUM('план на 2016'!$L230:R230)-SUM('членские взносы'!$M229:R229)","v":24800},{"$f":"SUM('план на 2016'!$L230:S230)-SUM('членские взносы'!$M229:S229)","v":25600},{"$f":"SUM('план на 2016'!$L230:T230)-SUM('членские взносы'!$M229:T229)","v":26400},{"$f":"SUM('план на 2016'!$L230:U230)-SUM('членские взносы'!$M229:U229)","v":27200},{"$f":"SUM('план на 2016'!$L230:V230)-SUM('членские взносы'!$M229:V229)","v":28000},{"$f":"SUM('план на 2016'!$L230:W230)-SUM('членские взносы'!$M229:W229)","v":28800},{"$f":"SUM('план на 2016'!$L230:X230)-SUM('членские взносы'!$M229:X229)","v":29600},{"$f":"X229","v":29600}]
[{"$f":"VLOOKUP(B230,справочник!$B$2:$E$322,4,0)","v":144},{"$f":"CONCATENATE(C230;D230)","v":{"$error":"#VALUE!"}},152,"Рожкова Глафира Андреевна","50:03:0070280:1031","2011-09-02","2011-09-01",{"$f":"INT(($H$326-G230)/30)","v":52},{"$f":"H230*1000","v":52000},1000,null,{"$f":"I230-J230-K230","v":51000},{"$f":"SUM('план на 2016'!$L231:M231)-SUM('членские взносы'!$M230:M230)","v":51000},{"$f":"SUM('план на 2016'!$L231:N231)-SUM('членские взносы'!$M230:N230)","v":51000},{"$f":"SUM('план на 2016'!$L231:O231)-SUM('членские взносы'!$M230:O230)","v":51000},{"$f":"SUM('план на 2016'!$L231:P231)-SUM('членские взносы'!$M230:P230)","v":51000},{"$f":"SUM('план на 2016'!$L231:Q231)-SUM('членские взносы'!$M230:Q230)","v":51000},{"$f":"SUM('план на 2016'!$L231:R231)-SUM('членские взносы'!$M230:R230)","v":51000},{"$f":"SUM('план на 2016'!$L231:S231)-SUM('членские взносы'!$M230:S230)","v":51000},{"$f":"SUM('план на 2016'!$L231:T231)-SUM('членские взносы'!$M230:T230)","v":51000},{"$f":"SUM('план на 2016'!$L231:U231)-SUM('членские взносы'!$M230:U230)","v":51000},{"$f":"SUM('план на 2016'!$L231:V231)-SUM('членские взносы'!$M230:V230)","v":51000},{"$f":"SUM('план на 2016'!$L231:W231)-SUM('членские взносы'!$M230:W230)","v":51000},{"$f":"SUM('план на 2016'!$L231:X231)-SUM('членские взносы'!$M230:X230)","v":51000},{"$f":"X230","v":51000}]
[{"$f":"VLOOKUP(B231,справочник!$B$2:$E$322,4,0)","v":144},{"$f":"CONCATENATE(C231;D231)","v":{"$error":"#VALUE!"}},153,"Рожкова Глафира Андреевна",null,"2011-09-02","2011-09-01",{"$f":"INT(($H$326-G231)/30)","v":52},{"$f":"H231*1000","v":52000},1000,null,{"$f":"I231-J231-K231","v":51000},{"$f":"SUM('план на 2016'!$L232:M232)-SUM('членские взносы'!$M231:M231)","v":51800},{"$f":"SUM('план на 2016'!$L232:N232)-SUM('членские взносы'!$M231:N231)","v":52600},{"$f":"SUM('план на 2016'!$L232:O232)-SUM('членские взносы'!$M231:O231)","v":53400},{"$f":"SUM('план на 2016'!$L232:P232)-SUM('членские взносы'!$M231:P231)","v":54200},{"$f":"SUM('план на 2016'!$L232:Q232)-SUM('членские взносы'!$M231:Q231)","v":55000},{"$f":"SUM('план на 2016'!$L232:R232)-SUM('членские взносы'!$M231:R231)","v":55800},{"$f":"SUM('план на 2016'!$L232:S232)-SUM('членские взносы'!$M231:S231)","v":56600},{"$f":"SUM('план на 2016'!$L232:T232)-SUM('членские взносы'!$M231:T231)","v":57400},{"$f":"SUM('план на 2016'!$L232:U232)-SUM('членские взносы'!$M231:U231)","v":58200},{"$f":"SUM('план на 2016'!$L232:V232)-SUM('членские взносы'!$M231:V231)","v":59000},{"$f":"SUM('план на 2016'!$L232:W232)-SUM('членские взносы'!$M231:W231)","v":59800},{"$f":"SUM('план на 2016'!$L232:X232)-SUM('членские взносы'!$M231:X231)","v":60600},{"$f":"X231","v":60600}]
[{"$f":"VLOOKUP(B232,справочник!$B$2:$E$322,4,0)","v":74},{"$f":"CONCATENATE(C232;D232)","v":{"$error":"#VALUE!"}},80,"Розова Татьяна Викторовна","50:03:0070280:749","2013-02-05","2013-03-01",{"$f":"INT(($H$326-G232)/30)","v":34},{"$f":"H232*1000","v":34000},31000,null,{"$f":"I232-J232-K232","v":3000},{"$f":"SUM('план на 2016'!$L233:M233)-SUM('членские взносы'!$M232:M232)","v":-3000},{"$f":"SUM('план на 2016'!$L233:N233)-SUM('членские взносы'!$M232:N232)","v":-3000},{"$f":"SUM('план на 2016'!$L233:O233)-SUM('членские взносы'!$M232:O232)","v":-3000},{"$f":"SUM('план на 2016'!$L233:P233)-SUM('членские взносы'!$M232:P232)","v":-3000},{"$f":"SUM('план на 2016'!$L233:Q233)-SUM('членские взносы'!$M232:Q232)","v":-5400},{"$f":"SUM('план на 2016'!$L233:R233)-SUM('членские взносы'!$M232:R232)","v":-5400},{"$f":"SUM('план на 2016'!$L233:S233)-SUM('членские взносы'!$M232:S232)","v":-7800},{"$f":"SUM('план на 2016'!$L233:T233)-SUM('членские взносы'!$M232:T232)","v":-7800},{"$f":"SUM('план на 2016'!$L233:U233)-SUM('членские взносы'!$M232:U232)","v":-7800},{"$f":"SUM('план на 2016'!$L233:V233)-SUM('членские взносы'!$M232:V232)","v":-10200},{"$f":"SUM('план на 2016'!$L233:W233)-SUM('членские взносы'!$M232:W232)","v":-10200},{"$f":"SUM('план на 2016'!$L233:X233)-SUM('членские взносы'!$M232:X232)","v":-12600},{"$f":"X232","v":-12600}]
[{"$f":"VLOOKUP(B233,справочник!$B$2:$E$322,4,0)","v":74},{"$f":"CONCATENATE(C233;D233)","v":{"$error":"#VALUE!"}},81,"Розова Татьяна Викторовна","50:03:0070280:750","2011-05-19","2011-06-01",{"$f":"INT(($H$326-G233)/30)","v":55},{"$f":"H233*1000","v":55000},{"$f":"7000+48000-3000","v":52000},null,{"$f":"I233-J233-K233","v":3000},{"$f":"SUM('план на 2016'!$L234:M234)-SUM('членские взносы'!$M233:M233)","v":3800},{"$f":"SUM('план на 2016'!$L234:N234)-SUM('членские взносы'!$M233:N233)","v":4600},{"$f":"SUM('план на 2016'!$L234:O234)-SUM('членские взносы'!$M233:O233)","v":5400},{"$f":"SUM('план на 2016'!$L234:P234)-SUM('членские взносы'!$M233:P233)","v":6200},{"$f":"SUM('план на 2016'!$L234:Q234)-SUM('членские взносы'!$M233:Q233)","v":7000},{"$f":"SUM('план на 2016'!$L234:R234)-SUM('членские взносы'!$M233:R233)","v":7800},{"$f":"SUM('план на 2016'!$L234:S234)-SUM('членские взносы'!$M233:S233)","v":8600},{"$f":"SUM('план на 2016'!$L234:T234)-SUM('членские взносы'!$M233:T233)","v":9400},{"$f":"SUM('план на 2016'!$L234:U234)-SUM('членские взносы'!$M233:U233)","v":10200},{"$f":"SUM('план на 2016'!$L234:V234)-SUM('членские взносы'!$M233:V233)","v":11000},{"$f":"SUM('план на 2016'!$L234:W234)-SUM('членские взносы'!$M233:W233)","v":11800},{"$f":"SUM('план на 2016'!$L234:X234)-SUM('членские взносы'!$M233:X233)","v":12600},{"$f":"X233","v":12600}]
[{"$f":"VLOOKUP(B234,справочник!$B$2:$E$322,4,0)","v":68},{"$f":"CONCATENATE(C234;D234)","v":{"$error":"#VALUE!"}},70,"Рощина Ирина Михайловна","50:03:0070280:754","2011-05-24","2011-05-01",{"$f":"INT(($H$326-G234)/30)","v":56},{"$f":"H234*1000","v":56000},{"$f":"12000+44000","v":56000},null,{"$f":"I234-J234-K234","v":0},{"$f":"SUM('план на 2016'!$L235:M235)-SUM('членские взносы'!$M234:M234)","v":800},{"$f":"SUM('план на 2016'!$L235:N235)-SUM('членские взносы'!$M234:N234)","v":0},{"$f":"SUM('план на 2016'!$L235:O235)-SUM('членские взносы'!$M234:O234)","v":0},{"$f":"SUM('план на 2016'!$L235:P235)-SUM('членские взносы'!$M234:P234)","v":800},{"$f":"SUM('план на 2016'!$L235:Q235)-SUM('членские взносы'!$M234:Q234)","v":800},{"$f":"SUM('план на 2016'!$L235:R235)-SUM('членские взносы'!$M234:R234)","v":800},{"$f":"SUM('план на 2016'!$L235:S235)-SUM('членские взносы'!$M234:S234)","v":1600},{"$f":"SUM('план на 2016'!$L235:T235)-SUM('членские взносы'!$M234:T234)","v":2400},{"$f":"SUM('план на 2016'!$L235:U235)-SUM('членские взносы'!$M234:U234)","v":2400},{"$f":"SUM('план на 2016'!$L235:V235)-SUM('членские взносы'!$M234:V234)","v":3200},{"$f":"SUM('план на 2016'!$L235:W235)-SUM('членские взносы'!$M234:W234)","v":4000},{"$f":"SUM('план на 2016'!$L235:X235)-SUM('членские взносы'!$M234:X234)","v":4800},{"$f":"X234","v":4800}]
[{"$f":"VLOOKUP(B235,справочник!$B$2:$E$322,4,0)","v":224},{"$f":"CONCATENATE(C235;D235)","v":{"$error":"#VALUE!"}},233,"Рудая Наталья Викторовна","50:03:0070280:830","2014-04-22","2014-05-01",{"$f":"INT(($H$326-G235)/30)","v":20},{"$f":"H235*1000","v":20000},null,null,{"$f":"I235-J235-K235","v":20000},{"$f":"SUM('план на 2016'!$L236:M236)-SUM('членские взносы'!$M235:M235)","v":20800},{"$f":"SUM('план на 2016'!$L236:N236)-SUM('членские взносы'!$M235:N235)","v":21600},{"$f":"SUM('план на 2016'!$L236:O236)-SUM('членские взносы'!$M235:O235)","v":22400},{"$f":"SUM('план на 2016'!$L236:P236)-SUM('членские взносы'!$M235:P235)","v":23200},{"$f":"SUM('план на 2016'!$L236:Q236)-SUM('членские взносы'!$M235:Q235)","v":24000},{"$f":"SUM('план на 2016'!$L236:R236)-SUM('членские взносы'!$M235:R235)","v":24800},{"$f":"SUM('план на 2016'!$L236:S236)-SUM('членские взносы'!$M235:S235)","v":25600},{"$f":"SUM('план на 2016'!$L236:T236)-SUM('членские взносы'!$M235:T235)","v":26400},{"$f":"SUM('план на 2016'!$L236:U236)-SUM('членские взносы'!$M235:U235)","v":27200},{"$f":"SUM('план на 2016'!$L236:V236)-SUM('членские взносы'!$M235:V235)","v":28000},{"$f":"SUM('план на 2016'!$L236:W236)-SUM('членские взносы'!$M235:W235)","v":28800},{"$f":"SUM('план на 2016'!$L236:X236)-SUM('членские взносы'!$M235:X235)","v":29600},{"$f":"X235","v":29600}]
[{"$f":"VLOOKUP(B236,справочник!$B$2:$E$322,4,0)","v":134},{"$f":"CONCATENATE(C236;D236)","v":{"$error":"#VALUE!"}},141,"Рыбалкин Андрей Сергеевич","50:03:0070280:893","2011-12-16","2011-12-01",{"$f":"INT(($H$326-G236)/30)","v":49},{"$f":"H236*1000","v":49000},{"$f":"37000","v":37000},null,{"$f":"I236-J236-K236","v":12000},{"$f":"SUM('план на 2016'!$L237:M237)-SUM('членские взносы'!$M236:M236)","v":800},{"$f":"SUM('план на 2016'!$L237:N237)-SUM('членские взносы'!$M236:N236)","v":-3200},{"$f":"SUM('план на 2016'!$L237:O237)-SUM('членские взносы'!$M236:O236)","v":-2400},{"$f":"SUM('план на 2016'!$L237:P237)-SUM('членские взносы'!$M236:P236)","v":-1600},{"$f":"SUM('план на 2016'!$L237:Q237)-SUM('членские взносы'!$M236:Q236)","v":-800},{"$f":"SUM('план на 2016'!$L237:R237)-SUM('членские взносы'!$M236:R236)","v":0},{"$f":"SUM('план на 2016'!$L237:S237)-SUM('членские взносы'!$M236:S236)","v":800},{"$f":"SUM('план на 2016'!$L237:T237)-SUM('членские взносы'!$M236:T236)","v":1600},{"$f":"SUM('план на 2016'!$L237:U237)-SUM('членские взносы'!$M236:U236)","v":2400},{"$f":"SUM('план на 2016'!$L237:V237)-SUM('членские взносы'!$M236:V236)","v":-1600},{"$f":"SUM('план на 2016'!$L237:W237)-SUM('членские взносы'!$M236:W236)","v":-800},{"$f":"SUM('план на 2016'!$L237:X237)-SUM('членские взносы'!$M236:X236)","v":0},{"$f":"X236","v":0}]
[{"$f":"VLOOKUP(B237,справочник!$B$2:$E$322,4,0)","v":267},{"$f":"CONCATENATE(C237;D237)","v":{"$error":"#VALUE!"}},280,"Рыжов Андрей Николаевич","50:03:0070280:721","2012-04-24","2012-04-01",{"$f":"INT(($H$326-G237)/30)","v":45},{"$f":"H237*1000","v":45000},{"$f":"41000","v":41000},null,{"$f":"I237-J237-K237","v":4000},{"$f":"SUM('план на 2016'!$L238:M238)-SUM('членские взносы'!$M237:M237)","v":4800},{"$f":"SUM('план на 2016'!$L238:N238)-SUM('членские взносы'!$M237:N237)","v":1600},{"$f":"SUM('план на 2016'!$L238:O238)-SUM('членские взносы'!$M237:O237)","v":400},{"$f":"SUM('план на 2016'!$L238:P238)-SUM('членские взносы'!$M237:P237)","v":-800},{"$f":"SUM('план на 2016'!$L238:Q238)-SUM('членские взносы'!$M237:Q237)","v":0},{"$f":"SUM('план на 2016'!$L238:R238)-SUM('членские взносы'!$M237:R237)","v":800},{"$f":"SUM('план на 2016'!$L238:S238)-SUM('членские взносы'!$M237:S237)","v":1600},{"$f":"SUM('план на 2016'!$L238:T238)-SUM('членские взносы'!$M237:T237)","v":2400},{"$f":"SUM('план на 2016'!$L238:U238)-SUM('членские взносы'!$M237:U237)","v":1200},{"$f":"SUM('план на 2016'!$L238:V238)-SUM('членские взносы'!$M237:V237)","v":0},{"$f":"SUM('план на 2016'!$L238:W238)-SUM('членские взносы'!$M237:W237)","v":-1200},{"$f":"SUM('план на 2016'!$L238:X238)-SUM('членские взносы'!$M237:X237)","v":-400},{"$f":"X237","v":-400}]
[{"$f":"VLOOKUP(B238,справочник!$B$2:$E$322,4,0)","v":258},{"$f":"CONCATENATE(C238;D238)","v":{"$error":"#VALUE!"}},271,"Савина Нина Ивановна","50:03:0070280:732","2012-05-10","2012-05-01",{"$f":"INT(($H$326-G238)/30)","v":44},{"$f":"H238*1000","v":44000},44000,null,{"$f":"I238-J238-K238","v":0},{"$f":"SUM('план на 2016'!$L239:M239)-SUM('членские взносы'!$M238:M238)","v":800},{"$f":"SUM('план на 2016'!$L239:N239)-SUM('членские взносы'!$M238:N238)","v":1600},{"$f":"SUM('план на 2016'!$L239:O239)-SUM('членские взносы'!$M238:O238)","v":2400},{"$f":"SUM('план на 2016'!$L239:P239)-SUM('членские взносы'!$M238:P238)","v":3200},{"$f":"SUM('план на 2016'!$L239:Q239)-SUM('членские взносы'!$M238:Q238)","v":4000},{"$f":"SUM('план на 2016'!$L239:R239)-SUM('членские взносы'!$M238:R238)","v":0},{"$f":"SUM('план на 2016'!$L239:S239)-SUM('членские взносы'!$M238:S238)","v":800},{"$f":"SUM('план на 2016'!$L239:T239)-SUM('членские взносы'!$M238:T238)","v":1600},{"$f":"SUM('план на 2016'!$L239:U239)-SUM('членские взносы'!$M238:U238)","v":2400},{"$f":"SUM('план на 2016'!$L239:V239)-SUM('членские взносы'!$M238:V238)","v":3200},{"$f":"SUM('план на 2016'!$L239:W239)-SUM('членские взносы'!$M238:W238)","v":4000},{"$f":"SUM('план на 2016'!$L239:X239)-SUM('членские взносы'!$M238:X238)","v":4800},{"$f":"X238","v":4800}]
[{"$f":"VLOOKUP(B239,справочник!$B$2:$E$322,4,0)","v":299},{"$f":"CONCATENATE(C239;D239)","v":{"$error":"#VALUE!"}},314,"Садовников Алексей Владимирович(Рошка Александр Николаевич)",null,"2015-01-13","2013-01-01",{"$f":"INT(($H$326-G239)/30)","v":36},{"$f":"H239*1000","v":36000},{"$f":"1000","v":1000},3000,{"$f":"I239-J239-K239","v":32000},{"$f":"SUM('план на 2016'!$L240:M240)-SUM('членские взносы'!$M239:M239)","v":32800},{"$f":"SUM('план на 2016'!$L240:N240)-SUM('членские взносы'!$M239:N239)","v":33600},{"$f":"SUM('план на 2016'!$L240:O240)-SUM('членские взносы'!$M239:O239)","v":34400},{"$f":"SUM('план на 2016'!$L240:P240)-SUM('членские взносы'!$M239:P239)","v":35200},{"$f":"SUM('план на 2016'!$L240:Q240)-SUM('членские взносы'!$M239:Q239)","v":36000},{"$f":"SUM('план на 2016'!$L240:R240)-SUM('членские взносы'!$M239:R239)","v":36800},{"$f":"SUM('план на 2016'!$L240:S240)-SUM('членские взносы'!$M239:S239)","v":37600},{"$f":"SUM('план на 2016'!$L240:T240)-SUM('членские взносы'!$M239:T239)","v":38400},{"$f":"SUM('план на 2016'!$L240:U240)-SUM('членские взносы'!$M239:U239)","v":39200},{"$f":"SUM('план на 2016'!$L240:V240)-SUM('членские взносы'!$M239:V239)","v":40000},{"$f":"SUM('план на 2016'!$L240:W240)-SUM('членские взносы'!$M239:W239)","v":40800},{"$f":"SUM('план на 2016'!$L240:X240)-SUM('членские взносы'!$M239:X239)","v":41600},{"$f":"X239","v":41600}]
[{"$f":"VLOOKUP(B240,справочник!$B$2:$E$322,4,0)","v":210},{"$f":"CONCATENATE(C240;D240)","v":{"$error":"#VALUE!"}},219,"Сазонов Сергей Александрович - Диденко Оксана Владимировна",null,"2014-10-01","2014-11-01",{"$f":"INT(($H$326-G240)/30)","v":14},{"$f":"H240*1000","v":14000},{"$f":"6000","v":6000},null,{"$f":"I240-J240-K240","v":8000},{"$f":"SUM('план на 2016'!$L241:M241)-SUM('членские взносы'!#ref!:'членские взносы'!#ref!)","v":{"$error":"#VALUE!"}},{"$f":"SUM('план на 2016'!$L241:N241)-SUM('членские взносы'!#ref!:'членские взносы'!#ref!)","v":{"$error":"#VALUE!"}},{"$f":"SUM('план на 2016'!$L241:O241)-SUM('членские взносы'!#ref!:'членские взносы'!#ref!)","v":{"$error":"#VALUE!"}},{"$f":"SUM('план на 2016'!$L241:P241)-SUM('членские взносы'!#ref!:'членские взносы'!#ref!)","v":{"$error":"#VALUE!"}},{"$f":"SUM('план на 2016'!$L241:Q241)-SUM('членские взносы'!#ref!:'членские взносы'!#ref!)","v":{"$error":"#VALUE!"}},{"$f":"SUM('план на 2016'!$L241:R241)-SUM('членские взносы'!#ref!:'членские взносы'!#ref!)","v":{"$error":"#VALUE!"}},{"$f":"SUM('план на 2016'!$L241:S241)-SUM('членские взносы'!#ref!:'членские взносы'!#ref!)","v":{"$error":"#VALUE!"}},{"$f":"SUM('план на 2016'!$L241:T241)-SUM('членские взносы'!#ref!:'членские взносы'!#ref!)","v":{"$error":"#VALUE!"}},{"$f":"SUM('план на 2016'!$L241:U241)-SUM('членские взносы'!#ref!:'членские взносы'!#ref!)","v":{"$error":"#VALUE!"}},{"$f":"SUM('план на 2016'!$L241:V241)-SUM('членские взносы'!#ref!:'членские взносы'!#ref!)","v":{"$error":"#VALUE!"}},{"$f":"SUM('план на 2016'!$L241:W241)-SUM('членские взносы'!#ref!:'членские взносы'!#ref!)","v":{"$error":"#VALUE!"}},{"$f":"SUM('план на 2016'!$L241:X241)-SUM('членские взносы'!#ref!:'членские взносы'!#ref!)","v":{"$error":"#VALUE!"}},{"$f":"X240","v":{"$error":"#VALUE!"}}]
[{"$f":"VLOOKUP(B241,справочник!$B$2:$E$322,4,0)","v":239},{"$f":"CONCATENATE(C241;D241)","v":{"$error":"#VALUE!"}},250,"Салопаева Татьяна Сергеевна","50:03:0070280:722","2012-03-05","2012-03-01",{"$f":"INT(($H$326-G241)/30)","v":46},{"$f":"H241*1000","v":46000},26000,null,{"$f":"I241-J241-K241","v":20000},{"$f":"SUM('план на 2016'!$L242:M242)-SUM('членские взносы'!$M240:M240)","v":20800},{"$f":"SUM('план на 2016'!$L242:N242)-SUM('членские взносы'!$M240:N240)","v":21600},{"$f":"SUM('план на 2016'!$L242:O242)-SUM('членские взносы'!$M240:O240)","v":22400},{"$f":"SUM('план на 2016'!$L242:P242)-SUM('членские взносы'!$M240:P240)","v":23200},{"$f":"SUM('план на 2016'!$L242:Q242)-SUM('членские взносы'!$M240:Q240)","v":24000},{"$f":"SUM('план на 2016'!$L242:R242)-SUM('членские взносы'!$M240:R240)","v":24800},{"$f":"SUM('план на 2016'!$L242:S242)-SUM('членские взносы'!$M240:S240)","v":25600},{"$f":"SUM('план на 2016'!$L242:T242)-SUM('членские взносы'!$M240:T240)","v":26400},{"$f":"SUM('план на 2016'!$L242:U242)-SUM('членские взносы'!$M240:U240)","v":27200},{"$f":"SUM('план на 2016'!$L242:V242)-SUM('членские взносы'!$M240:V240)","v":28000},{"$f":"SUM('план на 2016'!$L242:W242)-SUM('членские взносы'!$M240:W240)","v":28800},{"$f":"SUM('план на 2016'!$L242:X242)-SUM('членские взносы'!$M240:X240)","v":29600},{"$f":"X241","v":29600}]
[{"$f":"VLOOKUP(B242,справочник!$B$2:$E$322,4,0)","v":238},{"$f":"CONCATENATE(C242;D242)","v":{"$error":"#VALUE!"}},249,"Самоволькина Ирина Владимировна","50:03:0070280:723","2012-06-19","2012-06-01",{"$f":"INT(($H$326-G242)/30)","v":43},{"$f":"H242*1000","v":43000},null,null,{"$f":"I242-J242-K242","v":43000},{"$f":"SUM('план на 2016'!$L243:M243)-SUM('членские взносы'!$M241:M241)","v":43800},{"$f":"SUM('план на 2016'!$L243:N243)-SUM('членские взносы'!$M241:N241)","v":44600},{"$f":"SUM('план на 2016'!$L243:O243)-SUM('членские взносы'!$M241:O241)","v":45400},{"$f":"SUM('план на 2016'!$L243:P243)-SUM('членские взносы'!$M241:P241)","v":46200},{"$f":"SUM('план на 2016'!$L243:Q243)-SUM('членские взносы'!$M241:Q241)","v":47000},{"$f":"SUM('план на 2016'!$L243:R243)-SUM('членские взносы'!$M241:R241)","v":47800},{"$f":"SUM('план на 2016'!$L243:S243)-SUM('членские взносы'!$M241:S241)","v":48600},{"$f":"SUM('план на 2016'!$L243:T243)-SUM('членские взносы'!$M241:T241)","v":49400},{"$f":"SUM('план на 2016'!$L243:U243)-SUM('членские взносы'!$M241:U241)","v":50200},{"$f":"SUM('план на 2016'!$L243:V243)-SUM('членские взносы'!$M241:V241)","v":51000},{"$f":"SUM('план на 2016'!$L243:W243)-SUM('членские взносы'!$M241:W241)","v":51800},{"$f":"SUM('план на 2016'!$L243:X243)-SUM('членские взносы'!$M241:X241)","v":52600},{"$f":"X242","v":52600}]
[{"$f":"VLOOKUP(B243,справочник!$B$2:$E$322,4,0)","v":297},{"$f":"CONCATENATE(C243;D243)","v":{"$error":"#VALUE!"}},312,"Саргсян Оганнес Ншанович","50:03:0070280:1003","2014-12-31","2015-01-01",{"$f":"INT(($H$326-G243)/30)","v":12},{"$f":"H243*1000","v":12000},null,null,{"$f":"I243-J243-K243","v":12000},{"$f":"SUM('план на 2016'!$L244:M244)-SUM('членские взносы'!$M242:M242)","v":12800},{"$f":"SUM('план на 2016'!$L244:N244)-SUM('членские взносы'!$M242:N242)","v":13600},{"$f":"SUM('план на 2016'!$L244:O244)-SUM('членские взносы'!$M242:O242)","v":14400},{"$f":"SUM('план на 2016'!$L244:P244)-SUM('членские взносы'!$M242:P242)","v":15200},{"$f":"SUM('план на 2016'!$L244:Q244)-SUM('членские взносы'!$M242:Q242)","v":16000},{"$f":"SUM('план на 2016'!$L244:R244)-SUM('членские взносы'!$M242:R242)","v":16800},{"$f":"SUM('план на 2016'!$L244:S244)-SUM('членские взносы'!$M242:S242)","v":17600},{"$f":"SUM('план на 2016'!$L244:T244)-SUM('членские взносы'!$M242:T242)","v":18400},{"$f":"SUM('план на 2016'!$L244:U244)-SUM('членские взносы'!$M242:U242)","v":19200},{"$f":"SUM('план на 2016'!$L244:V244)-SUM('членские взносы'!$M242:V242)","v":20000},{"$f":"SUM('план на 2016'!$L244:W244)-SUM('членские взносы'!$M242:W242)","v":20800},{"$f":"SUM('план на 2016'!$L244:X244)-SUM('членские взносы'!$M242:X242)","v":21600},{"$f":"X243","v":21600}]
[{"$f":"VLOOKUP(B244,справочник!$B$2:$E$322,4,0)","v":128},{"$f":"CONCATENATE(C244;D244)","v":{"$error":"#VALUE!"}},135,"Сафронова Наталья Михайловна (у Дедков Илья Егорьевич купила)","50:03:0070280:976","2013-03-25","2013-04-01",{"$f":"INT(($H$326-G244)/30)","v":33},{"$f":"H244*1000","v":33000},26000,null,{"$f":"I244-J244-K244","v":7000},{"$f":"SUM('план на 2016'!$L245:M245)-SUM('членские взносы'!$M243:M243)","v":3800},{"$f":"SUM('план на 2016'!$L245:N245)-SUM('членские взносы'!$M243:N243)","v":4600},{"$f":"SUM('план на 2016'!$L245:O245)-SUM('членские взносы'!$M243:O243)","v":5400},{"$f":"SUM('план на 2016'!$L245:P245)-SUM('членские взносы'!$M243:P243)","v":6200},{"$f":"SUM('план на 2016'!$L245:Q245)-SUM('членские взносы'!$M243:Q243)","v":7000},{"$f":"SUM('план на 2016'!$L245:R245)-SUM('членские взносы'!$M243:R243)","v":7800},{"$f":"SUM('план на 2016'!$L245:S245)-SUM('членские взносы'!$M243:S243)","v":8600},{"$f":"SUM('план на 2016'!$L245:T245)-SUM('членские взносы'!$M243:T243)","v":9400},{"$f":"SUM('план на 2016'!$L245:U245)-SUM('членские взносы'!$M243:U243)","v":7000},{"$f":"SUM('план на 2016'!$L245:V245)-SUM('членские взносы'!$M243:V243)","v":7800},{"$f":"SUM('план на 2016'!$L245:W245)-SUM('членские взносы'!$M243:W243)","v":6200},{"$f":"SUM('план на 2016'!$L245:X245)-SUM('членские взносы'!$M243:X243)","v":7000},{"$f":"X244","v":7000}]
[{"$f":"VLOOKUP(B245,справочник!$B$2:$E$322,4,0)","v":67},{"$f":"CONCATENATE(C245;D245)","v":{"$error":"#VALUE!"}},69,"Сбитнева Юлия Сергеевна","50:03:0070280:881","2012-04-13","2012-04-01",{"$f":"INT(($H$326-G245)/30)","v":45},{"$f":"H245*1000","v":45000},1000,null,{"$f":"I245-J245-K245","v":44000},{"$f":"SUM('план на 2016'!$L246:M246)-SUM('членские взносы'!$M244:M244)","v":44800},{"$f":"SUM('план на 2016'!$L246:N246)-SUM('членские взносы'!$M244:N244)","v":45600},{"$f":"SUM('план на 2016'!$L246:O246)-SUM('членские взносы'!$M244:O244)","v":46400},{"$f":"SUM('план на 2016'!$L246:P246)-SUM('членские взносы'!$M244:P244)","v":47200},{"$f":"SUM('план на 2016'!$L246:Q246)-SUM('членские взносы'!$M244:Q244)","v":48000},{"$f":"SUM('план на 2016'!$L246:R246)-SUM('членские взносы'!$M244:R244)","v":48800},{"$f":"SUM('план на 2016'!$L246:S246)-SUM('членские взносы'!$M244:S244)","v":49600},{"$f":"SUM('план на 2016'!$L246:T246)-SUM('членские взносы'!$M244:T244)","v":50400},{"$f":"SUM('план на 2016'!$L246:U246)-SUM('членские взносы'!$M244:U244)","v":51200},{"$f":"SUM('план на 2016'!$L246:V246)-SUM('членские взносы'!$M244:V244)","v":52000},{"$f":"SUM('план на 2016'!$L246:W246)-SUM('членские взносы'!$M244:W244)","v":52800},{"$f":"SUM('план на 2016'!$L246:X246)-SUM('членские взносы'!$M244:X244)","v":53600},{"$f":"X245","v":53600}]
[{"$f":"VLOOKUP(B246,справочник!$B$2:$E$322,4,0)","v":278},{"$f":"CONCATENATE(C246;D246)","v":{"$error":"#VALUE!"}},290,"Севастьянов Михаил Григорьевич","50:03:0070280:779","2011-12-20","2011-12-01",{"$f":"INT(($H$326-G246)/30)","v":49},{"$f":"H246*1000","v":49000},1000,null,{"$f":"I246-J246-K246","v":48000},{"$f":"SUM('план на 2016'!$L247:M247)-SUM('членские взносы'!$M245:M245)","v":0},{"$f":"SUM('план на 2016'!$L247:N247)-SUM('членские взносы'!$M245:N245)","v":0},{"$f":"SUM('план на 2016'!$L247:O247)-SUM('членские взносы'!$M245:O245)","v":0},{"$f":"SUM('план на 2016'!$L247:P247)-SUM('членские взносы'!$M245:P245)","v":0},{"$f":"SUM('план на 2016'!$L247:Q247)-SUM('членские взносы'!$M245:Q245)","v":0},{"$f":"SUM('план на 2016'!$L247:R247)-SUM('членские взносы'!$M245:R245)","v":0},{"$f":"SUM('план на 2016'!$L247:S247)-SUM('членские взносы'!$M245:S245)","v":0},{"$f":"SUM('план на 2016'!$L247:T247)-SUM('членские взносы'!$M245:T245)","v":0},{"$f":"SUM('план на 2016'!$L247:U247)-SUM('членские взносы'!$M245:U245)","v":0},{"$f":"SUM('план на 2016'!$L247:V247)-SUM('членские взносы'!$M245:V245)","v":0},{"$f":"SUM('план на 2016'!$L247:W247)-SUM('членские взносы'!$M245:W245)","v":0},{"$f":"SUM('план на 2016'!$L247:X247)-SUM('членские взносы'!$M245:X245)","v":0},{"$f":"X246","v":0}]
[{"$f":"VLOOKUP(B247,справочник!$B$2:$E$322,4,0)","v":280},{"$f":"CONCATENATE(C247;D247)","v":{"$error":"#VALUE!"}},292,"Севрюгина Ольга Викторовна","50:03:0070280:777","2011-12-20","2011-12-01",{"$f":"INT(($H$326-G247)/30)","v":49},{"$f":"H247*1000","v":49000},{"$f":"43000+1000","v":44000},null,{"$f":"I247-J247-K247","v":5000},{"$f":"SUM('план на 2016'!$L248:M248)-SUM('членские взносы'!$M246:M246)","v":5800},{"$f":"SUM('план на 2016'!$L248:N248)-SUM('членские взносы'!$M246:N246)","v":6600},{"$f":"SUM('план на 2016'!$L248:O248)-SUM('членские взносы'!$M246:O246)","v":7400},{"$f":"SUM('план на 2016'!$L248:P248)-SUM('членские взносы'!$M246:P246)","v":8200},{"$f":"SUM('план на 2016'!$L248:Q248)-SUM('членские взносы'!$M246:Q246)","v":9000},{"$f":"SUM('план на 2016'!$L248:R248)-SUM('членские взносы'!$M246:R246)","v":9800},{"$f":"SUM('план на 2016'!$L248:S248)-SUM('членские взносы'!$M246:S246)","v":10600},{"$f":"SUM('план на 2016'!$L248:T248)-SUM('членские взносы'!$M246:T246)","v":11400},{"$f":"SUM('план на 2016'!$L248:U248)-SUM('членские взносы'!$M246:U246)","v":12200},{"$f":"SUM('план на 2016'!$L248:V248)-SUM('членские взносы'!$M246:V246)","v":13000},{"$f":"SUM('план на 2016'!$L248:W248)-SUM('членские взносы'!$M246:W246)","v":13800},{"$f":"SUM('план на 2016'!$L248:X248)-SUM('членские взносы'!$M246:X246)","v":14600},{"$f":"X247","v":14600}]
[{"$f":"VLOOKUP(B248,справочник!$B$2:$E$322,4,0)","v":215},{"$f":"CONCATENATE(C248;D248)","v":{"$error":"#VALUE!"}},224,"Семенова Рима Прановна","50:03:0070280:839","2014-05-13","2014-06-01",{"$f":"INT(($H$326-G248)/30)","v":19},{"$f":"H248*1000","v":19000},16000,null,{"$f":"I248-J248-K248","v":3000},{"$f":"SUM('план на 2016'!$L249:M249)-SUM('членские взносы'!$M247:M247)","v":3800},{"$f":"SUM('план на 2016'!$L249:N249)-SUM('членские взносы'!$M247:N247)","v":-2400},{"$f":"SUM('план на 2016'!$L249:O249)-SUM('членские взносы'!$M247:O247)","v":-1600},{"$f":"SUM('план на 2016'!$L249:P249)-SUM('членские взносы'!$M247:P247)","v":-800},{"$f":"SUM('план на 2016'!$L249:Q249)-SUM('членские взносы'!$M247:Q247)","v":0},{"$f":"SUM('план на 2016'!$L249:R249)-SUM('членские взносы'!$M247:R247)","v":800},{"$f":"SUM('план на 2016'!$L249:S249)-SUM('членские взносы'!$M247:S247)","v":1600},{"$f":"SUM('план на 2016'!$L249:T249)-SUM('членские взносы'!$M247:T247)","v":2400},{"$f":"SUM('план на 2016'!$L249:U249)-SUM('членские взносы'!$M247:U247)","v":3200},{"$f":"SUM('план на 2016'!$L249:V249)-SUM('членские взносы'!$M247:V247)","v":4000},{"$f":"SUM('план на 2016'!$L249:W249)-SUM('членские взносы'!$M247:W247)","v":4800},{"$f":"SUM('план на 2016'!$L249:X249)-SUM('членские взносы'!$M247:X247)","v":-4400},{"$f":"X248","v":-4400}]
[{"$f":"VLOOKUP(B249,справочник!$B$2:$E$322,4,0)","v":241},{"$f":"CONCATENATE(C249;D249)","v":{"$error":"#VALUE!"}},252,"Сёмин Александр Иванович","50:03:0070280:793","2011-05-14","2011-06-01",{"$f":"INT(($H$326-G249)/30)","v":55},{"$f":"H249*1000","v":55000},{"$f":"7000+41000","v":48000},null,{"$f":"I249-J249-K249","v":7000},{"$f":"SUM('план на 2016'!$L250:M250)-SUM('членские взносы'!$M248:M248)","v":0},{"$f":"SUM('план на 2016'!$L250:N250)-SUM('членские взносы'!$M248:N248)","v":0},{"$f":"SUM('план на 2016'!$L250:O250)-SUM('членские взносы'!$M248:O248)","v":0},{"$f":"SUM('план на 2016'!$L250:P250)-SUM('членские взносы'!$M248:P248)","v":800},{"$f":"SUM('план на 2016'!$L250:Q250)-SUM('членские взносы'!$M248:Q248)","v":1600},{"$f":"SUM('план на 2016'!$L250:R250)-SUM('членские взносы'!$M248:R248)","v":0},{"$f":"SUM('план на 2016'!$L250:S250)-SUM('членские взносы'!$M248:S248)","v":0},{"$f":"SUM('план на 2016'!$L250:T250)-SUM('членские взносы'!$M248:T248)","v":0},{"$f":"SUM('план на 2016'!$L250:U250)-SUM('членские взносы'!$M248:U248)","v":0},{"$f":"SUM('план на 2016'!$L250:V250)-SUM('членские взносы'!$M248:V248)","v":0},{"$f":"SUM('план на 2016'!$L250:W250)-SUM('членские взносы'!$M248:W248)","v":0},{"$f":"SUM('план на 2016'!$L250:X250)-SUM('членские взносы'!$M248:X248)","v":0},{"$f":"X249","v":0}]
[{"$f":"VLOOKUP(B250,справочник!$B$2:$E$322,4,0)","v":161},{"$f":"CONCATENATE(C250;D250)","v":{"$error":"#VALUE!"}},169,"Сергиенко Николай Михайлович","50:03:0070280:923","2012-05-10","2012-05-01",{"$f":"INT(($H$326-G250)/30)","v":44},{"$f":"H250*1000","v":44000},38000,null,{"$f":"I250-J250-K250","v":6000},{"$f":"SUM('план на 2016'!$L251:M251)-SUM('членские взносы'!$M249:M249)","v":6800},{"$f":"SUM('план на 2016'!$L251:N251)-SUM('членские взносы'!$M249:N249)","v":7600},{"$f":"SUM('план на 2016'!$L251:O251)-SUM('членские взносы'!$M249:O249)","v":8400},{"$f":"SUM('план на 2016'!$L251:P251)-SUM('членские взносы'!$M249:P249)","v":9200},{"$f":"SUM('план на 2016'!$L251:Q251)-SUM('членские взносы'!$M249:Q249)","v":10000},{"$f":"SUM('план на 2016'!$L251:R251)-SUM('членские взносы'!$M249:R249)","v":10800},{"$f":"SUM('план на 2016'!$L251:S251)-SUM('членские взносы'!$M249:S249)","v":11600},{"$f":"SUM('план на 2016'!$L251:T251)-SUM('членские взносы'!$M249:T249)","v":12400},{"$f":"SUM('план на 2016'!$L251:U251)-SUM('членские взносы'!$M249:U249)","v":13200},{"$f":"SUM('план на 2016'!$L251:V251)-SUM('членские взносы'!$M249:V249)","v":14000},{"$f":"SUM('план на 2016'!$L251:W251)-SUM('членские взносы'!$M249:W249)","v":14800},{"$f":"SUM('план на 2016'!$L251:X251)-SUM('членские взносы'!$M249:X249)","v":15600},{"$f":"X250","v":15600}]
[{"$f":"VLOOKUP(B251,справочник!$B$2:$E$322,4,0)","v":272},{"$f":"CONCATENATE(C251;D251)","v":{"$error":"#VALUE!"}},285,"Серебряков Игорь Васильевич","50:03:0070280:715","2015-02-09","2015-03-01",{"$f":"INT(($H$326-G251)/30)","v":10},{"$f":"H251*1000","v":10000},5000,null,{"$f":"I251-J251-K251","v":5000},{"$f":"SUM('план на 2016'!$L252:M252)-SUM('членские взносы'!$M250:M250)","v":5800},{"$f":"SUM('план на 2016'!$L252:N252)-SUM('членские взносы'!$M250:N250)","v":6600},{"$f":"SUM('план на 2016'!$L252:O252)-SUM('членские взносы'!$M250:O250)","v":7400},{"$f":"SUM('план на 2016'!$L252:P252)-SUM('членские взносы'!$M250:P250)","v":8200},{"$f":"SUM('план на 2016'!$L252:Q252)-SUM('членские взносы'!$M250:Q250)","v":9000},{"$f":"SUM('план на 2016'!$L252:R252)-SUM('членские взносы'!$M250:R250)","v":9800},{"$f":"SUM('план на 2016'!$L252:S252)-SUM('членские взносы'!$M250:S250)","v":-1400},{"$f":"SUM('план на 2016'!$L252:T252)-SUM('членские взносы'!$M250:T250)","v":-600},{"$f":"SUM('план на 2016'!$L252:U252)-SUM('членские взносы'!$M250:U250)","v":200},{"$f":"SUM('план на 2016'!$L252:V252)-SUM('членские взносы'!$M250:V250)","v":1000},{"$f":"SUM('план на 2016'!$L252:W252)-SUM('членские взносы'!$M250:W250)","v":1800},{"$f":"SUM('план на 2016'!$L252:X252)-SUM('членские взносы'!$M250:X250)","v":2600},{"$f":"X251","v":2600}]
[{"$f":"VLOOKUP(B252,справочник!$B$2:$E$322,4,0)","v":19},{"$f":"CONCATENATE(C252;D252)","v":{"$error":"#VALUE!"}},19,"Серкин Сергей Львовович","50:03:0070280:743","2013-05-27","2013-07-01",{"$f":"INT(($H$326-G252)/30)","v":30},{"$f":"H252*1000","v":30000},30000,null,{"$f":"I252-J252-K252","v":0},{"$f":"SUM('план на 2016'!$L253:M253)-SUM('членские взносы'!$M251:M251)","v":800},{"$f":"SUM('план на 2016'!$L253:N253)-SUM('членские взносы'!$M251:N251)","v":1600},{"$f":"SUM('план на 2016'!$L253:O253)-SUM('членские взносы'!$M251:O251)","v":2400},{"$f":"SUM('план на 2016'!$L253:P253)-SUM('членские взносы'!$M251:P251)","v":3200},{"$f":"SUM('план на 2016'!$L253:Q253)-SUM('членские взносы'!$M251:Q251)","v":4000},{"$f":"SUM('план на 2016'!$L253:R253)-SUM('членские взносы'!$M251:R251)","v":800},{"$f":"SUM('план на 2016'!$L253:S253)-SUM('членские взносы'!$M251:S251)","v":1600},{"$f":"SUM('план на 2016'!$L253:T253)-SUM('членские взносы'!$M251:T251)","v":2400},{"$f":"SUM('план на 2016'!$L253:U253)-SUM('членские взносы'!$M251:U251)","v":3200},{"$f":"SUM('план на 2016'!$L253:V253)-SUM('членские взносы'!$M251:V251)","v":-1600},{"$f":"SUM('план на 2016'!$L253:W253)-SUM('членские взносы'!$M251:W251)","v":-800},{"$f":"SUM('план на 2016'!$L253:X253)-SUM('членские взносы'!$M251:X251)","v":0},{"$f":"X252","v":0}]
[{"$f":"VLOOKUP(B253,справочник!$B$2:$E$322,4,0)","v":310},{"$f":"CONCATENATE(C253;D253)","v":{"$error":"#VALUE!"}},"133-134","Сидельникова Ольга Петровна","50:03:0070280:979","2011-08-23","2011-09-01",{"$f":"INT(($H$326-G253)/30)","v":52},{"$f":"H253*1000","v":52000},12000,null,{"$f":"I253-J253-K253","v":40000},{"$f":"SUM('план на 2016'!$L254:M254)-SUM('членские взносы'!$M252:M252)","v":35800},{"$f":"SUM('план на 2016'!$L254:N254)-SUM('членские взносы'!$M252:N252)","v":36600},{"$f":"SUM('план на 2016'!$L254:O254)-SUM('членские взносы'!$M252:O252)","v":32400},{"$f":"SUM('план на 2016'!$L254:P254)-SUM('членские взносы'!$M252:P252)","v":28250},{"$f":"SUM('план на 2016'!$L254:Q254)-SUM('членские взносы'!$M252:Q252)","v":24050},{"$f":"SUM('план на 2016'!$L254:R254)-SUM('членские взносы'!$M252:R252)","v":24850},{"$f":"SUM('план на 2016'!$L254:S254)-SUM('членские взносы'!$M252:S252)","v":24850},{"$f":"SUM('план на 2016'!$L254:T254)-SUM('членские взносы'!$M252:T252)","v":21675},{"$f":"SUM('план на 2016'!$L254:U254)-SUM('членские взносы'!$M252:U252)","v":21675},{"$f":"SUM('план на 2016'!$L254:V254)-SUM('членские взносы'!$M252:V252)","v":21675},{"$f":"SUM('план на 2016'!$L254:W254)-SUM('членские взносы'!$M252:W252)","v":22475},{"$f":"SUM('план на 2016'!$L254:X254)-SUM('членские взносы'!$M252:X252)","v":23275},{"$f":"X253","v":23275}]
[{"$f":"VLOOKUP(B254,справочник!$B$2:$E$322,4,0)","v":205},{"$f":"CONCATENATE(C254;D254)","v":{"$error":"#VALUE!"}},215,"Сидоров Александр Юрьевич","50:03:0070280:848","2012-04-24","2012-04-01",{"$f":"INT(($H$326-G254)/30)","v":45},{"$f":"H254*1000","v":45000},33000,null,{"$f":"I254-J254-K254","v":12000},{"$f":"SUM('план на 2016'!$L255:M255)-SUM('членские взносы'!$M253:M253)","v":12800},{"$f":"SUM('план на 2016'!$L255:N255)-SUM('членские взносы'!$M253:N253)","v":13600},{"$f":"SUM('план на 2016'!$L255:O255)-SUM('членские взносы'!$M253:O253)","v":14400},{"$f":"SUM('план на 2016'!$L255:P255)-SUM('членские взносы'!$M253:P253)","v":15200},{"$f":"SUM('план на 2016'!$L255:Q255)-SUM('членские взносы'!$M253:Q253)","v":16000},{"$f":"SUM('план на 2016'!$L255:R255)-SUM('членские взносы'!$M253:R253)","v":16800},{"$f":"SUM('план на 2016'!$L255:S255)-SUM('членские взносы'!$M253:S253)","v":5600},{"$f":"SUM('план на 2016'!$L255:T255)-SUM('членские взносы'!$M253:T253)","v":6400},{"$f":"SUM('план на 2016'!$L255:U255)-SUM('членские взносы'!$M253:U253)","v":7200},{"$f":"SUM('план на 2016'!$L255:V255)-SUM('членские взносы'!$M253:V253)","v":8000},{"$f":"SUM('план на 2016'!$L255:W255)-SUM('членские взносы'!$M253:W253)","v":8800},{"$f":"SUM('план на 2016'!$L255:X255)-SUM('членские взносы'!$M253:X253)","v":9600},{"$f":"X254","v":9600}]
[{"$f":"VLOOKUP(B255,справочник!$B$2:$E$322,4,0)","v":107},{"$f":"CONCATENATE(C255;D255)","v":{"$error":"#VALUE!"}},112,"Сиротин Дмитрий Борисович (Приставалова)","50:03:0070280:816","2012-01-24","2012-01-01",{"$f":"INT(($H$326-G255)/30)","v":48},{"$f":"H255*1000","v":48000},40000,4000,{"$f":"I255-J255-K255","v":4000},{"$f":"SUM('план на 2016'!$L256:M256)-SUM('членские взносы'!$M254:M254)","v":4800},{"$f":"SUM('план на 2016'!$L256:N256)-SUM('членские взносы'!$M254:N254)","v":3600},{"$f":"SUM('план на 2016'!$L256:O256)-SUM('членские взносы'!$M254:O254)","v":800},{"$f":"SUM('план на 2016'!$L256:P256)-SUM('членские взносы'!$M254:P254)","v":0},{"$f":"SUM('план на 2016'!$L256:Q256)-SUM('членские взносы'!$M254:Q254)","v":800},{"$f":"SUM('план на 2016'!$L256:R256)-SUM('членские взносы'!$M254:R254)","v":800},{"$f":"SUM('план на 2016'!$L256:S256)-SUM('членские взносы'!$M254:S254)","v":0},{"$f":"SUM('план на 2016'!$L256:T256)-SUM('членские взносы'!$M254:T254)","v":0},{"$f":"SUM('план на 2016'!$L256:U256)-SUM('членские взносы'!$M254:U254)","v":800},{"$f":"SUM('план на 2016'!$L256:V256)-SUM('членские взносы'!$M254:V254)","v":800},{"$f":"SUM('план на 2016'!$L256:W256)-SUM('членские взносы'!$M254:W254)","v":800},{"$f":"SUM('план на 2016'!$L256:X256)-SUM('членские взносы'!$M254:X254)","v":1600},{"$f":"X255","v":1600}]
[{"$f":"VLOOKUP(B256,справочник!$B$2:$E$322,4,0)","v":48},{"$f":"CONCATENATE(C256;D256)","v":{"$error":"#VALUE!"}},48,"Сломов Константин Витальевич","50:03:0070280:989","2011-08-31","2011-09-01",{"$f":"INT(($H$326-G256)/30)","v":52},{"$f":"H256*1000","v":52000},{"$f":"1000+22000","v":23000},null,{"$f":"I256-J256-K256","v":29000},{"$f":"SUM('план на 2016'!$L257:M257)-SUM('членские взносы'!$M255:M255)","v":29800},{"$f":"SUM('план на 2016'!$L257:N257)-SUM('членские взносы'!$M255:N255)","v":30600},{"$f":"SUM('план на 2016'!$L257:O257)-SUM('членские взносы'!$M255:O255)","v":31400},{"$f":"SUM('план на 2016'!$L257:P257)-SUM('членские взносы'!$M255:P255)","v":32200},{"$f":"SUM('план на 2016'!$L257:Q257)-SUM('членские взносы'!$M255:Q255)","v":33000},{"$f":"SUM('план на 2016'!$L257:R257)-SUM('членские взносы'!$M255:R255)","v":33800},{"$f":"SUM('план на 2016'!$L257:S257)-SUM('членские взносы'!$M255:S255)","v":800},{"$f":"SUM('план на 2016'!$L257:T257)-SUM('членские взносы'!$M255:T255)","v":0},{"$f":"SUM('план на 2016'!$L257:U257)-SUM('членские взносы'!$M255:U255)","v":-800},{"$f":"SUM('план на 2016'!$L257:V257)-SUM('членские взносы'!$M255:V255)","v":0},{"$f":"SUM('план на 2016'!$L257:W257)-SUM('членские взносы'!$M255:W255)","v":-800},{"$f":"SUM('план на 2016'!$L257:X257)-SUM('членские взносы'!$M255:X255)","v":0},{"$f":"X256","v":0}]
[{"$f":"VLOOKUP(B257,справочник!$B$2:$E$322,4,0)","v":237},{"$f":"CONCATENATE(C257;D257)","v":{"$error":"#VALUE!"}},248,"Смирнов Максим Анатольевич, Светлана","50:03:0070280:870","2012-05-07","2012-05-01",{"$f":"INT(($H$326-G257)/30)","v":44},{"$f":"H257*1000","v":44000},13000,null,{"$f":"I257-J257-K257","v":31000},{"$f":"SUM('план на 2016'!$L258:M258)-SUM('членские взносы'!$M256:M256)","v":800},{"$f":"SUM('план на 2016'!$L258:N258)-SUM('членские взносы'!$M256:N256)","v":1600},{"$f":"SUM('план на 2016'!$L258:O258)-SUM('членские взносы'!$M256:O256)","v":400},{"$f":"SUM('план на 2016'!$L258:P258)-SUM('членские взносы'!$M256:P256)","v":1200},{"$f":"SUM('план на 2016'!$L258:Q258)-SUM('членские взносы'!$M256:Q256)","v":2000},{"$f":"SUM('план на 2016'!$L258:R258)-SUM('членские взносы'!$M256:R256)","v":2800},{"$f":"SUM('план на 2016'!$L258:S258)-SUM('членские взносы'!$M256:S256)","v":3600},{"$f":"SUM('план на 2016'!$L258:T258)-SUM('членские взносы'!$M256:T256)","v":4400},{"$f":"SUM('план на 2016'!$L258:U258)-SUM('членские взносы'!$M256:U256)","v":5200},{"$f":"SUM('план на 2016'!$L258:V258)-SUM('членские взносы'!$M256:V256)","v":6000},{"$f":"SUM('план на 2016'!$L258:W258)-SUM('членские взносы'!$M256:W256)","v":6800},{"$f":"SUM('план на 2016'!$L258:X258)-SUM('членские взносы'!$M256:X256)","v":7600},{"$f":"X257","v":7600}]
[{"$f":"VLOOKUP(B258,справочник!$B$2:$E$322,4,0)","v":263},{"$f":"CONCATENATE(C258;D258)","v":{"$error":"#VALUE!"}},276,"Соколова Ирина Анатольевна","50:03:0070280:727","2013-01-15","2013-02-01",{"$f":"INT(($H$326-G258)/30)","v":35},{"$f":"H258*1000","v":35000},32000,null,{"$f":"I258-J258-K258","v":3000},{"$f":"SUM('план на 2016'!$L259:M259)-SUM('членские взносы'!$M257:M257)","v":3800},{"$f":"SUM('план на 2016'!$L259:N259)-SUM('членские взносы'!$M257:N257)","v":2000},{"$f":"SUM('план на 2016'!$L259:O259)-SUM('членские взносы'!$M257:O257)","v":2000},{"$f":"SUM('план на 2016'!$L259:P259)-SUM('членские взносы'!$M257:P257)","v":2800},{"$f":"SUM('план на 2016'!$L259:Q259)-SUM('членские взносы'!$M257:Q257)","v":3600},{"$f":"SUM('план на 2016'!$L259:R259)-SUM('членские взносы'!$M257:R257)","v":4400},{"$f":"SUM('план на 2016'!$L259:S259)-SUM('членские взносы'!$M257:S257)","v":5200},{"$f":"SUM('план на 2016'!$L259:T259)-SUM('членские взносы'!$M257:T257)","v":6000},{"$f":"SUM('план на 2016'!$L259:U259)-SUM('членские взносы'!$M257:U257)","v":4400},{"$f":"SUM('план на 2016'!$L259:V259)-SUM('членские взносы'!$M257:V257)","v":5200},{"$f":"SUM('план на 2016'!$L259:W259)-SUM('членские взносы'!$M257:W257)","v":6000},{"$f":"SUM('план на 2016'!$L259:X259)-SUM('членские взносы'!$M257:X257)","v":4400},{"$f":"X258","v":4400}]
[{"$f":"VLOOKUP(B259,справочник!$B$2:$E$322,4,0)","v":100},{"$f":"CONCATENATE(C259;D259)","v":{"$error":"#VALUE!"}},105,"Солодкий Дмитрий Павлович","50:03:0070280:771","2012-06-05","2012-06-01",{"$f":"INT(($H$326-G259)/30)","v":43},{"$f":"H259*1000","v":43000},28000,null,{"$f":"I259-J259-K259","v":15000},{"$f":"SUM('план на 2016'!$L260:M260)-SUM('членские взносы'!$M258:M258)","v":10749.7},{"$f":"SUM('план на 2016'!$L260:N260)-SUM('членские взносы'!$M258:N258)","v":11549.7},{"$f":"SUM('план на 2016'!$L260:O260)-SUM('членские взносы'!$M258:O258)","v":12349.7},{"$f":"SUM('план на 2016'!$L260:P260)-SUM('членские взносы'!$M258:P258)","v":13149.7},{"$f":"SUM('план на 2016'!$L260:Q260)-SUM('членские взносы'!$M258:Q258)","v":13949.7},{"$f":"SUM('план на 2016'!$L260:R260)-SUM('членские взносы'!$M258:R258)","v":14749.7},{"$f":"SUM('план на 2016'!$L260:S260)-SUM('членские взносы'!$M258:S258)","v":12749.7},{"$f":"SUM('план на 2016'!$L260:T260)-SUM('членские взносы'!$M258:T258)","v":11549.7},{"$f":"SUM('план на 2016'!$L260:U260)-SUM('членские взносы'!$M258:U258)","v":12349.7},{"$f":"SUM('план на 2016'!$L260:V260)-SUM('членские взносы'!$M258:V258)","v":13149.7},{"$f":"SUM('план на 2016'!$L260:W260)-SUM('членские взносы'!$M258:W258)","v":13949.7},{"$f":"SUM('план на 2016'!$L260:X260)-SUM('членские взносы'!$M258:X258)","v":14749.7},{"$f":"X259","v":14749.7}]
[{"$f":"VLOOKUP(B260,справочник!$B$2:$E$322,4,0)","v":131},{"$f":"CONCATENATE(C260;D260)","v":{"$error":"#VALUE!"}},138,"Спивак Сергей Николаевич","50:03:0070280:974","2012-07-24","2012-08-01",{"$f":"INT(($H$326-G260)/30)","v":41},{"$f":"H260*1000","v":41000},23000,6000,{"$f":"I260-J260-K260","v":12000},{"$f":"SUM('план на 2016'!$L261:M261)-SUM('членские взносы'!$M259:M259)","v":12800},{"$f":"SUM('план на 2016'!$L261:N261)-SUM('членские взносы'!$M259:N259)","v":13600},{"$f":"SUM('план на 2016'!$L261:O261)-SUM('членские взносы'!$M259:O259)","v":14400},{"$f":"SUM('план на 2016'!$L261:P261)-SUM('членские взносы'!$M259:P259)","v":800},{"$f":"SUM('план на 2016'!$L261:Q261)-SUM('членские взносы'!$M259:Q259)","v":1600},{"$f":"SUM('план на 2016'!$L261:R261)-SUM('членские взносы'!$M259:R259)","v":2400},{"$f":"SUM('план на 2016'!$L261:S261)-SUM('членские взносы'!$M259:S259)","v":3200},{"$f":"SUM('план на 2016'!$L261:T261)-SUM('членские взносы'!$M259:T259)","v":4000},{"$f":"SUM('план на 2016'!$L261:U261)-SUM('членские взносы'!$M259:U259)","v":4800},{"$f":"SUM('план на 2016'!$L261:V261)-SUM('членские взносы'!$M259:V259)","v":0},{"$f":"SUM('план на 2016'!$L261:W261)-SUM('членские взносы'!$M259:W259)","v":800},{"$f":"SUM('план на 2016'!$L261:X261)-SUM('членские взносы'!$M259:X259)","v":0},{"$f":"X260","v":0}]
[{"$f":"VLOOKUP(B261,справочник!$B$2:$E$322,4,0)","v":183},{"$f":"CONCATENATE(C261;D261)","v":{"$error":"#VALUE!"}},191,"Спиридонов Андрей Владимирович","50:03:0070280:917","2013-08-19","2013-09-01",{"$f":"INT(($H$326-G261)/30)","v":28},{"$f":"H261*1000","v":28000},1000,null,{"$f":"I261-J261-K261","v":27000},{"$f":"SUM('план на 2016'!$L262:M262)-SUM('членские взносы'!$M260:M260)","v":7800},{"$f":"SUM('план на 2016'!$L262:N262)-SUM('членские взносы'!$M260:N260)","v":8600},{"$f":"SUM('план на 2016'!$L262:O262)-SUM('членские взносы'!$M260:O260)","v":9400},{"$f":"SUM('план на 2016'!$L262:P262)-SUM('членские взносы'!$M260:P260)","v":10200},{"$f":"SUM('план на 2016'!$L262:Q262)-SUM('членские взносы'!$M260:Q260)","v":11000},{"$f":"SUM('план на 2016'!$L262:R262)-SUM('членские взносы'!$M260:R260)","v":11800},{"$f":"SUM('план на 2016'!$L262:S262)-SUM('членские взносы'!$M260:S260)","v":12600},{"$f":"SUM('план на 2016'!$L262:T262)-SUM('членские взносы'!$M260:T260)","v":-24243},{"$f":"SUM('план на 2016'!$L262:U262)-SUM('членские взносы'!$M260:U260)","v":-29443},{"$f":"SUM('план на 2016'!$L262:V262)-SUM('членские взносы'!$M260:V260)","v":-28643},{"$f":"SUM('план на 2016'!$L262:W262)-SUM('членские взносы'!$M260:W260)","v":-27843},{"$f":"SUM('план на 2016'!$L262:X262)-SUM('членские взносы'!$M260:X260)","v":-27043},{"$f":"X261","v":-27043}]
[{"$f":"VLOOKUP(B262,справочник!$B$2:$E$322,4,0)","v":183},{"$f":"CONCATENATE(C262;D262)","v":{"$error":"#VALUE!"}},192,"Спиридонов Андрей Владимирович","50:03:0070280:916","2013-08-19","2013-09-01",{"$f":"INT(($H$326-G262)/30)","v":28},{"$f":"H262*1000","v":28000},1000,null,{"$f":"I262-J262-K262","v":27000},{"$f":"SUM('план на 2016'!$L263:M263)-SUM('членские взносы'!$M261:M261)","v":27000},{"$f":"SUM('план на 2016'!$L263:N263)-SUM('членские взносы'!$M261:N261)","v":27000},{"$f":"SUM('план на 2016'!$L263:O263)-SUM('членские взносы'!$M261:O261)","v":27000},{"$f":"SUM('план на 2016'!$L263:P263)-SUM('членские взносы'!$M261:P261)","v":27000},{"$f":"SUM('план на 2016'!$L263:Q263)-SUM('членские взносы'!$M261:Q261)","v":27000},{"$f":"SUM('план на 2016'!$L263:R263)-SUM('членские взносы'!$M261:R261)","v":27000},{"$f":"SUM('план на 2016'!$L263:S263)-SUM('членские взносы'!$M261:S261)","v":27000},{"$f":"SUM('план на 2016'!$L263:T263)-SUM('членские взносы'!$M261:T261)","v":27000},{"$f":"SUM('план на 2016'!$L263:U263)-SUM('членские взносы'!$M261:U261)","v":27000},{"$f":"SUM('план на 2016'!$L263:V263)-SUM('членские взносы'!$M261:V261)","v":27000},{"$f":"SUM('план на 2016'!$L263:W263)-SUM('членские взносы'!$M261:W261)","v":27000},{"$f":"SUM('план на 2016'!$L263:X263)-SUM('членские взносы'!$M261:X261)","v":27000},{"$f":"X262","v":27000}]
[{"$f":"VLOOKUP(B263,справочник!$B$2:$E$322,4,0)","v":21},{"$f":"CONCATENATE(C263;D263)","v":{"$error":"#VALUE!"}},21,"Старостин Виктор Вячеславович","50:03:0070280:745","2012-07-17","2012-07-01",{"$f":"INT(($H$326-G263)/30)","v":42},{"$f":"H263*1000","v":42000},40000,null,{"$f":"I263-J263-K263","v":2000},{"$f":"SUM('план на 2016'!$L264:M264)-SUM('членские взносы'!$M262:M262)","v":2800},{"$f":"SUM('план на 2016'!$L264:N264)-SUM('членские взносы'!$M262:N262)","v":3600},{"$f":"SUM('план на 2016'!$L264:O264)-SUM('членские взносы'!$M262:O262)","v":4400},{"$f":"SUM('план на 2016'!$L264:P264)-SUM('членские взносы'!$M262:P262)","v":5200},{"$f":"SUM('план на 2016'!$L264:Q264)-SUM('членские взносы'!$M262:Q262)","v":6000},{"$f":"SUM('план на 2016'!$L264:R264)-SUM('членские взносы'!$M262:R262)","v":6800},{"$f":"SUM('план на 2016'!$L264:S264)-SUM('членские взносы'!$M262:S262)","v":7600},{"$f":"SUM('план на 2016'!$L264:T264)-SUM('членские взносы'!$M262:T262)","v":8400},{"$f":"SUM('план на 2016'!$L264:U264)-SUM('членские взносы'!$M262:U262)","v":-800},{"$f":"SUM('план на 2016'!$L264:V264)-SUM('членские взносы'!$M262:V262)","v":0},{"$f":"SUM('план на 2016'!$L264:W264)-SUM('членские взносы'!$M262:W262)","v":800},{"$f":"SUM('план на 2016'!$L264:X264)-SUM('членские взносы'!$M262:X262)","v":1600},{"$f":"X263","v":1600}]
[{"$f":"VLOOKUP(B264,справочник!$B$2:$E$322,4,0)","v":298},{"$f":"CONCATENATE(C264;D264)","v":{"$error":"#VALUE!"}},313,"Степанов Валерий Владимирович","50:03:0070280:1004","2014-12-21","2015-01-01",{"$f":"INT(($H$326-G264)/30)","v":12},{"$f":"H264*1000","v":12000},12000,null,{"$f":"I264-J264-K264","v":0},{"$f":"SUM('план на 2016'!$L265:M265)-SUM('членские взносы'!$M263:M263)","v":800},{"$f":"SUM('план на 2016'!$L265:N265)-SUM('членские взносы'!$M263:N263)","v":-3200},{"$f":"SUM('план на 2016'!$L265:O265)-SUM('членские взносы'!$M263:O263)","v":-2400},{"$f":"SUM('план на 2016'!$L265:P265)-SUM('членские взносы'!$M263:P263)","v":-1600},{"$f":"SUM('план на 2016'!$L265:Q265)-SUM('членские взносы'!$M263:Q263)","v":-800},{"$f":"SUM('план на 2016'!$L265:R265)-SUM('членские взносы'!$M263:R263)","v":0},{"$f":"SUM('план на 2016'!$L265:S265)-SUM('членские взносы'!$M263:S263)","v":800},{"$f":"SUM('план на 2016'!$L265:T265)-SUM('членские взносы'!$M263:T263)","v":1600},{"$f":"SUM('план на 2016'!$L265:U265)-SUM('членские взносы'!$M263:U263)","v":-2600},{"$f":"SUM('план на 2016'!$L265:V265)-SUM('членские взносы'!$M263:V263)","v":-1800},{"$f":"SUM('план на 2016'!$L265:W265)-SUM('членские взносы'!$M263:W263)","v":-1000},{"$f":"SUM('план на 2016'!$L265:X265)-SUM('членские взносы'!$M263:X263)","v":-200},{"$f":"X264","v":-200}]
[{"$f":"VLOOKUP(B265,справочник!$B$2:$E$322,4,0)","v":91},{"$f":"CONCATENATE(C265;D265)","v":{"$error":"#VALUE!"}},96,"Степанова Марина Николаевна (Артем)","50:03:0070280:824","2012-06-10","2012-06-01",{"$f":"INT(($H$326-G265)/30)","v":43},{"$f":"H265*1000","v":43000},12000,null,{"$f":"I265-J265-K265","v":31000},{"$f":"SUM('план на 2016'!$L266:M266)-SUM('членские взносы'!$M264:M264)","v":31800},{"$f":"SUM('план на 2016'!$L266:N266)-SUM('членские взносы'!$M264:N264)","v":32600},{"$f":"SUM('план на 2016'!$L266:O266)-SUM('членские взносы'!$M264:O264)","v":33400},{"$f":"SUM('план на 2016'!$L266:P266)-SUM('членские взносы'!$M264:P264)","v":34200},{"$f":"SUM('план на 2016'!$L266:Q266)-SUM('членские взносы'!$M264:Q264)","v":35000},{"$f":"SUM('план на 2016'!$L266:R266)-SUM('членские взносы'!$M264:R264)","v":35800},{"$f":"SUM('план на 2016'!$L266:S266)-SUM('членские взносы'!$M264:S264)","v":21600},{"$f":"SUM('план на 2016'!$L266:T266)-SUM('членские взносы'!$M264:T264)","v":22400},{"$f":"SUM('план на 2016'!$L266:U266)-SUM('членские взносы'!$M264:U264)","v":23200},{"$f":"SUM('план на 2016'!$L266:V266)-SUM('членские взносы'!$M264:V264)","v":24000},{"$f":"SUM('план на 2016'!$L266:W266)-SUM('членские взносы'!$M264:W264)","v":24800},{"$f":"SUM('план на 2016'!$L266:X266)-SUM('членские взносы'!$M264:X264)","v":25600},{"$f":"X265","v":25600}]
[{"$f":"VLOOKUP(B266,справочник!$B$2:$E$322,4,0)","v":54},{"$f":"CONCATENATE(C266;D266)","v":{"$error":"#VALUE!"}},56,"Стрелков Андрей Вячеславович","50:03:0070280:965","2012-10-02","2012-11-01",{"$f":"INT(($H$326-G266)/30)","v":38},{"$f":"H266*1000","v":38000},38000,null,{"$f":"I266-J266-K266","v":0},{"$f":"SUM('план на 2016'!$L267:M267)-SUM('членские взносы'!$M265:M265)","v":800},{"$f":"SUM('план на 2016'!$L267:N267)-SUM('членские взносы'!$M265:N265)","v":1600},{"$f":"SUM('план на 2016'!$L267:O267)-SUM('членские взносы'!$M265:O265)","v":2400},{"$f":"SUM('план на 2016'!$L267:P267)-SUM('членские взносы'!$M265:P265)","v":3200},{"$f":"SUM('план на 2016'!$L267:Q267)-SUM('членские взносы'!$M265:Q265)","v":4000},{"$f":"SUM('план на 2016'!$L267:R267)-SUM('членские взносы'!$M265:R265)","v":4800},{"$f":"SUM('план на 2016'!$L267:S267)-SUM('членские взносы'!$M265:S265)","v":5600},{"$f":"SUM('план на 2016'!$L267:T267)-SUM('членские взносы'!$M265:T265)","v":6400},{"$f":"SUM('план на 2016'!$L267:U267)-SUM('членские взносы'!$M265:U265)","v":7200},{"$f":"SUM('план на 2016'!$L267:V267)-SUM('членские взносы'!$M265:V265)","v":8000},{"$f":"SUM('план на 2016'!$L267:W267)-SUM('членские взносы'!$M265:W265)","v":8800},{"$f":"SUM('план на 2016'!$L267:X267)-SUM('членские взносы'!$M265:X265)","v":9600},{"$f":"X266","v":9600}]
[{"$f":"VLOOKUP(B267,справочник!$B$2:$E$322,4,0)","v":317},{"$f":"CONCATENATE(C267;D267)","v":{"$error":"#VALUE!"}},"51-52","Стрелков Андрей Вячеславович","50:03:0070280:970","2012-10-02","2012-11-01",{"$f":"INT(($H$326-G267)/30)*2","v":76},89000,89000,null,{"$f":"I267-J267-K267","v":0},{"$f":"SUM('план на 2016'!$L268:M268)-SUM('членские взносы'!$M266:M266)","v":0},{"$f":"SUM('план на 2016'!$L268:N268)-SUM('членские взносы'!$M266:N266)","v":0},{"$f":"SUM('план на 2016'!$L268:O268)-SUM('членские взносы'!$M266:O266)","v":0},{"$f":"SUM('план на 2016'!$L268:P268)-SUM('членские взносы'!$M266:P266)","v":0},{"$f":"SUM('план на 2016'!$L268:Q268)-SUM('членские взносы'!$M266:Q266)","v":0},{"$f":"SUM('план на 2016'!$L268:R268)-SUM('членские взносы'!$M266:R266)","v":0},{"$f":"SUM('план на 2016'!$L268:S268)-SUM('членские взносы'!$M266:S266)","v":0},{"$f":"SUM('план на 2016'!$L268:T268)-SUM('членские взносы'!$M266:T266)","v":0},{"$f":"SUM('план на 2016'!$L268:U268)-SUM('членские взносы'!$M266:U266)","v":-6400},{"$f":"SUM('план на 2016'!$L268:V268)-SUM('членские взносы'!$M266:V266)","v":-6400},{"$f":"SUM('план на 2016'!$L268:W268)-SUM('членские взносы'!$M266:W266)","v":-6400},{"$f":"SUM('план на 2016'!$L268:X268)-SUM('членские взносы'!$M266:X266)","v":-6400},{"$f":"X267","v":-6400}]
[{"$f":"VLOOKUP(B268,справочник!$B$2:$E$322,4,0)","v":268},{"$f":"CONCATENATE(C268;D268)","v":{"$error":"#VALUE!"}},281,"Стрелков Николай Валентинович","50:03:0070280:719","2012-10-02","2012-11-01",{"$f":"INT(($H$326-G268)/30)","v":38},{"$f":"H268*1000","v":38000},28000,null,{"$f":"I268-J268-K268","v":10000},{"$f":"SUM('план на 2016'!$L269:M269)-SUM('членские взносы'!$M267:M267)","v":7800},{"$f":"SUM('план на 2016'!$L269:N269)-SUM('членские взносы'!$M267:N267)","v":8600},{"$f":"SUM('план на 2016'!$L269:O269)-SUM('членские взносы'!$M267:O267)","v":9400},{"$f":"SUM('план на 2016'!$L269:P269)-SUM('членские взносы'!$M267:P267)","v":7200},{"$f":"SUM('план на 2016'!$L269:Q269)-SUM('членские взносы'!$M267:Q267)","v":8000},{"$f":"SUM('план на 2016'!$L269:R269)-SUM('членские взносы'!$M267:R267)","v":5800},{"$f":"SUM('план на 2016'!$L269:S269)-SUM('членские взносы'!$M267:S267)","v":6600},{"$f":"SUM('план на 2016'!$L269:T269)-SUM('членские взносы'!$M267:T267)","v":7400},{"$f":"SUM('план на 2016'!$L269:U269)-SUM('членские взносы'!$M267:U267)","v":5200},{"$f":"SUM('план на 2016'!$L269:V269)-SUM('членские взносы'!$M267:V267)","v":6000},{"$f":"SUM('план на 2016'!$L269:W269)-SUM('членские взносы'!$M267:W267)","v":6800},{"$f":"SUM('план на 2016'!$L269:X269)-SUM('членские взносы'!$M267:X267)","v":7600},{"$f":"X268","v":7600}]
[{"$f":"VLOOKUP(B269,справочник!$B$2:$E$322,4,0)","v":172},{"$f":"CONCATENATE(C269;D269)","v":{"$error":"#VALUE!"}},180,"Ступнев Евгений  Романович","50:03:0070280:765","2011-09-23","2011-09-01",{"$f":"INT(($H$326-G269)/30)","v":52},{"$f":"H269*1000","v":52000},{"$f":"13000+1000","v":14000},null,{"$f":"I269-J269-K269","v":38000},{"$f":"SUM('план на 2016'!$L270:M270)-SUM('членские взносы'!$M268:M268)","v":38800},{"$f":"SUM('план на 2016'!$L270:N270)-SUM('членские взносы'!$M268:N268)","v":39600},{"$f":"SUM('план на 2016'!$L270:O270)-SUM('членские взносы'!$M268:O268)","v":40400},{"$f":"SUM('план на 2016'!$L270:P270)-SUM('членские взносы'!$M268:P268)","v":41200},{"$f":"SUM('план на 2016'!$L270:Q270)-SUM('членские взносы'!$M268:Q268)","v":42000},{"$f":"SUM('план на 2016'!$L270:R270)-SUM('членские взносы'!$M268:R268)","v":42800},{"$f":"SUM('план на 2016'!$L270:S270)-SUM('членские взносы'!$M268:S268)","v":43600},{"$f":"SUM('план на 2016'!$L270:T270)-SUM('членские взносы'!$M268:T268)","v":44400},{"$f":"SUM('план на 2016'!$L270:U270)-SUM('членские взносы'!$M268:U268)","v":45200},{"$f":"SUM('план на 2016'!$L270:V270)-SUM('членские взносы'!$M268:V268)","v":35800},{"$f":"SUM('план на 2016'!$L270:W270)-SUM('членские взносы'!$M268:W268)","v":36600},{"$f":"SUM('план на 2016'!$L270:X270)-SUM('членские взносы'!$M268:X268)","v":37400},{"$f":"X269","v":37400}]
[{"$f":"VLOOKUP(B270,справочник!$B$2:$E$322,4,0)","v":116},{"$f":"CONCATENATE(C270;D270)","v":{"$error":"#VALUE!"}},121,"Суворов Сергей Анатольевич","50:03:0070280:1018","2013-09-14","2013-09-01",{"$f":"INT(($H$326-G270)/30)","v":28},{"$f":"H270*1000","v":28000},20000,null,{"$f":"I270-J270-K270","v":8000},{"$f":"SUM('план на 2016'!$L271:M271)-SUM('членские взносы'!$M269:M269)","v":8800},{"$f":"SUM('план на 2016'!$L271:N271)-SUM('членские взносы'!$M269:N269)","v":9600},{"$f":"SUM('план на 2016'!$L271:O271)-SUM('членские взносы'!$M269:O269)","v":400},{"$f":"SUM('план на 2016'!$L271:P271)-SUM('членские взносы'!$M269:P269)","v":1200},{"$f":"SUM('план на 2016'!$L271:Q271)-SUM('членские взносы'!$M269:Q269)","v":2000},{"$f":"SUM('план на 2016'!$L271:R271)-SUM('членские взносы'!$M269:R269)","v":2800},{"$f":"SUM('план на 2016'!$L271:S271)-SUM('членские взносы'!$M269:S269)","v":3600},{"$f":"SUM('план на 2016'!$L271:T271)-SUM('членские взносы'!$M269:T269)","v":4400},{"$f":"SUM('план на 2016'!$L271:U271)-SUM('членские взносы'!$M269:U269)","v":5200},{"$f":"SUM('план на 2016'!$L271:V271)-SUM('членские взносы'!$M269:V269)","v":6000},{"$f":"SUM('план на 2016'!$L271:W271)-SUM('членские взносы'!$M269:W269)","v":6800},{"$f":"SUM('план на 2016'!$L271:X271)-SUM('членские взносы'!$M269:X269)","v":7600},{"$f":"X270","v":7600}]
[{"$f":"VLOOKUP(B271,справочник!$B$2:$E$322,4,0)","v":57},{"$f":"CONCATENATE(C271;D271)","v":{"$error":"#VALUE!"}},59,"Суркова Татьяна Александровна","50:03:0070280:962","2012-05-15","2012-05-01",{"$f":"INT(($H$326-G271)/30)","v":44},{"$f":"H271*1000","v":44000},34000,null,{"$f":"I271-J271-K271","v":10000},{"$f":"SUM('план на 2016'!$L272:M272)-SUM('членские взносы'!$M270:M270)","v":10800},{"$f":"SUM('план на 2016'!$L272:N272)-SUM('членские взносы'!$M270:N270)","v":11600},{"$f":"SUM('план на 2016'!$L272:O272)-SUM('членские взносы'!$M270:O270)","v":12400},{"$f":"SUM('план на 2016'!$L272:P272)-SUM('членские взносы'!$M270:P270)","v":3200},{"$f":"SUM('план на 2016'!$L272:Q272)-SUM('членские взносы'!$M270:Q270)","v":4000},{"$f":"SUM('план на 2016'!$L272:R272)-SUM('членские взносы'!$M270:R270)","v":4800},{"$f":"SUM('план на 2016'!$L272:S272)-SUM('членские взносы'!$M270:S270)","v":5600},{"$f":"SUM('план на 2016'!$L272:T272)-SUM('членские взносы'!$M270:T270)","v":6400},{"$f":"SUM('план на 2016'!$L272:U272)-SUM('членские взносы'!$M270:U270)","v":7200},{"$f":"SUM('план на 2016'!$L272:V272)-SUM('членские взносы'!$M270:V270)","v":8000},{"$f":"SUM('план на 2016'!$L272:W272)-SUM('членские взносы'!$M270:W270)","v":8800},{"$f":"SUM('план на 2016'!$L272:X272)-SUM('членские взносы'!$M270:X270)","v":9600},{"$f":"X271","v":9600}]
[{"$f":"VLOOKUP(B272,справочник!$B$2:$E$322,4,0)","v":46},{"$f":"CONCATENATE(C272;D272)","v":{"$error":"#VALUE!"}},46,"Сысоев Евгений Анатольевич","50:03:0070280:971","2013-04-18","2013-05-01",{"$f":"INT(($H$326-G272)/30)","v":32},{"$f":"H272*1000","v":32000},17000,null,{"$f":"I272-J272-K272","v":15000},{"$f":"SUM('план на 2016'!$L273:M273)-SUM('членские взносы'!$M271:M271)","v":15800},{"$f":"SUM('план на 2016'!$L273:N273)-SUM('членские взносы'!$M271:N271)","v":16600},{"$f":"SUM('план на 2016'!$L273:O273)-SUM('членские взносы'!$M271:O271)","v":17400},{"$f":"SUM('план на 2016'!$L273:P273)-SUM('членские взносы'!$M271:P271)","v":18200},{"$f":"SUM('план на 2016'!$L273:Q273)-SUM('членские взносы'!$M271:Q271)","v":19000},{"$f":"SUM('план на 2016'!$L273:R273)-SUM('членские взносы'!$M271:R271)","v":19800},{"$f":"SUM('план на 2016'!$L273:S273)-SUM('членские взносы'!$M271:S271)","v":20600},{"$f":"SUM('план на 2016'!$L273:T273)-SUM('членские взносы'!$M271:T271)","v":21400},{"$f":"SUM('план на 2016'!$L273:U273)-SUM('членские взносы'!$M271:U271)","v":22200},{"$f":"SUM('план на 2016'!$L273:V273)-SUM('членские взносы'!$M271:V271)","v":23000},{"$f":"SUM('план на 2016'!$L273:W273)-SUM('членские взносы'!$M271:W271)","v":23800},{"$f":"SUM('план на 2016'!$L273:X273)-SUM('членские взносы'!$M271:X271)","v":24600},{"$f":"X272","v":24600}]
[{"$f":"VLOOKUP(B273,справочник!$B$2:$E$322,4,0)","v":73},{"$f":"CONCATENATE(C273;D273)","v":{"$error":"#VALUE!"}},79,"Сысоев Семен Евгеньевич","50:03:0070280:748","2013-04-18","2013-05-01",{"$f":"INT(($H$326-G273)/30)","v":32},{"$f":"H273*1000","v":32000},21000,null,{"$f":"I273-J273-K273","v":11000},{"$f":"SUM('план на 2016'!$L274:M274)-SUM('членские взносы'!$M272:M272)","v":11800},{"$f":"SUM('план на 2016'!$L274:N274)-SUM('членские взносы'!$M272:N272)","v":12600},{"$f":"SUM('план на 2016'!$L274:O274)-SUM('членские взносы'!$M272:O272)","v":13400},{"$f":"SUM('план на 2016'!$L274:P274)-SUM('членские взносы'!$M272:P272)","v":14200},{"$f":"SUM('план на 2016'!$L274:Q274)-SUM('членские взносы'!$M272:Q272)","v":15000},{"$f":"SUM('план на 2016'!$L274:R274)-SUM('членские взносы'!$M272:R272)","v":15800},{"$f":"SUM('план на 2016'!$L274:S274)-SUM('членские взносы'!$M272:S272)","v":16600},{"$f":"SUM('план на 2016'!$L274:T274)-SUM('членские взносы'!$M272:T272)","v":17400},{"$f":"SUM('план на 2016'!$L274:U274)-SUM('членские взносы'!$M272:U272)","v":18200},{"$f":"SUM('план на 2016'!$L274:V274)-SUM('членские взносы'!$M272:V272)","v":19000},{"$f":"SUM('план на 2016'!$L274:W274)-SUM('членские взносы'!$M272:W272)","v":19800},{"$f":"SUM('план на 2016'!$L274:X274)-SUM('членские взносы'!$M272:X272)","v":20600},{"$f":"X273","v":20600}]
[{"$f":"VLOOKUP(B274,справочник!$B$2:$E$322,4,0)","v":162},{"$f":"CONCATENATE(C274;D274)","v":{"$error":"#VALUE!"}},170,"Тадлов Виталий Петрович","50:03:0070280:770","2014-06-10","2014-07-01",{"$f":"INT(($H$326-G274)/30)","v":18},{"$f":"H274*1000","v":18000},12000,null,{"$f":"I274-J274-K274","v":6000},{"$f":"SUM('план на 2016'!$L275:M275)-SUM('членские взносы'!$M273:M273)","v":6800},{"$f":"SUM('план на 2016'!$L275:N275)-SUM('членские взносы'!$M273:N273)","v":7600},{"$f":"SUM('план на 2016'!$L275:O275)-SUM('членские взносы'!$M273:O273)","v":8400},{"$f":"SUM('план на 2016'!$L275:P275)-SUM('членские взносы'!$M273:P273)","v":9200},{"$f":"SUM('план на 2016'!$L275:Q275)-SUM('членские взносы'!$M273:Q273)","v":-2000},{"$f":"SUM('план на 2016'!$L275:R275)-SUM('членские взносы'!$M273:R273)","v":-1200},{"$f":"SUM('план на 2016'!$L275:S275)-SUM('членские взносы'!$M273:S273)","v":-400},{"$f":"SUM('план на 2016'!$L275:T275)-SUM('членские взносы'!$M273:T273)","v":400},{"$f":"SUM('план на 2016'!$L275:U275)-SUM('членские взносы'!$M273:U273)","v":1200},{"$f":"SUM('план на 2016'!$L275:V275)-SUM('членские взносы'!$M273:V273)","v":2000},{"$f":"SUM('план на 2016'!$L275:W275)-SUM('членские взносы'!$M273:W273)","v":2800},{"$f":"SUM('план на 2016'!$L275:X275)-SUM('членские взносы'!$M273:X273)","v":3600},{"$f":"X274","v":3600}]
[{"$f":"VLOOKUP(B275,справочник!$B$2:$E$322,4,0)","v":252},{"$f":"CONCATENATE(C275;D275)","v":{"$error":"#VALUE!"}},263,"Тарасенко Анатолий Семенович","50:03:0070280:740","2014-11-24","2014-12-01",{"$f":"INT(($H$326-G275)/30)","v":13},{"$f":"H275*1000","v":13000},8000,null,{"$f":"I275-J275-K275","v":5000},{"$f":"SUM('план на 2016'!$L276:M276)-SUM('членские взносы'!$M274:M274)","v":5800},{"$f":"SUM('план на 2016'!$L276:N276)-SUM('членские взносы'!$M274:N274)","v":5800},{"$f":"SUM('план на 2016'!$L276:O276)-SUM('членские взносы'!$M274:O274)","v":5000},{"$f":"SUM('план на 2016'!$L276:P276)-SUM('членские взносы'!$M274:P274)","v":5800},{"$f":"SUM('план на 2016'!$L276:Q276)-SUM('членские взносы'!$M274:Q274)","v":5000},{"$f":"SUM('план на 2016'!$L276:R276)-SUM('членские взносы'!$M274:R274)","v":5800},{"$f":"SUM('план на 2016'!$L276:S276)-SUM('членские взносы'!$M274:S274)","v":5000},{"$f":"SUM('план на 2016'!$L276:T276)-SUM('членские взносы'!$M274:T274)","v":5000},{"$f":"SUM('план на 2016'!$L276:U276)-SUM('членские взносы'!$M274:U274)","v":5000},{"$f":"SUM('план на 2016'!$L276:V276)-SUM('членские взносы'!$M274:V274)","v":5800},{"$f":"SUM('план на 2016'!$L276:W276)-SUM('членские взносы'!$M274:W274)","v":5800},{"$f":"SUM('план на 2016'!$L276:X276)-SUM('членские взносы'!$M274:X274)","v":5000},{"$f":"X275","v":5000}]
[{"$f":"VLOOKUP(B276,справочник!$B$2:$E$322,4,0)","v":252},{"$f":"CONCATENATE(C276;D276)","v":{"$error":"#VALUE!"}},264,"Тарасенко Анатолий Семенович","50:03:0070280:739","2014-11-24","2014-12-01",{"$f":"INT(($H$326-G276)/30)","v":13},{"$f":"H276*1000","v":13000},8000,null,{"$f":"I276-J276-K276","v":5000},{"$f":"SUM('план на 2016'!$L277:M277)-SUM('членские взносы'!$M275:M275)","v":5000},{"$f":"SUM('план на 2016'!$L277:N277)-SUM('членские взносы'!$M275:N275)","v":5000},{"$f":"SUM('план на 2016'!$L277:O277)-SUM('членские взносы'!$M275:O275)","v":5000},{"$f":"SUM('план на 2016'!$L277:P277)-SUM('членские взносы'!$M275:P275)","v":5000},{"$f":"SUM('план на 2016'!$L277:Q277)-SUM('членские взносы'!$M275:Q275)","v":5000},{"$f":"SUM('план на 2016'!$L277:R277)-SUM('членские взносы'!$M275:R275)","v":5000},{"$f":"SUM('план на 2016'!$L277:S277)-SUM('членские взносы'!$M275:S275)","v":5000},{"$f":"SUM('план на 2016'!$L277:T277)-SUM('членские взносы'!$M275:T275)","v":5000},{"$f":"SUM('план на 2016'!$L277:U277)-SUM('членские взносы'!$M275:U275)","v":5000},{"$f":"SUM('план на 2016'!$L277:V277)-SUM('членские взносы'!$M275:V275)","v":5000},{"$f":"SUM('план на 2016'!$L277:W277)-SUM('членские взносы'!$M275:W275)","v":5000},{"$f":"SUM('план на 2016'!$L277:X277)-SUM('членские взносы'!$M275:X275)","v":5000},{"$f":"X276","v":5000}]
[{"$f":"VLOOKUP(B277,справочник!$B$2:$E$322,4,0)","v":45},{"$f":"CONCATENATE(C277;D277)","v":{"$error":"#VALUE!"}},45,"Темникова Елена Станиславовна","50:03:0070280:988","2012-05-15","2012-05-01",{"$f":"INT(($H$326-G277)/30)","v":44},{"$f":"H277*1000","v":44000},{"$f":"27000+8000","v":35000},9000,{"$f":"I277-J277-K277","v":0},{"$f":"SUM('план на 2016'!$L278:M278)-SUM('членские взносы'!$M276:M276)","v":0},{"$f":"SUM('план на 2016'!$L278:N278)-SUM('членские взносы'!$M276:N276)","v":0},{"$f":"SUM('план на 2016'!$L278:O278)-SUM('членские взносы'!$M276:O276)","v":0},{"$f":"SUM('план на 2016'!$L278:P278)-SUM('членские взносы'!$M276:P276)","v":0},{"$f":"SUM('план на 2016'!$L278:Q278)-SUM('членские взносы'!$M276:Q276)","v":0},{"$f":"SUM('план на 2016'!$L278:R278)-SUM('членские взносы'!$M276:R276)","v":0},{"$f":"SUM('план на 2016'!$L278:S278)-SUM('членские взносы'!$M276:S276)","v":0},{"$f":"SUM('план на 2016'!$L278:T278)-SUM('членские взносы'!$M276:T276)","v":0},{"$f":"SUM('план на 2016'!$L278:U278)-SUM('членские взносы'!$M276:U276)","v":-2400},{"$f":"SUM('план на 2016'!$L278:V278)-SUM('членские взносы'!$M276:V276)","v":-4200},{"$f":"SUM('план на 2016'!$L278:W278)-SUM('членские взносы'!$M276:W276)","v":-3400},{"$f":"SUM('план на 2016'!$L278:X278)-SUM('членские взносы'!$M276:X276)","v":-2600},{"$f":"X277","v":-2600}]
[{"$f":"VLOOKUP(B278,справочник!$B$2:$E$322,4,0)","v":319},{"$f":"CONCATENATE(C278;D278)","v":{"$error":"#VALUE!"}},"73-74","Тимофеева Лариса Викторовна","50:03:0070280:884","2011-08-19","2011-09-01",{"$f":"INT(($H$326-G278)/30)","v":52},76000,{"$f":"8000+68000","v":76000},null,{"$f":"I278-J278-K278","v":0},{"$f":"SUM('план на 2016'!$L279:M279)-SUM('членские взносы'!$M277:M277)","v":800},{"$f":"SUM('план на 2016'!$L279:N279)-SUM('членские взносы'!$M277:N277)","v":-400},{"$f":"SUM('план на 2016'!$L279:O279)-SUM('членские взносы'!$M277:O277)","v":400},{"$f":"SUM('план на 2016'!$L279:P279)-SUM('членские взносы'!$M277:P277)","v":-2800},{"$f":"SUM('план на 2016'!$L279:Q279)-SUM('членские взносы'!$M277:Q277)","v":-6000},{"$f":"SUM('план на 2016'!$L279:R279)-SUM('членские взносы'!$M277:R277)","v":-5200},{"$f":"SUM('план на 2016'!$L279:S279)-SUM('членские взносы'!$M277:S277)","v":-4400},{"$f":"SUM('план на 2016'!$L279:T279)-SUM('членские взносы'!$M277:T277)","v":-7600},{"$f":"SUM('план на 2016'!$L279:U279)-SUM('членские взносы'!$M277:U277)","v":-6800},{"$f":"SUM('план на 2016'!$L279:V279)-SUM('членские взносы'!$M277:V277)","v":-10000},{"$f":"SUM('план на 2016'!$L279:W279)-SUM('членские взносы'!$M277:W277)","v":-13200},{"$f":"SUM('план на 2016'!$L279:X279)-SUM('членские взносы'!$M277:X277)","v":-12400},{"$f":"X278","v":-12400}]
[{"$f":"VLOOKUP(B279,справочник!$B$2:$E$322,4,0)","v":93},{"$f":"CONCATENATE(C279;D279)","v":{"$error":"#VALUE!"}},98,"Тимофеева Татьяна Александровна (Денис)","50:03:0070280:828","2011-08-19","2011-09-01",{"$f":"INT(($H$326-G279)/30)","v":52},{"$f":"H279*1000","v":52000},{"$f":"4000+30000","v":34000},null,{"$f":"I279-J279-K279","v":18000},{"$f":"SUM('план на 2016'!$L280:M280)-SUM('членские взносы'!$M278:M278)","v":18800},{"$f":"SUM('план на 2016'!$L280:N280)-SUM('членские взносы'!$M278:N278)","v":19600},{"$f":"SUM('план на 2016'!$L280:O280)-SUM('членские взносы'!$M278:O278)","v":20400},{"$f":"SUM('план на 2016'!$L280:P280)-SUM('членские взносы'!$M278:P278)","v":21200},{"$f":"SUM('план на 2016'!$L280:Q280)-SUM('членские взносы'!$M278:Q278)","v":22000},{"$f":"SUM('план на 2016'!$L280:R280)-SUM('членские взносы'!$M278:R278)","v":22800},{"$f":"SUM('план на 2016'!$L280:S280)-SUM('членские взносы'!$M278:S278)","v":23600},{"$f":"SUM('план на 2016'!$L280:T280)-SUM('членские взносы'!$M278:T278)","v":24400},{"$f":"SUM('план на 2016'!$L280:U280)-SUM('членские взносы'!$M278:U278)","v":25200},{"$f":"SUM('план на 2016'!$L280:V280)-SUM('членские взносы'!$M278:V278)","v":26000},{"$f":"SUM('план на 2016'!$L280:W280)-SUM('членские взносы'!$M278:W278)","v":26800},{"$f":"SUM('план на 2016'!$L280:X280)-SUM('членские взносы'!$M278:X278)","v":27600},{"$f":"X279","v":27600}]
[{"$f":"VLOOKUP(B280,справочник!$B$2:$E$322,4,0)","v":255},{"$f":"CONCATENATE(C280;D280)","v":{"$error":"#VALUE!"}},268,"Толкова Елена Анатольевна (Олег)","50:03:0070280:735","2012-02-20","2012-03-01",{"$f":"INT(($H$326-G280)/30)","v":46},{"$f":"H280*1000","v":46000},{"$f":"37000+9000","v":46000},null,{"$f":"I280-J280-K280","v":0},{"$f":"SUM('план на 2016'!$L281:M281)-SUM('членские взносы'!$M279:M279)","v":800},{"$f":"SUM('план на 2016'!$L281:N281)-SUM('членские взносы'!$M279:N279)","v":1600},{"$f":"SUM('план на 2016'!$L281:O281)-SUM('членские взносы'!$M279:O279)","v":-800},{"$f":"SUM('план на 2016'!$L281:P281)-SUM('членские взносы'!$M279:P279)","v":0},{"$f":"SUM('план на 2016'!$L281:Q281)-SUM('членские взносы'!$M279:Q279)","v":-2400},{"$f":"SUM('план на 2016'!$L281:R281)-SUM('членские взносы'!$M279:R279)","v":-1600},{"$f":"SUM('план на 2016'!$L281:S281)-SUM('членские взносы'!$M279:S279)","v":-800},{"$f":"SUM('план на 2016'!$L281:T281)-SUM('членские взносы'!$M279:T279)","v":0},{"$f":"SUM('план на 2016'!$L281:U281)-SUM('членские взносы'!$M279:U279)","v":800},{"$f":"SUM('план на 2016'!$L281:V281)-SUM('членские взносы'!$M279:V279)","v":1600},{"$f":"SUM('план на 2016'!$L281:W281)-SUM('членские взносы'!$M279:W279)","v":-800},{"$f":"SUM('план на 2016'!$L281:X281)-SUM('членские взносы'!$M279:X279)","v":0},{"$f":"X280","v":0}]
[{"$f":"VLOOKUP(B281,справочник!$B$2:$E$322,4,0)","v":167},{"$f":"CONCATENATE(C281;D281)","v":{"$error":"#VALUE!"}},175,"Трубченко Петр Александрович","50:03:0070280:890","2013-12-05","2014-01-01",{"$f":"INT(($H$326-G281)/30)","v":24},{"$f":"H281*1000","v":24000},12000,null,{"$f":"I281-J281-K281","v":12000},{"$f":"SUM('план на 2016'!$L282:M282)-SUM('членские взносы'!$M280:M280)","v":12800},{"$f":"SUM('план на 2016'!$L282:N282)-SUM('членские взносы'!$M280:N280)","v":13600},{"$f":"SUM('план на 2016'!$L282:O282)-SUM('членские взносы'!$M280:O280)","v":14400},{"$f":"SUM('план на 2016'!$L282:P282)-SUM('членские взносы'!$M280:P280)","v":15200},{"$f":"SUM('план на 2016'!$L282:Q282)-SUM('членские взносы'!$M280:Q280)","v":16000},{"$f":"SUM('план на 2016'!$L282:R282)-SUM('членские взносы'!$M280:R280)","v":16800},{"$f":"SUM('план на 2016'!$L282:S282)-SUM('членские взносы'!$M280:S280)","v":17600},{"$f":"SUM('план на 2016'!$L282:T282)-SUM('членские взносы'!$M280:T280)","v":18400},{"$f":"SUM('план на 2016'!$L282:U282)-SUM('членские взносы'!$M280:U280)","v":19200},{"$f":"SUM('план на 2016'!$L282:V282)-SUM('членские взносы'!$M280:V280)","v":20000},{"$f":"SUM('план на 2016'!$L282:W282)-SUM('членские взносы'!$M280:W280)","v":20800},{"$f":"SUM('план на 2016'!$L282:X282)-SUM('членские взносы'!$M280:X280)","v":21600},{"$f":"X281","v":21600}]
[{"$f":"VLOOKUP(B282,справочник!$B$2:$E$322,4,0)","v":99},{"$f":"CONCATENATE(C282;D282)","v":{"$error":"#VALUE!"}},104,"Трыкин Евгений Викторович","50:03:0070280:796","2012-07-14","2012-07-01",{"$f":"INT(($H$326-G282)/30)","v":42},{"$f":"H282*1000","v":42000},13000,null,{"$f":"I282-J282-K282","v":29000},{"$f":"SUM('план на 2016'!$L283:M283)-SUM('членские взносы'!$M281:M281)","v":29800},{"$f":"SUM('план на 2016'!$L283:N283)-SUM('членские взносы'!$M281:N281)","v":30600},{"$f":"SUM('план на 2016'!$L283:O283)-SUM('членские взносы'!$M281:O281)","v":31400},{"$f":"SUM('план на 2016'!$L283:P283)-SUM('членские взносы'!$M281:P281)","v":32200},{"$f":"SUM('план на 2016'!$L283:Q283)-SUM('членские взносы'!$M281:Q281)","v":33000},{"$f":"SUM('план на 2016'!$L283:R283)-SUM('членские взносы'!$M281:R281)","v":33800},{"$f":"SUM('план на 2016'!$L283:S283)-SUM('членские взносы'!$M281:S281)","v":34600},{"$f":"SUM('план на 2016'!$L283:T283)-SUM('членские взносы'!$M281:T281)","v":35400},{"$f":"SUM('план на 2016'!$L283:U283)-SUM('членские взносы'!$M281:U281)","v":36200},{"$f":"SUM('план на 2016'!$L283:V283)-SUM('членские взносы'!$M281:V281)","v":37000},{"$f":"SUM('план на 2016'!$L283:W283)-SUM('членские взносы'!$M281:W281)","v":37800},{"$f":"SUM('план на 2016'!$L283:X283)-SUM('членские взносы'!$M281:X281)","v":38600},{"$f":"X282","v":38600}]
[{"$f":"VLOOKUP(B283,справочник!$B$2:$E$322,4,0)","v":146},{"$f":"CONCATENATE(C283;D283)","v":{"$error":"#VALUE!"}},154,"Тюленев Вячеслав Рудольфович","50:03:0070280:956","2011-08-02","2011-08-01",{"$f":"INT(($H$326-G283)/30)","v":53},{"$f":"H283*1000","v":53000},{"$f":"31000","v":31000},null,{"$f":"I283-J283-K283","v":22000},{"$f":"SUM('план на 2016'!$L284:M284)-SUM('членские взносы'!$M282:M282)","v":22800},{"$f":"SUM('план на 2016'!$L284:N284)-SUM('членские взносы'!$M282:N282)","v":23600},{"$f":"SUM('план на 2016'!$L284:O284)-SUM('членские взносы'!$M282:O282)","v":24400},{"$f":"SUM('план на 2016'!$L284:P284)-SUM('членские взносы'!$M282:P282)","v":25200},{"$f":"SUM('план на 2016'!$L284:Q284)-SUM('членские взносы'!$M282:Q282)","v":26000},{"$f":"SUM('план на 2016'!$L284:R284)-SUM('членские взносы'!$M282:R282)","v":800},{"$f":"SUM('план на 2016'!$L284:S284)-SUM('членские взносы'!$M282:S282)","v":1600},{"$f":"SUM('план на 2016'!$L284:T284)-SUM('членские взносы'!$M282:T282)","v":2400},{"$f":"SUM('план на 2016'!$L284:U284)-SUM('членские взносы'!$M282:U282)","v":3200},{"$f":"SUM('план на 2016'!$L284:V284)-SUM('членские взносы'!$M282:V282)","v":4000},{"$f":"SUM('план на 2016'!$L284:W284)-SUM('членские взносы'!$M282:W282)","v":4800},{"$f":"SUM('план на 2016'!$L284:X284)-SUM('членские взносы'!$M282:X282)","v":5600},{"$f":"X283","v":5600}]
[{"$f":"VLOOKUP(B284,справочник!$B$2:$E$322,4,0)","v":29},{"$f":"CONCATENATE(C284;D284)","v":{"$error":"#VALUE!"}},29,"Петрик Наталья Вячеславовна",null,"2012-08-09","2012-08-01",{"$f":"INT(($H$326-G284)/30)","v":41},{"$f":"H284*1000","v":41000},32000,null,{"$f":"I284-J284-K284","v":9000},{"$f":"SUM('план на 2016'!$L285:M285)-SUM('членские взносы'!$M283:M283)","v":800},{"$f":"SUM('план на 2016'!$L285:N285)-SUM('членские взносы'!$M283:N283)","v":0},{"$f":"SUM('план на 2016'!$L285:O285)-SUM('членские взносы'!$M283:O283)","v":0},{"$f":"SUM('план на 2016'!$L285:P285)-SUM('членские взносы'!$M283:P283)","v":-800},{"$f":"SUM('план на 2016'!$L285:Q285)-SUM('членские взносы'!$M283:Q283)","v":0},{"$f":"SUM('план на 2016'!$L285:R285)-SUM('членские взносы'!$M283:R283)","v":800},{"$f":"SUM('план на 2016'!$L285:S285)-SUM('членские взносы'!$M283:S283)","v":-800},{"$f":"SUM('план на 2016'!$L285:T285)-SUM('членские взносы'!$M283:T283)","v":0},{"$f":"SUM('план на 2016'!$L285:U285)-SUM('членские взносы'!$M283:U283)","v":0},{"$f":"SUM('план на 2016'!$L285:V285)-SUM('членские взносы'!$M283:V283)","v":-800},{"$f":"SUM('план на 2016'!$L285:W285)-SUM('членские взносы'!$M283:W283)","v":0},{"$f":"SUM('план на 2016'!$L285:X285)-SUM('членские взносы'!$M283:X283)","v":-800},{"$f":"X284","v":-800}]
[{"$f":"VLOOKUP(B285,справочник!$B$2:$E$322,4,0)","v":28},{"$f":"CONCATENATE(C285;D285)","v":{"$error":"#VALUE!"}},28,"Федорова Наталья Владимировна","50:03:0070280:857","2012-05-10","2012-05-01",{"$f":"INT(($H$326-G285)/30)","v":44},{"$f":"H285*1000","v":44000},{"$f":"33000+8000","v":41000},null,{"$f":"I285-J285-K285","v":3000},{"$f":"SUM('план на 2016'!$L286:M286)-SUM('членские взносы'!$M284:M284)","v":3800},{"$f":"SUM('план на 2016'!$L286:N286)-SUM('членские взносы'!$M284:N284)","v":600},{"$f":"SUM('план на 2016'!$L286:O286)-SUM('членские взносы'!$M284:O284)","v":1400},{"$f":"SUM('план на 2016'!$L286:P286)-SUM('членские взносы'!$M284:P284)","v":-200},{"$f":"SUM('план на 2016'!$L286:Q286)-SUM('членские взносы'!$M284:Q284)","v":600},{"$f":"SUM('план на 2016'!$L286:R286)-SUM('членские взносы'!$M284:R284)","v":1400},{"$f":"SUM('план на 2016'!$L286:S286)-SUM('членские взносы'!$M284:S284)","v":2200},{"$f":"SUM('план на 2016'!$L286:T286)-SUM('членские взносы'!$M284:T284)","v":3000},{"$f":"SUM('план на 2016'!$L286:U286)-SUM('членские взносы'!$M284:U284)","v":-1800},{"$f":"SUM('план на 2016'!$L286:V286)-SUM('членские взносы'!$M284:V284)","v":-1000},{"$f":"SUM('план на 2016'!$L286:W286)-SUM('членские взносы'!$M284:W284)","v":-200},{"$f":"SUM('план на 2016'!$L286:X286)-SUM('членские взносы'!$M284:X284)","v":600},{"$f":"X285","v":600}]
[{"$f":"VLOOKUP(B286,справочник!$B$2:$E$322,4,0)","v":27},{"$f":"CONCATENATE(C286;D286)","v":{"$error":"#VALUE!"}},27,"Федорова Юлия Владимировна","50:03:0070280:856","2012-12-17","2013-01-01",{"$f":"INT(($H$326-G286)/30)","v":36},{"$f":"H286*1000","v":36000},24000,null,{"$f":"I286-J286-K286","v":12000},{"$f":"SUM('план на 2016'!$L287:M287)-SUM('членские взносы'!$M285:M285)","v":12800},{"$f":"SUM('план на 2016'!$L287:N287)-SUM('членские взносы'!$M285:N285)","v":13600},{"$f":"SUM('план на 2016'!$L287:O287)-SUM('членские взносы'!$M285:O285)","v":14400},{"$f":"SUM('план на 2016'!$L287:P287)-SUM('членские взносы'!$M285:P285)","v":15200},{"$f":"SUM('план на 2016'!$L287:Q287)-SUM('членские взносы'!$M285:Q285)","v":16000},{"$f":"SUM('план на 2016'!$L287:R287)-SUM('членские взносы'!$M285:R285)","v":16800},{"$f":"SUM('план на 2016'!$L287:S287)-SUM('членские взносы'!$M285:S285)","v":17600},{"$f":"SUM('план на 2016'!$L287:T287)-SUM('членские взносы'!$M285:T285)","v":18400},{"$f":"SUM('план на 2016'!$L287:U287)-SUM('членские взносы'!$M285:U285)","v":19200},{"$f":"SUM('план на 2016'!$L287:V287)-SUM('членские взносы'!$M285:V285)","v":20000},{"$f":"SUM('план на 2016'!$L287:W287)-SUM('членские взносы'!$M285:W285)","v":20800},{"$f":"SUM('план на 2016'!$L287:X287)-SUM('членские взносы'!$M285:X285)","v":21600},{"$f":"X286","v":21600}]
[{"$f":"VLOOKUP(B287,справочник!$B$2:$E$322,4,0)","v":135},{"$f":"CONCATENATE(C287;D287)","v":{"$error":"#VALUE!"}},"142-143","Финогин Сергей Александрович","50:03:0070280:1413","2011-10-18","2011-10-01",11,{"$f":"H287*1000","v":11000},1000,null,{"$f":"I287-J287-K287","v":10000},{"$f":"SUM('план на 2016'!$L288:M288)-SUM('членские взносы'!$M286:M286)","v":10800},{"$f":"SUM('план на 2016'!$L288:N288)-SUM('членские взносы'!$M286:N286)","v":11600},{"$f":"SUM('план на 2016'!$L288:O288)-SUM('членские взносы'!$M286:O286)","v":4400},{"$f":"SUM('план на 2016'!$L288:P288)-SUM('членские взносы'!$M286:P286)","v":5200},{"$f":"SUM('план на 2016'!$L288:Q288)-SUM('членские взносы'!$M286:Q286)","v":6000},{"$f":"SUM('план на 2016'!$L288:R288)-SUM('членские взносы'!$M286:R286)","v":-14200},{"$f":"SUM('план на 2016'!$L288:S288)-SUM('членские взносы'!$M286:S286)","v":-13400},{"$f":"SUM('план на 2016'!$L288:T288)-SUM('членские взносы'!$M286:T286)","v":-12600},{"$f":"SUM('план на 2016'!$L288:U288)-SUM('членские взносы'!$M286:U286)","v":-11800},{"$f":"SUM('план на 2016'!$L288:V288)-SUM('членские взносы'!$M286:V286)","v":-11000},{"$f":"SUM('план на 2016'!$L288:W288)-SUM('членские взносы'!$M286:W286)","v":-10200},{"$f":"SUM('план на 2016'!$L288:X288)-SUM('членские взносы'!$M286:X286)","v":-9400},{"$f":"X287","v":-9400}]
[{"$f":"VLOOKUP(B288,справочник!$B$2:$E$322,4,0)","v":135},{"$f":"CONCATENATE(C288;D288)","v":{"$error":"#VALUE!"}},"142-143","Финогин Сергей Александрович",null,"2011-10-18","2011-10-01",11,{"$f":"H288*1000","v":11000},1000,null,{"$f":"I288-J288-K288","v":10000},{"$f":"SUM('план на 2016'!$L289:M289)-SUM('членские взносы'!$M287:M287)","v":10000},{"$f":"SUM('план на 2016'!$L289:N289)-SUM('членские взносы'!$M287:N287)","v":10000},{"$f":"SUM('план на 2016'!$L289:O289)-SUM('членские взносы'!$M287:O287)","v":10000},{"$f":"SUM('план на 2016'!$L289:P289)-SUM('членские взносы'!$M287:P287)","v":10000},{"$f":"SUM('план на 2016'!$L289:Q289)-SUM('членские взносы'!$M287:Q287)","v":10000},{"$f":"SUM('план на 2016'!$L289:R289)-SUM('членские взносы'!$M287:R287)","v":10000},{"$f":"SUM('план на 2016'!$L289:S289)-SUM('членские взносы'!$M287:S287)","v":10000},{"$f":"SUM('план на 2016'!$L289:T289)-SUM('членские взносы'!$M287:T287)","v":10000},{"$f":"SUM('план на 2016'!$L289:U289)-SUM('членские взносы'!$M287:U287)","v":10000},{"$f":"SUM('план на 2016'!$L289:V289)-SUM('членские взносы'!$M287:V287)","v":10000},{"$f":"SUM('план на 2016'!$L289:W289)-SUM('членские взносы'!$M287:W287)","v":10000},{"$f":"SUM('план на 2016'!$L289:X289)-SUM('членские взносы'!$M287:X287)","v":10000},{"$f":"X288","v":10000}]
[{"$f":"VLOOKUP(B289,справочник!$B$2:$E$322,4,0)","v":135},{"$f":"CONCATENATE(C289;D289)","v":{"$error":"#VALUE!"}},"142-143","Финогин Сергей Александрович",null,"2012-10-01","2012-10-01",{"$f":"INT(($H$326-G289)/30)","v":39},{"$f":"H289*1000","v":39000},null,null,{"$f":"I289-J289-K289","v":39000},{"$f":"SUM('план на 2016'!$L290:M290)-SUM('членские взносы'!$M288:M288)","v":39000},{"$f":"SUM('план на 2016'!$L290:N290)-SUM('членские взносы'!$M288:N288)","v":39000},{"$f":"SUM('план на 2016'!$L290:O290)-SUM('членские взносы'!$M288:O288)","v":39000},{"$f":"SUM('план на 2016'!$L290:P290)-SUM('членские взносы'!$M288:P288)","v":39000},{"$f":"SUM('план на 2016'!$L290:Q290)-SUM('членские взносы'!$M288:Q288)","v":39000},{"$f":"SUM('план на 2016'!$L290:R290)-SUM('членские взносы'!$M288:R288)","v":39000},{"$f":"SUM('план на 2016'!$L290:S290)-SUM('членские взносы'!$M288:S288)","v":39000},{"$f":"SUM('план на 2016'!$L290:T290)-SUM('членские взносы'!$M288:T288)","v":39000},{"$f":"SUM('план на 2016'!$L290:U290)-SUM('членские взносы'!$M288:U288)","v":39000},{"$f":"SUM('план на 2016'!$L290:V290)-SUM('членские взносы'!$M288:V288)","v":39000},{"$f":"SUM('план на 2016'!$L290:W290)-SUM('членские взносы'!$M288:W288)","v":39000},{"$f":"SUM('план на 2016'!$L290:X290)-SUM('членские взносы'!$M288:X288)","v":39000},{"$f":"X289","v":39000}]
[{"$f":"VLOOKUP(B290,справочник!$B$2:$E$322,4,0)","v":59},{"$f":"CONCATENATE(C290;D290)","v":{"$error":"#VALUE!"}},61,"Фисенко Вадим Петрович","50:03:0070280:930","2011-11-21","2011-11-01",{"$f":"INT(($H$326-G290)/30)","v":50},{"$f":"H290*1000","v":50000},{"$f":"1000+49000","v":50000},null,{"$f":"I290-J290-K290","v":0},{"$f":"SUM('план на 2016'!$L291:M291)-SUM('членские взносы'!$M289:M289)","v":-1600},{"$f":"SUM('план на 2016'!$L291:N291)-SUM('членские взносы'!$M289:N289)","v":-800},{"$f":"SUM('план на 2016'!$L291:O291)-SUM('членские взносы'!$M289:O289)","v":0},{"$f":"SUM('план на 2016'!$L291:P291)-SUM('членские взносы'!$M289:P289)","v":800},{"$f":"SUM('план на 2016'!$L291:Q291)-SUM('членские взносы'!$M289:Q289)","v":1600},{"$f":"SUM('план на 2016'!$L291:R291)-SUM('членские взносы'!$M289:R289)","v":2400},{"$f":"SUM('план на 2016'!$L291:S291)-SUM('членские взносы'!$M289:S289)","v":3200},{"$f":"SUM('план на 2016'!$L291:T291)-SUM('членские взносы'!$M289:T289)","v":4000},{"$f":"SUM('план на 2016'!$L291:U291)-SUM('членские взносы'!$M289:U289)","v":4800},{"$f":"SUM('план на 2016'!$L291:V291)-SUM('членские взносы'!$M289:V289)","v":5600},{"$f":"SUM('план на 2016'!$L291:W291)-SUM('членские взносы'!$M289:W289)","v":6400},{"$f":"SUM('план на 2016'!$L291:X291)-SUM('членские взносы'!$M289:X289)","v":7200},{"$f":"X290","v":7200}]
[{"$f":"VLOOKUP(B291,справочник!$B$2:$E$322,4,0)","v":60},{"$f":"CONCATENATE(C291;D291)","v":{"$error":"#VALUE!"}},62,"Фисенко Дмитрий Петрович","50:03:0070280:931","2011-12-08","2011-12-01",{"$f":"INT(($H$326-G291)/30)","v":49},{"$f":"H291*1000","v":49000},{"$f":"8000+54000","v":62000},null,{"$f":"I291-J291-K291","v":-13000},{"$f":"SUM('план на 2016'!$L292:M292)-SUM('членские взносы'!$M290:M290)","v":-12200},{"$f":"SUM('план на 2016'!$L292:N292)-SUM('членские взносы'!$M290:N290)","v":-11400},{"$f":"SUM('план на 2016'!$L292:O292)-SUM('членские взносы'!$M290:O290)","v":-10600},{"$f":"SUM('план на 2016'!$L292:P292)-SUM('членские взносы'!$M290:P290)","v":-9800},{"$f":"SUM('план на 2016'!$L292:Q292)-SUM('членские взносы'!$M290:Q290)","v":-9000},{"$f":"SUM('план на 2016'!$L292:R292)-SUM('членские взносы'!$M290:R290)","v":-8200},{"$f":"SUM('план на 2016'!$L292:S292)-SUM('членские взносы'!$M290:S290)","v":-7400},{"$f":"SUM('план на 2016'!$L292:T292)-SUM('членские взносы'!$M290:T290)","v":-6600},{"$f":"SUM('план на 2016'!$L292:U292)-SUM('членские взносы'!$M290:U290)","v":-5800},{"$f":"SUM('план на 2016'!$L292:V292)-SUM('членские взносы'!$M290:V290)","v":-5000},{"$f":"SUM('план на 2016'!$L292:W292)-SUM('членские взносы'!$M290:W290)","v":-4200},{"$f":"SUM('план на 2016'!$L292:X292)-SUM('членские взносы'!$M290:X290)","v":-3400},{"$f":"X291","v":-3400}]
[{"$f":"VLOOKUP(B292,справочник!$B$2:$E$322,4,0)","v":248},{"$f":"CONCATENATE(C292;D292)","v":{"$error":"#VALUE!"}},259,"Фомин Андрей Анатольевич","50:03:0070280:786","2013-12-20","2014-01-01",{"$f":"INT(($H$326-G292)/30)","v":24},{"$f":"H292*1000","v":24000},21300,null,{"$f":"I292-J292-K292","v":2700},{"$f":"SUM('план на 2016'!$L293:M293)-SUM('членские взносы'!$M291:M291)","v":3500},{"$f":"SUM('план на 2016'!$L293:N293)-SUM('членские взносы'!$M291:N291)","v":4300},{"$f":"SUM('план на 2016'!$L293:O293)-SUM('членские взносы'!$M291:O291)","v":5100},{"$f":"SUM('план на 2016'!$L293:P293)-SUM('членские взносы'!$M291:P291)","v":5900},{"$f":"SUM('план на 2016'!$L293:Q293)-SUM('членские взносы'!$M291:Q291)","v":6700},{"$f":"SUM('план на 2016'!$L293:R293)-SUM('членские взносы'!$M291:R291)","v":5800},{"$f":"SUM('план на 2016'!$L293:S293)-SUM('членские взносы'!$M291:S291)","v":5600},{"$f":"SUM('план на 2016'!$L293:T293)-SUM('членские взносы'!$M291:T291)","v":6400},{"$f":"SUM('план на 2016'!$L293:U293)-SUM('членские взносы'!$M291:U291)","v":5600},{"$f":"SUM('план на 2016'!$L293:V293)-SUM('членские взносы'!$M291:V291)","v":6400},{"$f":"SUM('план на 2016'!$L293:W293)-SUM('членские взносы'!$M291:W291)","v":-800},{"$f":"SUM('план на 2016'!$L293:X293)-SUM('членские взносы'!$M291:X291)","v":0},{"$f":"X292","v":0}]
[{"$f":"VLOOKUP(B293,справочник!$B$2:$E$322,4,0)","v":247},{"$f":"CONCATENATE(C293;D293)","v":{"$error":"#VALUE!"}},258,"Фомин Игорь Анатольевич","50:03:0070280:787","2013-12-20","2014-01-01",{"$f":"INT(($H$326-G293)/30)","v":24},{"$f":"H293*1000","v":24000},13000,null,{"$f":"I293-J293-K293","v":11000},{"$f":"SUM('план на 2016'!$L294:M294)-SUM('членские взносы'!$M292:M292)","v":11800},{"$f":"SUM('план на 2016'!$L294:N294)-SUM('членские взносы'!$M292:N292)","v":12600},{"$f":"SUM('план на 2016'!$L294:O294)-SUM('членские взносы'!$M292:O292)","v":13400},{"$f":"SUM('план на 2016'!$L294:P294)-SUM('членские взносы'!$M292:P292)","v":14200},{"$f":"SUM('план на 2016'!$L294:Q294)-SUM('членские взносы'!$M292:Q292)","v":15000},{"$f":"SUM('план на 2016'!$L294:R294)-SUM('членские взносы'!$M292:R292)","v":15800},{"$f":"SUM('план на 2016'!$L294:S294)-SUM('членские взносы'!$M292:S292)","v":16600},{"$f":"SUM('план на 2016'!$L294:T294)-SUM('членские взносы'!$M292:T292)","v":17400},{"$f":"SUM('план на 2016'!$L294:U294)-SUM('членские взносы'!$M292:U292)","v":18200},{"$f":"SUM('план на 2016'!$L294:V294)-SUM('членские взносы'!$M292:V292)","v":19000},{"$f":"SUM('план на 2016'!$L294:W294)-SUM('членские взносы'!$M292:W292)","v":-200},{"$f":"SUM('план на 2016'!$L294:X294)-SUM('членские взносы'!$M292:X292)","v":600},{"$f":"X293","v":600}]
[{"$f":"VLOOKUP(B294,справочник!$B$2:$E$322,4,0)","v":103},{"$f":"CONCATENATE(C294;D294)","v":{"$error":"#VALUE!"}},108,"Фомичев Александр Петрович","50:03:0070280:820","2011-06-21","2011-07-01",{"$f":"INT(($H$326-G294)/30)","v":54},{"$f":"H294*1000","v":54000},{"$f":"2000+45000","v":47000},null,{"$f":"I294-J294-K294","v":7000},{"$f":"SUM('план на 2016'!$L295:M295)-SUM('членские взносы'!$M293:M293)","v":1800},{"$f":"SUM('план на 2016'!$L295:N295)-SUM('членские взносы'!$M293:N293)","v":2600},{"$f":"SUM('план на 2016'!$L295:O295)-SUM('членские взносы'!$M293:O293)","v":-2600},{"$f":"SUM('план на 2016'!$L295:P295)-SUM('членские взносы'!$M293:P293)","v":-1800},{"$f":"SUM('план на 2016'!$L295:Q295)-SUM('членские взносы'!$M293:Q293)","v":-1000},{"$f":"SUM('план на 2016'!$L295:R295)-SUM('членские взносы'!$M293:R293)","v":-200},{"$f":"SUM('план на 2016'!$L295:S295)-SUM('членские взносы'!$M293:S293)","v":600},{"$f":"SUM('план на 2016'!$L295:T295)-SUM('членские взносы'!$M293:T293)","v":1400},{"$f":"SUM('план на 2016'!$L295:U295)-SUM('членские взносы'!$M293:U293)","v":2200},{"$f":"SUM('план на 2016'!$L295:V295)-SUM('членские взносы'!$M293:V293)","v":3000},{"$f":"SUM('план на 2016'!$L295:W295)-SUM('членские взносы'!$M293:W293)","v":-2200},{"$f":"SUM('план на 2016'!$L295:X295)-SUM('членские взносы'!$M293:X293)","v":-1400},{"$f":"X294","v":-1400}]
[{"$f":"VLOOKUP(B295,справочник!$B$2:$E$322,4,0)","v":275},{"$f":"CONCATENATE(C295;D295)","v":{"$error":"#VALUE!"}},288,"Хайлов Алексей Анатольевич","50:03:0070280:712","2014-12-26","2015-01-01",{"$f":"INT(($H$326-G295)/30)","v":12},{"$f":"H295*1000","v":12000},null,null,{"$f":"I295-J295-K295","v":12000},{"$f":"SUM('план на 2016'!$L296:M296)-SUM('членские взносы'!$M294:M294)","v":12800},{"$f":"SUM('план на 2016'!$L296:N296)-SUM('членские взносы'!$M294:N294)","v":13600},{"$f":"SUM('план на 2016'!$L296:O296)-SUM('членские взносы'!$M294:O294)","v":14400},{"$f":"SUM('план на 2016'!$L296:P296)-SUM('членские взносы'!$M294:P294)","v":15200},{"$f":"SUM('план на 2016'!$L296:Q296)-SUM('членские взносы'!$M294:Q294)","v":16000},{"$f":"SUM('план на 2016'!$L296:R296)-SUM('членские взносы'!$M294:R294)","v":800},{"$f":"SUM('план на 2016'!$L296:S296)-SUM('членские взносы'!$M294:S294)","v":800},{"$f":"SUM('план на 2016'!$L296:T296)-SUM('членские взносы'!$M294:T294)","v":800},{"$f":"SUM('план на 2016'!$L296:U296)-SUM('членские взносы'!$M294:U294)","v":800},{"$f":"SUM('план на 2016'!$L296:V296)-SUM('членские взносы'!$M294:V294)","v":800},{"$f":"SUM('план на 2016'!$L296:W296)-SUM('членские взносы'!$M294:W294)","v":800},{"$f":"SUM('план на 2016'!$L296:X296)-SUM('членские взносы'!$M294:X294)","v":1600},{"$f":"X295","v":1600}]
[{"$f":"VLOOKUP(B296,справочник!$B$2:$E$322,4,0)","v":22},{"$f":"CONCATENATE(C296;D296)","v":{"$error":"#VALUE!"}},22,"Хан Виталий Борисович","50:03:0070280:823","2012-07-17","2012-07-01",{"$f":"INT(($H$326-G296)/30)","v":42},{"$f":"H296*1000","v":42000},{"$f":"34000+6000","v":40000},null,{"$f":"I296-J296-K296","v":2000},{"$f":"SUM('план на 2016'!$L297:M297)-SUM('членские взносы'!$M295:M295)","v":2800},{"$f":"SUM('план на 2016'!$L297:N297)-SUM('членские взносы'!$M295:N295)","v":3600},{"$f":"SUM('план на 2016'!$L297:O297)-SUM('членские взносы'!$M295:O295)","v":4400},{"$f":"SUM('план на 2016'!$L297:P297)-SUM('членские взносы'!$M295:P295)","v":5200},{"$f":"SUM('план на 2016'!$L297:Q297)-SUM('членские взносы'!$M295:Q295)","v":6000},{"$f":"SUM('план на 2016'!$L297:R297)-SUM('членские взносы'!$M295:R295)","v":6800},{"$f":"SUM('план на 2016'!$L297:S297)-SUM('членские взносы'!$M295:S295)","v":7600},{"$f":"SUM('план на 2016'!$L297:T297)-SUM('членские взносы'!$M295:T295)","v":8400},{"$f":"SUM('план на 2016'!$L297:U297)-SUM('членские взносы'!$M295:U295)","v":-800},{"$f":"SUM('план на 2016'!$L297:V297)-SUM('членские взносы'!$M295:V295)","v":0},{"$f":"SUM('план на 2016'!$L297:W297)-SUM('членские взносы'!$M295:W295)","v":800},{"$f":"SUM('план на 2016'!$L297:X297)-SUM('членские взносы'!$M295:X295)","v":1600},{"$f":"X296","v":1600}]
[{"$f":"VLOOKUP(B297,справочник!$B$2:$E$322,4,0)","v":20},{"$f":"CONCATENATE(C297;D297)","v":{"$error":"#VALUE!"}},20,"Харинкина Танзиля Гарафутдиновна","50:03:0070280:744","2013-06-18","2013-08-01",{"$f":"INT(($H$326-G297)/30)","v":29},{"$f":"H297*1000","v":29000},12000,null,{"$f":"I297-J297-K297","v":17000},{"$f":"SUM('план на 2016'!$L298:M298)-SUM('членские взносы'!$M296:M296)","v":17800},{"$f":"SUM('план на 2016'!$L298:N298)-SUM('членские взносы'!$M296:N296)","v":18600},{"$f":"SUM('план на 2016'!$L298:O298)-SUM('членские взносы'!$M296:O296)","v":19400},{"$f":"SUM('план на 2016'!$L298:P298)-SUM('членские взносы'!$M296:P296)","v":20200},{"$f":"SUM('план на 2016'!$L298:Q298)-SUM('членские взносы'!$M296:Q296)","v":21000},{"$f":"SUM('план на 2016'!$L298:R298)-SUM('членские взносы'!$M296:R296)","v":21800},{"$f":"SUM('план на 2016'!$L298:S298)-SUM('членские взносы'!$M296:S296)","v":22600},{"$f":"SUM('план на 2016'!$L298:T298)-SUM('членские взносы'!$M296:T296)","v":23400},{"$f":"SUM('план на 2016'!$L298:U298)-SUM('членские взносы'!$M296:U296)","v":24200},{"$f":"SUM('план на 2016'!$L298:V298)-SUM('членские взносы'!$M296:V296)","v":25000},{"$f":"SUM('план на 2016'!$L298:W298)-SUM('членские взносы'!$M296:W296)","v":25800},{"$f":"SUM('план на 2016'!$L298:X298)-SUM('членские взносы'!$M296:X296)","v":26600},{"$f":"X297","v":26600}]
[{"$f":"VLOOKUP(B298,справочник!$B$2:$E$322,4,0)","v":233},{"$f":"CONCATENATE(C298;D298)","v":{"$error":"#VALUE!"}},242,"Хаустова Люция Егоровна","50:03:0070280:878","2013-04-18","2013-05-01",{"$f":"INT(($H$326-G298)/30)","v":32},{"$f":"H298*1000","v":32000},29000,null,{"$f":"I298-J298-K298","v":3000},{"$f":"SUM('план на 2016'!$L299:M299)-SUM('членские взносы'!$M297:M297)","v":3800},{"$f":"SUM('план на 2016'!$L299:N299)-SUM('членские взносы'!$M297:N297)","v":4600},{"$f":"SUM('план на 2016'!$L299:O299)-SUM('членские взносы'!$M297:O297)","v":5400},{"$f":"SUM('план на 2016'!$L299:P299)-SUM('членские взносы'!$M297:P297)","v":6200},{"$f":"SUM('план на 2016'!$L299:Q299)-SUM('членские взносы'!$M297:Q297)","v":7000},{"$f":"SUM('план на 2016'!$L299:R299)-SUM('членские взносы'!$M297:R297)","v":800},{"$f":"SUM('план на 2016'!$L299:S299)-SUM('членские взносы'!$M297:S297)","v":1600},{"$f":"SUM('план на 2016'!$L299:T299)-SUM('членские взносы'!$M297:T297)","v":2400},{"$f":"SUM('план на 2016'!$L299:U299)-SUM('членские взносы'!$M297:U297)","v":3200},{"$f":"SUM('план на 2016'!$L299:V299)-SUM('членские взносы'!$M297:V297)","v":4000},{"$f":"SUM('план на 2016'!$L299:W299)-SUM('членские взносы'!$M297:W297)","v":800},{"$f":"SUM('план на 2016'!$L299:X299)-SUM('членские взносы'!$M297:X297)","v":1600},{"$f":"X298","v":1600}]
[{"$f":"VLOOKUP(B299,справочник!$B$2:$E$322,4,0)","v":256},{"$f":"CONCATENATE(C299;D299)","v":{"$error":"#VALUE!"}},269,"Хачатрян Алла Самвеловна","50:03:0070280:734","2012-04-13","2012-04-01",{"$f":"INT(($H$326-G299)/30)","v":45},{"$f":"H299*1000","v":45000},{"$f":"32000+7000","v":39000},8000,{"$f":"I299-J299-K299","v":-2000},{"$f":"SUM('план на 2016'!$L300:M300)-SUM('членские взносы'!$M298:M298)","v":-1200},{"$f":"SUM('план на 2016'!$L300:N300)-SUM('членские взносы'!$M298:N298)","v":-400},{"$f":"SUM('план на 2016'!$L300:O300)-SUM('членские взносы'!$M298:O298)","v":400},{"$f":"SUM('план на 2016'!$L300:P300)-SUM('членские взносы'!$M298:P298)","v":1200},{"$f":"SUM('план на 2016'!$L300:Q300)-SUM('членские взносы'!$M298:Q298)","v":2000},{"$f":"SUM('план на 2016'!$L300:R300)-SUM('членские взносы'!$M298:R298)","v":2800},{"$f":"SUM('план на 2016'!$L300:S300)-SUM('членские взносы'!$M298:S298)","v":3600},{"$f":"SUM('план на 2016'!$L300:T300)-SUM('членские взносы'!$M298:T298)","v":4400},{"$f":"SUM('план на 2016'!$L300:U300)-SUM('членские взносы'!$M298:U298)","v":5200},{"$f":"SUM('план на 2016'!$L300:V300)-SUM('членские взносы'!$M298:V298)","v":6000},{"$f":"SUM('план на 2016'!$L300:W300)-SUM('членские взносы'!$M298:W298)","v":6800},{"$f":"SUM('план на 2016'!$L300:X300)-SUM('членские взносы'!$M298:X298)","v":7600},{"$f":"X299","v":7600}]
[{"$f":"VLOOKUP(B300,справочник!$B$2:$E$322,4,0)","v":113},{"$f":"CONCATENATE(C300;D300)","v":{"$error":"#VALUE!"}},"116+118+120","Хрупало Николай Алексеевич","50:03:0070280:1427","2012-07-17","2012-08-01",{"$f":"INT(($H$326-G300)/30)","v":41},{"$f":"H300*1000","v":41000},41000,null,{"$f":"I300-J300-K300","v":0},{"$f":"SUM('план на 2016'!$L301:M301)-SUM('членские взносы'!$M299:M299)","v":800},{"$f":"SUM('план на 2016'!$L301:N301)-SUM('членские взносы'!$M299:N299)","v":1600},{"$f":"SUM('план на 2016'!$L301:O301)-SUM('членские взносы'!$M299:O299)","v":2400},{"$f":"SUM('план на 2016'!$L301:P301)-SUM('членские взносы'!$M299:P299)","v":3200},{"$f":"SUM('план на 2016'!$L301:Q301)-SUM('членские взносы'!$M299:Q299)","v":4000},{"$f":"SUM('план на 2016'!$L301:R301)-SUM('членские взносы'!$M299:R299)","v":4800},{"$f":"SUM('план на 2016'!$L301:S301)-SUM('членские взносы'!$M299:S299)","v":5600},{"$f":"SUM('план на 2016'!$L301:T301)-SUM('членские взносы'!$M299:T299)","v":6400},{"$f":"SUM('план на 2016'!$L301:U301)-SUM('членские взносы'!$M299:U299)","v":7200},{"$f":"SUM('план на 2016'!$L301:V301)-SUM('членские взносы'!$M299:V299)","v":8000},{"$f":"SUM('план на 2016'!$L301:W301)-SUM('членские взносы'!$M299:W299)","v":8800},{"$f":"SUM('план на 2016'!$L301:X301)-SUM('членские взносы'!$M299:X299)","v":9600},{"$f":"X300","v":9600}]
[{"$f":"VLOOKUP(B301,справочник!$B$2:$E$322,4,0)","v":113},{"$f":"CONCATENATE(C301;D301)","v":{"$error":"#VALUE!"}},"116+118+120","Хрупало Николай Алексеевич","50:03:0070280:1427","2012-07-17","2012-08-01",{"$f":"INT(($H$326-G301)/30)","v":41},{"$f":"H301*1000","v":41000},20000,null,{"$f":"I301-J301-K301","v":21000},{"$f":"SUM('план на 2016'!$L302:M302)-SUM('членские взносы'!$M300:M300)","v":21000},{"$f":"SUM('план на 2016'!$L302:N302)-SUM('членские взносы'!$M300:N300)","v":21000},{"$f":"SUM('план на 2016'!$L302:O302)-SUM('членские взносы'!$M300:O300)","v":21000},{"$f":"SUM('план на 2016'!$L302:P302)-SUM('членские взносы'!$M300:P300)","v":21000},{"$f":"SUM('план на 2016'!$L302:Q302)-SUM('членские взносы'!$M300:Q300)","v":21000},{"$f":"SUM('план на 2016'!$L302:R302)-SUM('членские взносы'!$M300:R300)","v":21000},{"$f":"SUM('план на 2016'!$L302:S302)-SUM('членские взносы'!$M300:S300)","v":21000},{"$f":"SUM('план на 2016'!$L302:T302)-SUM('членские взносы'!$M300:T300)","v":21000},{"$f":"SUM('план на 2016'!$L302:U302)-SUM('членские взносы'!$M300:U300)","v":21000},{"$f":"SUM('план на 2016'!$L302:V302)-SUM('членские взносы'!$M300:V300)","v":21000},{"$f":"SUM('план на 2016'!$L302:W302)-SUM('членские взносы'!$M300:W300)","v":21000},{"$f":"SUM('план на 2016'!$L302:X302)-SUM('членские взносы'!$M300:X300)","v":21000},{"$f":"X301","v":21000}]
[{"$f":"VLOOKUP(B302,справочник!$B$2:$E$322,4,0)","v":113},{"$f":"CONCATENATE(C302;D302)","v":{"$error":"#VALUE!"}},"116+118+120","Хрупало Николай Алексеевич","50:03:0070280:1427","2012-07-17","2012-08-01",{"$f":"INT(($H$326-G302)/30)","v":41},{"$f":"H302*1000","v":41000},null,null,{"$f":"I302-J302-K302","v":41000},{"$f":"SUM('план на 2016'!$L303:M303)-SUM('членские взносы'!$M301:M301)","v":35000},{"$f":"SUM('план на 2016'!$L303:N303)-SUM('членские взносы'!$M301:N301)","v":35000},{"$f":"SUM('план на 2016'!$L303:O303)-SUM('членские взносы'!$M301:O301)","v":35000},{"$f":"SUM('план на 2016'!$L303:P303)-SUM('членские взносы'!$M301:P301)","v":32000},{"$f":"SUM('план на 2016'!$L303:Q303)-SUM('членские взносы'!$M301:Q301)","v":32000},{"$f":"SUM('план на 2016'!$L303:R303)-SUM('членские взносы'!$M301:R301)","v":29000},{"$f":"SUM('план на 2016'!$L303:S303)-SUM('членские взносы'!$M301:S301)","v":29000},{"$f":"SUM('план на 2016'!$L303:T303)-SUM('членские взносы'!$M301:T301)","v":29000},{"$f":"SUM('план на 2016'!$L303:U303)-SUM('членские взносы'!$M301:U301)","v":29000},{"$f":"SUM('план на 2016'!$L303:V303)-SUM('членские взносы'!$M301:V301)","v":29000},{"$f":"SUM('план на 2016'!$L303:W303)-SUM('членские взносы'!$M301:W301)","v":26000},{"$f":"SUM('план на 2016'!$L303:X303)-SUM('членские взносы'!$M301:X301)","v":26000},{"$f":"X302","v":26000}]
[{"$f":"VLOOKUP(B303,справочник!$B$2:$E$322,4,0)","v":180},{"$f":"CONCATENATE(C303;D303)","v":{"$error":"#VALUE!"}},188,"Черешнева Виктория Викторовна","50:03:0070280:918","2014-05-27","2014-06-01",{"$f":"INT(($H$326-G303)/30)","v":19},{"$f":"H303*1000","v":19000},19000,null,{"$f":"I303-J303-K303","v":0},{"$f":"SUM('план на 2016'!$L304:M304)-SUM('членские взносы'!$M302:M302)","v":800},{"$f":"SUM('план на 2016'!$L304:N304)-SUM('членские взносы'!$M302:N302)","v":1600},{"$f":"SUM('план на 2016'!$L304:O304)-SUM('членские взносы'!$M302:O302)","v":2400},{"$f":"SUM('план на 2016'!$L304:P304)-SUM('членские взносы'!$M302:P302)","v":3200},{"$f":"SUM('план на 2016'!$L304:Q304)-SUM('членские взносы'!$M302:Q302)","v":-800},{"$f":"SUM('план на 2016'!$L304:R304)-SUM('членские взносы'!$M302:R302)","v":0},{"$f":"SUM('план на 2016'!$L304:S304)-SUM('членские взносы'!$M302:S302)","v":800},{"$f":"SUM('план на 2016'!$L304:T304)-SUM('членские взносы'!$M302:T302)","v":1600},{"$f":"SUM('план на 2016'!$L304:U304)-SUM('членские взносы'!$M302:U302)","v":2400},{"$f":"SUM('план на 2016'!$L304:V304)-SUM('членские взносы'!$M302:V302)","v":3200},{"$f":"SUM('план на 2016'!$L304:W304)-SUM('членские взносы'!$M302:W302)","v":4000},{"$f":"SUM('план на 2016'!$L304:X304)-SUM('членские взносы'!$M302:X302)","v":4800},{"$f":"X303","v":4800}]
[{"$f":"VLOOKUP(B304,справочник!$B$2:$E$322,4,0)","v":2},{"$f":"CONCATENATE(C304;D304)","v":{"$error":"#VALUE!"}},2,"Чернявская Оксана Юрьевна","50:03:0070280:710","2014-04-08","2014-05-01",{"$f":"INT(($H$326-G304)/30)","v":20},{"$f":"H304*1000","v":20000},11000,null,{"$f":"I304-J304-K304","v":9000},{"$f":"SUM('план на 2016'!$L305:M305)-SUM('членские взносы'!$M303:M303)","v":9800},{"$f":"SUM('план на 2016'!$L305:N305)-SUM('членские взносы'!$M303:N303)","v":10600},{"$f":"SUM('план на 2016'!$L305:O305)-SUM('членские взносы'!$M303:O303)","v":11400},{"$f":"SUM('план на 2016'!$L305:P305)-SUM('членские взносы'!$M303:P303)","v":12200},{"$f":"SUM('план на 2016'!$L305:Q305)-SUM('членские взносы'!$M303:Q303)","v":13000},{"$f":"SUM('план на 2016'!$L305:R305)-SUM('членские взносы'!$M303:R303)","v":13800},{"$f":"SUM('план на 2016'!$L305:S305)-SUM('членские взносы'!$M303:S303)","v":14600},{"$f":"SUM('план на 2016'!$L305:T305)-SUM('членские взносы'!$M303:T303)","v":15400},{"$f":"SUM('план на 2016'!$L305:U305)-SUM('членские взносы'!$M303:U303)","v":16200},{"$f":"SUM('план на 2016'!$L305:V305)-SUM('членские взносы'!$M303:V303)","v":16000},{"$f":"SUM('план на 2016'!$L305:W305)-SUM('членские взносы'!$M303:W303)","v":16800},{"$f":"SUM('план на 2016'!$L305:X305)-SUM('членские взносы'!$M303:X303)","v":17600},{"$f":"X304","v":17600}]
[{"$f":"VLOOKUP(B305,справочник!$B$2:$E$322,4,0)","v":23},{"$f":"CONCATENATE(C305;D305)","v":{"$error":"#VALUE!"}},23,"Чигрины Анна Анатольевна и Геннадий Иванович","50:03:0070280:747","2013-05-28","2013-07-01",{"$f":"INT(($H$326-G305)/30)","v":30},{"$f":"H305*1000","v":30000},30000,null,{"$f":"I305-J305-K305","v":0},{"$f":"SUM('план на 2016'!$L306:M306)-SUM('членские взносы'!$M304:M304)","v":-10800},{"$f":"SUM('план на 2016'!$L306:N306)-SUM('членские взносы'!$M304:N304)","v":-10000},{"$f":"SUM('план на 2016'!$L306:O306)-SUM('членские взносы'!$M304:O304)","v":-9200},{"$f":"SUM('план на 2016'!$L306:P306)-SUM('членские взносы'!$M304:P304)","v":-8400},{"$f":"SUM('план на 2016'!$L306:Q306)-SUM('членские взносы'!$M304:Q304)","v":-7600},{"$f":"SUM('план на 2016'!$L306:R306)-SUM('членские взносы'!$M304:R304)","v":-6800},{"$f":"SUM('план на 2016'!$L306:S306)-SUM('членские взносы'!$M304:S304)","v":-6000},{"$f":"SUM('план на 2016'!$L306:T306)-SUM('членские взносы'!$M304:T304)","v":-5200},{"$f":"SUM('план на 2016'!$L306:U306)-SUM('членские взносы'!$M304:U304)","v":-4400},{"$f":"SUM('план на 2016'!$L306:V306)-SUM('членские взносы'!$M304:V304)","v":-3600},{"$f":"SUM('план на 2016'!$L306:W306)-SUM('членские взносы'!$M304:W304)","v":-2800},{"$f":"SUM('план на 2016'!$L306:X306)-SUM('членские взносы'!$M304:X304)","v":-11600},{"$f":"X305","v":-11600}]
[{"$f":"VLOOKUP(B306,справочник!$B$2:$E$322,4,0)","v":168},{"$f":"CONCATENATE(C306;D306)","v":{"$error":"#VALUE!"}},176,"Чикачёв Сергей Иванович","50:03:0070280:889","2014-10-27","2014-12-01",{"$f":"INT(($H$326-G306)/30)","v":13},{"$f":"H306*1000","v":13000},11000,2000,{"$f":"I306-J306-K306","v":0},{"$f":"SUM('план на 2016'!$L307:M307)-SUM('членские взносы'!$M305:M305)","v":800},{"$f":"SUM('план на 2016'!$L307:N307)-SUM('членские взносы'!$M305:N305)","v":-400},{"$f":"SUM('план на 2016'!$L307:O307)-SUM('членские взносы'!$M305:O305)","v":400},{"$f":"SUM('план на 2016'!$L307:P307)-SUM('членские взносы'!$M305:P305)","v":-800},{"$f":"SUM('план на 2016'!$L307:Q307)-SUM('членские взносы'!$M305:Q305)","v":-2000},{"$f":"SUM('план на 2016'!$L307:R307)-SUM('членские взносы'!$M305:R305)","v":-1200},{"$f":"SUM('план на 2016'!$L307:S307)-SUM('членские взносы'!$M305:S305)","v":-2400},{"$f":"SUM('план на 2016'!$L307:T307)-SUM('членские взносы'!$M305:T305)","v":-1600},{"$f":"SUM('план на 2016'!$L307:U307)-SUM('членские взносы'!$M305:U305)","v":-2800},{"$f":"SUM('план на 2016'!$L307:V307)-SUM('членские взносы'!$M305:V305)","v":-2000},{"$f":"SUM('план на 2016'!$L307:W307)-SUM('членские взносы'!$M305:W305)","v":-3200},{"$f":"SUM('план на 2016'!$L307:X307)-SUM('членские взносы'!$M305:X305)","v":-2400},{"$f":"X306","v":-2400}]
[{"$f":"VLOOKUP(B307,справочник!$B$2:$E$322,4,0)","v":84},{"$f":"CONCATENATE(C307;D307)","v":{"$error":"#VALUE!"}},89,"Шабунина Светлана Николаевна","50:03:0070280:868","2011-08-30","2011-09-01",{"$f":"INT(($H$326-G307)/30)","v":52},{"$f":"H307*1000","v":52000},{"$f":"1000+51000","v":52000},null,{"$f":"I307-J307-K307","v":0},{"$f":"SUM('план на 2016'!$L308:M308)-SUM('членские взносы'!$M306:M306)","v":800},{"$f":"SUM('план на 2016'!$L308:N308)-SUM('членские взносы'!$M306:N306)","v":1600},{"$f":"SUM('план на 2016'!$L308:O308)-SUM('членские взносы'!$M306:O306)","v":2400},{"$f":"SUM('план на 2016'!$L308:P308)-SUM('членские взносы'!$M306:P306)","v":3200},{"$f":"SUM('план на 2016'!$L308:Q308)-SUM('членские взносы'!$M306:Q306)","v":4000},{"$f":"SUM('план на 2016'!$L308:R308)-SUM('членские взносы'!$M306:R306)","v":0},{"$f":"SUM('план на 2016'!$L308:S308)-SUM('членские взносы'!$M306:S306)","v":800},{"$f":"SUM('план на 2016'!$L308:T308)-SUM('членские взносы'!$M306:T306)","v":1600},{"$f":"SUM('план на 2016'!$L308:U308)-SUM('членские взносы'!$M306:U306)","v":2400},{"$f":"SUM('план на 2016'!$L308:V308)-SUM('членские взносы'!$M306:V306)","v":3200},{"$f":"SUM('план на 2016'!$L308:W308)-SUM('членские взносы'!$M306:W306)","v":-800},{"$f":"SUM('план на 2016'!$L308:X308)-SUM('членские взносы'!$M306:X306)","v":0},{"$f":"X307","v":0}]
[{"$f":"VLOOKUP(B308,справочник!$B$2:$E$322,4,0)","v":88},{"$f":"CONCATENATE(C308;D308)","v":{"$error":"#VALUE!"}},"97+93","Шалинов Андрей Вадимович","50:03:0070280:827","2012-01-17","2012-01-01",{"$f":"INT(($H$326-G308)/30)","v":48},{"$f":"H308*1000","v":48000},44000,null,{"$f":"I308-J308-K308","v":4000},{"$f":"SUM('план на 2016'!$L309:M309)-SUM('членские взносы'!$M307:M307)","v":-4000},{"$f":"SUM('план на 2016'!$L309:N309)-SUM('членские взносы'!$M307:N307)","v":-4000},{"$f":"SUM('план на 2016'!$L309:O309)-SUM('членские взносы'!$M307:O307)","v":-4000},{"$f":"SUM('план на 2016'!$L309:P309)-SUM('членские взносы'!$M307:P307)","v":-4000},{"$f":"SUM('план на 2016'!$L309:Q309)-SUM('членские взносы'!$M307:Q307)","v":-4000},{"$f":"SUM('план на 2016'!$L309:R309)-SUM('членские взносы'!$M307:R307)","v":-4000},{"$f":"SUM('план на 2016'!$L309:S309)-SUM('членские взносы'!$M307:S307)","v":-13600},{"$f":"SUM('план на 2016'!$L309:T309)-SUM('членские взносы'!$M307:T307)","v":-13600},{"$f":"SUM('план на 2016'!$L309:U309)-SUM('членские взносы'!$M307:U307)","v":-13600},{"$f":"SUM('план на 2016'!$L309:V309)-SUM('членские взносы'!$M307:V307)","v":-13600},{"$f":"SUM('план на 2016'!$L309:W309)-SUM('членские взносы'!$M307:W307)","v":-13600},{"$f":"SUM('план на 2016'!$L309:X309)-SUM('членские взносы'!$M307:X307)","v":-13600},{"$f":"X308","v":-13600}]
[{"$f":"VLOOKUP(B309,справочник!$B$2:$E$322,4,0)","v":88},{"$f":"CONCATENATE(C309;D309)","v":{"$error":"#VALUE!"}},"97+93","Шалинов Андрей Вадимович","50:03:0070280:864","2012-01-17","2012-01-01",{"$f":"INT(($H$326-G309)/30)","v":48},{"$f":"H309*1000","v":48000},44000,null,{"$f":"I309-J309-K309","v":4000},{"$f":"SUM('план на 2016'!$L310:M310)-SUM('членские взносы'!$M308:M308)","v":4800},{"$f":"SUM('план на 2016'!$L310:N310)-SUM('членские взносы'!$M308:N308)","v":5600},{"$f":"SUM('план на 2016'!$L310:O310)-SUM('членские взносы'!$M308:O308)","v":6400},{"$f":"SUM('план на 2016'!$L310:P310)-SUM('членские взносы'!$M308:P308)","v":7200},{"$f":"SUM('план на 2016'!$L310:Q310)-SUM('членские взносы'!$M308:Q308)","v":8000},{"$f":"SUM('план на 2016'!$L310:R310)-SUM('членские взносы'!$M308:R308)","v":8800},{"$f":"SUM('план на 2016'!$L310:S310)-SUM('членские взносы'!$M308:S308)","v":9600},{"$f":"SUM('план на 2016'!$L310:T310)-SUM('членские взносы'!$M308:T308)","v":10400},{"$f":"SUM('план на 2016'!$L310:U310)-SUM('членские взносы'!$M308:U308)","v":11200},{"$f":"SUM('план на 2016'!$L310:V310)-SUM('членские взносы'!$M308:V308)","v":12000},{"$f":"SUM('план на 2016'!$L310:W310)-SUM('членские взносы'!$M308:W308)","v":12800},{"$f":"SUM('план на 2016'!$L310:X310)-SUM('членские взносы'!$M308:X308)","v":13600},{"$f":"X309","v":13600}]
[{"$f":"VLOOKUP(B310,справочник!$B$2:$E$322,4,0)","v":78},{"$f":"CONCATENATE(C310;D310)","v":{"$error":"#VALUE!"}},83,"Шелухина Мария Сергеевна",null,"2013-07-01","2013-07-02",{"$f":"INT(($H$326-G310)/30)","v":30},30000,0,null,30000,{"$f":"SUM('план на 2016'!$L311:M311)-SUM('членские взносы'!$M309:M309)","v":30800},{"$f":"SUM('план на 2016'!$L311:N311)-SUM('членские взносы'!$M309:N309)","v":31600},{"$f":"SUM('план на 2016'!$L311:O311)-SUM('членские взносы'!$M309:O309)","v":32400},{"$f":"SUM('план на 2016'!$L311:P311)-SUM('членские взносы'!$M309:P309)","v":33200},{"$f":"SUM('план на 2016'!$L311:Q311)-SUM('членские взносы'!$M309:Q309)","v":34000},{"$f":"SUM('план на 2016'!$L311:R311)-SUM('членские взносы'!$M309:R309)","v":34800},{"$f":"SUM('план на 2016'!$L311:S311)-SUM('членские взносы'!$M309:S309)","v":35600},{"$f":"SUM('план на 2016'!$L311:T311)-SUM('членские взносы'!$M309:T309)","v":36400},{"$f":"SUM('план на 2016'!$L311:U311)-SUM('членские взносы'!$M309:U309)","v":12200},{"$f":"SUM('план на 2016'!$L311:V311)-SUM('членские взносы'!$M309:V309)","v":13000},{"$f":"SUM('план на 2016'!$L311:W311)-SUM('членские взносы'!$M309:W309)","v":13800},{"$f":"SUM('план на 2016'!$L311:X311)-SUM('членские взносы'!$M309:X309)","v":14600},{"$f":"X310","v":14600}]
[{"$f":"VLOOKUP(B311,справочник!$B$2:$E$322,4,0)","v":77},{"$f":"CONCATENATE(C311;D311)","v":{"$error":"#VALUE!"}},83,"Самородов","50:03:0070280:752","2012-01-24","2012-01-01",{"$f":"INT(($H$326-G311)/30)","v":48},{"$f":"H311*1000","v":48000},15000,null,{"$f":"I311-J311-K311","v":33000},{"$f":"SUM('план на 2016'!$L312:M312)-SUM('членские взносы'!$M310:M310)","v":33800},{"$f":"SUM('план на 2016'!$L312:N312)-SUM('членские взносы'!$M310:N310)","v":34600},{"$f":"SUM('план на 2016'!$L312:O312)-SUM('членские взносы'!$M310:O310)","v":35400},{"$f":"SUM('план на 2016'!$L312:P312)-SUM('членские взносы'!$M310:P310)","v":36200},{"$f":"SUM('план на 2016'!$L312:Q312)-SUM('членские взносы'!$M310:Q310)","v":37000},{"$f":"SUM('план на 2016'!$L312:R312)-SUM('членские взносы'!$M310:R310)","v":37800},{"$f":"SUM('план на 2016'!$L312:S312)-SUM('членские взносы'!$M310:S310)","v":38600},{"$f":"SUM('план на 2016'!$L312:T312)-SUM('членские взносы'!$M310:T310)","v":39400},{"$f":"SUM('план на 2016'!$L312:U312)-SUM('членские взносы'!$M310:U310)","v":40200},{"$f":"SUM('план на 2016'!$L312:V312)-SUM('членские взносы'!$M310:V310)","v":41000},{"$f":"SUM('план на 2016'!$L312:W312)-SUM('членские взносы'!$M310:W310)","v":41800},{"$f":"SUM('план на 2016'!$L312:X312)-SUM('членские взносы'!$M310:X310)","v":42600},{"$f":"X311","v":42600}]
[{"$f":"VLOOKUP(B312,справочник!$B$2:$E$322,4,0)","v":306},{"$f":"CONCATENATE(C312;D312)","v":{"$error":"#VALUE!"}},321,"Шептухина Александра Борисовна","50:03:0070280:1013","2012-07-03","2012-07-01",{"$f":"INT(($H$326-G312)/30)","v":42},{"$f":"H312*1000","v":42000},11000,null,{"$f":"I312-J312-K312","v":31000},{"$f":"SUM('план на 2016'!$L313:M313)-SUM('членские взносы'!$M311:M311)","v":31800},{"$f":"SUM('план на 2016'!$L313:N313)-SUM('членские взносы'!$M311:N311)","v":32600},{"$f":"SUM('план на 2016'!$L313:O313)-SUM('членские взносы'!$M311:O311)","v":33400},{"$f":"SUM('план на 2016'!$L313:P313)-SUM('членские взносы'!$M311:P311)","v":34200},{"$f":"SUM('план на 2016'!$L313:Q313)-SUM('членские взносы'!$M311:Q311)","v":35000},{"$f":"SUM('план на 2016'!$L313:R313)-SUM('членские взносы'!$M311:R311)","v":35800},{"$f":"SUM('план на 2016'!$L313:S313)-SUM('членские взносы'!$M311:S311)","v":36600},{"$f":"SUM('план на 2016'!$L313:T313)-SUM('членские взносы'!$M311:T311)","v":37400},{"$f":"SUM('план на 2016'!$L313:U313)-SUM('членские взносы'!$M311:U311)","v":38200},{"$f":"SUM('план на 2016'!$L313:V313)-SUM('членские взносы'!$M311:V311)","v":39000},{"$f":"SUM('план на 2016'!$L313:W313)-SUM('членские взносы'!$M311:W311)","v":39800},{"$f":"SUM('план на 2016'!$L313:X313)-SUM('членские взносы'!$M311:X311)","v":40600},{"$f":"X312","v":40600}]
[{"$f":"VLOOKUP(B313,справочник!$B$2:$E$322,4,0)","v":182},{"$f":"CONCATENATE(C313;D313)","v":{"$error":"#VALUE!"}},190,"Широков Евгений Александрович","50:03:0070280:759","2014-04-05","2014-05-01",{"$f":"INT(($H$326-G313)/30)","v":20},{"$f":"H313*1000","v":20000},14000,null,{"$f":"I313-J313-K313","v":6000},{"$f":"SUM('план на 2016'!$L314:M314)-SUM('членские взносы'!$M312:M312)","v":6800},{"$f":"SUM('план на 2016'!$L314:N314)-SUM('членские взносы'!$M312:N312)","v":7600},{"$f":"SUM('план на 2016'!$L314:O314)-SUM('членские взносы'!$M312:O312)","v":8400},{"$f":"SUM('план на 2016'!$L314:P314)-SUM('членские взносы'!$M312:P312)","v":9200},{"$f":"SUM('план на 2016'!$L314:Q314)-SUM('членские взносы'!$M312:Q312)","v":800},{"$f":"SUM('план на 2016'!$L314:R314)-SUM('членские взносы'!$M312:R312)","v":1600},{"$f":"SUM('план на 2016'!$L314:S314)-SUM('членские взносы'!$M312:S312)","v":2400},{"$f":"SUM('план на 2016'!$L314:T314)-SUM('членские взносы'!$M312:T312)","v":3200},{"$f":"SUM('план на 2016'!$L314:U314)-SUM('членские взносы'!$M312:U312)","v":4000},{"$f":"SUM('план на 2016'!$L314:V314)-SUM('членские взносы'!$M312:V312)","v":4800},{"$f":"SUM('план на 2016'!$L314:W314)-SUM('членские взносы'!$M312:W312)","v":5600},{"$f":"SUM('план на 2016'!$L314:X314)-SUM('членские взносы'!$M312:X312)","v":6400},{"$f":"X313","v":6400}]
[{"$f":"VLOOKUP(B314,справочник!$B$2:$E$322,4,0)","v":95},{"$f":"CONCATENATE(C314;D314)","v":{"$error":"#VALUE!"}},100,"Шорахматов Мухаммадхуджа Замшоевич","50:03:0070280:861","2013-05-07","2013-12-01",{"$f":"INT(($H$326-G314)/30)","v":25},{"$f":"H314*1000","v":25000},20000,null,{"$f":"I314-J314-K314","v":5000},{"$f":"SUM('план на 2016'!$L315:M315)-SUM('членские взносы'!$M313:M313)","v":5800},{"$f":"SUM('план на 2016'!$L315:N315)-SUM('членские взносы'!$M313:N313)","v":6600},{"$f":"SUM('план на 2016'!$L315:O315)-SUM('членские взносы'!$M313:O313)","v":7400},{"$f":"SUM('план на 2016'!$L315:P315)-SUM('членские взносы'!$M313:P313)","v":8200},{"$f":"SUM('план на 2016'!$L315:Q315)-SUM('членские взносы'!$M313:Q313)","v":9000},{"$f":"SUM('план на 2016'!$L315:R315)-SUM('членские взносы'!$M313:R313)","v":800},{"$f":"SUM('план на 2016'!$L315:S315)-SUM('членские взносы'!$M313:S313)","v":1600},{"$f":"SUM('план на 2016'!$L315:T315)-SUM('членские взносы'!$M313:T313)","v":2400},{"$f":"SUM('план на 2016'!$L315:U315)-SUM('членские взносы'!$M313:U313)","v":3200},{"$f":"SUM('план на 2016'!$L315:V315)-SUM('членские взносы'!$M313:V313)","v":4000},{"$f":"SUM('план на 2016'!$L315:W315)-SUM('членские взносы'!$M313:W313)","v":4800},{"$f":"SUM('план на 2016'!$L315:X315)-SUM('членские взносы'!$M313:X313)","v":5600},{"$f":"X314","v":5600}]
[{"$f":"VLOOKUP(B315,справочник!$B$2:$E$322,4,0)","v":108},{"$f":"CONCATENATE(C315;D315)","v":{"$error":"#VALUE!"}},113,"Шурдук Лариса Анатольевна (Игорь)","50:03:0070280:815","2012-01-30","2012-02-01",{"$f":"INT(($H$326-G315)/30)","v":47},{"$f":"H315*1000","v":47000},{"$f":"24000+11000","v":35000},8000,{"$f":"I315-J315-K315","v":4000},{"$f":"SUM('план на 2016'!$L316:M316)-SUM('членские взносы'!$M314:M314)","v":4800},{"$f":"SUM('план на 2016'!$L316:N316)-SUM('членские взносы'!$M314:N314)","v":1600},{"$f":"SUM('план на 2016'!$L316:O316)-SUM('членские взносы'!$M314:O314)","v":0},{"$f":"SUM('план на 2016'!$L316:P316)-SUM('членские взносы'!$M314:P314)","v":800},{"$f":"SUM('план на 2016'!$L316:Q316)-SUM('членские взносы'!$M314:Q314)","v":1600},{"$f":"SUM('план на 2016'!$L316:R316)-SUM('членские взносы'!$M314:R314)","v":0},{"$f":"SUM('план на 2016'!$L316:S316)-SUM('членские взносы'!$M314:S314)","v":800},{"$f":"SUM('план на 2016'!$L316:T316)-SUM('членские взносы'!$M314:T314)","v":1600},{"$f":"SUM('план на 2016'!$L316:U316)-SUM('членские взносы'!$M314:U314)","v":0},{"$f":"SUM('план на 2016'!$L316:V316)-SUM('членские взносы'!$M314:V314)","v":800},{"$f":"SUM('план на 2016'!$L316:W316)-SUM('членские взносы'!$M314:W314)","v":1600},{"$f":"SUM('план на 2016'!$L316:X316)-SUM('членские взносы'!$M314:X314)","v":0},{"$f":"X315","v":0}]
[{"$f":"VLOOKUP(B316,справочник!$B$2:$E$322,4,0)","v":41},{"$f":"CONCATENATE(C316;D316)","v":{"$error":"#VALUE!"}},41,"Шустов Василий Александрович","50:03:0070280:799","2011-08-17","2011-08-01",{"$f":"INT(($H$326-G316)/30)","v":53},{"$f":"H316*1000","v":53000},{"$f":"1000+37000","v":38000},null,{"$f":"I316-J316-K316","v":15000},{"$f":"SUM('план на 2016'!$L317:M317)-SUM('членские взносы'!$M315:M315)","v":15800},{"$f":"SUM('план на 2016'!$L317:N317)-SUM('членские взносы'!$M315:N315)","v":16600},{"$f":"SUM('план на 2016'!$L317:O317)-SUM('членские взносы'!$M315:O315)","v":17400},{"$f":"SUM('план на 2016'!$L317:P317)-SUM('членские взносы'!$M315:P315)","v":18200},{"$f":"SUM('план на 2016'!$L317:Q317)-SUM('членские взносы'!$M315:Q315)","v":19000},{"$f":"SUM('план на 2016'!$L317:R317)-SUM('членские взносы'!$M315:R315)","v":19800},{"$f":"SUM('план на 2016'!$L317:S317)-SUM('членские взносы'!$M315:S315)","v":20600},{"$f":"SUM('план на 2016'!$L317:T317)-SUM('членские взносы'!$M315:T315)","v":21400},{"$f":"SUM('план на 2016'!$L317:U317)-SUM('членские взносы'!$M315:U315)","v":800},{"$f":"SUM('план на 2016'!$L317:V317)-SUM('членские взносы'!$M315:V315)","v":1600},{"$f":"SUM('план на 2016'!$L317:W317)-SUM('членские взносы'!$M315:W315)","v":2400},{"$f":"SUM('план на 2016'!$L317:X317)-SUM('членские взносы'!$M315:X315)","v":3200},{"$f":"X316","v":3200}]
[{"$f":"VLOOKUP(B317,справочник!$B$2:$E$322,4,0)","v":152},{"$f":"CONCATENATE(C317;D317)","v":{"$error":"#VALUE!"}},160,"Щербаков Павел Евгеньевич","50:03:0070280:757","2011-11-03","2011-11-01",{"$f":"INT(($H$326-G317)/30)","v":50},{"$f":"H317*1000","v":50000},{"$f":"46000+1000","v":47000},null,{"$f":"I317-J317-K317","v":3000},{"$f":"SUM('план на 2016'!$L318:M318)-SUM('членские взносы'!$M316:M316)","v":3800},{"$f":"SUM('план на 2016'!$L318:N318)-SUM('членские взносы'!$M316:N316)","v":4600},{"$f":"SUM('план на 2016'!$L318:O318)-SUM('членские взносы'!$M316:O316)","v":5400},{"$f":"SUM('план на 2016'!$L318:P318)-SUM('членские взносы'!$M316:P316)","v":6200},{"$f":"SUM('план на 2016'!$L318:Q318)-SUM('членские взносы'!$M316:Q316)","v":7000},{"$f":"SUM('план на 2016'!$L318:R318)-SUM('членские взносы'!$M316:R316)","v":7800},{"$f":"SUM('план на 2016'!$L318:S318)-SUM('членские взносы'!$M316:S316)","v":8600},{"$f":"SUM('план на 2016'!$L318:T318)-SUM('членские взносы'!$M316:T316)","v":9400},{"$f":"SUM('план на 2016'!$L318:U318)-SUM('членские взносы'!$M316:U316)","v":10200},{"$f":"SUM('план на 2016'!$L318:V318)-SUM('членские взносы'!$M316:V316)","v":11000},{"$f":"SUM('план на 2016'!$L318:W318)-SUM('членские взносы'!$M316:W316)","v":11800},{"$f":"SUM('план на 2016'!$L318:X318)-SUM('членские взносы'!$M316:X316)","v":12600},{"$f":"X317","v":12600}]
[{"$f":"VLOOKUP(B318,справочник!$B$2:$E$322,4,0)","v":227},{"$f":"CONCATENATE(C318;D318)","v":{"$error":"#VALUE!"}},236,"Щербакова Татьяна Дмитриевна","50:03:0070280:899","2014-04-09","2014-05-01",{"$f":"INT(($H$326-G318)/30)","v":20},{"$f":"H318*1000","v":20000},9000,null,{"$f":"I318-J318-K318","v":11000},{"$f":"SUM('план на 2016'!$L319:M319)-SUM('членские взносы'!$M317:M317)","v":11800},{"$f":"SUM('план на 2016'!$L319:N319)-SUM('членские взносы'!$M317:N317)","v":8800},{"$f":"SUM('план на 2016'!$L319:O319)-SUM('членские взносы'!$M317:O317)","v":4800},{"$f":"SUM('план на 2016'!$L319:P319)-SUM('членские взносы'!$M317:P317)","v":5600},{"$f":"SUM('план на 2016'!$L319:Q319)-SUM('членские взносы'!$M317:Q317)","v":6400},{"$f":"SUM('план на 2016'!$L319:R319)-SUM('членские взносы'!$M317:R317)","v":7200},{"$f":"SUM('план на 2016'!$L319:S319)-SUM('членские взносы'!$M317:S317)","v":8000},{"$f":"SUM('план на 2016'!$L319:T319)-SUM('членские взносы'!$M317:T317)","v":8800},{"$f":"SUM('план на 2016'!$L319:U319)-SUM('членские взносы'!$M317:U317)","v":9600},{"$f":"SUM('план на 2016'!$L319:V319)-SUM('членские взносы'!$M317:V317)","v":10400},{"$f":"SUM('план на 2016'!$L319:W319)-SUM('членские взносы'!$M317:W317)","v":11200},{"$f":"SUM('план на 2016'!$L319:X319)-SUM('членские взносы'!$M317:X317)","v":12000},{"$f":"X318","v":12000}]
[{"$f":"VLOOKUP(B319,справочник!$B$2:$E$322,4,0)","v":15},{"$f":"CONCATENATE(C319;D319)","v":{"$error":"#VALUE!"}},15,"Элефтерова Евгения Викторовна (Михаил)","50:03:0070280:698","2012-12-18","2013-01-01",{"$f":"INT(($H$326-G319)/30)","v":36},{"$f":"H319*1000","v":36000},32000,null,{"$f":"I319-J319-K319","v":4000},{"$f":"SUM('план на 2016'!$L320:M320)-SUM('членские взносы'!$M318:M318)","v":4800},{"$f":"SUM('план на 2016'!$L320:N320)-SUM('членские взносы'!$M318:N318)","v":1600},{"$f":"SUM('план на 2016'!$L320:O320)-SUM('членские взносы'!$M318:O318)","v":2400},{"$f":"SUM('план на 2016'!$L320:P320)-SUM('членские взносы'!$M318:P318)","v":3200},{"$f":"SUM('план на 2016'!$L320:Q320)-SUM('членские взносы'!$M318:Q318)","v":4000},{"$f":"SUM('план на 2016'!$L320:R320)-SUM('членские взносы'!$M318:R318)","v":0},{"$f":"SUM('план на 2016'!$L320:S320)-SUM('членские взносы'!$M318:S318)","v":800},{"$f":"SUM('план на 2016'!$L320:T320)-SUM('членские взносы'!$M318:T318)","v":1600},{"$f":"SUM('план на 2016'!$L320:U320)-SUM('членские взносы'!$M318:U318)","v":0},{"$f":"SUM('план на 2016'!$L320:V320)-SUM('членские взносы'!$M318:V318)","v":800},{"$f":"SUM('план на 2016'!$L320:W320)-SUM('членские взносы'!$M318:W318)","v":1600},{"$f":"SUM('план на 2016'!$L320:X320)-SUM('членские взносы'!$M318:X318)","v":2400},{"$f":"X319","v":2400}]
[{"$f":"VLOOKUP(B320,справочник!$B$2:$E$322,4,0)","v":240},{"$f":"CONCATENATE(C320;D320)","v":{"$error":"#VALUE!"}},251,"Якиманский Александр Александрович","50:03:0070280:794","2011-09-13","2011-09-01",{"$f":"INT(($H$326-G320)/30)","v":52},{"$f":"H320*1000","v":52000},{"$f":"1000+49000","v":50000},3000,{"$f":"I320-J320-K320","v":-1000},{"$f":"SUM('план на 2016'!$L321:M321)-SUM('членские взносы'!$M319:M319)","v":-200},{"$f":"SUM('план на 2016'!$L321:N321)-SUM('членские взносы'!$M319:N319)","v":600},{"$f":"SUM('план на 2016'!$L321:O321)-SUM('членские взносы'!$M319:O319)","v":1400},{"$f":"SUM('план на 2016'!$L321:P321)-SUM('членские взносы'!$M319:P319)","v":2200},{"$f":"SUM('план на 2016'!$L321:Q321)-SUM('членские взносы'!$M319:Q319)","v":3000},{"$f":"SUM('план на 2016'!$L321:R321)-SUM('членские взносы'!$M319:R319)","v":3800},{"$f":"SUM('план на 2016'!$L321:S321)-SUM('членские взносы'!$M319:S319)","v":4600},{"$f":"SUM('план на 2016'!$L321:T321)-SUM('членские взносы'!$M319:T319)","v":5400},{"$f":"SUM('план на 2016'!$L321:U321)-SUM('членские взносы'!$M319:U319)","v":1200},{"$f":"SUM('план на 2016'!$L321:V321)-SUM('членские взносы'!$M319:V319)","v":2000},{"$f":"SUM('план на 2016'!$L321:W321)-SUM('членские взносы'!$M319:W319)","v":1200},{"$f":"SUM('план на 2016'!$L321:X321)-SUM('членские взносы'!$M319:X319)","v":2000},{"$f":"X320","v":2000}]
[{"$f":"VLOOKUP(B321,справочник!$B$2:$E$322,4,0)","v":10},{"$f":"CONCATENATE(C321;D321)","v":{"$error":"#VALUE!"}},10,"Якушина Любовь Викторовна","50:03:0070280:705","2015-01-19",null,0,{"$f":"H321*1000","v":0},null,null,{"$f":"I321-J321-K321","v":0},{"$f":"SUM('план на 2016'!$L322:M322)-SUM('членские взносы'!$M320:M320)","v":800},{"$f":"SUM('план на 2016'!$L322:N322)-SUM('членские взносы'!$M320:N320)","v":1600},{"$f":"SUM('план на 2016'!$L322:O322)-SUM('членские взносы'!$M320:O320)","v":2400},{"$f":"SUM('план на 2016'!$L322:P322)-SUM('членские взносы'!$M320:P320)","v":3200},{"$f":"SUM('план на 2016'!$L322:Q322)-SUM('членские взносы'!$M320:Q320)","v":4000},{"$f":"SUM('план на 2016'!$L322:R322)-SUM('членские взносы'!$M320:R320)","v":4800},{"$f":"SUM('план на 2016'!$L322:S322)-SUM('членские взносы'!$M320:S320)","v":5600},{"$f":"SUM('план на 2016'!$L322:T322)-SUM('членские взносы'!$M320:T320)","v":6400},{"$f":"SUM('план на 2016'!$L322:U322)-SUM('членские взносы'!$M320:U320)","v":7200},{"$f":"SUM('план на 2016'!$L322:V322)-SUM('членские взносы'!$M320:V320)","v":8000},{"$f":"SUM('план на 2016'!$L322:W322)-SUM('членские взносы'!$M320:W320)","v":8800},{"$f":"SUM('план на 2016'!$L322:X322)-SUM('членские взносы'!$M320:X320)","v":9600},{"$f":"X321","v":9600}]
[{"$f":"VLOOKUP(B322,справочник!$B$2:$E$322,4,0)","v":55},{"$f":"CONCATENATE(C322;D322)","v":{"$error":"#VALUE!"}},57,"Янковская Елена Александровна","50:03:0070280:964","2011-08-17","2011-08-01",{"$f":"INT(($H$326-G322)/30)","v":53},{"$f":"H322*1000","v":53000},{"$f":"1000+53000","v":54000},3000,{"$f":"I322-J322-K322","v":-4000},{"$f":"SUM('план на 2016'!$L323:M323)-SUM('членские взносы'!$M321:M321)","v":-3200},{"$f":"SUM('план на 2016'!$L323:N323)-SUM('членские взносы'!$M321:N321)","v":-2400},{"$f":"SUM('план на 2016'!$L323:O323)-SUM('членские взносы'!$M321:O321)","v":-4800},{"$f":"SUM('план на 2016'!$L323:P323)-SUM('членские взносы'!$M321:P321)","v":-4000},{"$f":"SUM('план на 2016'!$L323:Q323)-SUM('членские взносы'!$M321:Q321)","v":-3200},{"$f":"SUM('план на 2016'!$L323:R323)-SUM('членские взносы'!$M321:R321)","v":-2400},{"$f":"SUM('план на 2016'!$L323:S323)-SUM('членские взносы'!$M321:S321)","v":-4800},{"$f":"SUM('план на 2016'!$L323:T323)-SUM('членские взносы'!$M321:T321)","v":-4000},{"$f":"SUM('план на 2016'!$L323:U323)-SUM('членские взносы'!$M321:U321)","v":-3200},{"$f":"SUM('план на 2016'!$L323:V323)-SUM('членские взносы'!$M321:V321)","v":-2400},{"$f":"SUM('план на 2016'!$L323:W323)-SUM('членские взносы'!$M321:W321)","v":-4800},{"$f":"SUM('план на 2016'!$L323:X323)-SUM('членские взносы'!$M321:X321)","v":-4000},{"$f":"X322","v":-4000}]
[{"$f":"VLOOKUP(B323,справочник!$B$2:$E$322,4,0)","v":309},{"$f":"CONCATENATE(C323;D323)","v":{"$error":"#VALUE!"}},324,"Янковская Яна Валерьевна","50:03:0070280:1016","2012-04-03","2012-04-01",{"$f":"INT(($H$326-G323)/30)","v":45},{"$f":"H323*1000","v":45000},{"$f":"17000+1000","v":18000},5000,{"$f":"I323-J323-K323","v":22000},{"$f":"SUM('план на 2016'!$L324:M324)-SUM('членские взносы'!$M322:M322)","v":22800},{"$f":"SUM('план на 2016'!$L324:N324)-SUM('членские взносы'!$M322:N322)","v":23600},{"$f":"SUM('план на 2016'!$L324:O324)-SUM('членские взносы'!$M322:O322)","v":24400},{"$f":"SUM('план на 2016'!$L324:P324)-SUM('членские взносы'!$M322:P322)","v":25200},{"$f":"SUM('план на 2016'!$L324:Q324)-SUM('членские взносы'!$M322:Q322)","v":26000},{"$f":"SUM('план на 2016'!$L324:R324)-SUM('членские взносы'!$M322:R322)","v":26800},{"$f":"SUM('план на 2016'!$L324:S324)-SUM('членские взносы'!$M322:S322)","v":27600},{"$f":"SUM('план на 2016'!$L324:T324)-SUM('членские взносы'!$M322:T322)","v":28400},{"$f":"SUM('план на 2016'!$L324:U324)-SUM('членские взносы'!$M322:U322)","v":29200},{"$f":"SUM('план на 2016'!$L324:V324)-SUM('членские взносы'!$M322:V322)","v":30000},{"$f":"SUM('план на 2016'!$L324:W324)-SUM('членские взносы'!$M322:W322)","v":30800},{"$f":"SUM('план на 2016'!$L324:X324)-SUM('членские взносы'!$M322:X322)","v":31600},{"$f":"X323","v":31600}]
[{"$f":"VLOOKUP(B324,справочник!$B$2:$E$322,4,0)","v":17},{"$f":"CONCATENATE(C324;D324)","v":{"$error":"#VALUE!"}},17,"Яструб Валерий Викторович","50:03:0070280:696","2012-12-11","2013-01-01",{"$f":"INT(($H$326-G324)/30)","v":36},{"$f":"H324*1000","v":36000},31000,null,{"$f":"I324-J324-K324","v":5000},{"$f":"SUM('план на 2016'!$L325:M325)-SUM('членские взносы'!$M323:M323)","v":2800},{"$f":"SUM('план на 2016'!$L325:N325)-SUM('членские взносы'!$M323:N323)","v":3600},{"$f":"SUM('план на 2016'!$L325:O325)-SUM('членские взносы'!$M323:O323)","v":2400},{"$f":"SUM('план на 2016'!$L325:P325)-SUM('членские взносы'!$M323:P323)","v":3200},{"$f":"SUM('план на 2016'!$L325:Q325)-SUM('членские взносы'!$M323:Q323)","v":4000},{"$f":"SUM('план на 2016'!$L325:R325)-SUM('членские взносы'!$M323:R323)","v":2800},{"$f":"SUM('план на 2016'!$L325:S325)-SUM('членские взносы'!$M323:S323)","v":3600},{"$f":"SUM('план на 2016'!$L325:T325)-SUM('членские взносы'!$M323:T323)","v":1400},{"$f":"SUM('план на 2016'!$L325:U325)-SUM('членские взносы'!$M323:U323)","v":2200},{"$f":"SUM('план на 2016'!$L325:V325)-SUM('членские взносы'!$M323:V323)","v":-1600},{"$f":"SUM('план на 2016'!$L325:W325)-SUM('членские взносы'!$M323:W323)","v":-800},{"$f":"SUM('план на 2016'!$L325:X325)-SUM('членские взносы'!$M323:X323)","v":0},{"$f":"X324","v":0}]
[{"$f":"VLOOKUP(B325,справочник!$B$2:$E$322,4,0)","v":40},{"$f":"CONCATENATE(C325;D325)","v":{"$error":"#VALUE!"}},40,"Яшин Евгений Иванович","50:03:0070280:910","2011-08-17","2011-08-01",{"$f":"INT(($H$326-G325)/30)","v":53},{"$f":"H325*1000","v":53000},{"$f":"1000+37000","v":38000},null,{"$f":"I325-J325-K325","v":15000},{"$f":"SUM('план на 2016'!$L326:M326)-SUM('членские взносы'!$M324:M324)","v":15800},{"$f":"SUM('план на 2016'!$L326:N326)-SUM('членские взносы'!$M324:N324)","v":16600},{"$f":"SUM('план на 2016'!$L326:O326)-SUM('членские взносы'!$M324:O324)","v":17400},{"$f":"SUM('план на 2016'!$L326:P326)-SUM('членские взносы'!$M324:P324)","v":18200},{"$f":"SUM('план на 2016'!$L326:Q326)-SUM('членские взносы'!$M324:Q324)","v":19000},{"$f":"SUM('план на 2016'!$L326:R326)-SUM('членские взносы'!$M324:R324)","v":19800},{"$f":"SUM('план на 2016'!$L326:S326)-SUM('членские взносы'!$M324:S324)","v":20600},{"$f":"SUM('план на 2016'!$L326:T326)-SUM('членские взносы'!$M324:T324)","v":21400},{"$f":"SUM('план на 2016'!$L326:U326)-SUM('членские взносы'!$M324:U324)","v":800},{"$f":"SUM('план на 2016'!$L326:V326)-SUM('членские взносы'!$M324:V324)","v":1600},{"$f":"SUM('план на 2016'!$L326:W326)-SUM('членские взносы'!$M324:W324)","v":2400},{"$f":"SUM('план на 2016'!$L326:X326)-SUM('членские взносы'!$M324:X324)","v":3200},{"$f":"X325","v":3200}]
[{"$nulls":7},"2015-12-31",{"$nulls":4},{"$f":"SUM(M4:M325)","v":{"$error":"#VALUE!"}},{"$f":"SUM(N4:N325)","v":{"$error":"#VALUE!"}},{"$f":"SUM(O4:O325)","v":{"$error":"#VALUE!"}},{"$f":"SUM(P4:P325)","v":{"$error":"#VALUE!"}},{"$f":"SUM(Q4:Q325)","v":{"$error":"#VALUE!"}},{"$f":"SUM(R4:R325)","v":{"$error":"#VALUE!"}},{"$f":"SUM(S4:S325)","v":{"$error":"#VALUE!"}},{"$f":"SUM(T4:T325)","v":{"$error":"#VALUE!"}},{"$f":"SUM(U4:U325)","v":{"$error":"#VALUE!"}},{"$f":"SUM(V4:V325)","v":{"$error":"#VALUE!"}},{"$f":"SUM(W4:W325)","v":{"$error":"#VALUE!"}},{"$f":"SUM(X4:X325)","v":{"$error":"#VALUE!"}},{"$f":"SUM(Y4:Y325)","v":{"$error":"#VALUE!"}}]

{"sheet":"data","index":5,"n_rows":327,"n_cols":25,"rows_kept":327,"cut":false,"hidden":true,"merged":[[2,2,3,2],[2,3,3,3],[2,4,3,4],[2,7,2,11]]}
[null,null,"НП СЗУ \"Высокое\""]
[null,null,"Отчет по членским взносам за 2015-2016 гг"]
[null,null,"Номер участка","Ф.И.О.","Кадастр. номер участка",null,null,"Расчеты по членским взносам"]
["ID","Сцепка",null,null,null,"Дата вступления в НП СЗУ \"Высокое\"","1-ый расчетный месяц","Кол-во месяцев","Сумма членских взносов, которые должны быть уплачены на 01.01.2016 г (исходя из кол-ва месяцев)","Сумма оплаченных членских взносов на 01.11.2015","Оплата членских взносов за декабрь 2015","Остаток задолженности по членским взносам на 01.01.2016","2016-01-01","2016-02-01","2016-03-01","2016-04-01","2016-05-01","2016-06-01","2016-07-01","2016-08-01","2016-09-01","2016-10-01","2016-11-01","2016-12-01","Остаток задолженности по членским взносам на 01.01.2017"]
[{"$f":"VLOOKUP(B5,справочник!$B$2:$E$322,4,0)","v":79},{"$f":"CONCATENATE(C5,D5)","v":"84Абу Махади Мохаммед Ибрагим"},84,"Абу Махади Мохаммед Ибрагим","50:03:0070280:947","2011-06-22","2011-07-01",{"$f":"INT(($H$327-G5)/30)","v":54},{"$f":"H5*1000","v":54000},{"$f":"49000+1000","v":50000},null,{"$f":"I5-J5-K5","v":4000},{"$nulls":12},{"$f":"V5-W5-X5","v":0}]
[{"$f":"VLOOKUP(B6,справочник!$B$2:$E$322,4,0)","v":35},{"$f":"CONCATENATE(C6;D6)","v":{"$error":"#VALUE!"}},35,"Абушаев Роман Шамильевич","50:03:0070280:905","2012-03-02","2012-03-01",{"$f":"INT(($H$327-G6)/30)","v":46},{"$f":"H6*1000","v":46000},30000,null,{"$f":"I6-J6-K6","v":16000},{"$nulls":12},{"$f":"V6-W6-X6","v":0}]
[{"$f":"VLOOKUP(B7,справочник!$B$2:$E$322,4,0)","v":260},{"$f":"CONCATENATE(C7;D7)","v":{"$error":"#VALUE!"}},273,"Аксенов Дмитрий Викторович","50:03:0070280:730","2013-09-23","2013-10-01",{"$f":"INT(($H$327-G7)/30)","v":27},{"$f":"H7*1000","v":27000},19000,null,{"$f":"I7-J7-K7","v":8000},{"$nulls":12},{"$f":"V7-W7-X7","v":0}]
[{"$f":"VLOOKUP(B8,справочник!$B$2:$E$322,4,0)","v":203},{"$f":"CONCATENATE(C8;D8)","v":{"$error":"#VALUE!"}},213,"Александров Владимир Александрович","50:03:0070280:850","2013-09-03","2013-10-01",{"$f":"INT(($H$327-G8)/30)","v":27},{"$f":"H8*1000","v":27000},26000,null,{"$f":"I8-J8-K8","v":1000},{"$nulls":12},{"$f":"V8-W8-X8","v":0}]
[{"$f":"VLOOKUP(B9,справочник!$B$2:$E$322,4,0)","v":316},{"$f":"CONCATENATE(C9;D9)","v":{"$error":"#VALUE!"}},"306-307","Алексеев Андрей Олегович","50:03:0070280:997","2011-12-16","2011-12-01",{"$f":"INT(($H$327-G9)/30)","v":49},{"$f":"H9*1000","v":49000},{"$f":"30000+1000+1000","v":32000},null,{"$f":"I9-J9-K9","v":17000},{"$nulls":12},{"$f":"V9-W9-X9","v":0}]
[{"$f":"VLOOKUP(B10,справочник!$B$2:$E$322,4,0)","v":232},{"$f":"CONCATENATE(C10;D10)","v":{"$error":"#VALUE!"}},241,"Амплеева Мария Александровна","50:03:0070280:894","2013-06-04","2013-07-01",{"$f":"INT(($H$327-G10)/30)","v":30},{"$f":"H10*1000","v":30000},6000,null,{"$f":"I10-J10-K10","v":24000},{"$nulls":12},{"$f":"V10-W10-X10","v":0}]
[{"$f":"VLOOKUP(B11,справочник!$B$2:$E$322,4,0)","v":277},{"$f":"CONCATENATE(C11;D11)","v":{"$error":"#VALUE!"}},290,"Андреева Любовь Ивановна(у Севастьянова)",null,"2014-07-07","2014-07-01",{"$f":"INT(($H$327-G11)/30)","v":18},{"$f":"H11*1000","v":18000},20000,null,{"$f":"I11-J11-K11","v":-2000},{"$nulls":12},{"$f":"V11-W11-X11","v":0}]
[{"$f":"VLOOKUP(B12,справочник!$B$2:$E$322,4,0)","v":221},{"$f":"CONCATENATE(C12;D12)","v":{"$error":"#VALUE!"}},230,"Анисимова (Корнеева) Татьяна Николаевна",null,"2014-09-30","2014-10-01",{"$f":"INT(($H$327-G12)/30)","v":15},{"$f":"H12*1000","v":15000},1000,null,{"$f":"I12-J12-K12","v":14000},{"$nulls":12},{"$f":"V12-W12-X12","v":0}]
[{"$f":"VLOOKUP(B13,справочник!$B$2:$E$322,4,0)","v":259},{"$f":"CONCATENATE(C13;D13)","v":{"$error":"#VALUE!"}},272,"Анисимова Елена Анатольевна","50:03:0070280:731","2013-07-02","2013-08-01",{"$f":"INT(($H$327-G13)/30)","v":29},{"$f":"H13*1000","v":29000},25000,null,{"$f":"I13-J13-K13","v":4000},{"$nulls":12},{"$f":"V13-W13-X13","v":0}]
[{"$f":"VLOOKUP(B14,справочник!$B$2:$E$322,4,0)","v":109},{"$f":"CONCATENATE(C14;D14)","v":{"$error":"#VALUE!"}},114,"Антипова Жанна Михайловна","50:03:0070280:814","2013-05-20","2013-06-01",{"$f":"INT(($H$327-G14)/30)","v":31},{"$f":"H14*1000","v":31000},10000,null,{"$f":"I14-J14-K14","v":21000},{"$nulls":12},{"$f":"V14-W14-X14","v":0}]
[{"$f":"VLOOKUP(B15,справочник!$B$2:$E$322,4,0)","v":130},{"$f":"CONCATENATE(C15;D15)","v":{"$error":"#VALUE!"}},137,"Анциферов Алексей Сергеевич","50:03:0070280:973","2011-10-25","2011-11-01",{"$f":"INT(($H$327-G15)/30)","v":50},{"$f":"H15*1000","v":50000},{"$f":"44000+1000","v":45000},5000,{"$f":"I15-J15-K15","v":0},{"$nulls":12},{"$f":"V15-W15-X15","v":0}]
[{"$f":"VLOOKUP(B16,справочник!$B$2:$E$322,4,0)","v":7},{"$f":"CONCATENATE(C16;D16)","v":{"$error":"#VALUE!"}},7,"Артемьев Сергей Иванович","50:03:0070280:707","2013-07-12","2013-09-01",{"$f":"INT(($H$327-G16)/30)","v":28},{"$f":"H16*1000","v":28000},null,null,{"$f":"I16-J16-K16","v":28000},{"$nulls":12},{"$f":"V16-W16-X16","v":0}]
[{"$f":"VLOOKUP(B17,справочник!$B$2:$E$322,4,0)","v":7},{"$f":"CONCATENATE(C17;D17)","v":{"$error":"#VALUE!"}},14,"Артемьев Сергей Иванович","50:03:0070280:701","2012-10-22","2012-11-01",{"$f":"INT(($H$327-G17)/30)","v":38},{"$f":"H17*1000","v":38000},27000,null,{"$f":"I17-J17-K17","v":11000},{"$nulls":12},{"$f":"V17-W17-X17","v":0}]
[{"$f":"VLOOKUP(B18,справочник!$B$2:$E$322,4,0)","v":193},{"$f":"CONCATENATE(C18;D18)","v":{"$error":"#VALUE!"}},201,"Асташкин Павел Александрович(продал???)","50:03:0070280:758",null,null,null,{"$f":"H18*1000","v":0},null,null,{"$f":"I18-J18-K18","v":0},{"$nulls":12},{"$f":"V18-W18-X18","v":0}]
[{"$f":"VLOOKUP(B19,справочник!$B$2:$E$322,4,0)","v":178},{"$f":"CONCATENATE(C19;D19)","v":{"$error":"#VALUE!"}},186,"Афанасьева Злата Сергеевна","50:03:0070280:761","2014-09-16","2014-11-01",{"$f":"INT(($H$327-G19)/30)","v":14},{"$f":"H19*1000","v":14000},1000,null,{"$f":"I19-J19-K19","v":13000},{"$nulls":12},{"$f":"V19-W19-X19","v":0}]
[{"$f":"VLOOKUP(B20,справочник!$B$2:$E$322,4,0)","v":119},{"$f":"CONCATENATE(C20;D20)","v":{"$error":"#VALUE!"}},124,"Афян Сасун Аркадиевич","50:03:0070280:1021","2013-05-07","2013-06-01",{"$f":"INT(($H$327-G20)/30)","v":31},{"$f":"H20*1000","v":31000},11000,null,{"$f":"I20-J20-K20","v":20000},{"$nulls":12},{"$f":"V20-W20-X20","v":0}]
[{"$f":"VLOOKUP(B21,справочник!$B$2:$E$322,4,0)","v":293},{"$f":"CONCATENATE(C21;D21)","v":{"$error":"#VALUE!"}},308,"Ахромеев Андрей Владимирович","50:03:0070280:999","2012-01-20","2012-01-01",{"$f":"INT(($H$327-G21)/30)","v":48},{"$f":"H21*1000","v":48000},{"$f":"11500+24500","v":36000},null,{"$f":"I21-J21-K21","v":12000},{"$nulls":12},{"$f":"V21-W21-X21","v":0}]
[{"$f":"VLOOKUP(B22,справочник!$B$2:$E$322,4,0)","v":191},{"$f":"CONCATENATE(C22;D22)","v":{"$error":"#VALUE!"}},199,"Бадирьян Тамара Викторовна","50:03:0070280:888",null,null,null,{"$f":"H22*1000","v":0},null,null,{"$f":"I22-J22-K22","v":0},{"$nulls":12},{"$f":"V22-W22-X22","v":0}]
[{"$f":"VLOOKUP(B23,справочник!$B$2:$E$322,4,0)","v":249},{"$f":"CONCATENATE(C23;D23)","v":{"$error":"#VALUE!"}},260,"Байбикова Рузалия Равилевна / Байбикова Руфия Равилевна","50:03:0070280:785","2013-11-26","2013-12-01",{"$f":"INT(($H$327-G23)/30)","v":25},{"$f":"H23*1000","v":25000},{"$f":"1000","v":1000},null,{"$f":"I23-J23-K23","v":24000},{"$nulls":12},{"$f":"V23-W23-X23","v":0}]
[{"$f":"VLOOKUP(B24,справочник!$B$2:$E$322,4,0)","v":72},{"$f":"CONCATENATE(C24;D24)","v":{"$error":"#VALUE!"}},78,"Лещёва Ольга Владимировна","50:03:0070280:802","2011-09-07","2011-09-01",{"$f":"INT(($H$327-G24)/30)","v":52},{"$f":"H24*1000","v":52000},{"$f":"19000+1500+2500+23000","v":46000},null,{"$f":"I24-J24-K24","v":6000},{"$nulls":12},{"$f":"V24-W24-X24","v":0}]
[{"$f":"VLOOKUP(B25,справочник!$B$2:$E$322,4,0)","v":125},{"$f":"CONCATENATE(C25;D25)","v":{"$error":"#VALUE!"}},130,"Безбородова Людмила Михайловна","50:03:0070280:812","2014-11-05","2014-12-01",{"$f":"INT(($H$327-G25)/30)","v":13},{"$f":"H25*1000","v":13000},8000,null,{"$f":"I25-J25-K25","v":5000},{"$nulls":12},{"$f":"V25-W25-X25","v":0}]
[{"$f":"VLOOKUP(B26,справочник!$B$2:$E$322,4,0)","v":229},{"$f":"CONCATENATE(C26;D26)","v":{"$error":"#VALUE!"}},238,"Безменова Татьяна Игоревна","50:03:0070280:897","2013-04-09","2013-05-01",{"$f":"INT(($H$327-G26)/30)","v":32},{"$f":"H26*1000","v":32000},9000,null,{"$f":"I26-J26-K26","v":23000},{"$nulls":12},{"$f":"V26-W26-X26","v":0}]
[{"$f":"VLOOKUP(B27,справочник!$B$2:$E$322,4,0)","v":296},{"$f":"CONCATENATE(C27;D27)","v":{"$error":"#VALUE!"}},311,"Бекмансурова Динара Василевна","50:03:0070280:1002","2012-04-09","2012-04-01",{"$f":"INT(($H$327-G27)/30)","v":45},{"$f":"H27*1000","v":45000},1000,null,{"$f":"I27-J27-K27","v":44000},{"$nulls":12},{"$f":"V27-W27-X27","v":0}]
[{"$f":"VLOOKUP(B28,справочник!$B$2:$E$322,4,0)","v":281},{"$f":"CONCATENATE(C28;D28)","v":{"$error":"#VALUE!"}},293,"Белов Семён Иванович","50:03:0070280:776","2014-05-07","2014-06-01",{"$f":"INT(($H$327-G28)/30)","v":19},{"$f":"H28*1000","v":19000},1000,null,{"$f":"I28-J28-K28","v":18000},{"$nulls":12},{"$f":"V28-W28-X28","v":0}]
[{"$f":"VLOOKUP(B29,справочник!$B$2:$E$322,4,0)","v":198},{"$f":"CONCATENATE(C29;D29)","v":{"$error":"#VALUE!"}},206,"Белоглазова Людмила Ивановна","50:03:0070280:983","2011-09-30","2011-09-01",{"$f":"INT(($H$327-G29)/30)","v":52},{"$f":"H29*1000","v":52000},{"$f":"50000+1000","v":51000},1000,{"$f":"I29-J29-K29","v":0},{"$nulls":12},{"$f":"V29-W29-X29","v":0}]
[{"$f":"VLOOKUP(B30,справочник!$B$2:$E$322,4,0)","v":52},{"$f":"CONCATENATE(C30;D30)","v":{"$error":"#VALUE!"}},54,"Бельская Светлана Александровна (Владимир)","50:03:0070280:945","2012-04-17","2012-04-01",{"$f":"INT(($H$327-G30)/30)","v":45},{"$f":"H30*1000","v":45000},40000,5000,5000,{"$nulls":12},5000]
[{"$f":"VLOOKUP(B31,справочник!$B$2:$E$322,4,0)","v":51},{"$f":"CONCATENATE(C31;D31)","v":{"$error":"#VALUE!"}},53,"Бельский Владимир Владимирович (Светлана)","50:03:0070280:966","2012-04-17","2012-04-01",{"$f":"INT(($H$327-G31)/30)","v":45},{"$f":"H31*1000","v":45000},28000,7000,5000,{"$nulls":12},5000]
[{"$f":"VLOOKUP(B32,справочник!$B$2:$E$322,4,0)","v":136},{"$f":"CONCATENATE(C32;D32)","v":{"$error":"#VALUE!"}},144,"Беляков Виктор Михайлович","50:03:0070280:940","2012-10-22","2012-11-01",{"$f":"INT(($H$327-G32)/30)","v":38},{"$f":"H32*1000","v":38000},28000,null,{"$f":"I32-J32-K32","v":10000},{"$nulls":12},{"$f":"V32-W32-X32","v":0}]
[{"$f":"VLOOKUP(B33,справочник!$B$2:$E$322,4,0)","v":11},{"$f":"CONCATENATE(C33;D33)","v":{"$error":"#VALUE!"}},11,"Бенгя Владимир Михайлович (Диана)","50:03:0070280:704","2012-10-22","2012-11-01",{"$f":"INT(($H$327-G33)/30)","v":38},{"$f":"H33*1000","v":38000},26000,null,{"$f":"I33-J33-K33","v":12000},{"$nulls":12},{"$f":"V33-W33-X33","v":0}]
[{"$f":"VLOOKUP(B34,справочник!$B$2:$E$322,4,0)","v":114},{"$f":"CONCATENATE(C34;D34)","v":{"$error":"#VALUE!"}},119,"Беспаленко Зинаида Александровна","50:03:0070280:1024","2012-12-19","2013-01-01",{"$f":"INT(($H$327-G34)/30)","v":36},{"$f":"H34*1000","v":36000},1000,null,{"$f":"I34-J34-K34","v":35000},{"$nulls":12},{"$f":"V34-W34-X34","v":0}]
[{"$f":"VLOOKUP(B35,справочник!$B$2:$E$322,4,0)","v":151},{"$f":"CONCATENATE(C35;D35)","v":{"$error":"#VALUE!"}},159,"Бирюков Александр Сергеевич","50:03:0070280:960","2012-07-31","2012-08-01",{"$f":"INT(($H$327-G35)/30)","v":41},{"$f":"H35*1000","v":41000},17000,null,{"$f":"I35-J35-K35","v":24000},{"$nulls":12},{"$f":"V35-W35-X35","v":0}]
[{"$f":"VLOOKUP(B36,справочник!$B$2:$E$322,4,0)","v":142},{"$f":"CONCATENATE(C36;D36)","v":{"$error":"#VALUE!"}},150,"Блинков Анатолий Сергеевич","50:03:0070280:951","2011-08-16","2011-09-01",{"$f":"INT(($H$327-G36)/30)","v":52},{"$f":"H36*1000","v":52000},{"$f":"32000+1000","v":33000},19000,{"$f":"I36-J36-K36","v":0},{"$nulls":12},{"$f":"V36-W36-X36","v":0}]
[{"$f":"VLOOKUP(B37,справочник!$B$2:$E$322,4,0)","v":245},{"$f":"CONCATENATE(C37;D37)","v":{"$error":"#VALUE!"}},256,"Бондарев Станислав Дмитриевич","50:03:0070280:789","2014-10-18","2014-11-01",{"$f":"INT(($H$327-G37)/30)","v":14},{"$f":"H37*1000","v":14000},9000,null,{"$f":"I37-J37-K37","v":5000},{"$nulls":12},{"$f":"V37-W37-X37","v":0}]
[{"$f":"VLOOKUP(B38,справочник!$B$2:$E$322,4,0)","v":188},{"$f":"CONCATENATE(C38;D38)","v":{"$error":"#VALUE!"}},196,"Бондаренко Владимир Иванович","50:03:0070280:1773","2014-02-04","2014-03-01",{"$f":"INT(($H$327-G38)/30)","v":22},{"$f":"H38*1000","v":22000},10000,null,{"$f":"I38-J38-K38","v":12000},{"$nulls":12},{"$f":"V38-W38-X38","v":0}]
[{"$f":"VLOOKUP(B39,справочник!$B$2:$E$322,4,0)","v":188},{"$f":"CONCATENATE(C39;D39)","v":{"$error":"#VALUE!"}},197,"Бондаренко Владимир Иванович",null,"2014-02-04","2014-03-01",{"$f":"INT(($H$327-G39)/30)","v":22},{"$f":"H39*1000","v":22000},null,null,{"$f":"I39-J39-K39","v":22000},{"$nulls":12},{"$f":"V39-W39-X39","v":0}]
[{"$f":"VLOOKUP(B40,справочник!$B$2:$E$322,4,0)","v":219},{"$f":"CONCATENATE(C40;D40)","v":{"$error":"#VALUE!"}},228,"Бондарь Василий Дмитриевич","50:03:0070280:835","2014-07-28","2014-09-01",{"$f":"INT(($H$327-G40)/30)","v":16},{"$f":"H40*1000","v":16000},13000,3000,{"$f":"I40-J40-K40","v":0},{"$nulls":12},{"$f":"V40-W40-X40","v":0}]
[{"$f":"VLOOKUP(B41,справочник!$B$2:$E$322,4,0)","v":223},{"$f":"CONCATENATE(C41;D41)","v":{"$error":"#VALUE!"}},232,"Борисов Олег Александрович","50:03:0070280:831","2012-02-16","2012-02-01",{"$f":"INT(($H$327-G41)/30)","v":47},{"$f":"H41*1000","v":47000},1000,null,{"$f":"I41-J41-K41","v":46000},{"$nulls":12},{"$f":"V41-W41-X41","v":0}]
[{"$f":"VLOOKUP(B42,справочник!$B$2:$E$322,4,0)","v":137},{"$f":"CONCATENATE(C42;D42)","v":{"$error":"#VALUE!"}},145,"Бранцова Татьяна Валерьевна","50:03:0070280:986","2012-05-01","2012-05-01",{"$f":"INT(($H$327-G42)/30)","v":44},{"$f":"H42*1000","v":44000},44000,null,{"$f":"I42-J42-K42","v":0},{"$nulls":12},{"$f":"V42-W42-X42","v":0}]
[{"$f":"VLOOKUP(B43,справочник!$B$2:$E$322,4,0)","v":105},{"$f":"CONCATENATE(C43;D43)","v":{"$error":"#VALUE!"}},110,"Брылёв Андрей Вячеславович","50:03:0070280:818","2012-01-17","2012-01-01",{"$f":"INT(($H$327-G43)/30)","v":48},{"$f":"H43*1000","v":48000},28000,null,{"$f":"I43-J43-K43","v":20000},{"$nulls":12},{"$f":"V43-W43-X43","v":0}]
[{"$f":"VLOOKUP(B44,справочник!$B$2:$E$322,4,0)","v":98},{"$f":"CONCATENATE(C44;D44)","v":{"$error":"#VALUE!"}},103,"Бугрова Вероника Артуровна","50:03:0070280:797","2011-12-20","2011-12-01",{"$f":"INT(($H$327-G44)/30)","v":49},{"$f":"H44*1000","v":49000},{"$f":"29000+1000","v":30000},null,{"$f":"I44-J44-K44","v":19000},{"$nulls":12},{"$f":"V44-W44-X44","v":0}]
[{"$f":"VLOOKUP(B45,справочник!$B$2:$E$322,4,0)","v":274},{"$f":"CONCATENATE(C45;D45)","v":{"$error":"#VALUE!"}},287,"Будаев Андрей Анатольевич",null,"2015-01-19","2015-02-01",{"$f":"INT(($H$327-G45)/30)","v":11},{"$f":"H45*1000","v":11000},2000,null,{"$f":"I45-J45-K45","v":9000},{"$nulls":12},{"$f":"V45-W45-X45","v":0}]
[{"$f":"VLOOKUP(B46,справочник!$B$2:$E$322,4,0)","v":274},{"$f":"CONCATENATE(C46;D46)","v":{"$error":"#VALUE!"}},295,"Будаев Андрей Анатольевич",null,"2015-01-19","2015-02-01",{"$f":"INT(($H$327-G46)/30)","v":11},{"$f":"H46*1000","v":11000},null,null,{"$f":"I46-J46-K46","v":11000},{"$nulls":12},{"$f":"V46-W46-X46","v":0}]
[{"$f":"VLOOKUP(B47,справочник!$B$2:$E$322,4,0)","v":175},{"$f":"CONCATENATE(C47;D47)","v":{"$error":"#VALUE!"}},183,"Буланова Лилия Михайловна","50:03:0070280:921","2014-08-14","2014-09-01",{"$f":"INT(($H$327-G47)/30)","v":16},{"$f":"H47*1000","v":16000},null,null,{"$f":"I47-J47-K47","v":16000},{"$nulls":12},{"$f":"V47-W47-X47","v":0}]
[{"$f":"VLOOKUP(B48,справочник!$B$2:$E$322,4,0)","v":175},{"$f":"CONCATENATE(C48;D48)","v":{"$error":"#VALUE!"}},187,"Буланова Лилия Михайловна","50:03:0070280:919","2014-08-14","2014-09-01",{"$f":"INT(($H$327-G48)/30)","v":16},{"$f":"H48*1000","v":16000},null,null,{"$f":"I48-J48-K48","v":16000},{"$nulls":12},{"$f":"V48-W48-X48","v":0}]
[{"$f":"VLOOKUP(B49,справочник!$B$2:$E$322,4,0)","v":303},{"$f":"CONCATENATE(C49;D49)","v":{"$error":"#VALUE!"}},318,"Бурдух Юрие","50:03:0070280:1009","2014-12-29","2015-01-01",{"$f":"INT(($H$327-G49)/30)","v":12},{"$f":"H49*1000","v":12000},null,null,{"$f":"I49-J49-K49","v":12000},{"$nulls":12},{"$f":"V49-W49-X49","v":0}]
[{"$f":"VLOOKUP(B50,справочник!$B$2:$E$322,4,0)","v":303},{"$f":"CONCATENATE(C50;D50)","v":{"$error":"#VALUE!"}},319,"Бурдух Юрие","50:03:0070280:1010","2014-12-29","2015-01-01",{"$f":"INT(($H$327-G50)/30)","v":12},{"$f":"H50*1000","v":12000},null,null,{"$f":"I50-J50-K50","v":12000},{"$nulls":12},{"$f":"V50-W50-X50","v":0}]
[{"$f":"VLOOKUP(B51,справочник!$B$2:$E$322,4,0)","v":90},{"$f":"CONCATENATE(C51;D51)","v":{"$error":"#VALUE!"}},95,"Быданцева Нина Юрьевна","50:03:0070280:825","2011-09-09","2011-09-01",{"$f":"INT(($H$327-G51)/30)","v":52},{"$f":"H51*1000","v":52000},{"$f":"36000+4000+12000","v":52000},null,{"$f":"I51-J51-K51","v":0},{"$nulls":12},{"$f":"V51-W51-X51","v":0}]
[{"$f":"VLOOKUP(B52,справочник!$B$2:$E$322,4,0)","v":206},{"$f":"CONCATENATE(C52;D52)","v":{"$error":"#VALUE!"}},216,"Валеев Артур Рашидович","50:03:0070280:1423","2012-02-14","2012-02-01",{"$f":"INT(($H$327-G52)/30)","v":47},{"$f":"H52*1000","v":47000},38000,null,{"$f":"I52-J52-K52","v":9000},{"$nulls":12},{"$f":"V52-W52-X52","v":0}]
[{"$f":"VLOOKUP(B53,справочник!$B$2:$E$322,4,0)","v":101},{"$f":"CONCATENATE(C53;D53)","v":{"$error":"#VALUE!"}},106,"Васильев Николай Владимирович","50:03:0070280:798","2011-09-30","2011-09-01",{"$f":"INT(($H$327-G53)/30)","v":52},{"$f":"H53*1000","v":52000},{"$f":"42000+1000","v":43000},null,{"$f":"I53-J53-K53","v":9000},{"$nulls":12},{"$f":"V53-W53-X53","v":0}]
[{"$f":"VLOOKUP(B54,справочник!$B$2:$E$322,4,0)","v":86},{"$f":"CONCATENATE(C54;D54)","v":{"$error":"#VALUE!"}},91,"Васильева Ольга Александровна","50:03:0070280:866","2011-10-31","2011-10-01",{"$f":"INT(($H$327-G54)/30)","v":51},{"$f":"H54*1000","v":51000},{"$f":"34000+13000","v":47000},4000,{"$f":"I54-J54-K54","v":0},{"$nulls":12},{"$f":"V54-W54-X54","v":0}]
[{"$f":"VLOOKUP(B55,справочник!$B$2:$E$322,4,0)","v":43},{"$f":"CONCATENATE(C55;D55)","v":{"$error":"#VALUE!"}},43,"Васильцова Елена Владимировна","50:03:0070280:972","2011-08-31","2011-09-01",{"$f":"INT(($H$327-G55)/30)","v":52},{"$f":"H55*1000","v":52000},{"$f":"27000+2000","v":29000},null,{"$f":"I55-J55-K55","v":23000},{"$nulls":12},{"$f":"V55-W55-X55","v":0}]
[{"$f":"VLOOKUP(B56,справочник!$B$2:$E$322,4,0)","v":25},{"$f":"CONCATENATE(C56;D56)","v":{"$error":"#VALUE!"}},25,"Вершинина Елена Анатольевна","50:03:0070280:854","2012-02-16","2012-02-01",{"$f":"INT(($H$327-G56)/30)","v":47},{"$f":"H56*1000","v":47000},{"$f":"33000+11000","v":44000},3000,{"$f":"I56-J56-K56","v":0},{"$nulls":12},{"$f":"V56-W56-X56","v":0}]
[{"$f":"VLOOKUP(B57,справочник!$B$2:$E$322,4,0)","v":138},{"$f":"CONCATENATE(C57;D57)","v":{"$error":"#VALUE!"}},146,"Виноградова Наталья Дмитриевна (Николай)","50:03:0070280:987","2011-08-29","2011-08-01",{"$f":"INT(($H$327-G57)/30)","v":53},{"$f":"H57*1000","v":53000},{"$f":"53000","v":53000},null,{"$f":"I57-J57-K57","v":0},{"$nulls":12},{"$f":"V57-W57-X57","v":0}]
[{"$f":"VLOOKUP(B58,справочник!$B$2:$E$322,4,0)","v":228},{"$f":"CONCATENATE(C58;D58)","v":{"$error":"#VALUE!"}},237,"Виртилецкий Денис Вячеславович","50:03:0070280:898","2014-03-05","2014-04-01",{"$f":"INT(($H$327-G58)/30)","v":21},{"$f":"H58*1000","v":21000},null,null,{"$f":"I58-J58-K58","v":21000},{"$nulls":12},{"$f":"V58-W58-X58","v":0}]
[{"$f":"VLOOKUP(B59,справочник!$B$2:$E$322,4,0)","v":37},{"$f":"CONCATENATE(C59;D59)","v":{"$error":"#VALUE!"}},37,"Водянова Ольга Александровна","50:03:0070280:907","2011-09-09","2011-09-01",{"$f":"INT(($H$327-G59)/30)","v":52},{"$f":"H59*1000","v":52000},{"$f":"48000+4000","v":52000},null,{"$f":"I59-J59-K59","v":0},{"$nulls":12},{"$f":"V59-W59-X59","v":0}]
[{"$f":"VLOOKUP(B60,справочник!$B$2:$E$322,4,0)","v":126},{"$f":"CONCATENATE(C60;D60)","v":{"$error":"#VALUE!"}},131,"Волгушев Дмитрий Геннадиевич","50:03:0070280:813","2012-10-01","2012-12-01",{"$f":"INT(($H$327-G60)/30)","v":37},{"$f":"H60*1000","v":37000},{"$f":"24000","v":24000},13000,{"$f":"I60-J60-K60","v":0},{"$nulls":12},{"$f":"V60-W60-X60","v":0}]
[{"$f":"VLOOKUP(B61,справочник!$B$2:$E$322,4,0)","v":58},{"$f":"CONCATENATE(C61;D61)","v":{"$error":"#VALUE!"}},60,"Володина Инна Александровна","50:03:0070280:961","2013-01-29","2013-02-01",{"$f":"INT(($H$327-G61)/30)","v":35},{"$f":"H61*1000","v":35000},{"$f":"31000","v":31000},null,{"$f":"I61-J61-K61","v":4000},{"$nulls":12},{"$f":"V61-W61-X61","v":0}]
[{"$f":"VLOOKUP(B62,справочник!$B$2:$E$322,4,0)","v":117},{"$f":"CONCATENATE(C62;D62)","v":{"$error":"#VALUE!"}},122,"Вольский Андрей Юрьевич","50:03:0070280:1019","2013-05-13","2013-06-01",{"$f":"INT(($H$327-G62)/30)","v":31},{"$f":"H62*1000","v":31000},{"$f":"12000","v":12000},null,{"$f":"I62-J62-K62","v":19000},{"$nulls":12},{"$f":"V62-W62-X62","v":0}]
[{"$f":"VLOOKUP(B63,справочник!$B$2:$E$322,4,0)","v":61},{"$f":"CONCATENATE(C63;D63)","v":{"$error":"#VALUE!"}},63,"Высоких Антон Маркович","50:03:0070280:932","2012-01-13","2012-01-01",{"$f":"INT(($H$327-G63)/30)","v":48},{"$f":"H63*1000","v":48000},{"$f":"27000","v":27000},null,{"$f":"I63-J63-K63","v":21000},{"$nulls":12},{"$f":"V63-W63-X63","v":0}]
[{"$f":"VLOOKUP(B64,справочник!$B$2:$E$322,4,0)","v":294},{"$f":"CONCATENATE(C64;D64)","v":{"$error":"#VALUE!"}},309,"Гайкова (Дьякова) Мария Викторовна","50:03:0070280:1000","2012-02-14","2012-02-01",{"$f":"INT(($H$327-G64)/30)","v":47},{"$f":"H64*1000","v":47000},47000,null,{"$f":"I64-J64-K64","v":0},{"$nulls":12},{"$f":"V64-W64-X64","v":0}]
[{"$f":"VLOOKUP(B65,справочник!$B$2:$E$322,4,0)","v":286},{"$f":"CONCATENATE(C65;D65)","v":{"$error":"#VALUE!"}},298,"Ганин Александр Борисович","50:03:0070280:781","2014-06-01","2014-06-01",{"$f":"INT(($H$327-G65)/30)","v":19},{"$f":"H65*1000","v":19000},19000,null,{"$f":"I65-J65-K65","v":0},{"$nulls":12},{"$f":"V65-W65-X65","v":0}]
[{"$f":"VLOOKUP(B66,справочник!$B$2:$E$322,4,0)","v":64},{"$f":"CONCATENATE(C66;D66)","v":{"$error":"#VALUE!"}},66,"Горбунов Владимир Александрович","50:03:0070280:935","2011-08-17","2011-08-01",{"$f":"INT(($H$327-G66)/30)","v":53},{"$f":"H66*1000","v":53000},{"$f":"1000+45000","v":46000},null,{"$f":"I66-J66-K66","v":7000},{"$nulls":12},{"$f":"V66-W66-X66","v":0}]
[{"$f":"VLOOKUP(B67,справочник!$B$2:$E$322,4,0)","v":94},{"$f":"CONCATENATE(C67;D67)","v":{"$error":"#VALUE!"}},99,"Горбунов Максим Николаевич","50:03:0070280:860","2011-08-19","2011-08-01",{"$f":"INT(($H$327-G67)/30)","v":53},{"$f":"H67*1000","v":53000},{"$f":"42000+5000","v":47000},null,{"$f":"I67-J67-K67","v":6000},{"$nulls":12},{"$f":"V67-W67-X67","v":0}]
[{"$f":"VLOOKUP(B68,справочник!$B$2:$E$322,4,0)","v":39},{"$f":"CONCATENATE(C68;D68)","v":{"$error":"#VALUE!"}},39,"Гордейчик Игорь Борисович","50:03:0070280:909","2011-06-04","2011-06-01",{"$f":"INT(($H$327-G68)/30)","v":55},{"$f":"H68*1000","v":55000},{"$f":"1000+42000","v":43000},null,{"$f":"I68-J68-K68","v":12000},{"$nulls":12},{"$f":"V68-W68-X68","v":0}]
[{"$f":"VLOOKUP(B69,справочник!$B$2:$E$322,4,0)","v":276},{"$f":"CONCATENATE(C69;D69)","v":{"$error":"#VALUE!"}},289,"Горянов Михаил Андреевич","50:03:0070280:780","2011-12-13","2011-12-01",{"$f":"INT(($H$327-G69)/30)","v":49},{"$f":"H69*1000","v":49000},{"$f":"1000+36000","v":37000},null,{"$f":"I69-J69-K69","v":12000},{"$nulls":12},{"$f":"V69-W69-X69","v":0}]
[{"$f":"VLOOKUP(B70,справочник!$B$2:$E$322,4,0)","v":148},{"$f":"CONCATENATE(C70;D70)","v":{"$error":"#VALUE!"}},156,"Горячев Дмитрий Николаевич","50:03:0070280:957","2012-04-09","2012-04-01",{"$f":"INT(($H$327-G70)/30)","v":45},{"$f":"H70*1000","v":45000},{"$f":"12000","v":12000},null,{"$f":"I70-J70-K70","v":33000},{"$nulls":12},{"$f":"V70-W70-X70","v":0}]
[{"$f":"VLOOKUP(B71,справочник!$B$2:$E$322,4,0)","v":308},{"$f":"CONCATENATE(C71;D71)","v":{"$error":"#VALUE!"}},323,"Губарева Татьяна Григорьевна","50:03:0070280:1017","2015-01-21","2015-02-01",{"$f":"INT(($H$327-G71)/30)","v":11},{"$f":"H71*1000","v":11000},3000,null,{"$f":"I71-J71-K71","v":8000},{"$nulls":12},{"$f":"V71-W71-X71","v":0}]
[{"$f":"VLOOKUP(B72,справочник!$B$2:$E$322,4,0)","v":318},{"$f":"CONCATENATE(C72;D72)","v":{"$error":"#VALUE!"}},"71-72","Гусева Светлана Григорьевна","50:03:0070280:753","2011-05-31","2011-07-01",{"$f":"INT(($H$327-G72)/30)","v":54},{"$f":"H72*1000*2","v":108000},{"$f":"2000+102000","v":104000},4000,{"$f":"I72-J72-K72","v":0},{"$nulls":12},{"$f":"V72-W72-X72","v":0}]
[{"$f":"VLOOKUP(B73,справочник!$B$2:$E$322,4,0)","v":236},{"$f":"CONCATENATE(C73;D73)","v":{"$error":"#VALUE!"}},245,"Давыдова Анна Сергеевна","50:03:0070280:875","2012-02-06","2012-02-01",{"$f":"INT(($H$327-G73)/30)","v":47},{"$f":"H73*1000","v":47000},{"$f":"18000+11000","v":29000},null,{"$f":"I73-J73-K73","v":18000},{"$nulls":12},{"$f":"V73-W73-X73","v":0}]
[{"$f":"VLOOKUP(B74,справочник!$B$2:$E$322,4,0)","v":226},{"$f":"CONCATENATE(C74;D74)","v":{"$error":"#VALUE!"}},235,"Данильянц Юрий Константинович","50:03:0070280:900","2014-04-10","2014-05-01",{"$f":"INT(($H$327-G74)/30)","v":20},{"$f":"H74*1000","v":20000},null,null,{"$f":"I74-J74-K74","v":20000},{"$nulls":12},{"$f":"V74-W74-X74","v":0}]
[{"$f":"VLOOKUP(B75,справочник!$B$2:$E$322,4,0)","v":285},{"$f":"CONCATENATE(C75;D75)","v":{"$error":"#VALUE!"}},297,"Даточный Алексей Валерьевич","50:03:0070280:782",null,null,null,19000,19000,null,{"$f":"I75-J75-K75","v":0},{"$nulls":12},{"$f":"V75-W75-X75","v":0}]
[{"$f":"VLOOKUP(B76,справочник!$B$2:$E$322,4,0)","v":24},{"$f":"CONCATENATE(C76;D76)","v":{"$error":"#VALUE!"}},24,"Двойрина Юлия Владимировна","50:03:0070280:746","2012-08-20","2012-09-01",{"$f":"INT(($H$327-G76)/30)","v":40},{"$f":"H76*1000","v":40000},30000,null,{"$f":"I76-J76-K76","v":10000},{"$nulls":12},{"$f":"V76-W76-X76","v":0}]
[{"$f":"VLOOKUP(B77,справочник!$B$2:$E$322,4,0)","v":50},{"$f":"CONCATENATE(C77;D77)","v":{"$error":"#VALUE!"}},50,"Денисов Дмитрий Алексеевич","50:03:0070280:969","2011-09-07","2011-09-01",{"$f":"INT(($H$327-G77)/30)","v":52},{"$f":"H77*1000","v":52000},{"$f":"1000+41000","v":42000},null,{"$f":"I77-J77-K77","v":10000},{"$nulls":12},{"$f":"V77-W77-X77","v":0}]
[{"$f":"VLOOKUP(B78,справочник!$B$2:$E$322,4,0)","v":122},{"$f":"CONCATENATE(C78;D78)","v":{"$error":"#VALUE!"}},127,"Денисов Сергей Александрович","50:03:0070280:807","2012-01-30","2012-02-01",{"$f":"INT(($H$327-G78)/30)","v":47},{"$f":"H78*1000","v":47000},37000,5000,{"$f":"I78-J78-K78","v":5000},{"$nulls":12},{"$f":"V78-W78-X78","v":0}]
[{"$f":"VLOOKUP(B79,справочник!$B$2:$E$322,4,0)","v":301},{"$f":"CONCATENATE(C79;D79)","v":{"$error":"#VALUE!"}},316,"Десюкова Марина Александровна","50:03:0070280:1007","2014-11-26","2014-12-01",{"$f":"INT(($H$327-G79)/30)","v":13},{"$f":"H79*1000","v":13000},1000,null,{"$f":"I79-J79-K79","v":12000},{"$nulls":12},{"$f":"V79-W79-X79","v":0}]
[{"$f":"VLOOKUP(B80,справочник!$B$2:$E$322,4,0)","v":18},{"$f":"CONCATENATE(C80;D80)","v":{"$error":"#VALUE!"}},18,"Дидушко Денис Васильевич (Василий)","50:03:0070280:822","2013-06-04","2013-08-01",{"$f":"INT(($H$327-G80)/30)","v":29},{"$f":"H80*1000","v":29000},29000,null,{"$f":"I80-J80-K80","v":0},{"$nulls":12},{"$f":"V80-W80-X80","v":0}]
[{"$f":"VLOOKUP(B81,справочник!$B$2:$E$322,4,0)","v":155},{"$f":"CONCATENATE(C81;D81)","v":{"$error":"#VALUE!"}},163,"Дорошенко Владимир Алексеевич","50:03:0070280:985","2013-08-05","2013-09-01",{"$f":"INT(($H$327-G81)/30)","v":28},{"$f":"H81*1000","v":28000},28000,2000,{"$f":"I81-J81-K81","v":-2000},{"$nulls":12},{"$f":"V81-W81-X81","v":0}]
[{"$f":"VLOOKUP(B82,справочник!$B$2:$E$322,4,0)","v":44},{"$f":"CONCATENATE(C82;D82)","v":{"$error":"#VALUE!"}},44,"Дубов Александр Сергеевич","50:03:0070280:802","2012-07-10","2012-07-01",{"$f":"INT(($H$327-G82)/30)","v":42},{"$f":"H82*1000","v":42000},{"$f":"21000+6000","v":27000},13000,{"$f":"I82-J82-K82","v":2000},{"$nulls":12},{"$f":"V82-W82-X82","v":0}]
[{"$f":"VLOOKUP(B83,справочник!$B$2:$E$322,4,0)","v":132},{"$f":"CONCATENATE(C83;D83)","v":{"$error":"#VALUE!"}},139,"Евглевская Ольга Борисовна","50:03:0070280:975","2011-05-27","2011-06-01",{"$f":"INT(($H$327-G83)/30)","v":55},{"$f":"H83*1000","v":55000},{"$f":"41000+1000","v":42000},null,{"$f":"I83-J83-K83","v":13000},{"$nulls":12},{"$f":"V83-W83-X83","v":0}]
[{"$f":"VLOOKUP(B84,справочник!$B$2:$E$322,4,0)","v":159},{"$f":"CONCATENATE(C84;D84)","v":{"$error":"#VALUE!"}},167,"Евсеев Александр Сергеевич","50:03:0070280:925","2012-05-15","2012-05-01",{"$f":"INT(($H$327-G84)/30)","v":44},{"$f":"H84*1000","v":44000},{"$f":"32000","v":32000},null,{"$f":"I84-J84-K84","v":12000},{"$nulls":12},{"$f":"V84-W84-X84","v":0}]
[{"$f":"VLOOKUP(B85,справочник!$B$2:$E$322,4,0)","v":181},{"$f":"CONCATENATE(C85;D85)","v":{"$error":"#VALUE!"}},189,"Елисеев Сергей Вячеславович","50:03:0070280:760","2014-04-05","2014-05-01",{"$f":"INT(($H$327-G85)/30)","v":20},{"$f":"H85*1000","v":20000},17000,null,{"$f":"I85-J85-K85","v":3000},{"$nulls":12},{"$f":"V85-W85-X85","v":0}]
[{"$f":"VLOOKUP(B86,справочник!$B$2:$E$322,4,0)","v":284},{"$f":"CONCATENATE(C86;D86)","v":{"$error":"#VALUE!"}},296,"Епанчинцева Людмила Филипповна","50:03:0070280:783","2013-10-02","2013-11-01",{"$f":"INT(($H$327-G86)/30)","v":26},{"$f":"H86*1000","v":26000},{"$f":"12000","v":12000},5000,{"$f":"I86-J86-K86","v":9000},{"$nulls":12},{"$f":"V86-W86-X86","v":0}]
[{"$f":"VLOOKUP(B87,справочник!$B$2:$E$322,4,0)","v":264},{"$f":"CONCATENATE(C87;D87)","v":{"$error":"#VALUE!"}},277,"Еременко Виктор Александрович (Валентина)","50:03:0070280:726","2012-07-03","2012-07-01",{"$f":"INT(($H$327-G87)/30)","v":42},{"$f":"H87*1000","v":42000},{"$f":"38000","v":38000},null,{"$f":"I87-J87-K87","v":4000},{"$nulls":12},{"$f":"V87-W87-X87","v":0}]
[{"$f":"VLOOKUP(B88,справочник!$B$2:$E$322,4,0)","v":32},{"$f":"CONCATENATE(C88;D88)","v":{"$error":"#VALUE!"}},32,"Ермакова Татьяна Викторовна","50:03:0070280:902","2011-06-01","2011-06-01",{"$f":"INT(($H$327-G88)/30)","v":55},{"$f":"H88*1000","v":55000},{"$f":"7000+48000","v":55000},null,{"$f":"I88-J88-K88","v":0},{"$nulls":12},{"$f":"V88-W88-X88","v":0}]
[{"$f":"VLOOKUP(B89,справочник!$B$2:$E$322,4,0)","v":49},{"$f":"CONCATENATE(C89;D89)","v":{"$error":"#VALUE!"}},49,"Ермолаева Виктория Александровна","50:03:0070280:968","2011-07-05","2011-08-01",{"$f":"INT(($H$327-G89)/30)","v":53},{"$f":"H89*1000","v":53000},{"$f":"42000","v":42000},null,{"$f":"I89-J89-K89","v":11000},{"$nulls":12},{"$f":"V89-W89-X89","v":0}]
[{"$f":"VLOOKUP(B90,справочник!$B$2:$E$322,4,0)","v":234},{"$f":"CONCATENATE(C90;D90)","v":{"$error":"#VALUE!"}},243,"Ермошина Татьяна Евгеньевна (Владимир)","50:03:0070280:1428","2012-12-05","2013-04-01",3,{"$f":"H90*1000","v":3000},null,3000,{"$f":"I90-J90-K90","v":0},{"$nulls":12},{"$f":"V90-W90-X90","v":0}]
[{"$f":"VLOOKUP(B91,справочник!$B$2:$E$322,4,0)","v":234},{"$f":"CONCATENATE(C91;D91)","v":{"$error":"#VALUE!"}},244,"Ермошина Татьяна Евгеньевна (Владимир)",null,"2012-12-05","2013-04-01",3,{"$f":"H91*1000","v":3000},null,3000,{"$f":"I91-J91-K91","v":0},{"$nulls":12},{"$f":"V91-W91-X91","v":0}]
[{"$f":"VLOOKUP(B92,справочник!$B$2:$E$322,4,0)","v":234},{"$f":"CONCATENATE(C92;D92)","v":{"$error":"#VALUE!"}},"243-244","Ермошина Татьяна Евгеньевна (Владимир)",null,"2013-07-01","2013-07-01",{"$f":"INT(($H$327-G92)/30)","v":30},{"$f":"H92*1000","v":30000},null,30000,{"$f":"I92-J92-K92","v":0},{"$nulls":12},{"$f":"V92-W92-X92","v":0}]
[{"$f":"VLOOKUP(B93,справочник!$B$2:$E$322,4,0)","v":254},{"$f":"CONCATENATE(C93;D93)","v":{"$error":"#VALUE!"}},267,"Ершова Виктория Львовна","50:03:0070280:736","2012-02-14","2012-02-01",{"$f":"INT(($H$327-G93)/30)","v":47},{"$f":"H93*1000","v":47000},{"$f":"39000+5000","v":44000},null,{"$f":"I93-J93-K93","v":3000},{"$nulls":12},{"$f":"V93-W93-X93","v":0}]
[{"$f":"VLOOKUP(B94,справочник!$B$2:$E$322,4,0)","v":230},{"$f":"CONCATENATE(C94;D94)","v":{"$error":"#VALUE!"}},239,"Жарикова Светлана Юрьевна","50:03:0070280:896","2013-11-12","2013-11-01",{"$f":"INT(($H$327-G94)/30)","v":26},{"$f":"H94*1000","v":26000},26000,null,{"$f":"I94-J94-K94","v":0},{"$nulls":12},{"$f":"V94-W94-X94","v":0}]
[{"$f":"VLOOKUP(B95,справочник!$B$2:$E$322,4,0)","v":230},{"$f":"CONCATENATE(C95;D95)","v":{"$error":"#VALUE!"}},257,"Жарикова Светлана Юрьевна","50:03:0070280:788","2014-08-31","2014-11-01",{"$f":"INT(($H$327-G95)/30)","v":14},{"$f":"H95*1000","v":14000},0,4000,{"$f":"I95-J95-K95","v":10000},{"$nulls":12},{"$f":"V95-W95-X95","v":0}]
[{"$f":"VLOOKUP(B96,справочник!$B$2:$E$322,4,0)","v":4},{"$f":"CONCATENATE(C96;D96)","v":{"$error":"#VALUE!"}},4,"Жигунов Юрий Александрович","50:03:0070280:693","2013-06-11","2013-07-01",{"$f":"INT(($H$327-G96)/30)","v":30},{"$f":"H96*1000","v":30000},27000,null,{"$f":"I96-J96-K96","v":3000},{"$nulls":12},{"$f":"V96-W96-X96","v":0}]
[{"$f":"VLOOKUP(B97,справочник!$B$2:$E$322,4,0)","v":213},{"$f":"CONCATENATE(C97;D97)","v":{"$error":"#VALUE!"}},222,"Жирная Татьяна Сергеевна","50:03:0070280:841","2014-05-07","2014-06-01",{"$f":"INT(($H$327-G97)/30)","v":19},{"$f":"H97*1000","v":19000},500,null,{"$f":"I97-J97-K97","v":18500},{"$nulls":12},{"$f":"V97-W97-X97","v":0}]
[{"$f":"VLOOKUP(B98,справочник!$B$2:$E$322,4,0)","v":127},{"$f":"CONCATENATE(C98;D98)","v":{"$error":"#VALUE!"}},132,"Жохова Елена Сергеевна","50:03:0070280:981","2011-06-07","2011-06-01",{"$f":"INT(($H$327-G98)/30)","v":55},{"$f":"H98*1000","v":55000},{"$f":"36000+7000","v":43000},null,{"$f":"I98-J98-K98","v":12000},{"$nulls":12},{"$f":"V98-W98-X98","v":0}]
[{"$f":"VLOOKUP(B99,справочник!$B$2:$E$322,4,0)","v":66},{"$f":"CONCATENATE(C99;D99)","v":{"$error":"#VALUE!"}},68,"Заборская Светлана Анатольевна (Андрей)","50:03:0070280:937","2012-07-10","2012-07-01",{"$f":"INT(($H$327-G99)/30)","v":42},{"$f":"H99*1000","v":42000},39780,null,{"$f":"I99-J99-K99","v":2220},{"$nulls":12},{"$f":"V99-W99-X99","v":0}]
[{"$f":"VLOOKUP(B100,справочник!$B$2:$E$322,4,0)","v":36},{"$f":"CONCATENATE(C100;D100)","v":{"$error":"#VALUE!"}},36,"Закревская Марина Владимировна","50:03:0070280:906","2011-07-12","2011-08-01",{"$f":"INT(($H$327-G100)/30)","v":53},{"$f":"H100*1000","v":53000},{"$f":"42000+1000","v":43000},null,{"$f":"I100-J100-K100","v":10000},{"$nulls":12},{"$f":"V100-W100-X100","v":0}]
[{"$f":"VLOOKUP(B101,справочник!$B$2:$E$322,4,0)","v":38},{"$f":"CONCATENATE(C101;D101)","v":{"$error":"#VALUE!"}},255,"Заручинский Вячеслав Владимирович","50:03:0070280:790","2011-08-15","2011-09-01",{"$f":"INT(($H$327-G101)/30)","v":52},{"$f":"H101*1000","v":52000},{"$f":"5000+18000+29000","v":52000},null,{"$f":"I101-J101-K101","v":0},{"$nulls":12},{"$f":"V101-W101-X101","v":0}]
[{"$f":"VLOOKUP(B102,справочник!$B$2:$E$322,4,0)","v":38},{"$f":"CONCATENATE(C102;D102)","v":{"$error":"#VALUE!"}},38,"Заручинский Вячеслав Владимирович","50:03:0070280:908","2012-07-10","2012-07-01",{"$f":"INT(($H$327-G102)/30)","v":42},{"$f":"H102*1000","v":42000},35000,null,{"$f":"I102-J102-K102","v":7000},{"$nulls":12},{"$f":"V102-W102-X102","v":0}]
[{"$f":"VLOOKUP(B103,справочник!$B$2:$E$322,4,0)","v":12},{"$f":"CONCATENATE(C103;D103)","v":{"$error":"#VALUE!"}},12,"Захаренкова Светлана Евгеньевна","50:03:0070280:703","2013-05-20","2013-06-01",{"$f":"INT(($H$327-G103)/30)","v":31},{"$f":"H103*1000","v":31000},5000,null,{"$f":"I103-J103-K103","v":26000},{"$nulls":12},{"$f":"V103-W103-X103","v":0}]
[{"$f":"VLOOKUP(B104,справочник!$B$2:$E$322,4,0)","v":63},{"$f":"CONCATENATE(C104;D104)","v":{"$error":"#VALUE!"}},65,"Захаров Михаил Сергеевич","50:03:0070280:934","2013-08-27","2013-09-01",{"$f":"INT(($H$327-G104)/30)","v":28},{"$f":"H104*1000","v":28000},0,null,{"$f":"I104-J104-K104","v":28000},{"$nulls":12},{"$f":"V104-W104-X104","v":0}]
[{"$f":"VLOOKUP(B105,справочник!$B$2:$E$322,4,0)","v":16},{"$f":"CONCATENATE(C105;D105)","v":{"$error":"#VALUE!"}},16,"Захарова Людмила Захаровна","50:03:0070280:697","2012-12-11","2013-01-01",{"$f":"INT(($H$327-G105)/30)","v":36},{"$f":"H105*1000","v":36000},36000,null,{"$f":"I105-J105-K105","v":0},{"$nulls":12},{"$f":"V105-W105-X105","v":0}]
[{"$f":"VLOOKUP(B106,справочник!$B$2:$E$322,4,0)","v":121},{"$f":"CONCATENATE(C106;D106)","v":{"$error":"#VALUE!"}},126,"Зиннатов Рафаэль Шакурович","50:03:0070280:1026","2012-10-08","2012-11-01",{"$f":"INT(($H$327-G106)/30)","v":38},{"$f":"H106*1000","v":38000},32000,null,{"$f":"I106-J106-K106","v":6000},{"$nulls":12},{"$f":"V106-W106-X106","v":0}]
[{"$f":"VLOOKUP(B107,справочник!$B$2:$E$322,4,0)","v":156},{"$f":"CONCATENATE(C107;D107)","v":{"$error":"#VALUE!"}},164,"Иваненко Петр Олегович","50:03:0070280:928","2013-04-30","2013-06-01",{"$f":"INT(($H$327-G107)/30)","v":31},{"$f":"H107*1000","v":31000},28000,null,{"$f":"I107-J107-K107","v":3000},{"$nulls":12},{"$f":"V107-W107-X107","v":0}]
[{"$f":"VLOOKUP(B108,справочник!$B$2:$E$322,4,0)","v":5},{"$f":"CONCATENATE(C108;D108)","v":{"$error":"#VALUE!"}},5,"Иванов Владимир Николаевич","50:03:0070280:709","2012-06-11","2012-06-01",{"$f":"INT(($H$327-G108)/30)","v":43},{"$f":"H108*1000","v":43000},{"$f":"32000","v":32000},null,{"$f":"I108-J108-K108","v":11000},{"$nulls":12},{"$f":"V108-W108-X108","v":0}]
[{"$f":"VLOOKUP(B109,справочник!$B$2:$E$322,4,0)","v":214},{"$f":"CONCATENATE(C109;D109)","v":{"$error":"#VALUE!"}},223,"Иванов Денис Сильвестрович","50:03:0070280:840","2014-06-17","2014-06-01",{"$f":"INT(($H$327-G109)/30)","v":19},{"$f":"H109*1000","v":19000},19000,null,{"$f":"I109-J109-K109","v":0},{"$nulls":12},{"$f":"V109-W109-X109","v":0}]
[{"$f":"VLOOKUP(B110,справочник!$B$2:$E$322,4,0)","v":279},{"$f":"CONCATENATE(C110;D110)","v":{"$error":"#VALUE!"}},291,"Иванова Светлана Сергеевна","50:03:0070280:778","2011-12-13","2011-12-01",{"$f":"INT(($H$327-G110)/30)","v":49},{"$f":"H110*1000","v":49000},{"$f":"42000+1000","v":43000},null,{"$f":"I110-J110-K110","v":6000},{"$nulls":12},{"$f":"V110-W110-X110","v":0}]
[{"$f":"VLOOKUP(B111,справочник!$B$2:$E$322,4,0)","v":197},{"$f":"CONCATENATE(C111;D111)","v":{"$error":"#VALUE!"}},205,"Иванова Татьяна Викторовна","50:03:0070280:911","2011-11-15","2011-11-01",{"$f":"INT(($H$327-G111)/30)","v":50},{"$f":"H111*1000","v":50000},16000,null,{"$f":"I111-J111-K111","v":34000},{"$nulls":12},{"$f":"V111-W111-X111","v":0}]
[{"$f":"VLOOKUP(B112,справочник!$B$2:$E$322,4,0)","v":295},{"$f":"CONCATENATE(C112;D112)","v":{"$error":"#VALUE!"}},310,"Измайлов Михаил Михайлович","50:03:0070280:1001","2014-12-21","2015-01-01",{"$f":"INT(($H$327-G112)/30)","v":12},{"$f":"H112*1000","v":12000},null,null,{"$f":"I112-J112-K112","v":12000},{"$nulls":12},{"$f":"V112-W112-X112","v":0}]
[{"$f":"VLOOKUP(B113,справочник!$B$2:$E$322,4,0)","v":196},{"$f":"CONCATENATE(C113;D113)","v":{"$error":"#VALUE!"}},204,"Казарин Сергей Викторович","50:03:0070280:912","2012-02-06","2012-03-01",{"$f":"INT(($H$327-G113)/30)","v":46},{"$f":"H113*1000","v":46000},{"$f":"46000","v":46000},null,{"$f":"I113-J113-K113","v":0},{"$nulls":12},{"$f":"V113-W113-X113","v":0}]
[{"$f":"VLOOKUP(B114,справочник!$B$2:$E$322,4,0)","v":124},{"$f":"CONCATENATE(C114;D114)","v":{"$error":"#VALUE!"}},129,"Казымов Горхмаз Гамид/Лавренчук Александр Владиславович","50:03:0070280:811","2013-11-02","2013-12-01",{"$f":"INT(($H$327-G114)/30)","v":25},{"$f":"H114*1000","v":25000},{"$f":"5000+1500+5000","v":11500},null,{"$f":"I114-J114-K114","v":13500},{"$nulls":12},{"$f":"V114-W114-X114","v":0}]
[{"$f":"VLOOKUP(B115,справочник!$B$2:$E$322,4,0)","v":250},{"$f":"CONCATENATE(C115;D115)","v":{"$error":"#VALUE!"}},261,"Каляникова Наталья Сергеевна","50:03:0070280:742","2013-08-12","2013-09-01",{"$f":"INT(($H$327-G115)/30)","v":28},{"$f":"H115*1000","v":28000},13000,1000,{"$f":"I115-J115-K115","v":14000},{"$nulls":12},{"$f":"V115-W115-X115","v":0}]
[{"$f":"VLOOKUP(B116,справочник!$B$2:$E$322,4,0)","v":153},{"$f":"CONCATENATE(C116;D116)","v":{"$error":"#VALUE!"}},161,"Канышкина Юлия Юрьевна","50:03:0070280:756","2012-03-26","2012-04-01",{"$f":"INT(($H$327-G116)/30)","v":45},{"$f":"H116*1000","v":45000},41000,null,{"$f":"I116-J116-K116","v":4000},{"$nulls":12},{"$f":"V116-W116-X116","v":0}]
[{"$f":"VLOOKUP(B117,справочник!$B$2:$E$322,4,0)","v":106},{"$f":"CONCATENATE(C117;D117)","v":{"$error":"#VALUE!"}},111,"Карпекина Лилия Рафаэльевна","50:03:0070280:817","2013-07-08","2013-01-08",{"$f":"INT(($H$327-G117)/30)","v":36},{"$f":"H117*1000","v":36000},1000,null,{"$f":"I117-J117-K117","v":35000},{"$nulls":12},{"$f":"V117-W117-X117","v":0}]
[{"$f":"VLOOKUP(B118,справочник!$B$2:$E$322,4,0)","v":222},{"$f":"CONCATENATE(C118;D118)","v":{"$error":"#VALUE!"}},231,"Карпова Елена Витальевна","50:03:0070280:832","2013-06-04","2013-07-01",{"$f":"INT(($H$327-G118)/30)","v":30},{"$f":"H118*1000","v":30000},25000,5000,{"$f":"I118-J118-K118","v":0},{"$nulls":12},{"$f":"V118-W118-X118","v":0}]
[{"$f":"VLOOKUP(B119,справочник!$B$2:$E$322,4,0)","v":208},{"$f":"CONCATENATE(C119;D119)","v":{"$error":"#VALUE!"}},218,"Катушкин Роман Юрьевич","50:03:0070280:1422","2012-05-23","2012-06-01",{"$f":"INT(($H$327-G119)/30)","v":43},{"$f":"H119*1000","v":43000},{"$f":"40500","v":40500},null,{"$f":"I119-J119-K119","v":2500},{"$nulls":12},{"$f":"V119-W119-X119","v":0}]
[{"$f":"VLOOKUP(B120,справочник!$B$2:$E$322,4,0)","v":207},{"$f":"CONCATENATE(C120;D120)","v":{"$error":"#VALUE!"}},217,"Катушкин Роман Юрьевич//Валеев Артур Рашидович",{"$nulls":4},{"$f":"H120*1000","v":0},null,null,{"$f":"I120-J120-K120","v":0},{"$nulls":12},{"$f":"V120-W120-X120","v":0}]
[{"$f":"VLOOKUP(B121,справочник!$B$2:$E$322,4,0)","v":231},{"$f":"CONCATENATE(C121;D121)","v":{"$error":"#VALUE!"}},240,"Кашичкин Александр Борисович","50:03:0070280:895","2013-03-24","2013-04-01",{"$f":"INT(($H$327-G121)/30)","v":33},{"$f":"H121*1000","v":33000},28000,null,{"$f":"I121-J121-K121","v":5000},{"$nulls":12},{"$f":"V121-W121-X121","v":0}]
[{"$f":"VLOOKUP(B122,справочник!$B$2:$E$322,4,0)","v":76},{"$f":"CONCATENATE(C122;D122)","v":{"$error":"#VALUE!"}},82,"Киеня Валентина Александровна (Анатолий)","50:03:0070280:751","2011-05-19","2011-06-01",{"$f":"INT(($H$327-G122)/30)","v":55},{"$f":"H122*1000","v":55000},54000,3000,{"$f":"I122-J122-K122","v":-2000},{"$nulls":12},{"$f":"V122-W122-X122","v":0}]
[{"$f":"VLOOKUP(B123,справочник!$B$2:$E$322,4,0)","v":82},{"$f":"CONCATENATE(C123;D123)","v":{"$error":"#VALUE!"}},87,"Кикоть Наталья Петровна (Андрей)","50:03:0070280:863","2012-08-27","2012-09-01",{"$f":"INT(($H$327-G123)/30)","v":40},{"$f":"H123*1000","v":40000},35000,null,{"$f":"I123-J123-K123","v":5000},{"$nulls":12},{"$f":"V123-W123-X123","v":0}]
[{"$f":"VLOOKUP(B124,справочник!$B$2:$E$322,4,0)","v":8},{"$f":"CONCATENATE(C124;D124)","v":{"$error":"#VALUE!"}},8,"Кириенко Раиса Федоровна","50:03:0070280:692","2014-04-12","2014-05-01",{"$f":"INT(($H$327-G124)/30)","v":20},{"$f":"H124*1000","v":20000},18000,null,{"$f":"I124-J124-K124","v":2000},{"$nulls":12},{"$f":"V124-W124-X124","v":0}]
[{"$f":"VLOOKUP(B125,справочник!$B$2:$E$322,4,0)","v":149},{"$f":"CONCATENATE(C125;D125)","v":{"$error":"#VALUE!"}},157,"Кириллов Вадим Александрович","50:03:0070280:958","2011-10-04","2011-10-01",{"$f":"INT(($H$327-G125)/30)","v":51},{"$f":"H125*1000","v":51000},{"$f":"1000","v":1000},1000,{"$f":"I125-J125-K125","v":49000},{"$nulls":12},{"$f":"V125-W125-X125","v":0}]
[{"$f":"VLOOKUP(B126,справочник!$B$2:$E$322,4,0)","v":30},{"$f":"CONCATENATE(C126;D126)","v":{"$error":"#VALUE!"}},30,"Кириллов Дмитрий Александрович","50:03:0070280:859","2011-12-29","2012-01-01",{"$f":"INT(($H$327-G126)/30)","v":48},{"$f":"H126*1000","v":48000},{"$f":"1000","v":1000},null,{"$f":"I126-J126-K126","v":47000},{"$nulls":12},{"$f":"V126-W126-X126","v":0}]
[{"$f":"VLOOKUP(B127,справочник!$B$2:$E$322,4,0)","v":269},{"$f":"CONCATENATE(C127;D127)","v":{"$error":"#VALUE!"}},282,"Коваленко Ирина Леонидовна","50:03:0070280:718","2012-12-11","2013-01-01",{"$f":"INT(($H$327-G127)/30)","v":36},{"$f":"H127*1000","v":36000},18000,null,{"$f":"I127-J127-K127","v":18000},{"$nulls":12},{"$f":"V127-W127-X127","v":0}]
[{"$f":"VLOOKUP(B128,справочник!$B$2:$E$322,4,0)","v":271},{"$f":"CONCATENATE(C128;D128)","v":{"$error":"#VALUE!"}},284,"Кожемякин Сергей Владимирович","50:03:0070280:716","2015-02-09","2015-04-01",{"$f":"INT(($H$327-G128)/30)","v":9},{"$f":"H128*1000","v":9000},4000,5000,{"$f":"I128-J128-K128","v":0},{"$nulls":12},{"$f":"V128-W128-X128","v":0}]
[{"$f":"VLOOKUP(B129,справочник!$B$2:$E$322,4,0)","v":265},{"$f":"CONCATENATE(C129;D129)","v":{"$error":"#VALUE!"}},278,"Козловский Алексей Гаврилович","50:03:0070280:725","2011-09-26","2011-09-01",{"$f":"INT(($H$327-G129)/30)","v":52},{"$f":"H129*1000","v":52000},{"$f":"2000+27000","v":29000},null,{"$f":"I129-J129-K129","v":23000},{"$nulls":12},{"$f":"V129-W129-X129","v":0}]
[{"$f":"VLOOKUP(B130,справочник!$B$2:$E$322,4,0)","v":173},{"$f":"CONCATENATE(C130;D130)","v":{"$error":"#VALUE!"}},181,"Колесников Никита Олегович(у Кряжковой Виктория Сергеевна","50:03:0070280:764","2011-09-07","2011-09-01",{"$f":"INT(($H$327-G130)/30)","v":52},{"$f":"H130*1000","v":52000},1000,null,{"$f":"I130-J130-K130","v":51000},{"$nulls":12},{"$f":"V130-W130-X130","v":0}]
[{"$f":"VLOOKUP(B131,справочник!$B$2:$E$322,4,0)","v":305},{"$f":"CONCATENATE(C131;D131)","v":{"$error":"#VALUE!"}},320,"Колесов Вадим Владимирович","50:03:0070280:1011","2014-10-17","2014-11-01",{"$f":"INT(($H$327-G131)/30)","v":14},{"$f":"H131*1000","v":14000},1000,null,{"$f":"I131-J131-K131","v":13000},{"$nulls":12},{"$f":"V131-W131-X131","v":0}]
[{"$f":"VLOOKUP(B132,справочник!$B$2:$E$322,4,0)","v":69},{"$f":"CONCATENATE(C132;D132)","v":{"$error":"#VALUE!"}},75,"Колташ Анна Владимировна","50:03:0070280:882","23.08.2011","2011-09-01",{"$f":"INT(($H$327-G132)/30)","v":52},{"$f":"H132*1000","v":52000},{"$f":"3000+10000","v":13000},null,{"$f":"I132-J132-K132","v":39000},{"$nulls":12},{"$f":"V132-W132-X132","v":0}]
[{"$f":"VLOOKUP(B133,справочник!$B$2:$E$322,4,0)","v":69},{"$f":"CONCATENATE(C133;D133)","v":{"$error":"#VALUE!"}},76,"Колташ Анна Владимировна","50:03:0070280:804",null,null,null,{"$f":"H133*1000","v":0}]
[{"$f":"VLOOKUP(B134,справочник!$B$2:$E$322,4,0)","v":1},{"$f":"CONCATENATE(C134;D134)","v":{"$error":"#VALUE!"}},1,"Колыгина Нина Николаевна","50:03:0070280:711","2013-05-15","2013-10-01",{"$f":"INT(($H$327-G134)/30)","v":27},{"$f":"H134*1000","v":27000},24000,null,{"$f":"I134-J134-K134","v":3000},{"$nulls":12},{"$f":"V134-W134-X134","v":0}]
[{"$f":"VLOOKUP(B135,справочник!$B$2:$E$322,4,0)","v":302},{"$f":"CONCATENATE(C135;D135)","v":{"$error":"#VALUE!"}},317,"Колышкина Александра Сергеевна","50:03:0070280:1008","2012-03-29","2012-04-01",{"$f":"INT(($H$327-G135)/30)","v":45},{"$f":"H135*1000","v":45000},32000,null,{"$f":"I135-J135-K135","v":13000},{"$nulls":12},{"$f":"V135-W135-X135","v":0}]
[{"$f":"VLOOKUP(B136,справочник!$B$2:$E$322,4,0)","v":123},{"$f":"CONCATENATE(C136;D136)","v":{"$error":"#VALUE!"}},128,"Кондратьева Юлия Викторовна","50:03:0070280:810","2012-02-21","2012-02-01",{"$f":"INT(($H$327-G136)/30)","v":47},{"$f":"H136*1000","v":47000},34000,null,{"$f":"I136-J136-K136","v":13000},{"$nulls":12},{"$f":"V136-W136-X136","v":0}]
[{"$f":"VLOOKUP(B137,справочник!$B$2:$E$322,4,0)","v":163},{"$f":"CONCATENATE(C137;D137)","v":{"$error":"#VALUE!"}},171,"Кондратюк Наталья Петровна 1/2,  Соболев Олег Юрьевич 1/2",null,"2014-06-19","2014-07-01",{"$f":"INT(($H$327-G137)/30)","v":18},{"$f":"H137*1000","v":18000},{"$f":"5000+4000","v":9000},null,{"$f":"I137-J137-K137","v":9000},{"$nulls":12},{"$f":"V137-W137-X137","v":0}]
[{"$f":"VLOOKUP(B138,справочник!$B$2:$E$322,4,0)","v":110},{"$f":"CONCATENATE(C138;D138)","v":{"$error":"#VALUE!"}},115,"Кондрашов Роман Вячеславович","50:03:0070280:808","2012-07-11","2012-07-01",{"$f":"INT(($H$327-G138)/30)","v":42},{"$f":"H138*1000","v":42000},23000,null,{"$f":"I138-J138-K138","v":19000},{"$nulls":12},{"$f":"V138-W138-X138","v":0}]
[{"$f":"VLOOKUP(B139,справочник!$B$2:$E$322,4,0)","v":112},{"$f":"CONCATENATE(C139;D139)","v":{"$error":"#VALUE!"}},117,"Кондрашов Сергей Вячеславович//Балыкин Александр Иванович",null,"2012-07-11","2012-07-01",{"$f":"INT(($H$327-G139)/30)","v":42},{"$f":"H139*1000","v":42000},{"$f":"25000","v":25000},null,{"$f":"I139-J139-K139","v":17000},{"$nulls":12},{"$f":"V139-W139-X139","v":0}]
[{"$f":"VLOOKUP(B140,справочник!$B$2:$E$322,4,0)","v":190},{"$f":"CONCATENATE(C140;D140)","v":{"$error":"#VALUE!"}},198,"Коновальцев Олег Серафимович","50:03:0070280:984","2013-05-13","2013-06-01",{"$f":"INT(($H$327-G140)/30)","v":31},{"$f":"H140*1000","v":31000},15000,null,{"$f":"I140-J140-K140","v":16000},{"$nulls":12},{"$f":"V140-W140-X140","v":0}]
[{"$f":"VLOOKUP(B141,справочник!$B$2:$E$322,4,0)","v":83},{"$f":"CONCATENATE(C141;D141)","v":{"$error":"#VALUE!"}},88,"Кононенко Алла Николаевна (Александр)","50:03:0070280:869","2011-05-12","2011-06-01",{"$f":"INT(($H$327-G141)/30)","v":55},{"$f":"H141*1000","v":55000},{"$f":"1000+49000","v":50000},null,{"$f":"I141-J141-K141","v":5000},{"$nulls":12},{"$f":"V141-W141-X141","v":0}]
[{"$f":"VLOOKUP(B142,справочник!$B$2:$E$322,4,0)","v":133},{"$f":"CONCATENATE(C142;D142)","v":{"$error":"#VALUE!"}},140,"Короткевич Наталья Владимировна","50:03:0070280:892","2012-04-09","2012-04-01",{"$f":"INT(($H$327-G142)/30)","v":45},{"$f":"H142*1000","v":45000},41000,4000,{"$f":"I142-J142-K142","v":0},{"$nulls":12},{"$f":"V142-W142-X142","v":0}]
[{"$f":"VLOOKUP(B143,справочник!$B$2:$E$322,4,0)","v":202},{"$f":"CONCATENATE(C143;D143)","v":{"$error":"#VALUE!"}},212,"Корчинская Ирина Анатольевна","50:03:0070280:851","2012-07-10","2012-07-01",{"$f":"INT(($H$327-G143)/30)","v":42},{"$f":"H143*1000","v":42000},18000,null,{"$f":"I143-J143-K143","v":24000},{"$nulls":12},{"$f":"V143-W143-X143","v":0}]
[{"$f":"VLOOKUP(B144,справочник!$B$2:$E$322,4,0)","v":192},{"$f":"CONCATENATE(C144;D144)","v":{"$error":"#VALUE!"}},200,"Косенков Степан Фед-ч(Галактионова)","50:03:0070280:887","2014-07-09","2014-08-01",{"$f":"INT(($H$327-G144)/30)","v":17},{"$f":"H144*1000","v":17000},null,null,{"$f":"I144-J144-K144","v":17000},{"$nulls":12},{"$f":"V144-W144-X144","v":0}]
[{"$f":"VLOOKUP(B145,справочник!$B$2:$E$322,4,0)","v":289},{"$f":"CONCATENATE(C145;D145)","v":{"$error":"#VALUE!"}},301,"Косенкова Елизавета Евгеньевна","50:03:0070280:772","2014-12-03","2015-01-01",{"$f":"INT(($H$327-G145)/30)","v":12},{"$f":"H145*1000","v":12000},3000,null,{"$f":"I145-J145-K145","v":9000},{"$nulls":12},{"$f":"V145-W145-X145","v":0}]
[{"$f":"VLOOKUP(B146,справочник!$B$2:$E$322,4,0)","v":143},{"$f":"CONCATENATE(C146;D146)","v":{"$error":"#VALUE!"}},151,"Красникова Раиса Михайловна","50:03:0070280:952","2011-10-25","2011-11-01",{"$f":"INT(($H$327-G146)/30)","v":50},{"$f":"H146*1000","v":50000},37000,null,{"$f":"I146-J146-K146","v":13000},{"$nulls":12},{"$f":"V146-W146-X146","v":0}]
[{"$f":"VLOOKUP(B147,справочник!$B$2:$E$322,4,0)","v":62},{"$f":"CONCATENATE(C147;D147)","v":{"$error":"#VALUE!"}},64,"Кривой Владимир Аркадьевич","50:03:0070280:933","2011-09-30","2011-10-01",{"$f":"INT(($H$327-G147)/30)","v":51},{"$f":"H147*1000","v":51000},{"$f":"1000+47000","v":48000},3000,{"$f":"I147-J147-K147","v":0},{"$nulls":12},{"$f":"V147-W147-X147","v":0}]
[{"$f":"VLOOKUP(B148,справочник!$B$2:$E$322,4,0)","v":225},{"$f":"CONCATENATE(C148;D148)","v":{"$error":"#VALUE!"}},234,"Крупник Андрей Валерьевич","50:03:0070280:829","2014-08-20","2014-09-01",{"$f":"INT(($H$327-G148)/30)","v":16},{"$f":"H148*1000","v":16000},null,null,{"$f":"I148-J148-K148","v":16000},{"$nulls":12},{"$f":"V148-W148-X148","v":0}]
[{"$f":"VLOOKUP(B149,справочник!$B$2:$E$322,4,0)","v":266},{"$f":"CONCATENATE(C149;D149)","v":{"$error":"#VALUE!"}},279,"Кудревцев Евгений Александрович","50:03:0070280:724","2011-09-13","2011-09-01",{"$f":"INT(($H$327-G149)/30)","v":52},{"$f":"H149*1000","v":52000},{"$f":"40000+1000","v":41000},null,{"$f":"I149-J149-K149","v":11000},{"$nulls":12},{"$f":"V149-W149-X149","v":0}]
[{"$f":"VLOOKUP(B150,справочник!$B$2:$E$322,4,0)","v":157},{"$f":"CONCATENATE(C150;D150)","v":{"$error":"#VALUE!"}},165,"Кудрявцева Наталья Викторовна","50:03:0070280:927","2011-12-08","2011-12-01",{"$f":"INT(($H$327-G150)/30)","v":49},{"$f":"H150*1000","v":49000},{"$f":"12000+13000","v":25000},null,{"$f":"I150-J150-K150","v":24000},{"$nulls":12},{"$f":"V150-W150-X150","v":0}]
[{"$f":"VLOOKUP(B151,справочник!$B$2:$E$322,4,0)","v":194},{"$f":"CONCATENATE(C151;D151)","v":{"$error":"#VALUE!"}},202,"Куликов Александр Владимирович","50:03:0070280:886","2014-09-16","2014-10-01",{"$f":"INT(($H$327-G151)/30)","v":15},{"$f":"H151*1000","v":15000},11000,null,{"$f":"I151-J151-K151","v":4000},{"$nulls":12},{"$f":"V151-W151-X151","v":0}]
[{"$f":"VLOOKUP(B152,справочник!$B$2:$E$322,4,0)","v":65},{"$f":"CONCATENATE(C152;D152)","v":{"$error":"#VALUE!"}},67,"Куликова Наталья Александровна","50:03:0070280:936","2011-11-25","2011-11-01",{"$f":"INT(($H$327-G152)/30)","v":50},{"$f":"H152*1000","v":50000},{"$f":"30000","v":30000},null,{"$f":"I152-J152-K152","v":20000},{"$nulls":12},{"$f":"V152-W152-X152","v":0}]
[{"$f":"VLOOKUP(B153,справочник!$B$2:$E$322,4,0)","v":216},{"$f":"CONCATENATE(C153;D153)","v":{"$error":"#VALUE!"}},225,"Кулиш Сергей Александрович","50:03:0070280:838","2014-05-14","2014-05-01",{"$f":"INT(($H$327-G153)/30)","v":20},{"$f":"H153*1000","v":20000},20000,null,{"$f":"I153-J153-K153","v":0},{"$nulls":12},{"$f":"V153-W153-X153","v":0}]
[{"$f":"VLOOKUP(B154,справочник!$B$2:$E$322,4,0)","v":216},{"$f":"CONCATENATE(C154;D154)","v":{"$error":"#VALUE!"}},226,"Кулиш Сергей Александрович","50:03:0070280:837","2014-05-14","2014-05-01",{"$f":"INT(($H$327-G154)/30)","v":20},{"$f":"H154*1000","v":20000},20000,null,{"$f":"I154-J154-K154","v":0},{"$nulls":12},{"$f":"V154-W154-X154","v":0}]
[{"$f":"VLOOKUP(B155,справочник!$B$2:$E$322,4,0)","v":56},{"$f":"CONCATENATE(C155;D155)","v":{"$error":"#VALUE!"}},58,"Кушваха Виджай Шанкар","50:03:0070280:963","2011-06-21","2011-07-01",{"$f":"INT(($H$327-G155)/30)","v":54},{"$f":"H155*1000","v":54000},1000,null,{"$f":"I155-J155-K155","v":53000},{"$nulls":12},{"$f":"V155-W155-X155","v":0}]
[{"$f":"VLOOKUP(B156,справочник!$B$2:$E$322,4,0)","v":150},{"$f":"CONCATENATE(C156;D156)","v":{"$error":"#VALUE!"}},158,"Лайпанов Рустам Сеитбиевич","50:03:0070280:959","2011-08-15","2011-09-01",{"$f":"INT(($H$327-G156)/30)","v":52},{"$f":"H156*1000","v":52000},{"$f":"21000+1000","v":22000},null,{"$f":"I156-J156-K156","v":30000},{"$nulls":12},{"$f":"V156-W156-X156","v":0}]
[{"$f":"VLOOKUP(B157,справочник!$B$2:$E$322,4,0)","v":243},{"$f":"CONCATENATE(C157;D157)","v":{"$error":"#VALUE!"}},254,"Лапшин Сергей Николаевич","50:03:0070280:791","2011-09-05","2011-09-01",{"$f":"INT(($H$327-G157)/30)","v":52},{"$f":"H157*1000","v":52000},{"$f":"1000","v":1000},45000,{"$f":"I157-J157-K157","v":6000},{"$nulls":12},{"$f":"V157-W157-X157","v":0}]
[{"$f":"VLOOKUP(B158,справочник!$B$2:$E$322,4,0)","v":220},{"$f":"CONCATENATE(C158;D158)","v":{"$error":"#VALUE!"}},229,"Ларионова Наталья Владимировна","50:03:0070280:834","2014-06-10","2014-07-01",{"$f":"INT(($H$327-G158)/30)","v":18},{"$f":"H158*1000","v":18000},{"$f":"1000","v":1000},null,{"$f":"I158-J158-K158","v":17000},{"$nulls":12},{"$f":"V158-W158-X158","v":0}]
[{"$f":"VLOOKUP(B159,справочник!$B$2:$E$322,4,0)","v":3},{"$f":"CONCATENATE(C159;D159)","v":{"$error":"#VALUE!"}},3,"Лебедев Андрей Анатольевич","50:03:0070280:700","2014-11-11","2013-12-01",{"$f":"INT(($H$327-G159)/30)","v":25},{"$f":"H159*1000","v":25000},{"$f":"4000","v":4000},null,{"$f":"I159-J159-K159","v":21000},{"$nulls":12},{"$f":"V159-W159-X159","v":0}]
[{"$f":"VLOOKUP(B160,справочник!$B$2:$E$322,4,0)","v":158},{"$f":"CONCATENATE(C160;D160)","v":{"$error":"#VALUE!"}},166,"Лебедева Елена Александровна","50:03:0070280:926","2014-01-21","2014-02-01",{"$f":"INT(($H$327-G160)/30)","v":23},{"$f":"H160*1000","v":23000},{"$f":"1000","v":1000},null,{"$f":"I160-J160-K160","v":22000},{"$nulls":12},{"$f":"V160-W160-X160","v":0}]
[{"$f":"VLOOKUP(B161,справочник!$B$2:$E$322,4,0)","v":139},{"$f":"CONCATENATE(C161;D161)","v":{"$error":"#VALUE!"}},149,"Левина Елена Александровна (Дмитрий)","50:03:0070280:943","2011-06-21","2011-07-01",{"$f":"INT(($H$327-G161)/30)","v":54},{"$f":"H161*1000","v":54000},54000,null,{"$f":"I161-J161-K161","v":0},{"$nulls":12},{"$f":"V161-W161-X161","v":0}]
[{"$f":"VLOOKUP(B162,справочник!$B$2:$E$322,4,0)","v":139},{"$f":"CONCATENATE(C162;D162)","v":{"$error":"#VALUE!"}},147,"Левина Елена Александровна (Дмитрий)","50:03:0070280:941","2011-06-21","2011-07-01",{"$f":"INT(($H$327-G162)/30)","v":54},{"$f":"H162*1000","v":54000},54000,null,{"$f":"I162-J162-K162","v":0},{"$nulls":12},{"$f":"V162-W162-X162","v":0}]
[{"$f":"VLOOKUP(B163,справочник!$B$2:$E$322,4,0)","v":139},{"$f":"CONCATENATE(C163;D163)","v":{"$error":"#VALUE!"}},148,"Левина Елена Александровна (Дмитрий)","50:03:0070280:942","2011-06-21","2011-07-01",{"$f":"INT(($H$327-G163)/30)","v":54},{"$f":"H163*1000","v":54000},{"$f":"11000+4000","v":15000},null,{"$f":"I163-J163-K163","v":39000},{"$nulls":12},{"$f":"V163-W163-X163","v":0}]
[{"$f":"VLOOKUP(B164,справочник!$B$2:$E$322,4,0)","v":261},{"$f":"CONCATENATE(C164;D164)","v":{"$error":"#VALUE!"}},274,"Леськов Олег Петрович","50:03:0070280:1465","2013-04-09","2013-05-01",{"$f":"INT(($H$327-G164)/30)","v":32},{"$f":"H164*1000","v":32000},19000,null,{"$f":"I164-J164-K164","v":13000},{"$nulls":12},{"$f":"V164-W164-X164","v":0}]
[{"$f":"VLOOKUP(B165,справочник!$B$2:$E$322,4,0)","v":261},{"$f":"CONCATENATE(C165;D165)","v":{"$error":"#VALUE!"}},275,"Леськов Олег Петрович",null,"2012-04-17","2012-04-01",{"$f":"INT(($H$327-G165)/30)","v":45},{"$f":"H165*1000","v":45000},{"$f":"9000+19000","v":28000},null,{"$f":"I165-J165-K165","v":17000},{"$nulls":12},{"$f":"V165-W165-X165","v":0}]
[{"$f":"VLOOKUP(B166,справочник!$B$2:$E$322,4,0)","v":288},{"$f":"CONCATENATE(C166;D166)","v":{"$error":"#VALUE!"}},300,"Ли Наталья Сергеевна","50:03:0070280:773","2013-08-27","2013-09-01",{"$f":"INT(($H$327-G166)/30)","v":28},{"$f":"H166*1000","v":28000},null,null,{"$f":"I166-J166-K166","v":28000},{"$nulls":12},{"$f":"V166-W166-X166","v":0}]
[{"$f":"VLOOKUP(B167,справочник!$B$2:$E$322,4,0)","v":166},{"$f":"CONCATENATE(C167;D167)","v":{"$error":"#VALUE!"}},174,"Ловыгина Татьяна Александровна","50:03:0070280:891","2014-07-09","2014-08-01",{"$f":"INT(($H$327-G167)/30)","v":17},{"$f":"H167*1000","v":17000},5000,null,{"$f":"I167-J167-K167","v":12000},{"$nulls":12},{"$f":"V167-W167-X167","v":0}]
[{"$f":"VLOOKUP(B168,справочник!$B$2:$E$322,4,0)","v":118},{"$f":"CONCATENATE(C168;D168)","v":{"$error":"#VALUE!"}},123,"Лопухинова Надежда Михайловна","50:03:0070280:1020","2013-06-10","2013-07-01",{"$f":"INT(($H$327-G168)/30)","v":30},{"$f":"H168*1000","v":30000},23000,null,{"$f":"I168-J168-K168","v":7000},{"$nulls":12},{"$f":"V168-W168-X168","v":0}]
[{"$f":"VLOOKUP(B169,справочник!$B$2:$E$322,4,0)","v":199},{"$f":"CONCATENATE(C169;D169)","v":{"$error":"#VALUE!"}},207,"Лошкарев Виктор Ильич","50:03:0070280:775","2012-05-07","2012-05-01",{"$f":"INT(($H$327-G169)/30)","v":44},{"$f":"H169*1000","v":44000},1000,null,{"$f":"I169-J169-K169","v":43000},{"$nulls":12},{"$f":"V169-W169-X169","v":0}]
[{"$f":"VLOOKUP(B170,справочник!$B$2:$E$322,4,0)","v":199},{"$f":"CONCATENATE(C170;D170)","v":{"$error":"#VALUE!"}},208,"Лошкарев Виктор Ильич","50:03:0070280:892","2012-05-07","2012-05-01",{"$f":"INT(($H$327-G170)/30)","v":44},{"$f":"H170*1000","v":44000},1000,null,{"$f":"I170-J170-K170","v":43000},{"$nulls":12},{"$f":"V170-W170-X170","v":0}]
[{"$f":"VLOOKUP(B171,справочник!$B$2:$E$322,4,0)","v":164},{"$f":"CONCATENATE(C171;D171)","v":{"$error":"#VALUE!"}},172,"Лунёв Денис Александрович","50:03:0070280:769","2013-10-29","2013-11-01",{"$f":"INT(($H$327-G171)/30)","v":26},{"$f":"H171*1000","v":26000},1000,null,{"$f":"I171-J171-K171","v":25000},{"$nulls":12},{"$f":"V171-W171-X171","v":0}]
[{"$f":"VLOOKUP(B172,справочник!$B$2:$E$322,4,0)","v":34},{"$f":"CONCATENATE(C172;D172)","v":{"$error":"#VALUE!"}},34,"Лунева Ольга Петровна","50:03:0070280:904","2011-08-26","2011-09-01",{"$f":"INT(($H$327-G172)/30)","v":52},{"$f":"H172*1000","v":52000},55000,null,{"$f":"I172-J172-K172","v":-3000},{"$nulls":12},{"$f":"V172-W172-X172","v":0}]
[{"$f":"VLOOKUP(B173,справочник!$B$2:$E$322,4,0)","v":13},{"$f":"CONCATENATE(C173;D173)","v":{"$error":"#VALUE!"}},13,"Малов Алексей Викторович","50:03:0070280:702","2013-07-09","2013-08-01",{"$f":"INT(($H$327-G173)/30)","v":29},{"$f":"H173*1000","v":29000},13000,null,{"$f":"I173-J173-K173","v":16000},{"$nulls":12},{"$f":"V173-W173-X173","v":0}]
[{"$f":"VLOOKUP(B174,справочник!$B$2:$E$322,4,0)","v":273},{"$f":"CONCATENATE(C174;D174)","v":{"$error":"#VALUE!"}},286,"Маргиева Марина Евгеньевна","50:03:0070280:714","2014-12-19","2015-01-01",{"$f":"INT(($H$327-G174)/30)","v":12},{"$f":"H174*1000","v":12000},8000,null,{"$f":"I174-J174-K174","v":4000},{"$nulls":12},{"$f":"V174-W174-X174","v":0}]
[{"$f":"VLOOKUP(B175,справочник!$B$2:$E$322,4,0)","v":87},{"$f":"CONCATENATE(C175;D175)","v":{"$error":"#VALUE!"}},92,"Маркина Людмила Николаевна, Марина","50:03:0070280:865","2012-08-23","2012-09-01",{"$f":"INT(($H$327-G175)/30)","v":40},{"$f":"H175*1000","v":40000},37000,null,{"$f":"I175-J175-K175","v":3000},{"$nulls":12},{"$f":"V175-W175-X175","v":0}]
[{"$f":"VLOOKUP(B176,справочник!$B$2:$E$322,4,0)","v":154},{"$f":"CONCATENATE(C176;D176)","v":{"$error":"#VALUE!"}},162,"Марков Максим Юрьевич","50:03:0070280:959","2011-06-26","2011-07-01",{"$f":"INT(($H$327-G176)/30)","v":54},{"$f":"H176*1000","v":54000},50000,null,{"$f":"I176-J176-K176","v":4000},{"$nulls":12},{"$f":"V176-W176-X176","v":0}]
[{"$f":"VLOOKUP(B177,справочник!$B$2:$E$322,4,0)","v":270},{"$f":"CONCATENATE(C177;D177)","v":{"$error":"#VALUE!"}},283,"Маркова Тамара Ивановна","50:03:0070280:717","2013-05-28","2013-07-01",{"$f":"INT(($H$327-G177)/30)","v":30},{"$f":"H177*1000","v":30000},20000,null,{"$f":"I177-J177-K177","v":10000},{"$nulls":12},{"$f":"V177-W177-X177","v":0}]
[{"$f":"VLOOKUP(B178,справочник!$B$2:$E$322,4,0)","v":9},{"$f":"CONCATENATE(C178;D178)","v":{"$error":"#VALUE!"}},9,"Марковнина Светлана Викторовна","50:03:0070280:706","2012-07-24","2012-08-01",{"$f":"INT(($H$327-G178)/30)","v":41},{"$f":"H178*1000","v":41000},18000,null,{"$f":"I178-J178-K178","v":23000},{"$nulls":12},{"$f":"V178-W178-X178","v":0}]
[{"$f":"VLOOKUP(B179,справочник!$B$2:$E$322,4,0)","v":129},{"$f":"CONCATENATE(C179;D179)","v":{"$error":"#VALUE!"}},136,"Маслов Александр Александрович","50:03:0070280:978","2013-03-19","2013-04-01",{"$f":"INT(($H$327-G179)/30)","v":33},{"$f":"H179*1000","v":33000},31000,null,{"$f":"I179-J179-K179","v":2000},{"$nulls":12},{"$f":"V179-W179-X179","v":0}]
[{"$f":"VLOOKUP(B180,справочник!$B$2:$E$322,4,0)","v":42},{"$f":"CONCATENATE(C180;D180)","v":{"$error":"#VALUE!"}},42,"Маслов Андрей Геннадьевич (1/2)                 Щербакова Надежда Михайловна (1/2)","50:03:0070280:800","2011-08-30","2011-09-01",{"$f":"INT(($H$327-G180)/30)","v":52},{"$f":"H180*1000","v":52000},{"$f":"19500+500+4500+23500","v":48000},null,{"$f":"I180-J180-K180","v":4000},{"$nulls":12},{"$f":"V180-W180-X180","v":0}]
[{"$f":"VLOOKUP(B181,справочник!$B$2:$E$322,4,0)","v":96},{"$f":"CONCATENATE(C181;D181)","v":{"$error":"#VALUE!"}},101,"Маслова Валентина Петровна","50:03:0070280:1651","2011-06-14","2011-07-01",{"$f":"INT(($H$327-G181)/30)","v":54},{"$f":"H181*1000","v":54000},41012,null,{"$f":"I181-J181-K181","v":12988},{"$nulls":12},{"$f":"V181-W181-X181","v":0}]
[{"$f":"VLOOKUP(B182,справочник!$B$2:$E$322,4,0)","v":96},{"$f":"CONCATENATE(C182;D182)","v":{"$error":"#VALUE!"}},102,"Маслова Валентина Петровна",null,"2011-06-14","2011-07-01",{"$f":"INT(($H$327-G182)/30)","v":54},{"$f":"H182*1000","v":54000},41000,null,{"$f":"I182-J182-K182","v":13000},{"$nulls":12},{"$f":"V182-W182-X182","v":0}]
[{"$f":"VLOOKUP(B183,справочник!$B$2:$E$322,4,0)","v":292},{"$f":"CONCATENATE(C183;D183)","v":{"$error":"#VALUE!"}},305,"Матвеев Денис Львович","50:03:0070280:996","2015-01-14","2015-02-01",{"$f":"INT(($H$327-G183)/30)","v":11},{"$f":"H183*1000","v":11000},null,null,{"$f":"I183-J183-K183","v":11000},{"$nulls":12},{"$f":"V183-W183-X183","v":0}]
[{"$f":"VLOOKUP(B184,справочник!$B$2:$E$322,4,0)","v":209},{"$f":"CONCATENATE(C184;D184)","v":{"$error":"#VALUE!"}},219,"Мельников Михаил Вячеславович / Диденко",null,"2012-12-05","2013-03-01",20,{"$f":"H184*1000","v":20000},null,null,{"$f":"I184-J184-K184","v":20000},{"$nulls":12},{"$f":"V184-W184-X184","v":0}]
[{"$f":"VLOOKUP(B185,справочник!$B$2:$E$322,4,0)","v":257},{"$f":"CONCATENATE(C185;D185)","v":{"$error":"#VALUE!"}},270,"Месхидзе Оксана Валерьевна","50:03:0070280:733","2013-09-09","2013-10-01",{"$f":"INT(($H$327-G185)/30)","v":27},{"$f":"H185*1000","v":27000},1000,null,{"$f":"I185-J185-K185","v":26000},{"$nulls":12},{"$f":"V185-W185-X185","v":0}]
[{"$f":"VLOOKUP(B186,справочник!$B$2:$E$322,4,0)","v":212},{"$f":"CONCATENATE(C186;D186)","v":{"$error":"#VALUE!"}},221,"Милишенко Надежда Ивановна","50:03:0070280:842","2013-10-05","2013-11-01",{"$f":"INT(($H$327-G186)/30)","v":26},{"$f":"H186*1000","v":26000},23000,null,{"$f":"I186-J186-K186","v":3000},{"$nulls":12},{"$f":"V186-W186-X186","v":0}]
[{"$f":"VLOOKUP(B187,справочник!$B$2:$E$322,4,0)","v":320},{"$f":"CONCATENATE(C187;D187)","v":{"$error":"#VALUE!"}},null,"Милоянин Алексей Леонидович"]
[{"$f":"VLOOKUP(B188,справочник!$B$2:$E$322,4,0)","v":186},{"$f":"CONCATENATE(C188;D188)","v":{"$error":"#VALUE!"}},194,"Мирошниченко Андрей Иванович Захарова Елена Александровна","50:03:0070280:914","2014-08-21","2014-09-01",{"$f":"INT(($H$327-G188)/30)","v":16},{"$f":"H188*1000","v":16000},12000,null,{"$f":"I188-J188-K188","v":4000},{"$nulls":12},{"$f":"V188-W188-X188","v":0}]
[{"$f":"VLOOKUP(B189,справочник!$B$2:$E$322,4,0)","v":187},{"$f":"CONCATENATE(C189;D189)","v":{"$error":"#VALUE!"}},195,"Мирошниченко Екатерина Олеговна","50:03:0070280:913","2013-09-25","2013-10-01",{"$f":"INT(($H$327-G189)/30)","v":27},{"$f":"H189*1000","v":27000},null,null,{"$f":"I189-J189-K189","v":27000},{"$nulls":12},{"$f":"V189-W189-X189","v":0}]
[{"$f":"VLOOKUP(B190,справочник!$B$2:$E$322,4,0)","v":211},{"$f":"CONCATENATE(C190;D190)","v":{"$error":"#VALUE!"}},220,"Модин Игорь Николаевич","50:03:0070280:843","2013-05-23","2013-06-01",{"$f":"INT(($H$327-G190)/30)","v":31},{"$f":"H190*1000","v":31000},26000,7000,{"$f":"I190-J190-K190","v":-2000},{"$nulls":12},{"$f":"V190-W190-X190","v":0}]
[{"$f":"VLOOKUP(B191,справочник!$B$2:$E$322,4,0)","v":242},{"$f":"CONCATENATE(C191;D191)","v":{"$error":"#VALUE!"}},253,"Моисеев Андрей Валентинович","50:03:0070280:792","2013-03-19","2013-04-01",{"$f":"INT(($H$327-G191)/30)","v":33},{"$f":"H191*1000","v":33000},4000,null,{"$f":"I191-J191-K191","v":29000},{"$nulls":12},{"$f":"V191-W191-X191","v":0}]
[{"$f":"VLOOKUP(B192,справочник!$B$2:$E$322,4,0)","v":218},{"$f":"CONCATENATE(C192;D192)","v":{"$error":"#VALUE!"}},227,"Молчанова Ирина Владимировна","50:03:0070280:836","2011-09-07","2011-09-01",{"$f":"INT(($H$327-G192)/30)","v":52},{"$f":"H192*1000","v":52000},33000,5000,{"$f":"I192-J192-K192","v":14000},{"$nulls":12},{"$f":"V192-W192-X192","v":0}]
[{"$f":"VLOOKUP(B193,справочник!$B$2:$E$322,4,0)","v":120},{"$f":"CONCATENATE(C193;D193)","v":{"$error":"#VALUE!"}},125,"Мудрак Владимир Григорьевич (Марина)","50:03:0070280:1022","2013-05-23","2013-06-01",{"$f":"INT(($H$327-G193)/30)","v":31},{"$f":"H193*1000","v":31000},21000,null,{"$f":"I193-J193-K193","v":10000},{"$nulls":12},{"$f":"V193-W193-X193","v":0}]
[{"$f":"VLOOKUP(B194,справочник!$B$2:$E$322,4,0)","v":287},{"$f":"CONCATENATE(C194;D194)","v":{"$error":"#VALUE!"}},299,"Мурадова Альбина Сергеевна","50:03:0070280:774","2014-09-15","2014-10-01",{"$f":"INT(($H$327-G194)/30)","v":15},{"$f":"H194*1000","v":15000},13000,null,{"$f":"I194-J194-K194","v":2000},{"$nulls":12},{"$f":"V194-W194-X194","v":0}]
[{"$f":"VLOOKUP(B195,справочник!$B$2:$E$322,4,0)","v":170},{"$f":"CONCATENATE(C195;D195)","v":{"$error":"#VALUE!"}},178,"Науменко Дмитрий Александрович","50:03:0070280:767","2013-05-20","2013-07-01",{"$f":"INT(($H$327-G195)/30)","v":30},{"$f":"H195*1000","v":30000},29000,1000,{"$f":"I195-J195-K195","v":0},{"$nulls":12},{"$f":"V195-W195-X195","v":0}]
[{"$f":"VLOOKUP(B196,справочник!$B$2:$E$322,4,0)","v":170},{"$f":"CONCATENATE(C196;D196)","v":{"$error":"#VALUE!"}},179,"Науменко Дмитрий Александрович","50:03:0070280:766","2013-05-20","2013-07-01",{"$f":"INT(($H$327-G196)/30)","v":30},{"$f":"H196*1000","v":30000},29000,1000,{"$f":"I196-J196-K196","v":0},{"$nulls":12},{"$f":"V196-W196-X196","v":0}]
[{"$f":"VLOOKUP(B197,справочник!$B$2:$E$322,4,0)","v":290},{"$f":"CONCATENATE(C197;D197)","v":{"$error":"#VALUE!"}},303,"Недосенко Татьяна Сергеевна (Олег)","50:03:0070280:994","2012-02-20","2012-02-01",{"$f":"INT(($H$327-G197)/30)","v":47},{"$f":"H197*1000","v":47000},42000,5000,{"$f":"I197-J197-K197","v":0},{"$nulls":12},{"$f":"V197-W197-X197","v":0}]
[{"$f":"VLOOKUP(B198,справочник!$B$2:$E$322,4,0)","v":81},{"$f":"CONCATENATE(C198;D198)","v":{"$error":"#VALUE!"}},86,"Нелюбов Сергей Владимирович","50:03:0070280:879","2012-02-10","2012-02-01",{"$f":"INT(($H$327-G198)/30)","v":47},{"$f":"H198*1000","v":47000},44000,3000,{"$f":"I198-J198-K198","v":0},{"$nulls":12},{"$f":"V198-W198-X198","v":0}]
[{"$f":"VLOOKUP(B199,справочник!$B$2:$E$322,4,0)","v":31},{"$f":"CONCATENATE(C199;D199)","v":{"$error":"#VALUE!"}},31,"Нефедов Михаил Владимирович","50:03:0070280:901","2011-08-31","2011-09-01",{"$f":"INT(($H$327-G199)/30)","v":52},{"$f":"H199*1000","v":52000},{"$f":"10000+42000","v":52000},null,{"$f":"I199-J199-K199","v":0},{"$nulls":12},{"$f":"V199-W199-X199","v":0}]
[{"$f":"VLOOKUP(B200,справочник!$B$2:$E$322,4,0)","v":104},{"$f":"CONCATENATE(C200;D200)","v":{"$error":"#VALUE!"}},109,"Никифоров Андрей Леонидович","50:03:0070280:819","2011-12-16","2011-12-01",{"$f":"INT(($H$327-G200)/30)","v":49},{"$f":"H200*1000","v":49000},{"$f":"1000+45000","v":46000},null,{"$f":"I200-J200-K200","v":3000},{"$nulls":12},{"$f":"V200-W200-X200","v":0}]
[{"$f":"VLOOKUP(B201,справочник!$B$2:$E$322,4,0)","v":85},{"$f":"CONCATENATE(C201;D201)","v":{"$error":"#VALUE!"}},90,"Новиков Виктор Викторович","50:03:0070280:867","2011-06-01","2011-07-01",{"$f":"INT(($H$327-G201)/30)","v":54},{"$f":"H201*1000","v":54000},{"$f":"1000+53000","v":54000},null,{"$f":"I201-J201-K201","v":0},{"$nulls":12},{"$f":"V201-W201-X201","v":0}]
[{"$f":"VLOOKUP(B202,справочник!$B$2:$E$322,4,0)","v":300},{"$f":"CONCATENATE(C202;D202)","v":{"$error":"#VALUE!"}},315,"Новикова Наталья Петровна","50:03:0070280:1006","2014-12-26","2015-01-01",{"$f":"INT(($H$327-G202)/30)","v":12},{"$f":"H202*1000","v":12000},1000,null,{"$f":"I202-J202-K202","v":11000},{"$nulls":12},{"$f":"V202-W202-X202","v":0}]
[{"$f":"VLOOKUP(B203,справочник!$B$2:$E$322,4,0)","v":47},{"$f":"CONCATENATE(C203;D203)","v":{"$error":"#VALUE!"}},47,"Новикова Светлана Владимировна (Анатолий)","50:03:0070280:990","2013-04-11","2013-05-01",{"$f":"INT(($H$327-G203)/30)","v":32},{"$f":"H203*1000","v":32000},9000,null,{"$f":"I203-J203-K203","v":23000},{"$nulls":12},{"$f":"V203-W203-X203","v":0}]
[{"$f":"VLOOKUP(B204,справочник!$B$2:$E$322,4,0)","v":282},{"$f":"CONCATENATE(C204;D204)","v":{"$error":"#VALUE!"}},294,"Нормуротов Анваржон Абдирайимович","50:03:0070280:775","2014-03-18","2014-04-01",{"$f":"INT(($H$327-G204)/30)","v":21},{"$f":"H204*1000","v":21000},18000,null,{"$f":"I204-J204-K204","v":3000},{"$nulls":12},{"$f":"V204-W204-X204","v":0}]
[{"$f":"VLOOKUP(B205,справочник!$B$2:$E$322,4,0)","v":204},{"$f":"CONCATENATE(C205;D205)","v":{"$error":"#VALUE!"}},214,"Носикова Александра Васильевна","50:03:0070280:849",null,null,null,{"$f":"H205*1000","v":0},null,null,{"$f":"I205-J205-K205","v":0},{"$nulls":12},{"$f":"V205-W205-X205","v":0}]
[{"$f":"VLOOKUP(B206,справочник!$B$2:$E$322,4,0)","v":291},{"$f":"CONCATENATE(C206;D206)","v":{"$error":"#VALUE!"}},304,"Носикова Мария Леонидовна","50:03:0070280:995",null,null,null,{"$f":"H206*1000","v":0},null,null,{"$f":"I206-J206-K206","v":0},{"$nulls":12},{"$f":"V206-W206-X206","v":0}]
[{"$f":"VLOOKUP(B207,справочник!$B$2:$E$322,4,0)","v":89},{"$f":"CONCATENATE(C207;D207)","v":{"$error":"#VALUE!"}},94,"Олег (Гусев Николай Михайлович — был)","50:03:0070280:826","2012-07-16","2012-07-01",{"$f":"INT(($H$327-G207)/30)","v":42},{"$f":"H207*1000","v":42000},{"$f":"21000","v":21000},null,{"$f":"I207-J207-K207","v":21000},{"$nulls":12},{"$f":"V207-W207-X207","v":0}]
[{"$f":"VLOOKUP(B208,справочник!$B$2:$E$322,4,0)","v":26},{"$f":"CONCATENATE(C208;D208)","v":{"$error":"#VALUE!"}},26,"Олейников Дмитрий Александрович","50:03:0070280:855","2011-09-02","2011-09-01",{"$f":"INT(($H$327-G208)/30)","v":52},{"$f":"H208*1000","v":52000},null,null,{"$f":"I208-J208-K208","v":52000},{"$nulls":12},{"$f":"V208-W208-X208","v":0}]
[{"$f":"VLOOKUP(B209,справочник!$B$2:$E$322,4,0)","v":71},{"$f":"CONCATENATE(C209;D209)","v":{"$error":"#VALUE!"}},77,"Олейникова Евгения Александровна","50:03:0070280:803","2011-09-02","2011-09-01",{"$f":"INT(($H$327-G209)/30)","v":52},{"$f":"H209*1000","v":52000},{"$f":"36000+4000","v":40000},null,{"$f":"I209-J209-K209","v":12000},{"$nulls":12},{"$f":"V209-W209-X209","v":0}]
[{"$f":"VLOOKUP(B210,справочник!$B$2:$E$322,4,0)","v":6},{"$f":"CONCATENATE(C210;D210)","v":{"$error":"#VALUE!"}},6,"Осадчев Константин Владимирович","50:03:0070280:708","2014-10-27","2014-11-01",{"$f":"INT(($H$327-G210)/30)","v":14},{"$f":"H210*1000","v":14000},null,null,{"$f":"I210-J210-K210","v":14000},{"$nulls":12},{"$f":"V210-W210-X210","v":0}]
[{"$f":"VLOOKUP(B211,справочник!$B$2:$E$322,4,0)","v":80},{"$f":"CONCATENATE(C211;D211)","v":{"$error":"#VALUE!"}},85,"Острикова Наталья Львовна","50:03:0070280:880","2012-03-27","2012-04-01",{"$f":"INT(($H$327-G211)/30)","v":45},{"$f":"H211*1000","v":45000},45000,null,{"$f":"I211-J211-K211","v":0},{"$nulls":12},{"$f":"V211-W211-X211","v":0}]
[{"$f":"VLOOKUP(B212,справочник!$B$2:$E$322,4,0)","v":201},{"$f":"CONCATENATE(C212;D212)","v":{"$error":"#VALUE!"}},209,"Пархачева Эльвира Валентиновна (Алксандр)","50:03:0070280:871","2012-03-06","2012-03-01",{"$f":"INT(($H$327-G212)/30)","v":46},{"$f":"H212*1000","v":46000},38000,null,{"$f":"I212-J212-K212","v":8000},{"$nulls":12},{"$f":"V212-W212-X212","v":0}]
[{"$f":"VLOOKUP(B213,справочник!$B$2:$E$322,4,0)","v":147},{"$f":"CONCATENATE(C213;D213)","v":{"$error":"#VALUE!"}},155,"Пахарева Ольга Александровна (Дмитрий)","50:03:0070280:955","2012-02-13","2012-02-01",{"$f":"INT(($H$327-G213)/30)","v":47},{"$f":"H213*1000","v":47000},32000,null,{"$f":"I213-J213-K213","v":15000},{"$nulls":12},{"$f":"V213-W213-X213","v":0}]
[{"$f":"VLOOKUP(B214,справочник!$B$2:$E$322,4,0)","v":{"$error":"#VALUE!"}},{"$f":"CONCATENATE(C214;D214)","v":{"$error":"#VALUE!"}},29,"Петрик Наталья Вячеславовна(ПродалаУстинова Ирина)","50:03:0070280:858","2012-01-15","2012-01-01",7,{"$f":"H214*1000","v":7000},7000,null,{"$f":"I214-J214-K214","v":0},{"$nulls":12},{"$f":"V214-W214-X214","v":0}]
[{"$f":"VLOOKUP(B215,справочник!$B$2:$E$322,4,0)","v":33},{"$f":"CONCATENATE(C215;D215)","v":{"$error":"#VALUE!"}},33,"Петров Борис Викторович","50:03:0070280:903","2011-09-05","2011-09-01",{"$f":"INT(($H$327-G215)/30)","v":52},{"$f":"H215*1000","v":52000},{"$f":"1000+44000","v":45000},null,{"$f":"I215-J215-K215","v":7000},{"$nulls":12},{"$f":"V215-W215-X215","v":0}]
[{"$f":"VLOOKUP(B216,справочник!$B$2:$E$322,4,0)","v":169},{"$f":"CONCATENATE(C216;D216)","v":{"$error":"#VALUE!"}},177,"Петрова Елена Николаевна","50:03:0070280:768","2013-11-20","2013-12-01",{"$f":"INT(($H$327-G216)/30)","v":25},{"$f":"H216*1000","v":25000},21000,null,{"$f":"I216-J216-K216","v":4000},{"$nulls":12},{"$f":"V216-W216-X216","v":0}]
[{"$f":"VLOOKUP(B217,справочник!$B$2:$E$322,4,0)","v":185},{"$f":"CONCATENATE(C217;D217)","v":{"$error":"#VALUE!"}},193,"Петункин Игорь Минович","50:03:0070280:915","2013-08-20","2013-09-01",{"$f":"INT(($H$327-G217)/30)","v":28},{"$f":"H217*1000","v":28000},14000,null,{"$f":"I217-J217-K217","v":14000},{"$nulls":12},{"$f":"V217-W217-X217","v":0}]
[{"$f":"VLOOKUP(B218,справочник!$B$2:$E$322,4,0)","v":176},{"$f":"CONCATENATE(C218;D218)","v":{"$error":"#VALUE!"}},184,"Пикалёва Алла Григорьевна (Юрий)","50:03:0070280:920","2014-04-05","2014-05-01",{"$f":"INT(($H$327-G218)/30)","v":20},{"$f":"H218*1000","v":20000},3000,null,{"$f":"I218-J218-K218","v":17000},{"$nulls":12},{"$f":"V218-W218-X218","v":0}]
[{"$f":"VLOOKUP(B219,справочник!$B$2:$E$322,4,0)","v":307},{"$f":"CONCATENATE(C219;D219)","v":{"$error":"#VALUE!"}},322,"Поликарпова Наталья Дмитриевна","50:03:0070280:1012","2012-07-24","2012-08-01",{"$f":"INT(($H$327-G219)/30)","v":41},{"$f":"H219*1000","v":41000},27000,null,{"$f":"I219-J219-K219","v":14000},{"$nulls":12},{"$f":"V219-W219-X219","v":0}]
[{"$f":"VLOOKUP(B220,справочник!$B$2:$E$322,4,0)","v":177},{"$f":"CONCATENATE(C220;D220)","v":{"$error":"#VALUE!"}},185,"Полякова Марина Александровна","50:03:0070280:762","2014-09-16","2014-10-01",{"$f":"INT(($H$327-G220)/30)","v":15},{"$f":"H220*1000","v":15000},12000,null,{"$f":"I220-J220-K220","v":3000},{"$nulls":12},{"$f":"V220-W220-X220","v":0}]
[{"$f":"VLOOKUP(B221,справочник!$B$2:$E$322,4,0)","v":160},{"$f":"CONCATENATE(C221;D221)","v":{"$error":"#VALUE!"}},168,"Пономарева Олеся Сергеевна","50:03:0070280:924","2012-06-19","2012-07-01",{"$f":"INT(($H$327-G221)/30)","v":42},{"$f":"H221*1000","v":42000},21000,null,{"$f":"I221-J221-K221","v":21000},{"$nulls":12},{"$f":"V221-W221-X221","v":0}]
[{"$f":"VLOOKUP(B222,справочник!$B$2:$E$322,4,0)","v":53},{"$f":"CONCATENATE(C222;D222)","v":{"$error":"#VALUE!"}},55,"Попова Нина Ивановна","50:03:0070280:944","2014-12-22","2015-01-01",{"$f":"INT(($H$327-G222)/30)","v":12},{"$f":"H222*1000","v":12000},12000,null,{"$f":"I222-J222-K222","v":0},{"$nulls":12},{"$f":"V222-W222-X222","v":0}]
[{"$f":"VLOOKUP(B223,справочник!$B$2:$E$322,4,0)","v":102},{"$f":"CONCATENATE(C223;D223)","v":{"$error":"#VALUE!"}},107,"Постернак Татьяна Николаевна","50:03:0070280:821","2011-08-02","2011-08-01",{"$f":"INT(($H$327-G223)/30)","v":53},{"$f":"H223*1000","v":53000},{"$f":"52000+1000","v":53000},null,{"$f":"I223-J223-K223","v":0},{"$nulls":12},{"$f":"V223-W223-X223","v":0}]
[{"$f":"VLOOKUP(B224,справочник!$B$2:$E$322,4,0)","v":174},{"$f":"CONCATENATE(C224;D224)","v":{"$error":"#VALUE!"}},182,"Просянов Александр Александрович","50:03:0070280:763","2013-03-19","2013-04-01",{"$f":"INT(($H$327-G224)/30)","v":33},{"$f":"H224*1000","v":33000},33000,null,{"$f":"I224-J224-K224","v":0},{"$nulls":12},{"$f":"V224-W224-X224","v":0}]
[{"$f":"VLOOKUP(B225,справочник!$B$2:$E$322,4,0)","v":165},{"$f":"CONCATENATE(C225;D225)","v":{"$error":"#VALUE!"}},173,"Прохоров Владимир Михайлович","50:03:0070280:922",null,null,17,{"$f":"H225*1000","v":17000},17000,null,{"$f":"I225-J225-K225","v":0},{"$nulls":12},{"$f":"V225-W225-X225","v":0}]
[{"$f":"VLOOKUP(B226,справочник!$B$2:$E$322,4,0)","v":251},{"$f":"CONCATENATE(C226;D226)","v":{"$error":"#VALUE!"}},262,"Пузанова Екатерина Вячеславовна","50:03:0070280:741","2014-04-22","2014-05-01",{"$f":"INT(($H$327-G226)/30)","v":20},{"$f":"H226*1000","v":20000},null,null,{"$f":"I226-J226-K226","v":20000},{"$nulls":12},{"$f":"V226-W226-X226","v":0}]
[{"$f":"VLOOKUP(B227,справочник!$B$2:$E$322,4,0)","v":315},{"$f":"CONCATENATE(C227;D227)","v":{"$error":"#VALUE!"}},"265-266","Ратников Алексей Сергеевич","50:03:0070280:738","2011-12-13","2011-12-01",{"$f":"INT(($H$327-G227)/30)","v":49},{"$f":"H227*1000","v":49000},{"$f":"28000+2000","v":30000},null,{"$f":"I227-J227-K227","v":19000},{"$nulls":12},{"$f":"V227-W227-X227","v":0}]
[{"$f":"VLOOKUP(B228,справочник!$B$2:$E$322,4,0)","v":{"$error":"#VALUE!"}},{"$f":"CONCATENATE(C228;D228)","v":{"$error":"#VALUE!"}},"210-211","Решетов Владимир Генадьевич","50:03:0070280:1464","2011-09-30","2011-10-01",{"$f":"INT(($H$327-G228)/30)","v":51},61000,{"$f":"2000+55000","v":57000},4000,{"$f":"I228-J228-K228","v":0},{"$nulls":12},{"$f":"V228-W228-X228","v":0}]
[{"$f":"VLOOKUP(B229,справочник!$B$2:$E$322,4,0)","v":{"$error":"#VALUE!"}},{"$f":"CONCATENATE(C229;D229)","v":{"$error":"#VALUE!"}},"246-247","Решетов Владимир Геннадьевич","50:03:0070280:1464","2011-09-30","2011-10-01",{"$f":"INT(($H$327-G229)/30)","v":51},61000,58000,3000,{"$f":"I229-J229-K229","v":0},{"$nulls":12},{"$f":"V229-W229-X229","v":0}]
[{"$f":"VLOOKUP(B230,справочник!$B$2:$E$322,4,0)","v":195},{"$f":"CONCATENATE(C230;D230)","v":{"$error":"#VALUE!"}},203,"Родичева Наталья Николаевна - Завилевская Е.И. ???","50:03:0070280:885","2013-11-21","2013-12-01",{"$f":"INT(($H$327-G230)/30)","v":25},{"$f":"H230*1000","v":25000},1000,null,{"$f":"I230-J230-K230","v":24000},{"$nulls":12},{"$f":"V230-W230-X230","v":0}]
[{"$f":"VLOOKUP(B231,справочник!$B$2:$E$322,4,0)","v":144},{"$f":"CONCATENATE(C231;D231)","v":{"$error":"#VALUE!"}},152,"Рожкова Глафира Андреевна","50:03:0070280:1031","2011-09-02","2011-09-01",{"$f":"INT(($H$327-G231)/30)","v":52},{"$f":"H231*1000","v":52000},1000,null,{"$f":"I231-J231-K231","v":51000},{"$nulls":12},{"$f":"V231-W231-X231","v":0}]
[{"$f":"VLOOKUP(B232,справочник!$B$2:$E$322,4,0)","v":144},{"$f":"CONCATENATE(C232;D232)","v":{"$error":"#VALUE!"}},153,"Рожкова Глафира Андреевна",null,"2011-09-02","2011-09-01",{"$f":"INT(($H$327-G232)/30)","v":52},{"$f":"H232*1000","v":52000},1000,null,{"$f":"I232-J232-K232","v":51000},{"$nulls":12},{"$f":"V232-W232-X232","v":0}]
[{"$f":"VLOOKUP(B233,справочник!$B$2:$E$322,4,0)","v":74},{"$f":"CONCATENATE(C233;D233)","v":{"$error":"#VALUE!"}},80,"Розова Татьяна Викторовна","50:03:0070280:749","2013-02-05","2013-03-01",{"$f":"INT(($H$327-G233)/30)","v":34},{"$f":"H233*1000","v":34000},31000,null,{"$f":"I233-J233-K233","v":3000},{"$nulls":12},{"$f":"V233-W233-X233","v":0}]
[{"$f":"VLOOKUP(B234,справочник!$B$2:$E$322,4,0)","v":74},{"$f":"CONCATENATE(C234;D234)","v":{"$error":"#VALUE!"}},81,"Розова Татьяна Викторовна","50:03:0070280:750","2011-05-19","2011-06-01",{"$f":"INT(($H$327-G234)/30)","v":55},{"$f":"H234*1000","v":55000},{"$f":"7000+48000-3000","v":52000},null,{"$f":"I234-J234-K234","v":3000},{"$nulls":12},{"$f":"V234-W234-X234","v":0}]
[{"$f":"VLOOKUP(B235,справочник!$B$2:$E$322,4,0)","v":68},{"$f":"CONCATENATE(C235;D235)","v":{"$error":"#VALUE!"}},70,"Рощина Ирина Михайловна","50:03:0070280:754","2011-05-24","2011-05-01",{"$f":"INT(($H$327-G235)/30)","v":56},{"$f":"H235*1000","v":56000},{"$f":"12000+44000","v":56000},null,{"$f":"I235-J235-K235","v":0},{"$nulls":12},{"$f":"V235-W235-X235","v":0}]
[{"$f":"VLOOKUP(B236,справочник!$B$2:$E$322,4,0)","v":224},{"$f":"CONCATENATE(C236;D236)","v":{"$error":"#VALUE!"}},233,"Рудая Наталья Викторовна","50:03:0070280:830","2014-04-22","2014-05-01",{"$f":"INT(($H$327-G236)/30)","v":20},{"$f":"H236*1000","v":20000},null,null,{"$f":"I236-J236-K236","v":20000},{"$nulls":12},{"$f":"V236-W236-X236","v":0}]
[{"$f":"VLOOKUP(B237,справочник!$B$2:$E$322,4,0)","v":134},{"$f":"CONCATENATE(C237;D237)","v":{"$error":"#VALUE!"}},141,"Рыбалкин Андрей Сергеевич","50:03:0070280:893","2011-12-16","2011-12-01",{"$f":"INT(($H$327-G237)/30)","v":49},{"$f":"H237*1000","v":49000},{"$f":"37000","v":37000},null,{"$f":"I237-J237-K237","v":12000},{"$nulls":12},{"$f":"V237-W237-X237","v":0}]
[{"$f":"VLOOKUP(B238,справочник!$B$2:$E$322,4,0)","v":267},{"$f":"CONCATENATE(C238;D238)","v":{"$error":"#VALUE!"}},280,"Рыжов Андрей Николаевич","50:03:0070280:721","2012-04-24","2012-04-01",{"$f":"INT(($H$327-G238)/30)","v":45},{"$f":"H238*1000","v":45000},{"$f":"41000","v":41000},null,{"$f":"I238-J238-K238","v":4000},{"$nulls":12},{"$f":"V238-W238-X238","v":0}]
[{"$f":"VLOOKUP(B239,справочник!$B$2:$E$322,4,0)","v":258},{"$f":"CONCATENATE(C239;D239)","v":{"$error":"#VALUE!"}},271,"Савина Нина Ивановна","50:03:0070280:732","2012-05-10","2012-05-01",{"$f":"INT(($H$327-G239)/30)","v":44},{"$f":"H239*1000","v":44000},44000,null,{"$f":"I239-J239-K239","v":0},{"$nulls":12},{"$f":"V239-W239-X239","v":0}]
[{"$f":"VLOOKUP(B240,справочник!$B$2:$E$322,4,0)","v":299},{"$f":"CONCATENATE(C240;D240)","v":{"$error":"#VALUE!"}},314,"Садовников Алексей Владимирович(Рошка Александр Николаевич)",null,"2015-01-13","2013-01-01",{"$f":"INT(($H$327-G240)/30)","v":36},{"$f":"H240*1000","v":36000},{"$f":"1000","v":1000},3000,{"$f":"I240-J240-K240","v":32000},{"$nulls":12},{"$f":"V240-W240-X240","v":0}]
[{"$f":"VLOOKUP(B241,справочник!$B$2:$E$322,4,0)","v":210},{"$f":"CONCATENATE(C241;D241)","v":{"$error":"#VALUE!"}},219,"Сазонов Сергей Александрович - Диденко Оксана Владимировна",null,"2014-10-01","2014-11-01",{"$f":"INT(($H$327-G241)/30)","v":14},{"$f":"H241*1000","v":14000},{"$f":"6000","v":6000},null,{"$f":"I241-J241-K241","v":8000},{"$nulls":12},{"$f":"V241-W241-X241","v":0}]
[{"$f":"VLOOKUP(B242,справочник!$B$2:$E$322,4,0)","v":239},{"$f":"CONCATENATE(C242;D242)","v":{"$error":"#VALUE!"}},250,"Салопаева Татьяна Сергеевна","50:03:0070280:722","2012-03-05","2012-03-01",{"$f":"INT(($H$327-G242)/30)","v":46},{"$f":"H242*1000","v":46000},26000,null,{"$f":"I242-J242-K242","v":20000},{"$nulls":12},{"$f":"V242-W242-X242","v":0}]
[{"$f":"VLOOKUP(B243,справочник!$B$2:$E$322,4,0)","v":238},{"$f":"CONCATENATE(C243;D243)","v":{"$error":"#VALUE!"}},249,"Самоволькина Ирина Владимировна","50:03:0070280:723","2012-06-19","2012-06-01",{"$f":"INT(($H$327-G243)/30)","v":43},{"$f":"H243*1000","v":43000},null,null,{"$f":"I243-J243-K243","v":43000},{"$nulls":12},{"$f":"V243-W243-X243","v":0}]
[{"$f":"VLOOKUP(B244,справочник!$B$2:$E$322,4,0)","v":297},{"$f":"CONCATENATE(C244;D244)","v":{"$error":"#VALUE!"}},312,"Саргсян Оганнес Ншанович","50:03:0070280:1003","2014-12-31","2015-01-01",{"$f":"INT(($H$327-G244)/30)","v":12},{"$f":"H244*1000","v":12000},null,null,{"$f":"I244-J244-K244","v":12000},{"$nulls":12},{"$f":"V244-W244-X244","v":0}]
[{"$f":"VLOOKUP(B245,справочник!$B$2:$E$322,4,0)","v":128},{"$f":"CONCATENATE(C245;D245)","v":{"$error":"#VALUE!"}},135,"Сафронова Наталья Михайловна (у Дедков Илья Егорьевич купила)","50:03:0070280:976","2013-03-25","2013-04-01",{"$f":"INT(($H$327-G245)/30)","v":33},{"$f":"H245*1000","v":33000},26000,null,{"$f":"I245-J245-K245","v":7000},{"$nulls":12},{"$f":"V245-W245-X245","v":0}]
[{"$f":"VLOOKUP(B246,справочник!$B$2:$E$322,4,0)","v":67},{"$f":"CONCATENATE(C246;D246)","v":{"$error":"#VALUE!"}},69,"Сбитнева Юлия Сергеевна","50:03:0070280:881","2012-04-13","2012-04-01",{"$f":"INT(($H$327-G246)/30)","v":45},{"$f":"H246*1000","v":45000},1000,null,{"$f":"I246-J246-K246","v":44000},{"$nulls":12},{"$f":"V246-W246-X246","v":0}]
[{"$f":"VLOOKUP(B247,справочник!$B$2:$E$322,4,0)","v":278},{"$f":"CONCATENATE(C247;D247)","v":{"$error":"#VALUE!"}},290,"Севастьянов Михаил Григорьевич","50:03:0070280:779","2011-12-20","2011-12-01",{"$f":"INT(($H$327-G247)/30)","v":49},{"$f":"H247*1000","v":49000},1000,null,{"$f":"I247-J247-K247","v":48000},{"$nulls":12},{"$f":"V247-W247-X247","v":0}]
[{"$f":"VLOOKUP(B248,справочник!$B$2:$E$322,4,0)","v":280},{"$f":"CONCATENATE(C248;D248)","v":{"$error":"#VALUE!"}},292,"Севрюгина Ольга Викторовна","50:03:0070280:777","2011-12-20","2011-12-01",{"$f":"INT(($H$327-G248)/30)","v":49},{"$f":"H248*1000","v":49000},{"$f":"43000+1000","v":44000},null,{"$f":"I248-J248-K248","v":5000},{"$nulls":12},{"$f":"V248-W248-X248","v":0}]
[{"$f":"VLOOKUP(B249,справочник!$B$2:$E$322,4,0)","v":215},{"$f":"CONCATENATE(C249;D249)","v":{"$error":"#VALUE!"}},224,"Семенова Рима Прановна","50:03:0070280:839","2014-05-13","2014-06-01",{"$f":"INT(($H$327-G249)/30)","v":19},{"$f":"H249*1000","v":19000},16000,null,{"$f":"I249-J249-K249","v":3000},{"$nulls":12},{"$f":"V249-W249-X249","v":0}]
[{"$f":"VLOOKUP(B250,справочник!$B$2:$E$322,4,0)","v":241},{"$f":"CONCATENATE(C250;D250)","v":{"$error":"#VALUE!"}},252,"Сёмин Александр Иванович","50:03:0070280:793","2011-05-14","2011-06-01",{"$f":"INT(($H$327-G250)/30)","v":55},{"$f":"H250*1000","v":55000},{"$f":"7000+41000","v":48000},null,{"$f":"I250-J250-K250","v":7000},{"$nulls":12},{"$f":"V250-W250-X250","v":0}]
[{"$f":"VLOOKUP(B251,справочник!$B$2:$E$322,4,0)","v":161},{"$f":"CONCATENATE(C251;D251)","v":{"$error":"#VALUE!"}},169,"Сергиенко Николай Михайлович","50:03:0070280:923","2012-05-10","2012-05-01",{"$f":"INT(($H$327-G251)/30)","v":44},{"$f":"H251*1000","v":44000},38000,null,{"$f":"I251-J251-K251","v":6000},{"$nulls":12},{"$f":"V251-W251-X251","v":0}]
[{"$f":"VLOOKUP(B252,справочник!$B$2:$E$322,4,0)","v":272},{"$f":"CONCATENATE(C252;D252)","v":{"$error":"#VALUE!"}},285,"Серебряков Игорь Васильевич","50:03:0070280:715","2015-02-09","2015-03-01",{"$f":"INT(($H$327-G252)/30)","v":10},{"$f":"H252*1000","v":10000},5000,null,{"$f":"I252-J252-K252","v":5000},{"$nulls":12},{"$f":"V252-W252-X252","v":0}]
[{"$f":"VLOOKUP(B253,справочник!$B$2:$E$322,4,0)","v":19},{"$f":"CONCATENATE(C253;D253)","v":{"$error":"#VALUE!"}},19,"Серкин Сергей Львовович","50:03:0070280:743","2013-05-27","2013-07-01",{"$f":"INT(($H$327-G253)/30)","v":30},{"$f":"H253*1000","v":30000},30000,null,{"$f":"I253-J253-K253","v":0},{"$nulls":12},{"$f":"V253-W253-X253","v":0}]
[{"$f":"VLOOKUP(B254,справочник!$B$2:$E$322,4,0)","v":310},{"$f":"CONCATENATE(C254;D254)","v":{"$error":"#VALUE!"}},"133-134","Сидельникова Ольга Петровна","50:03:0070280:979","2011-08-23","2011-09-01",{"$f":"INT(($H$327-G254)/30)","v":52},{"$f":"H254*1000","v":52000},12000,null,{"$f":"I254-J254-K254","v":40000},{"$nulls":12},{"$f":"V254-W254-X254","v":0}]
[{"$f":"VLOOKUP(B255,справочник!$B$2:$E$322,4,0)","v":205},{"$f":"CONCATENATE(C255;D255)","v":{"$error":"#VALUE!"}},215,"Сидоров Александр Юрьевич","50:03:0070280:848","2012-04-24","2012-04-01",{"$f":"INT(($H$327-G255)/30)","v":45},{"$f":"H255*1000","v":45000},33000,null,{"$f":"I255-J255-K255","v":12000},{"$nulls":12},{"$f":"V255-W255-X255","v":0}]
[{"$f":"VLOOKUP(B256,справочник!$B$2:$E$322,4,0)","v":107},{"$f":"CONCATENATE(C256;D256)","v":{"$error":"#VALUE!"}},112,"Сиротин Дмитрий Борисович (Приставалова)","50:03:0070280:816","2012-01-24","2012-01-01",{"$f":"INT(($H$327-G256)/30)","v":48},{"$f":"H256*1000","v":48000},40000,4000,{"$f":"I256-J256-K256","v":4000},{"$nulls":12},{"$f":"V256-W256-X256","v":0}]
[{"$f":"VLOOKUP(B257,справочник!$B$2:$E$322,4,0)","v":48},{"$f":"CONCATENATE(C257;D257)","v":{"$error":"#VALUE!"}},48,"Сломов Константин Витальевич","50:03:0070280:989","2011-08-31","2011-09-01",{"$f":"INT(($H$327-G257)/30)","v":52},{"$f":"H257*1000","v":52000},{"$f":"1000+22000","v":23000},null,{"$f":"I257-J257-K257","v":29000},{"$nulls":12},{"$f":"V257-W257-X257","v":0}]
[{"$f":"VLOOKUP(B258,справочник!$B$2:$E$322,4,0)","v":237},{"$f":"CONCATENATE(C258;D258)","v":{"$error":"#VALUE!"}},248,"Смирнов Максим Анатольевич, Светлана","50:03:0070280:870","2012-05-07","2012-05-01",{"$f":"INT(($H$327-G258)/30)","v":44},{"$f":"H258*1000","v":44000},13000,null,{"$f":"I258-J258-K258","v":31000},{"$nulls":12},{"$f":"V258-W258-X258","v":0}]
[{"$f":"VLOOKUP(B259,справочник!$B$2:$E$322,4,0)","v":263},{"$f":"CONCATENATE(C259;D259)","v":{"$error":"#VALUE!"}},276,"Соколова Ирина Анатольевна","50:03:0070280:727","2013-01-15","2013-02-01",{"$f":"INT(($H$327-G259)/30)","v":35},{"$f":"H259*1000","v":35000},32000,null,{"$f":"I259-J259-K259","v":3000},{"$nulls":12},{"$f":"V259-W259-X259","v":0}]
[{"$f":"VLOOKUP(B260,справочник!$B$2:$E$322,4,0)","v":100},{"$f":"CONCATENATE(C260;D260)","v":{"$error":"#VALUE!"}},105,"Солодкий Дмитрий Павлович","50:03:0070280:771","2012-06-05","2012-06-01",{"$f":"INT(($H$327-G260)/30)","v":43},{"$f":"H260*1000","v":43000},28000,null,{"$f":"I260-J260-K260","v":15000},{"$nulls":12},{"$f":"V260-W260-X260","v":0}]
[{"$f":"VLOOKUP(B261,справочник!$B$2:$E$322,4,0)","v":131},{"$f":"CONCATENATE(C261;D261)","v":{"$error":"#VALUE!"}},138,"Спивак Сергей Николаевич","50:03:0070280:974","2012-07-24","2012-08-01",{"$f":"INT(($H$327-G261)/30)","v":41},{"$f":"H261*1000","v":41000},23000,6000,{"$f":"I261-J261-K261","v":12000},{"$nulls":12},{"$f":"V261-W261-X261","v":0}]
[{"$f":"VLOOKUP(B262,справочник!$B$2:$E$322,4,0)","v":183},{"$f":"CONCATENATE(C262;D262)","v":{"$error":"#VALUE!"}},191,"Спиридонов Андрей Владимирович","50:03:0070280:917","2013-08-19","2013-09-01",{"$f":"INT(($H$327-G262)/30)","v":28},{"$f":"H262*1000","v":28000},1000,null,{"$f":"I262-J262-K262","v":27000},{"$nulls":12},{"$f":"V262-W262-X262","v":0}]
[{"$f":"VLOOKUP(B263,справочник!$B$2:$E$322,4,0)","v":183},{"$f":"CONCATENATE(C263;D263)","v":{"$error":"#VALUE!"}},192,"Спиридонов Андрей Владимирович","50:03:0070280:916","2013-08-19","2013-09-01",{"$f":"INT(($H$327-G263)/30)","v":28},{"$f":"H263*1000","v":28000},1000,null,{"$f":"I263-J263-K263","v":27000},{"$nulls":12},{"$f":"V263-W263-X263","v":0}]
[{"$f":"VLOOKUP(B264,справочник!$B$2:$E$322,4,0)","v":21},{"$f":"CONCATENATE(C264;D264)","v":{"$error":"#VALUE!"}},21,"Старостин Виктор Вячеславович","50:03:0070280:745","2012-07-17","2012-07-01",{"$f":"INT(($H$327-G264)/30)","v":42},{"$f":"H264*1000","v":42000},40000,null,{"$f":"I264-J264-K264","v":2000},{"$nulls":12},{"$f":"V264-W264-X264","v":0}]
[{"$f":"VLOOKUP(B265,справочник!$B$2:$E$322,4,0)","v":298},{"$f":"CONCATENATE(C265;D265)","v":{"$error":"#VALUE!"}},313,"Степанов Валерий Владимирович","50:03:0070280:1004","2014-12-21","2015-01-01",{"$f":"INT(($H$327-G265)/30)","v":12},{"$f":"H265*1000","v":12000},12000,null,{"$f":"I265-J265-K265","v":0},{"$nulls":12},{"$f":"V265-W265-X265","v":0}]
[{"$f":"VLOOKUP(B266,справочник!$B$2:$E$322,4,0)","v":91},{"$f":"CONCATENATE(C266;D266)","v":{"$error":"#VALUE!"}},96,"Степанова Марина Николаевна (Артем)","50:03:0070280:824","2012-06-10","2012-06-01",{"$f":"INT(($H$327-G266)/30)","v":43},{"$f":"H266*1000","v":43000},12000,null,{"$f":"I266-J266-K266","v":31000},{"$nulls":12},{"$f":"V266-W266-X266","v":0}]
[{"$f":"VLOOKUP(B267,справочник!$B$2:$E$322,4,0)","v":54},{"$f":"CONCATENATE(C267;D267)","v":{"$error":"#VALUE!"}},56,"Стрелков Андрей Вячеславович","50:03:0070280:965","2012-10-02","2012-11-01",{"$f":"INT(($H$327-G267)/30)","v":38},{"$f":"H267*1000","v":38000},38000,null,{"$f":"I267-J267-K267","v":0},{"$nulls":12},{"$f":"V267-W267-X267","v":0}]
[{"$f":"VLOOKUP(B268,справочник!$B$2:$E$322,4,0)","v":317},{"$f":"CONCATENATE(C268;D268)","v":{"$error":"#VALUE!"}},"51-52","Стрелков Андрей Вячеславович","50:03:0070280:970","2012-10-02","2012-11-01",{"$f":"INT(($H$327-G268)/30)*2","v":76},89000,89000,null,{"$f":"I268-J268-K268","v":0},{"$nulls":12},{"$f":"V268-W268-X268","v":0}]
[{"$f":"VLOOKUP(B269,справочник!$B$2:$E$322,4,0)","v":268},{"$f":"CONCATENATE(C269;D269)","v":{"$error":"#VALUE!"}},281,"Стрелков Николай Валентинович","50:03:0070280:719","2012-10-02","2012-11-01",{"$f":"INT(($H$327-G269)/30)","v":38},{"$f":"H269*1000","v":38000},28000,null,{"$f":"I269-J269-K269","v":10000},{"$nulls":12},{"$f":"V269-W269-X269","v":0}]
[{"$f":"VLOOKUP(B270,справочник!$B$2:$E$322,4,0)","v":172},{"$f":"CONCATENATE(C270;D270)","v":{"$error":"#VALUE!"}},180,"Ступнев Евгений  Романович","50:03:0070280:765","2011-09-23","2011-09-01",{"$f":"INT(($H$327-G270)/30)","v":52},{"$f":"H270*1000","v":52000},{"$f":"13000+1000","v":14000},null,{"$f":"I270-J270-K270","v":38000},{"$nulls":12},{"$f":"V270-W270-X270","v":0}]
[{"$f":"VLOOKUP(B271,справочник!$B$2:$E$322,4,0)","v":116},{"$f":"CONCATENATE(C271;D271)","v":{"$error":"#VALUE!"}},121,"Суворов Сергей Анатольевич","50:03:0070280:1018","2013-09-14","2013-09-01",{"$f":"INT(($H$327-G271)/30)","v":28},{"$f":"H271*1000","v":28000},20000,null,{"$f":"I271-J271-K271","v":8000},{"$nulls":12},{"$f":"V271-W271-X271","v":0}]
[{"$f":"VLOOKUP(B272,справочник!$B$2:$E$322,4,0)","v":57},{"$f":"CONCATENATE(C272;D272)","v":{"$error":"#VALUE!"}},59,"Суркова Татьяна Александровна","50:03:0070280:962","2012-05-15","2012-05-01",{"$f":"INT(($H$327-G272)/30)","v":44},{"$f":"H272*1000","v":44000},34000,null,{"$f":"I272-J272-K272","v":10000},{"$nulls":12},{"$f":"V272-W272-X272","v":0}]
[{"$f":"VLOOKUP(B273,справочник!$B$2:$E$322,4,0)","v":46},{"$f":"CONCATENATE(C273;D273)","v":{"$error":"#VALUE!"}},46,"Сысоев Евгений Анатольевич","50:03:0070280:971","2013-04-18","2013-05-01",{"$f":"INT(($H$327-G273)/30)","v":32},{"$f":"H273*1000","v":32000},17000,null,{"$f":"I273-J273-K273","v":15000},{"$nulls":12},{"$f":"V273-W273-X273","v":0}]
[{"$f":"VLOOKUP(B274,справочник!$B$2:$E$322,4,0)","v":73},{"$f":"CONCATENATE(C274;D274)","v":{"$error":"#VALUE!"}},79,"Сысоев Семен Евгеньевич","50:03:0070280:748","2013-04-18","2013-05-01",{"$f":"INT(($H$327-G274)/30)","v":32},{"$f":"H274*1000","v":32000},21000,null,{"$f":"I274-J274-K274","v":11000},{"$nulls":12},{"$f":"V274-W274-X274","v":0}]
[{"$f":"VLOOKUP(B275,справочник!$B$2:$E$322,4,0)","v":162},{"$f":"CONCATENATE(C275;D275)","v":{"$error":"#VALUE!"}},170,"Тадлов Виталий Петрович","50:03:0070280:770","2014-06-10","2014-07-01",{"$f":"INT(($H$327-G275)/30)","v":18},{"$f":"H275*1000","v":18000},12000,null,{"$f":"I275-J275-K275","v":6000},{"$nulls":12},{"$f":"V275-W275-X275","v":0}]
[{"$f":"VLOOKUP(B276,справочник!$B$2:$E$322,4,0)","v":252},{"$f":"CONCATENATE(C276;D276)","v":{"$error":"#VALUE!"}},263,"Тарасенко Анатолий Семенович","50:03:0070280:740","2014-11-24","2014-12-01",{"$f":"INT(($H$327-G276)/30)","v":13},{"$f":"H276*1000","v":13000},8000,null,{"$f":"I276-J276-K276","v":5000},{"$nulls":12},{"$f":"V276-W276-X276","v":0}]
[{"$f":"VLOOKUP(B277,справочник!$B$2:$E$322,4,0)","v":252},{"$f":"CONCATENATE(C277;D277)","v":{"$error":"#VALUE!"}},264,"Тарасенко Анатолий Семенович","50:03:0070280:739","2014-11-24","2014-12-01",{"$f":"INT(($H$327-G277)/30)","v":13},{"$f":"H277*1000","v":13000},8000,null,{"$f":"I277-J277-K277","v":5000},{"$nulls":12},{"$f":"V277-W277-X277","v":0}]
[{"$f":"VLOOKUP(B278,справочник!$B$2:$E$322,4,0)","v":45},{"$f":"CONCATENATE(C278;D278)","v":{"$error":"#VALUE!"}},45,"Темникова Елена Станиславовна","50:03:0070280:988","2012-05-15","2012-05-01",{"$f":"INT(($H$327-G278)/30)","v":44},{"$f":"H278*1000","v":44000},{"$f":"27000+8000","v":35000},9000,{"$f":"I278-J278-K278","v":0},{"$nulls":12},{"$f":"V278-W278-X278","v":0}]
[{"$f":"VLOOKUP(B279,справочник!$B$2:$E$322,4,0)","v":319},{"$f":"CONCATENATE(C279;D279)","v":{"$error":"#VALUE!"}},"73-74","Тимофеева Лариса Викторовна","50:03:0070280:884","2011-08-19","2011-09-01",{"$f":"INT(($H$327-G279)/30)","v":52},76000,{"$f":"8000+68000","v":76000},null,{"$f":"I279-J279-K279","v":0},{"$nulls":12},{"$f":"V279-W279-X279","v":0}]
[{"$f":"VLOOKUP(B280,справочник!$B$2:$E$322,4,0)","v":93},{"$f":"CONCATENATE(C280;D280)","v":{"$error":"#VALUE!"}},98,"Тимофеева Татьяна Александровна (Денис)","50:03:0070280:828","2011-08-19","2011-09-01",{"$f":"INT(($H$327-G280)/30)","v":52},{"$f":"H280*1000","v":52000},{"$f":"4000+30000","v":34000},null,{"$f":"I280-J280-K280","v":18000},{"$nulls":12},{"$f":"V280-W280-X280","v":0}]
[{"$f":"VLOOKUP(B281,справочник!$B$2:$E$322,4,0)","v":255},{"$f":"CONCATENATE(C281;D281)","v":{"$error":"#VALUE!"}},268,"Толкова Елена Анатольевна (Олег)","50:03:0070280:735","2012-02-20","2012-03-01",{"$f":"INT(($H$327-G281)/30)","v":46},{"$f":"H281*1000","v":46000},{"$f":"37000+9000","v":46000},null,{"$f":"I281-J281-K281","v":0},{"$nulls":12},{"$f":"V281-W281-X281","v":0}]
[{"$f":"VLOOKUP(B282,справочник!$B$2:$E$322,4,0)","v":167},{"$f":"CONCATENATE(C282;D282)","v":{"$error":"#VALUE!"}},175,"Трубченко Петр Александрович","50:03:0070280:890","2013-12-05","2014-01-01",{"$f":"INT(($H$327-G282)/30)","v":24},{"$f":"H282*1000","v":24000},12000,null,{"$f":"I282-J282-K282","v":12000},{"$nulls":12},{"$f":"V282-W282-X282","v":0}]
[{"$f":"VLOOKUP(B283,справочник!$B$2:$E$322,4,0)","v":99},{"$f":"CONCATENATE(C283;D283)","v":{"$error":"#VALUE!"}},104,"Трыкин Евгений Викторович","50:03:0070280:796","2012-07-14","2012-07-01",{"$f":"INT(($H$327-G283)/30)","v":42},{"$f":"H283*1000","v":42000},13000,null,{"$f":"I283-J283-K283","v":29000},{"$nulls":12},{"$f":"V283-W283-X283","v":0}]
[{"$f":"VLOOKUP(B284,справочник!$B$2:$E$322,4,0)","v":146},{"$f":"CONCATENATE(C284;D284)","v":{"$error":"#VALUE!"}},154,"Тюленев Вячеслав Рудольфович","50:03:0070280:956","2011-08-02","2011-08-01",{"$f":"INT(($H$327-G284)/30)","v":53},{"$f":"H284*1000","v":53000},{"$f":"31000","v":31000},null,{"$f":"I284-J284-K284","v":22000},{"$nulls":12},{"$f":"V284-W284-X284","v":0}]
[{"$f":"VLOOKUP(B285,справочник!$B$2:$E$322,4,0)","v":{"$error":"#VALUE!"}},{"$f":"CONCATENATE(C285;D285)","v":{"$error":"#VALUE!"}},29,"Устинов Федор Валентинович(Петрик)",null,"2012-08-09","2012-08-01",{"$f":"INT(($H$327-G285)/30)","v":41},{"$f":"H285*1000","v":41000},32000,null,{"$f":"I285-J285-K285","v":9000},{"$nulls":12},{"$f":"V285-W285-X285","v":0}]
[{"$f":"VLOOKUP(B286,справочник!$B$2:$E$322,4,0)","v":28},{"$f":"CONCATENATE(C286;D286)","v":{"$error":"#VALUE!"}},28,"Федорова Наталья Владимировна","50:03:0070280:857","2012-05-10","2012-05-01",{"$f":"INT(($H$327-G286)/30)","v":44},{"$f":"H286*1000","v":44000},{"$f":"33000+8000","v":41000},null,{"$f":"I286-J286-K286","v":3000},{"$nulls":12},{"$f":"V286-W286-X286","v":0}]
[{"$f":"VLOOKUP(B287,справочник!$B$2:$E$322,4,0)","v":27},{"$f":"CONCATENATE(C287;D287)","v":{"$error":"#VALUE!"}},27,"Федорова Юлия Владимировна","50:03:0070280:856","2012-12-17","2013-01-01",{"$f":"INT(($H$327-G287)/30)","v":36},{"$f":"H287*1000","v":36000},24000,null,{"$f":"I287-J287-K287","v":12000},{"$nulls":12},{"$f":"V287-W287-X287","v":0}]
[{"$f":"VLOOKUP(B288,справочник!$B$2:$E$322,4,0)","v":135},{"$f":"CONCATENATE(C288;D288)","v":{"$error":"#VALUE!"}},142,"Финогин Сергей Александрович","50:03:0070280:1413","2011-10-18","2011-10-01",11,{"$f":"H288*1000","v":11000},1000,null,{"$f":"I288-J288-K288","v":10000},{"$nulls":12},{"$f":"V288-W288-X288","v":0}]
[{"$f":"VLOOKUP(B289,справочник!$B$2:$E$322,4,0)","v":135},{"$f":"CONCATENATE(C289;D289)","v":{"$error":"#VALUE!"}},143,"Финогин Сергей Александрович",null,"2011-10-18","2011-10-01",11,{"$f":"H289*1000","v":11000},1000,null,{"$f":"I289-J289-K289","v":10000},{"$nulls":12},{"$f":"V289-W289-X289","v":0}]
[{"$f":"VLOOKUP(B290,справочник!$B$2:$E$322,4,0)","v":135},{"$f":"CONCATENATE(C290;D290)","v":{"$error":"#VALUE!"}},"142-143","Финогин Сергей Александрович",null,"2012-10-01","2012-10-01",{"$f":"INT(($H$327-G290)/30)","v":39},{"$f":"H290*1000","v":39000},null,null,{"$f":"I290-J290-K290","v":39000},{"$nulls":12},{"$f":"V290-W290-X290","v":0}]
[{"$f":"VLOOKUP(B291,справочник!$B$2:$E$322,4,0)","v":59},{"$f":"CONCATENATE(C291;D291)","v":{"$error":"#VALUE!"}},61,"Фисенко Вадим Петрович","50:03:0070280:930","2011-11-21","2011-11-01",{"$f":"INT(($H$327-G291)/30)","v":50},{"$f":"H291*1000","v":50000},{"$f":"1000+49000","v":50000},null,{"$f":"I291-J291-K291","v":0},{"$nulls":12},{"$f":"V291-W291-X291","v":0}]
[{"$f":"VLOOKUP(B292,справочник!$B$2:$E$322,4,0)","v":60},{"$f":"CONCATENATE(C292;D292)","v":{"$error":"#VALUE!"}},62,"Фисенко Дмитрий Петрович","50:03:0070280:931","2011-12-08","2011-12-01",{"$f":"INT(($H$327-G292)/30)","v":49},{"$f":"H292*1000","v":49000},{"$f":"8000+54000","v":62000},null,{"$f":"I292-J292-K292","v":-13000},{"$nulls":12},{"$f":"V292-W292-X292","v":0}]
[{"$f":"VLOOKUP(B293,справочник!$B$2:$E$322,4,0)","v":248},{"$f":"CONCATENATE(C293;D293)","v":{"$error":"#VALUE!"}},259,"Фомин Андрей Анатольевич","50:03:0070280:786","2013-12-20","2014-01-01",{"$f":"INT(($H$327-G293)/30)","v":24},{"$f":"H293*1000","v":24000},21300,null,{"$f":"I293-J293-K293","v":2700},{"$nulls":12},{"$f":"V293-W293-X293","v":0}]
[{"$f":"VLOOKUP(B294,справочник!$B$2:$E$322,4,0)","v":247},{"$f":"CONCATENATE(C294;D294)","v":{"$error":"#VALUE!"}},258,"Фомин Игорь Анатольевич","50:03:0070280:787","2013-12-20","2014-01-01",{"$f":"INT(($H$327-G294)/30)","v":24},{"$f":"H294*1000","v":24000},13000,null,{"$f":"I294-J294-K294","v":11000},{"$nulls":12},{"$f":"V294-W294-X294","v":0}]
[{"$f":"VLOOKUP(B295,справочник!$B$2:$E$322,4,0)","v":103},{"$f":"CONCATENATE(C295;D295)","v":{"$error":"#VALUE!"}},108,"Фомичев Александр Петрович","50:03:0070280:820","2011-06-21","2011-07-01",{"$f":"INT(($H$327-G295)/30)","v":54},{"$f":"H295*1000","v":54000},{"$f":"2000+45000","v":47000},null,{"$f":"I295-J295-K295","v":7000},{"$nulls":12},{"$f":"V295-W295-X295","v":0}]
[{"$f":"VLOOKUP(B296,справочник!$B$2:$E$322,4,0)","v":275},{"$f":"CONCATENATE(C296;D296)","v":{"$error":"#VALUE!"}},288,"Хайлов Алексей Анатольевич","50:03:0070280:712","2014-12-26","2015-01-01",{"$f":"INT(($H$327-G296)/30)","v":12},{"$f":"H296*1000","v":12000},null,null,{"$f":"I296-J296-K296","v":12000},{"$nulls":12},{"$f":"V296-W296-X296","v":0}]
[{"$f":"VLOOKUP(B297,справочник!$B$2:$E$322,4,0)","v":22},{"$f":"CONCATENATE(C297;D297)","v":{"$error":"#VALUE!"}},22,"Хан Виталий Борисович","50:03:0070280:823","2012-07-17","2012-07-01",{"$f":"INT(($H$327-G297)/30)","v":42},{"$f":"H297*1000","v":42000},{"$f":"34000+6000","v":40000},null,{"$f":"I297-J297-K297","v":2000},{"$nulls":12},{"$f":"V297-W297-X297","v":0}]
[{"$f":"VLOOKUP(B298,справочник!$B$2:$E$322,4,0)","v":20},{"$f":"CONCATENATE(C298;D298)","v":{"$error":"#VALUE!"}},20,"Харинкина Танзиля Гарафутдиновна","50:03:0070280:744","2013-06-18","2013-08-01",{"$f":"INT(($H$327-G298)/30)","v":29},{"$f":"H298*1000","v":29000},12000,null,{"$f":"I298-J298-K298","v":17000},{"$nulls":12},{"$f":"V298-W298-X298","v":0}]
[{"$f":"VLOOKUP(B299,справочник!$B$2:$E$322,4,0)","v":233},{"$f":"CONCATENATE(C299;D299)","v":{"$error":"#VALUE!"}},242,"Хаустова Люция Егоровна","50:03:0070280:878","2013-04-18","2013-05-01",{"$f":"INT(($H$327-G299)/30)","v":32},{"$f":"H299*1000","v":32000},29000,null,{"$f":"I299-J299-K299","v":3000},{"$nulls":12},{"$f":"V299-W299-X299","v":0}]
[{"$f":"VLOOKUP(B300,справочник!$B$2:$E$322,4,0)","v":256},{"$f":"CONCATENATE(C300;D300)","v":{"$error":"#VALUE!"}},269,"Хачатрян Алла Самвеловна","50:03:0070280:734","2012-04-13","2012-04-01",{"$f":"INT(($H$327-G300)/30)","v":45},{"$f":"H300*1000","v":45000},{"$f":"32000+7000","v":39000},8000,{"$f":"I300-J300-K300","v":-2000},{"$nulls":12},{"$f":"V300-W300-X300","v":0}]
[{"$f":"VLOOKUP(B301,справочник!$B$2:$E$322,4,0)","v":{"$error":"#VALUE!"}},{"$f":"CONCATENATE(C301;D301)","v":{"$error":"#VALUE!"}},118,"Хрупало Николай Алексеевич","50:03:0070280:1427","2012-07-17","2012-08-01",{"$f":"INT(($H$327-G301)/30)","v":41},{"$f":"H301*1000","v":41000},41000,null,{"$f":"I301-J301-K301","v":0},{"$nulls":12},{"$f":"V301-W301-X301","v":0}]
[{"$f":"VLOOKUP(B302,справочник!$B$2:$E$322,4,0)","v":{"$error":"#VALUE!"}},{"$f":"CONCATENATE(C302;D302)","v":{"$error":"#VALUE!"}},120,"Хрупало Николай Алексеевич","50:03:0070280:1427","2012-07-17","2012-08-01",{"$f":"INT(($H$327-G302)/30)","v":41},{"$f":"H302*1000","v":41000},20000,null,{"$f":"I302-J302-K302","v":21000},{"$nulls":12},{"$f":"V302-W302-X302","v":0}]
[{"$f":"VLOOKUP(B303,справочник!$B$2:$E$322,4,0)","v":{"$error":"#VALUE!"}},{"$f":"CONCATENATE(C303;D303)","v":{"$error":"#VALUE!"}},116,"Хрупало Николай Алексеевич (118+120)","50:03:0070280:1427","2012-07-17","2012-08-01",{"$f":"INT(($H$327-G303)/30)","v":41},{"$f":"H303*1000","v":41000},null,null,{"$f":"I303-J303-K303","v":41000},{"$nulls":12},{"$f":"V303-W303-X303","v":0}]
[{"$f":"VLOOKUP(B304,справочник!$B$2:$E$322,4,0)","v":180},{"$f":"CONCATENATE(C304;D304)","v":{"$error":"#VALUE!"}},188,"Черешнева Виктория Викторовна","50:03:0070280:918","2014-05-27","2014-06-01",{"$f":"INT(($H$327-G304)/30)","v":19},{"$f":"H304*1000","v":19000},19000,null,{"$f":"I304-J304-K304","v":0},{"$nulls":12},{"$f":"V304-W304-X304","v":0}]
[{"$f":"VLOOKUP(B305,справочник!$B$2:$E$322,4,0)","v":2},{"$f":"CONCATENATE(C305;D305)","v":{"$error":"#VALUE!"}},2,"Чернявская Оксана Юрьевна","50:03:0070280:710","2014-04-08","2014-05-01",{"$f":"INT(($H$327-G305)/30)","v":20},{"$f":"H305*1000","v":20000},11000,null,{"$f":"I305-J305-K305","v":9000},{"$nulls":12},{"$f":"V305-W305-X305","v":0}]
[{"$f":"VLOOKUP(B306,справочник!$B$2:$E$322,4,0)","v":23},{"$f":"CONCATENATE(C306;D306)","v":{"$error":"#VALUE!"}},23,"Чигрины Анна Анатольевна и Геннадий Иванович","50:03:0070280:747","2013-05-28","2013-07-01",{"$f":"INT(($H$327-G306)/30)","v":30},{"$f":"H306*1000","v":30000},30000,null,{"$f":"I306-J306-K306","v":0},{"$nulls":12},{"$f":"V306-W306-X306","v":0}]
[{"$f":"VLOOKUP(B307,справочник!$B$2:$E$322,4,0)","v":168},{"$f":"CONCATENATE(C307;D307)","v":{"$error":"#VALUE!"}},176,"Чикачёв Сергей Иванович","50:03:0070280:889","2014-10-27","2014-12-01",{"$f":"INT(($H$327-G307)/30)","v":13},{"$f":"H307*1000","v":13000},11000,2000,{"$f":"I307-J307-K307","v":0},{"$nulls":12},{"$f":"V307-W307-X307","v":0}]
[{"$f":"VLOOKUP(B308,справочник!$B$2:$E$322,4,0)","v":84},{"$f":"CONCATENATE(C308;D308)","v":{"$error":"#VALUE!"}},89,"Шабунина Светлана Николаевна","50:03:0070280:868","2011-08-30","2011-09-01",{"$f":"INT(($H$327-G308)/30)","v":52},{"$f":"H308*1000","v":52000},{"$f":"1000+51000","v":52000},null,{"$f":"I308-J308-K308","v":0},{"$nulls":12},{"$f":"V308-W308-X308","v":0}]
[{"$f":"VLOOKUP(B309,справочник!$B$2:$E$322,4,0)","v":{"$error":"#VALUE!"}},{"$f":"CONCATENATE(C309;D309)","v":{"$error":"#VALUE!"}},97,"Шалинов Андрей Вадимович","50:03:0070280:827","2012-01-17","2012-01-01",{"$f":"INT(($H$327-G309)/30)","v":48},{"$f":"H309*1000","v":48000},44000,null,{"$f":"I309-J309-K309","v":4000},{"$nulls":12},{"$f":"V309-W309-X309","v":0}]
[{"$f":"VLOOKUP(B310,справочник!$B$2:$E$322,4,0)","v":{"$error":"#VALUE!"}},{"$f":"CONCATENATE(C310;D310)","v":{"$error":"#VALUE!"}},93,"Шалинов Андрей Вадимович + уч. 97","50:03:0070280:864","2012-01-17","2012-01-01",{"$f":"INT(($H$327-G310)/30)","v":48},{"$f":"H310*1000","v":48000},44000,null,{"$f":"I310-J310-K310","v":4000},{"$nulls":12},{"$f":"V310-W310-X310","v":0}]
[{"$f":"VLOOKUP(B311,справочник!$B$2:$E$322,4,0)","v":78},{"$f":"CONCATENATE(C311;D311)","v":{"$error":"#VALUE!"}},83,"Шелухина Мария Сергеевна",null,"2013-07-01","2013-07-02",{"$f":"INT(($H$327-G311)/30)","v":30},30000,0,null,30000,{"$nulls":12},30000]
[{"$f":"VLOOKUP(B312,справочник!$B$2:$E$322,4,0)","v":77},{"$f":"CONCATENATE(C312;D312)","v":{"$error":"#VALUE!"}},83,"Самородов","50:03:0070280:752","2012-01-24","2012-01-01",{"$f":"INT(($H$327-G312)/30)","v":48},{"$f":"H312*1000","v":48000},15000,null,{"$f":"I312-J312-K312","v":33000},{"$nulls":12},{"$f":"V312-W312-X312","v":0}]
[{"$f":"VLOOKUP(B313,справочник!$B$2:$E$322,4,0)","v":306},{"$f":"CONCATENATE(C313;D313)","v":{"$error":"#VALUE!"}},321,"Шептухина Александра Борисовна","50:03:0070280:1013","2012-07-03","2012-07-01",{"$f":"INT(($H$327-G313)/30)","v":42},{"$f":"H313*1000","v":42000},11000,null,{"$f":"I313-J313-K313","v":31000},{"$nulls":12},{"$f":"V313-W313-X313","v":0}]
[{"$f":"VLOOKUP(B314,справочник!$B$2:$E$322,4,0)","v":182},{"$f":"CONCATENATE(C314;D314)","v":{"$error":"#VALUE!"}},190,"Широков Евгений Александрович","50:03:0070280:759","2014-04-05","2014-05-01",{"$f":"INT(($H$327-G314)/30)","v":20},{"$f":"H314*1000","v":20000},14000,null,{"$f":"I314-J314-K314","v":6000},{"$nulls":12},{"$f":"V314-W314-X314","v":0}]
[{"$f":"VLOOKUP(B315,справочник!$B$2:$E$322,4,0)","v":95},{"$f":"CONCATENATE(C315;D315)","v":{"$error":"#VALUE!"}},100,"Шорахматов Мухаммадхуджа Замшоевич","50:03:0070280:861","2013-05-07","2013-12-01",{"$f":"INT(($H$327-G315)/30)","v":25},{"$f":"H315*1000","v":25000},20000,null,{"$f":"I315-J315-K315","v":5000},{"$nulls":12},{"$f":"V315-W315-X315","v":0}]
[{"$f":"VLOOKUP(B316,справочник!$B$2:$E$322,4,0)","v":108},{"$f":"CONCATENATE(C316;D316)","v":{"$error":"#VALUE!"}},113,"Шурдук Лариса Анатольевна (Игорь)","50:03:0070280:815","2012-01-30","2012-02-01",{"$f":"INT(($H$327-G316)/30)","v":47},{"$f":"H316*1000","v":47000},{"$f":"24000+11000","v":35000},8000,{"$f":"I316-J316-K316","v":4000},{"$nulls":12},{"$f":"V316-W316-X316","v":0}]
[{"$f":"VLOOKUP(B317,справочник!$B$2:$E$322,4,0)","v":41},{"$f":"CONCATENATE(C317;D317)","v":{"$error":"#VALUE!"}},41,"Шустов Василий Александрович","50:03:0070280:799","2011-08-17","2011-08-01",{"$f":"INT(($H$327-G317)/30)","v":53},{"$f":"H317*1000","v":53000},{"$f":"1000+37000","v":38000},null,{"$f":"I317-J317-K317","v":15000},{"$nulls":12},{"$f":"V317-W317-X317","v":0}]
[{"$f":"VLOOKUP(B318,справочник!$B$2:$E$322,4,0)","v":152},{"$f":"CONCATENATE(C318;D318)","v":{"$error":"#VALUE!"}},160,"Щербаков Павел Евгеньевич","50:03:0070280:757","2011-11-03","2011-11-01",{"$f":"INT(($H$327-G318)/30)","v":50},{"$f":"H318*1000","v":50000},{"$f":"46000+1000","v":47000},null,{"$f":"I318-J318-K318","v":3000},{"$nulls":12},{"$f":"V318-W318-X318","v":0}]
[{"$f":"VLOOKUP(B319,справочник!$B$2:$E$322,4,0)","v":227},{"$f":"CONCATENATE(C319;D319)","v":{"$error":"#VALUE!"}},236,"Щербакова Татьяна Дмитриевна","50:03:0070280:899","2014-04-09","2014-05-01",{"$f":"INT(($H$327-G319)/30)","v":20},{"$f":"H319*1000","v":20000},9000,null,{"$f":"I319-J319-K319","v":11000},{"$nulls":12},{"$f":"V319-W319-X319","v":0}]
[{"$f":"VLOOKUP(B320,справочник!$B$2:$E$322,4,0)","v":15},{"$f":"CONCATENATE(C320;D320)","v":{"$error":"#VALUE!"}},15,"Элефтерова Евгения Викторовна (Михаил)","50:03:0070280:698","2012-12-18","2013-01-01",{"$f":"INT(($H$327-G320)/30)","v":36},{"$f":"H320*1000","v":36000},32000,null,{"$f":"I320-J320-K320","v":4000},{"$nulls":12},{"$f":"V320-W320-X320","v":0}]
[{"$f":"VLOOKUP(B321,справочник!$B$2:$E$322,4,0)","v":240},{"$f":"CONCATENATE(C321;D321)","v":{"$error":"#VALUE!"}},251,"Якиманский Александр Александрович","50:03:0070280:794","2011-09-13","2011-09-01",{"$f":"INT(($H$327-G321)/30)","v":52},{"$f":"H321*1000","v":52000},{"$f":"1000+49000","v":50000},3000,{"$f":"I321-J321-K321","v":-1000},{"$nulls":12},{"$f":"V321-W321-X321","v":0}]
[{"$f":"VLOOKUP(B322,справочник!$B$2:$E$322,4,0)","v":10},{"$f":"CONCATENATE(C322;D322)","v":{"$error":"#VALUE!"}},10,"Якушина Любовь Викторовна","50:03:0070280:705","2015-01-19",null,0,{"$f":"H322*1000","v":0},null,null,{"$f":"I322-J322-K322","v":0},{"$nulls":12},{"$f":"V322-W322-X322","v":0}]
[{"$f":"VLOOKUP(B323,справочник!$B$2:$E$322,4,0)","v":55},{"$f":"CONCATENATE(C323;D323)","v":{"$error":"#VALUE!"}},57,"Янковская Елена Александровна","50:03:0070280:964","2011-08-17","2011-08-01",{"$f":"INT(($H$327-G323)/30)","v":53},{"$f":"H323*1000","v":53000},{"$f":"1000+53000","v":54000},3000,{"$f":"I323-J323-K323","v":-4000},{"$nulls":12},{"$f":"V323-W323-X323","v":0}]
[{"$f":"VLOOKUP(B324,справочник!$B$2:$E$322,4,0)","v":309},{"$f":"CONCATENATE(C324;D324)","v":{"$error":"#VALUE!"}},324,"Янковская Яна Валерьевна","50:03:0070280:1016","2012-04-03","2012-04-01",{"$f":"INT(($H$327-G324)/30)","v":45},{"$f":"H324*1000","v":45000},{"$f":"17000+1000","v":18000},5000,{"$f":"I324-J324-K324","v":22000},{"$nulls":12},{"$f":"V324-W324-X324","v":0}]
[{"$f":"VLOOKUP(B325,справочник!$B$2:$E$322,4,0)","v":17},{"$f":"CONCATENATE(C325;D325)","v":{"$error":"#VALUE!"}},17,"Яструб Валерий Викторович","50:03:0070280:696","2012-12-11","2013-01-01",{"$f":"INT(($H$327-G325)/30)","v":36},{"$f":"H325*1000","v":36000},31000,null,{"$f":"I325-J325-K325","v":5000},{"$nulls":12},{"$f":"V325-W325-X325","v":0}]
[{"$f":"VLOOKUP(B326,справочник!$B$2:$E$322,4,0)","v":40},{"$f":"CONCATENATE(C326;D326)","v":{"$error":"#VALUE!"}},40,"Яшин Евгений Иванович","50:03:0070280:910","2011-08-17","2011-08-01",{"$f":"INT(($H$327-G326)/30)","v":53},{"$f":"H326*1000","v":53000},{"$f":"1000+37000","v":38000},null,{"$f":"I326-J326-K326","v":15000},{"$nulls":12},{"$f":"V326-W326-X326","v":0}]
[{"$f":"VLOOKUP(B327,справочник!$B$2:$E$322,4,0)","v":{"$error":"#VALUE!"}},{"$f":"CONCATENATE(C327;D327)","v":{"$error":"#VALUE!"}},{"$nulls":5},"2015-12-31"]

{"sheet":"справочник","index":6,"n_rows":336,"n_cols":35,"rows_kept":336,"cut":false,"hidden":true,"merged":[]}
["ID","сцепка","Номер участка","Ф.И.О.","ID",">1",{"$nulls":15},"Ф.И.О."]
[79,{"$f":"CONCATENATE(C2;D2)","v":{"$error":"#VALUE!"}},84,"Абу Махади Мохаммед Ибрагим",79,{"$f":"IF(VLOOKUP(D2,$V$2:$W$299,2,0)<>1,1,0)","v":0},{"$nulls":15},"Ермошина Татьяна Евгеньевна (Владимир)",3,null,null,null,1,6,"Жохова Елена Сергеевна",null,1,"Жохова Елена Сергеевна","Жохова Елена Сергеевна",{"$f":"VLOOKUP(AF2,$AI$2:$AI$11,1,0)","v":"Жохова Елена Сергеевна"},"Лебедев Андрей Анатольевич"]
[35,{"$f":"CONCATENATE(C3;D3)","v":{"$error":"#VALUE!"}},35,"Абушаев Роман Шамильевич",35,{"$f":"IF(VLOOKUP(D3;$V$2:$W$299;2;0)<>1;1;0)","v":{"$error":"#VALUE!"}},{"$nulls":15},"Левина Елена Александровна (Дмитрий)",3,null,null,null,2,6,"Жохова Елена Сергеевна",null,2,"Темникова Елена Станиславна","Темникова Елена Станиславовна",{"$f":"VLOOKUP(AF3;$AI$2:$AI$11;1;0)","v":{"$error":"#VALUE!"}},"Абу Махади Мохаммед Ибрагим"]
[260,{"$f":"CONCATENATE(C4;D4)","v":{"$error":"#VALUE!"}},273,"Аксенов Дмитрий Викторович",260,{"$f":"IF(VLOOKUP(D4;$V$2:$W$299;2;0)<>1;1;0)","v":{"$error":"#VALUE!"}},{"$nulls":15},"Финогин Сергей Александрович",3,null,null,null,3,6,"Жохова Елена Сергеевна",null,3,"Нелюбов Сергей Владимирович","Нелюбов Сергей Владимирович",{"$f":"VLOOKUP(AF4;$AI$2:$AI$11;1;0)","v":{"$error":"#VALUE!"}},"Нелюбов Сергей Владимирович"]
[203,{"$f":"CONCATENATE(C5;D5)","v":{"$error":"#VALUE!"}},213,"Александров Владимир Александрович",203,{"$f":"IF(VLOOKUP(D5;$V$2:$W$299;2;0)<>1;1;0)","v":{"$error":"#VALUE!"}},{"$nulls":15},"Хрупало Николай Алексеевич",3,null,null,null,4,6,"Жохова Елена Сергеевна",null,4,"Абу Махади Мохаммед Ибрагим","Абу Махади Мохаммед Ибрагим",{"$f":"VLOOKUP(AF5;$AI$2:$AI$11;1;0)","v":{"$error":"#VALUE!"}},"Жохова Елена Сергеевна"]
[316,{"$f":"CONCATENATE(C6;D6)","v":{"$error":"#VALUE!"}},"306-307","Алексеев Андрей Олегович",316,{"$f":"IF(VLOOKUP(D6;$V$2:$W$299;2;0)<>1;1;0)","v":{"$error":"#VALUE!"}},{"$nulls":15},"Кулиш Сергей Александрович",2,null,null,null,5,6,"Жохова Елена Сергеевна",null,5,"Марин Андрей Вячеславович","Заборская Светлана Анатольевна (Андрей)",{"$f":"VLOOKUP(AF6;$AI$2:$AI$11;1;0)","v":{"$error":"#VALUE!"}},"Анциферов Алексей Сергеевич"]
[232,{"$f":"CONCATENATE(C7;D7)","v":{"$error":"#VALUE!"}},241,"Амплеева Мария Александровна",232,{"$f":"IF(VLOOKUP(D7;$V$2:$W$299;2;0)<>1;1;0)","v":{"$error":"#VALUE!"}},{"$nulls":15},"Жарикова Светлана Юрьевна",2,null,null,null,6,6,"Жохова Елена Сергеевна",null,6,"Сидельников Михаил Васильевич","Сидельникова Ольга Петровна",{"$f":"VLOOKUP(AF7;$AI$2:$AI$11;1;0)","v":{"$error":"#VALUE!"}},"Спиридонов Андрей Владимирович"]
[277,{"$f":"CONCATENATE(C8;D8)","v":{"$error":"#VALUE!"}},290,"Андреева Любовь Ивановна(у Севастьянова)",277,{"$f":"IF(VLOOKUP(D8;$V$2:$W$299;2;0)<>1;1;0)","v":{"$error":"#VALUE!"}},{"$nulls":15},"Будаев Андрей Анатольевич",2,null,null,null,7,6,"Жохова Елена Сергеевна",null,7,"Анциферов Алексей Сергеевич","Анциферов Алексей Сергеевич",{"$f":"VLOOKUP(AF8;$AI$2:$AI$11;1;0)","v":{"$error":"#VALUE!"}},"Карпова Елена Витальевна"]
[221,{"$f":"CONCATENATE(C9;D9)","v":{"$error":"#VALUE!"}},230,"Анисимова (Корнеева) Татьяна Николаевна",221,{"$f":"IF(VLOOKUP(D9;$V$2:$W$299;2;0)<>1;1;0)","v":{"$error":"#VALUE!"}},{"$nulls":15},"Буланова Лилия Михайловна",2,null,null,null,8,6,"Жохова Елена Сергеевна",null,8,"Спиридонов Андрей Владимирович","Спиридонов Андрей Владимирович",{"$f":"VLOOKUP(AF9;$AI$2:$AI$11;1;0)","v":{"$error":"#VALUE!"}},"Борисов Олег Александрович"]
[259,{"$f":"CONCATENATE(C10;D10)","v":{"$error":"#VALUE!"}},272,"Анисимова Елена Анатольевна",259,{"$f":"IF(VLOOKUP(D10;$V$2:$W$299;2;0)<>1;1;0)","v":{"$error":"#VALUE!"}},{"$nulls":15},"Бурдух Юрие",2,null,null,null,9,6,"Жохова Елена Сергеевна",null,9,"Борисов Олег Александрович","Борисов Олег Александрович",{"$f":"VLOOKUP(AF10;$AI$2:$AI$11;1;0)","v":{"$error":"#VALUE!"}},"Лапшин Сергей Николаевич"]
[109,{"$f":"CONCATENATE(C11;D11)","v":{"$error":"#VALUE!"}},114,"Антипова Жанна Михайловна",109,{"$f":"IF(VLOOKUP(D11;$V$2:$W$299;2;0)<>1;1;0)","v":{"$error":"#VALUE!"}},{"$nulls":15},"Заручинский Вячеслав Владимирович",2,null,null,null,10,6,"Жохова Елена Сергеевна",null,10,"Карпова Елена Витальевна","Карпова Елена Витальевна",{"$f":"VLOOKUP(AF11;$AI$2:$AI$11;1;0)","v":{"$error":"#VALUE!"}},"Измайлов Михаил Михайлович"]
[130,{"$f":"CONCATENATE(C12;D12)","v":{"$error":"#VALUE!"}},137,"Анциферов Алексей Сергеевич",130,{"$f":"IF(VLOOKUP(D12;$V$2:$W$299;2;0)<>1;1;0)","v":{"$error":"#VALUE!"}},{"$nulls":15},"Бондаренко Владимир Иванович",2,null,null,null,11,6,"Жохова Елена Сергеевна",null,11,"Ермошин Владимир Владимирович","Ермошина Татьяна Евгеньевна (Владимир)",{"$f":"VLOOKUP(AF12;$AI$2:$AI$11;1;0)","v":{"$error":"#VALUE!"}}]
[7,{"$f":"CONCATENATE(C13;D13)","v":{"$error":"#VALUE!"}},14,"Артемьев Сергей Иванович",7,{"$f":"IF(VLOOKUP(D13;$V$2:$W$299;2;0)<>1;1;0)","v":{"$error":"#VALUE!"}},{"$nulls":15},"Колташ Анна Владимировна",2,null,null,null,12,6,"Жохова Елена Сергеевна",null,12,"Лапшин Сергей Николаевич","Лапшин Сергей Николаевич",{"$f":"VLOOKUP(AF13;$AI$2:$AI$11;1;0)","v":{"$error":"#VALUE!"}}]
[7,{"$f":"CONCATENATE(C14;D14)","v":{"$error":"#VALUE!"}},7,"Артемьев Сергей Иванович",7,{"$f":"IF(VLOOKUP(D14;$V$2:$W$299;2;0)<>1;1;0)","v":{"$error":"#VALUE!"}},{"$nulls":15},"Леськов Олег Петрович",2,null,null,null,13,6,"Жохова Елена Сергеевна",null,13,"Недосенко Олег Анатольевич","Недосенко Татьяна Сергеевна (Олег)",{"$f":"VLOOKUP(AF14;$AI$2:$AI$11;1;0)","v":{"$error":"#VALUE!"}}]
[193,{"$f":"CONCATENATE(C15;D15)","v":{"$error":"#VALUE!"}},201,"Асташкин Павел Александрович(продал???)",193,{"$f":"IF(VLOOKUP(D15;$V$2:$W$299;2;0)<>1;1;0)","v":{"$error":"#VALUE!"}},{"$nulls":15},"Артемьев Сергей Иванович",2,null,null,null,14,6,"Жохова Елена Сергеевна",null,14,"Измайлов Михаил Михайлович","Измайлов Михаил Михайлович",{"$f":"VLOOKUP(AF15;$AI$2:$AI$11;1;0)","v":{"$error":"#VALUE!"}}]
[178,{"$f":"CONCATENATE(C16;D16)","v":{"$error":"#VALUE!"}},186,"Афанасьева Злата Сергеевна",178,{"$f":"IF(VLOOKUP(D16;$V$2:$W$299;2;0)<>1;1;0)","v":{"$error":"#VALUE!"}},{"$nulls":15},"Лошкарев Виктор Ильич",2,null,null,null,15,6,"Жохова Елена Сергеевна",null,15,"Лебедев Андрей Анатольевич","Лебедев Андрей Анатольевич",{"$f":"VLOOKUP(AF16;$AI$2:$AI$11;1;0)","v":{"$error":"#VALUE!"}}]
[119,{"$f":"CONCATENATE(C17;D17)","v":{"$error":"#VALUE!"}},124,"Афян Сасун Аркадиевич",119,{"$f":"IF(VLOOKUP(D17;$V$2:$W$299;2;0)<>1;1;0)","v":{"$error":"#VALUE!"}},{"$nulls":15},"Маслова Валентина Петровна",2,null,null,null,16,6,"Жохова Елена Сергеевна"]
[293,{"$f":"CONCATENATE(C18;D18)","v":{"$error":"#VALUE!"}},308,"Ахромеев Андрей Владимирович",293,{"$f":"IF(VLOOKUP(D18;$V$2:$W$299;2;0)<>1;1;0)","v":{"$error":"#VALUE!"}},{"$nulls":15},"Науменко Дмитрий Александрович",2,null,null,null,17,6,"Жохова Елена Сергеевна"]
[191,{"$f":"CONCATENATE(C19;D19)","v":{"$error":"#VALUE!"}},199,"Бадирьян Тамара Викторовна",191,{"$f":"IF(VLOOKUP(D19;$V$2:$W$299;2;0)<>1;1;0)","v":{"$error":"#VALUE!"}},{"$nulls":15},"Рожкова Глафира Андреевна",2,null,null,null,18,6,"Жохова Елена Сергеевна"]
[249,{"$f":"CONCATENATE(C20;D20)","v":{"$error":"#VALUE!"}},260,"Байбикова Рузалия Равилевна / Байбикова Руфия Равилевна",249,{"$f":"IF(VLOOKUP(D20;$V$2:$W$299;2;0)<>1;1;0)","v":{"$error":"#VALUE!"}},{"$nulls":15},"Розова Татьяна Викторовна",2,null,null,null,19,6,"Жохова Елена Сергеевна"]
[125,{"$f":"CONCATENATE(C21;D21)","v":{"$error":"#VALUE!"}},130,"Безбородова Людмила Михайловна",125,{"$f":"IF(VLOOKUP(D21;$V$2:$W$299;2;0)<>1;1;0)","v":{"$error":"#VALUE!"}},{"$nulls":15},"Спиридонов Андрей Владимирович",2,null,null,null,20,6,"Жохова Елена Сергеевна"]
[229,{"$f":"CONCATENATE(C22;D22)","v":{"$error":"#VALUE!"}},238,"Безменова Татьяна Игоревна",229,{"$f":"IF(VLOOKUP(D22;$V$2:$W$299;2;0)<>1;1;0)","v":{"$error":"#VALUE!"}},{"$nulls":15},"Тарасенко Анатолий Семенович",2,null,null,null,21,6,"Жохова Елена Сергеевна"]
[296,{"$f":"CONCATENATE(C23;D23)","v":{"$error":"#VALUE!"}},311,"Бекмансурова Динара Василевна",296,{"$f":"IF(VLOOKUP(D23;$V$2:$W$299;2;0)<>1;1;0)","v":{"$error":"#VALUE!"}},{"$nulls":15},"Шалинов Андрей Вадимович",2,null,null,null,22,6,"Жохова Елена Сергеевна"]
[281,{"$f":"CONCATENATE(C24;D24)","v":{"$error":"#VALUE!"}},293,"Белов Семён Иванович",281,{"$f":"IF(VLOOKUP(D24;$V$2:$W$299;2;0)<>1;1;0)","v":{"$error":"#VALUE!"}},{"$nulls":15},"Анциферов Алексей Сергеевич",1,null,null,null,23,6,"Жохова Елена Сергеевна"]
[198,{"$f":"CONCATENATE(C25;D25)","v":{"$error":"#VALUE!"}},206,"Белоглазова Людмила Ивановна",198,{"$f":"IF(VLOOKUP(D25;$V$2:$W$299;2;0)<>1;1;0)","v":{"$error":"#VALUE!"}},{"$nulls":15},"Асташкин Павел Александрович(продал???)",1,null,null,null,24,6,"Жохова Елена Сергеевна"]
[52,{"$f":"CONCATENATE(C26;D26)","v":{"$error":"#VALUE!"}},54,"Бельская Светлана Александровна (Владимир)",52,{"$f":"IF(VLOOKUP(D26;$V$2:$W$299;2;0)<>1;1;0)","v":{"$error":"#VALUE!"}},{"$nulls":15},"Афанасьева Злата Сергеевна",1,null,null,null,25,6,"Жохова Елена Сергеевна"]
[51,{"$f":"CONCATENATE(C27;D27)","v":{"$error":"#VALUE!"}},53,"Бельский Владимир Владимирович (Светлана)",51,{"$f":"IF(VLOOKUP(D27;$V$2:$W$299;2;0)<>1;1;0)","v":{"$error":"#VALUE!"}},{"$nulls":15},"Афян Сасун Аркадиевич",1,null,null,null,26,6,"Жохова Елена Сергеевна"]
[136,{"$f":"CONCATENATE(C28;D28)","v":{"$error":"#VALUE!"}},144,"Беляков Виктор Михайлович",136,{"$f":"IF(VLOOKUP(D28;$V$2:$W$299;2;0)<>1;1;0)","v":{"$error":"#VALUE!"}},{"$nulls":15},"Ахромеев Андрей Владимирович",1,null,null,null,27,6,"Жохова Елена Сергеевна"]
[11,{"$f":"CONCATENATE(C29;D29)","v":{"$error":"#VALUE!"}},11,"Бенгя Владимир Михайлович (Диана)",11,{"$f":"IF(VLOOKUP(D29;$V$2:$W$299;2;0)<>1;1;0)","v":{"$error":"#VALUE!"}},{"$nulls":15},"Бадирьян Тамара Викторовна",1,null,null,null,28,6,"Жохова Елена Сергеевна"]
[114,{"$f":"CONCATENATE(C30;D30)","v":{"$error":"#VALUE!"}},119,"Беспаленко Зинаида Александровна",114,{"$f":"IF(VLOOKUP(D30;$V$2:$W$299;2;0)<>1;1;0)","v":{"$error":"#VALUE!"}},{"$nulls":15},"Байбикова Рузалия Равилевна / Байбикова Руфия Равилевна",1,null,null,null,29,6,"Жохова Елена Сергеевна"]
[151,{"$f":"CONCATENATE(C31;D31)","v":{"$error":"#VALUE!"}},159,"Бирюков Александр Сергеевич",151,{"$f":"IF(VLOOKUP(D31;$V$2:$W$299;2;0)<>1;1;0)","v":{"$error":"#VALUE!"}},{"$nulls":15},"Безбородова Людмила Михайловна",1,null,null,null,30,6,"Жохова Елена Сергеевна"]
[142,{"$f":"CONCATENATE(C32;D32)","v":{"$error":"#VALUE!"}},150,"Блинков Анатолий Сергеевич",142,{"$f":"IF(VLOOKUP(D32;$V$2:$W$299;2;0)<>1;1;0)","v":{"$error":"#VALUE!"}},{"$nulls":15},"Безменова Татьяна Игоревна",1,null,null,null,31,15,"Темникова Елена Станиславна"]
[245,{"$f":"CONCATENATE(C33;D33)","v":{"$error":"#VALUE!"}},256,"Бондарев Станислав Дмитриевич",245,{"$f":"IF(VLOOKUP(D33;$V$2:$W$299;2;0)<>1;1;0)","v":{"$error":"#VALUE!"}},{"$nulls":15},"Бекмансурова Динара Василевна",1,null,null,null,32,15,"Темникова Елена Станиславна"]
[188,{"$f":"CONCATENATE(C34;D34)","v":{"$error":"#VALUE!"}},197,"Бондаренко Владимир Иванович",188,{"$f":"IF(VLOOKUP(D34;$V$2:$W$299;2;0)<>1;1;0)","v":{"$error":"#VALUE!"}},{"$nulls":15},"Белов Семён Иванович",1,null,null,null,33,15,"Темникова Елена Станиславна"]
[188,{"$f":"CONCATENATE(C35;D35)","v":{"$error":"#VALUE!"}},196,"Бондаренко Владимир Иванович",188,{"$f":"IF(VLOOKUP(D35;$V$2:$W$299;2;0)<>1;1;0)","v":{"$error":"#VALUE!"}},{"$nulls":15},"Белоглазова Людмила Ивановна",1,null,null,null,34,15,"Темникова Елена Станиславна"]
[219,{"$f":"CONCATENATE(C36;D36)","v":{"$error":"#VALUE!"}},228,"Бондарь Василий Дмитриевич",219,{"$f":"IF(VLOOKUP(D36;$V$2:$W$299;2;0)<>1;1;0)","v":{"$error":"#VALUE!"}},{"$nulls":15},"Бельская Светлана Александровна (Владимир)",1,null,null,null,35,15,"Темникова Елена Станиславна"]
[223,{"$f":"CONCATENATE(C37;D37)","v":{"$error":"#VALUE!"}},232,"Борисов Олег Александрович",223,{"$f":"IF(VLOOKUP(D37;$V$2:$W$299;2;0)<>1;1;0)","v":{"$error":"#VALUE!"}},{"$nulls":15},"Бельский Владимир Владимирович (Светлана)",1,null,null,null,36,15,"Темникова Елена Станиславна"]
[137,{"$f":"CONCATENATE(C38;D38)","v":{"$error":"#VALUE!"}},145,"Бранцова Татьяна Валерьевна",137,{"$f":"IF(VLOOKUP(D38;$V$2:$W$299;2;0)<>1;1;0)","v":{"$error":"#VALUE!"}},{"$nulls":15},"Беляков Виктор Михайлович",1,null,null,null,37,15,"Темникова Елена Станиславна"]
[105,{"$f":"CONCATENATE(C39;D39)","v":{"$error":"#VALUE!"}},110,"Брылёв Андрей Вячеславович",105,{"$f":"IF(VLOOKUP(D39;$V$2:$W$299;2;0)<>1;1;0)","v":{"$error":"#VALUE!"}},{"$nulls":15},"Бенгя Владимир Михайлович (Диана)",1,null,null,null,38,15,"Темникова Елена Станиславна"]
[98,{"$f":"CONCATENATE(C40;D40)","v":{"$error":"#VALUE!"}},103,"Бугрова Вероника Артуровна",98,{"$f":"IF(VLOOKUP(D40;$V$2:$W$299;2;0)<>1;1;0)","v":{"$error":"#VALUE!"}},{"$nulls":15},"Беспаленко Зинаида Александровна",1,null,null,null,39,15,"Темникова Елена Станиславна"]
[274,{"$f":"CONCATENATE(C41;D41)","v":{"$error":"#VALUE!"}},295,"Будаев Андрей Анатольевич",274,{"$f":"IF(VLOOKUP(D41;$V$2:$W$299;2;0)<>1;1;0)","v":{"$error":"#VALUE!"}},{"$nulls":15},"Бирюков Александр Сергеевич",1,null,null,null,40,15,"Темникова Елена Станиславна"]
[274,{"$f":"CONCATENATE(C42;D42)","v":{"$error":"#VALUE!"}},287,"Будаев Андрей Анатольевич",274,{"$f":"IF(VLOOKUP(D42;$V$2:$W$299;2;0)<>1;1;0)","v":{"$error":"#VALUE!"}},{"$nulls":15},"Блинков Анатолий Сергеевич",1,null,null,null,41,15,"Темникова Елена Станиславна"]
[175,{"$f":"CONCATENATE(C43;D43)","v":{"$error":"#VALUE!"}},187,"Буланова Лилия Михайловна",175,{"$f":"IF(VLOOKUP(D43;$V$2:$W$299;2;0)<>1;1;0)","v":{"$error":"#VALUE!"}},{"$nulls":15},"Бондарев Станислав Дмитриевич",1,null,null,null,42,15,"Темникова Елена Станиславна"]
[175,{"$f":"CONCATENATE(C44;D44)","v":{"$error":"#VALUE!"}},183,"Буланова Лилия Михайловна",175,{"$f":"IF(VLOOKUP(D44;$V$2:$W$299;2;0)<>1;1;0)","v":{"$error":"#VALUE!"}},{"$nulls":15},"Бондарь Василий Дмитриевич",1,null,null,null,43,15,"Темникова Елена Станиславна"]
[303,{"$f":"CONCATENATE(C45;D45)","v":{"$error":"#VALUE!"}},319,"Бурдух Юрие",303,{"$f":"IF(VLOOKUP(D45;$V$2:$W$299;2;0)<>1;1;0)","v":{"$error":"#VALUE!"}},{"$nulls":15},"Борисов Олег Александрович",1,null,null,null,44,15,"Темникова Елена Станиславна"]
[303,{"$f":"CONCATENATE(C46;D46)","v":{"$error":"#VALUE!"}},318,"Бурдух Юрие",303,{"$f":"IF(VLOOKUP(D46;$V$2:$W$299;2;0)<>1;1;0)","v":{"$error":"#VALUE!"}},{"$nulls":15},"Бранцова Татьяна Валерьевна",1,null,null,null,45,15,"Темникова Елена Станиславна"]
[90,{"$f":"CONCATENATE(C47;D47)","v":{"$error":"#VALUE!"}},95,"Быданцева Нина Юрьевна",90,{"$f":"IF(VLOOKUP(D47;$V$2:$W$299;2;0)<>1;1;0)","v":{"$error":"#VALUE!"}},{"$nulls":15},"Брылёв Андрей Вячеславович",1,null,null,null,46,15,"Темникова Елена Станиславна"]
[206,{"$f":"CONCATENATE(C48;D48)","v":{"$error":"#VALUE!"}},216,"Валеев Артур Рашидович",206,{"$f":"IF(VLOOKUP(D48;$V$2:$W$299;2;0)<>1;1;0)","v":{"$error":"#VALUE!"}},{"$nulls":15},"Бугрова Вероника Артуровна",1,null,null,null,47,15,"Темникова Елена Станиславна"]
[101,{"$f":"CONCATENATE(C49;D49)","v":{"$error":"#VALUE!"}},106,"Васильев Николай Владимирович",101,{"$f":"IF(VLOOKUP(D49;$V$2:$W$299;2;0)<>1;1;0)","v":{"$error":"#VALUE!"}},{"$nulls":15},"Быданцева Нина Юрьевна",1,null,null,null,48,15,"Темникова Елена Станиславна"]
[86,{"$f":"CONCATENATE(C50;D50)","v":{"$error":"#VALUE!"}},91,"Васильева Ольга Александровна",86,{"$f":"IF(VLOOKUP(D50;$V$2:$W$299;2;0)<>1;1;0)","v":{"$error":"#VALUE!"}},{"$nulls":15},"Валеев Артур Рашидович",1,null,null,null,49,15,"Темникова Елена Станиславна"]
[43,{"$f":"CONCATENATE(C51;D51)","v":{"$error":"#VALUE!"}},43,"Васильцова Елена Владимировна",43,{"$f":"IF(VLOOKUP(D51;$V$2:$W$299;2;0)<>1;1;0)","v":{"$error":"#VALUE!"}},{"$nulls":15},"Васильев Николай Владимирович",1,null,null,null,50,15,"Темникова Елена Станиславна"]
[25,{"$f":"CONCATENATE(C52;D52)","v":{"$error":"#VALUE!"}},25,"Вершинина Елена Анатольевна",25,{"$f":"IF(VLOOKUP(D52;$V$2:$W$299;2;0)<>1;1;0)","v":{"$error":"#VALUE!"}},{"$nulls":15},"Васильева Ольга Александровна",1,null,null,null,51,15,"Темникова Елена Станиславна"]
[138,{"$f":"CONCATENATE(C53;D53)","v":{"$error":"#VALUE!"}},146,"Виноградова Наталья Дмитриевна (Николай)",138,{"$f":"IF(VLOOKUP(D53;$V$2:$W$299;2;0)<>1;1;0)","v":{"$error":"#VALUE!"}},{"$nulls":15},"Васильцова Елена Владимировна",1,null,null,null,52,15,"Темникова Елена Станиславна"]
[228,{"$f":"CONCATENATE(C54;D54)","v":{"$error":"#VALUE!"}},237,"Виртилецкий Денис Вячеславович",228,{"$f":"IF(VLOOKUP(D54;$V$2:$W$299;2;0)<>1;1;0)","v":{"$error":"#VALUE!"}},{"$nulls":15},"Вершинина Елена Анатольевна",1,null,null,null,53,15,"Темникова Елена Станиславна"]
[37,{"$f":"CONCATENATE(C55;D55)","v":{"$error":"#VALUE!"}},37,"Водянова Ольга Александровна",37,{"$f":"IF(VLOOKUP(D55;$V$2:$W$299;2;0)<>1;1;0)","v":{"$error":"#VALUE!"}},{"$nulls":15},"Виноградова Наталья Дмитриевна (Николай)",1,null,null,null,54,15,"Темникова Елена Станиславна"]
[126,{"$f":"CONCATENATE(C56;D56)","v":{"$error":"#VALUE!"}},131,"Волгушев Дмитрий Геннадиевич",126,{"$f":"IF(VLOOKUP(D56;$V$2:$W$299;2;0)<>1;1;0)","v":{"$error":"#VALUE!"}},{"$nulls":15},"Виртилецкий Денис Вячеславович",1,null,null,null,55,15,"Темникова Елена Станиславна"]
[58,{"$f":"CONCATENATE(C57;D57)","v":{"$error":"#VALUE!"}},60,"Володина Инна Александровна",58,{"$f":"IF(VLOOKUP(D57;$V$2:$W$299;2;0)<>1;1;0)","v":{"$error":"#VALUE!"}},{"$nulls":15},"Водянова Ольга Александровна",1,null,null,null,56,15,"Темникова Елена Станиславна"]
[117,{"$f":"CONCATENATE(C58;D58)","v":{"$error":"#VALUE!"}},122,"Вольский Андрей Юрьевич",117,{"$f":"IF(VLOOKUP(D58;$V$2:$W$299;2;0)<>1;1;0)","v":{"$error":"#VALUE!"}},{"$nulls":15},"Волгушев Дмитрий Геннадиевич",1,null,null,null,57,15,"Темникова Елена Станиславна"]
[61,{"$f":"CONCATENATE(C59;D59)","v":{"$error":"#VALUE!"}},63,"Высоких Антон Маркович",61,{"$f":"IF(VLOOKUP(D59;$V$2:$W$299;2;0)<>1;1;0)","v":{"$error":"#VALUE!"}},{"$nulls":15},"Володина Инна Александровна",1,null,null,null,58,15,"Темникова Елена Станиславна"]
[294,{"$f":"CONCATENATE(C60;D60)","v":{"$error":"#VALUE!"}},309,"Гайкова (Дьякова) Мария Викторовна",294,{"$f":"IF(VLOOKUP(D60;$V$2:$W$299;2;0)<>1;1;0)","v":{"$error":"#VALUE!"}},{"$nulls":15},"Вольский Андрей Юрьевич",1,null,null,null,59,15,"Темникова Елена Станиславна"]
[286,{"$f":"CONCATENATE(C61;D61)","v":{"$error":"#VALUE!"}},298,"Ганин Александр Борисович",286,{"$f":"IF(VLOOKUP(D61;$V$2:$W$299;2;0)<>1;1;0)","v":{"$error":"#VALUE!"}},{"$nulls":15},"Высоких Антон Маркович",1,null,null,null,60,15,"Темникова Елена Станиславна"]
[64,{"$f":"CONCATENATE(C62;D62)","v":{"$error":"#VALUE!"}},66,"Горбунов Владимир Александрович",64,{"$f":"IF(VLOOKUP(D62;$V$2:$W$299;2;0)<>1;1;0)","v":{"$error":"#VALUE!"}},{"$nulls":15},"Гайкова (Дьякова) Мария Викторовна",1,null,null,null,61,12,"Нелюбов Сергей Владимирович"]
[94,{"$f":"CONCATENATE(C63;D63)","v":{"$error":"#VALUE!"}},99,"Горбунов Максим Николаевич",94,{"$f":"IF(VLOOKUP(D63;$V$2:$W$299;2;0)<>1;1;0)","v":{"$error":"#VALUE!"}},{"$nulls":15},"Ганин Александр Борисович",1,null,null,null,62,12,"Нелюбов Сергей Владимирович"]
[39,{"$f":"CONCATENATE(C64;D64)","v":{"$error":"#VALUE!"}},39,"Гордейчик Игорь Борисович",39,{"$f":"IF(VLOOKUP(D64;$V$2:$W$299;2;0)<>1;1;0)","v":{"$error":"#VALUE!"}},{"$nulls":15},"Горбунов Владимир Александрович",1,null,null,null,63,12,"Нелюбов Сергей Владимирович"]
[276,{"$f":"CONCATENATE(C65;D65)","v":{"$error":"#VALUE!"}},289,"Горянов Михаил Андреевич",276,{"$f":"IF(VLOOKUP(D65;$V$2:$W$299;2;0)<>1;1;0)","v":{"$error":"#VALUE!"}},{"$nulls":15},"Горбунов Максим Николаевич",1,null,null,null,64,12,"Нелюбов Сергей Владимирович"]
[148,{"$f":"CONCATENATE(C66;D66)","v":{"$error":"#VALUE!"}},156,"Горячев Дмитрий Николаевич",148,{"$f":"IF(VLOOKUP(D66;$V$2:$W$299;2;0)<>1;1;0)","v":{"$error":"#VALUE!"}},{"$nulls":15},"Гордейчик Игорь Борисович",1,null,null,null,65,12,"Нелюбов Сергей Владимирович"]
[308,{"$f":"CONCATENATE(C67;D67)","v":{"$error":"#VALUE!"}},323,"Губарева Татьяна Григорьевна",308,{"$f":"IF(VLOOKUP(D67;$V$2:$W$299;2;0)<>1;1;0)","v":{"$error":"#VALUE!"}},{"$nulls":15},"Горянов Михаил Андреевич",1,null,null,null,66,12,"Нелюбов Сергей Владимирович"]
[318,{"$f":"CONCATENATE(C68;D68)","v":{"$error":"#VALUE!"}},"71-72","Гусева Светлана Григорьевна",318,{"$f":"IF(VLOOKUP(D68;$V$2:$W$299;2;0)<>1;1;0)","v":{"$error":"#VALUE!"}},{"$nulls":15},"Горячев Дмитрий Николаевич",1,null,null,null,67,12,"Нелюбов Сергей Владимирович"]
[236,{"$f":"CONCATENATE(C69;D69)","v":{"$error":"#VALUE!"}},245,"Давыдова Анна Сергеевна",236,{"$f":"IF(VLOOKUP(D69;$V$2:$W$299;2;0)<>1;1;0)","v":{"$error":"#VALUE!"}},{"$nulls":15},"Губарева Татьяна Григорьевна",1,null,null,null,68,12,"Нелюбов Сергей Владимирович"]
[226,{"$f":"CONCATENATE(C70;D70)","v":{"$error":"#VALUE!"}},235,"Данильянц Юрий Константинович",226,{"$f":"IF(VLOOKUP(D70;$V$2:$W$299;2;0)<>1;1;0)","v":{"$error":"#VALUE!"}},{"$nulls":15},"Гусева Светлана Григорьевна",1,null,null,null,69,12,"Нелюбов Сергей Владимирович"]
[285,{"$f":"CONCATENATE(C71;D71)","v":{"$error":"#VALUE!"}},297,"Даточный Алексей Валерьевич",285,{"$f":"IF(VLOOKUP(D71;$V$2:$W$299;2;0)<>1;1;0)","v":{"$error":"#VALUE!"}},{"$nulls":15},"Давыдова Анна Сергеевна",1,null,null,null,70,12,"Нелюбов Сергей Владимирович"]
[24,{"$f":"CONCATENATE(C72;D72)","v":{"$error":"#VALUE!"}},24,"Двойрина Юлия Владимировна",24,{"$f":"IF(VLOOKUP(D72;$V$2:$W$299;2;0)<>1;1;0)","v":{"$error":"#VALUE!"}},{"$nulls":15},"Данильянц Юрий Константинович",1,null,null,null,71,12,"Нелюбов Сергей Владимирович"]
[50,{"$f":"CONCATENATE(C73;D73)","v":{"$error":"#VALUE!"}},50,"Денисов Дмитрий Алексеевич",50,{"$f":"IF(VLOOKUP(D73;$V$2:$W$299;2;0)<>1;1;0)","v":{"$error":"#VALUE!"}},{"$nulls":15},"Даточный Алексей Валерьевич",1,null,null,null,72,12,"Нелюбов Сергей Владимирович"]
[122,{"$f":"CONCATENATE(C74;D74)","v":{"$error":"#VALUE!"}},127,"Денисов Сергей Александрович",122,{"$f":"IF(VLOOKUP(D74;$V$2:$W$299;2;0)<>1;1;0)","v":{"$error":"#VALUE!"}},{"$nulls":15},"Двойрина Юлия Владимировна",1,null,null,null,73,12,"Нелюбов Сергей Владимирович"]
[301,{"$f":"CONCATENATE(C75;D75)","v":{"$error":"#VALUE!"}},316,"Десюкова Марина Александровна",301,{"$f":"IF(VLOOKUP(D75;$V$2:$W$299;2;0)<>1;1;0)","v":{"$error":"#VALUE!"}},{"$nulls":15},"Денисов Дмитрий Алексеевич",1,null,null,null,74,12,"Нелюбов Сергей Владимирович"]
[18,{"$f":"CONCATENATE(C76;D76)","v":{"$error":"#VALUE!"}},18,"Дидушко Денис Васильевич (Василий)",18,{"$f":"IF(VLOOKUP(D76;$V$2:$W$299;2;0)<>1;1;0)","v":{"$error":"#VALUE!"}},{"$nulls":15},"Денисов Сергей Александрович",1,null,null,null,75,12,"Нелюбов Сергей Владимирович"]
[155,{"$f":"CONCATENATE(C77;D77)","v":{"$error":"#VALUE!"}},163,"Дорошенко Владимир Алексеевич",155,{"$f":"IF(VLOOKUP(D77;$V$2:$W$299;2;0)<>1;1;0)","v":{"$error":"#VALUE!"}},{"$nulls":15},"Десюкова Марина Александровна",1,null,null,null,76,12,"Нелюбов Сергей Владимирович"]
[44,{"$f":"CONCATENATE(C78;D78)","v":{"$error":"#VALUE!"}},44,"Дубов Александр Сергеевич",44,{"$f":"IF(VLOOKUP(D78;$V$2:$W$299;2;0)<>1;1;0)","v":{"$error":"#VALUE!"}},{"$nulls":15},"Дидушко Денис Васильевич (Василий)",1,null,null,null,77,12,"Нелюбов Сергей Владимирович"]
[132,{"$f":"CONCATENATE(C79;D79)","v":{"$error":"#VALUE!"}},139,"Евглевская Ольга Борисовна",132,{"$f":"IF(VLOOKUP(D79;$V$2:$W$299;2;0)<>1;1;0)","v":{"$error":"#VALUE!"}},{"$nulls":15},"Дорошенко Владимир Алексеевич",1,null,null,null,78,12,"Нелюбов Сергей Владимирович"]
[159,{"$f":"CONCATENATE(C80;D80)","v":{"$error":"#VALUE!"}},167,"Евсеев Александр Сергеевич",159,{"$f":"IF(VLOOKUP(D80;$V$2:$W$299;2;0)<>1;1;0)","v":{"$error":"#VALUE!"}},{"$nulls":15},"Дубов Александр Сергеевич",1,null,null,null,79,12,"Нелюбов Сергей Владимирович"]
[181,{"$f":"CONCATENATE(C81;D81)","v":{"$error":"#VALUE!"}},189,"Елисеев Сергей Вячеславович",181,{"$f":"IF(VLOOKUP(D81;$V$2:$W$299;2;0)<>1;1;0)","v":{"$error":"#VALUE!"}},{"$nulls":15},"Евглевская Ольга Борисовна",1,null,null,null,80,12,"Нелюбов Сергей Владимирович"]
[284,{"$f":"CONCATENATE(C82;D82)","v":{"$error":"#VALUE!"}},296,"Епанчинцева Людмила Филипповна",284,{"$f":"IF(VLOOKUP(D82;$V$2:$W$299;2;0)<>1;1;0)","v":{"$error":"#VALUE!"}},{"$nulls":15},"Евсеев Александр Сергеевич",1,null,null,null,81,2,"Абу Махади Мохаммед Ибрагим"]
[264,{"$f":"CONCATENATE(C83;D83)","v":{"$error":"#VALUE!"}},277,"Еременко Виктор Александрович (Валентина)",264,{"$f":"IF(VLOOKUP(D83;$V$2:$W$299;2;0)<>1;1;0)","v":{"$error":"#VALUE!"}},{"$nulls":15},"Елисеев Сергей Вячеславович",1,null,null,null,82,2,"Абу Махади Мохаммед Ибрагим"]
[32,{"$f":"CONCATENATE(C84;D84)","v":{"$error":"#VALUE!"}},32,"Ермакова Татьяна Викторовна",32,{"$f":"IF(VLOOKUP(D84;$V$2:$W$299;2;0)<>1;1;0)","v":{"$error":"#VALUE!"}},{"$nulls":15},"Епанчинцева Людмила Филипповна",1,null,null,null,83,2,"Абу Махади Мохаммед Ибрагим"]
[49,{"$f":"CONCATENATE(C85;D85)","v":{"$error":"#VALUE!"}},49,"Ермолаева Виктория Александровна",49,{"$f":"IF(VLOOKUP(D85;$V$2:$W$299;2;0)<>1;1;0)","v":{"$error":"#VALUE!"}},{"$nulls":15},"Еременко Виктор Александрович (Валентина)",1,null,null,null,84,2,"Абу Махади Мохаммед Ибрагим"]
[234,{"$f":"CONCATENATE(C86;D86)","v":{"$error":"#VALUE!"}},"243-244","Ермошина Татьяна Евгеньевна (Владимир)",234,{"$f":"IF(VLOOKUP(D86;$V$2:$W$299;2;0)<>1;1;0)","v":{"$error":"#VALUE!"}},{"$nulls":15},"Ермакова Татьяна Викторовна",1,null,null,null,85,2,"Абу Махади Мохаммед Ибрагим"]
[234,{"$f":"CONCATENATE(C87;D87)","v":{"$error":"#VALUE!"}},244,"Ермошина Татьяна Евгеньевна (Владимир)",234,{"$f":"IF(VLOOKUP(D87;$V$2:$W$299;2;0)<>1;1;0)","v":{"$error":"#VALUE!"}},{"$nulls":15},"Ермолаева Виктория Александровна",1,null,null,null,86,2,"Абу Махади Мохаммед Ибрагим"]
[234,{"$f":"CONCATENATE(C88;D88)","v":{"$error":"#VALUE!"}},243,"Ермошина Татьяна Евгеньевна (Владимир)",234,{"$f":"IF(VLOOKUP(D88;$V$2:$W$299;2;0)<>1;1;0)","v":{"$error":"#VALUE!"}},{"$nulls":15},"Ершова Виктория Львовна",1,null,null,null,87,2,"Абу Махади Мохаммед Ибрагим"]
[254,{"$f":"CONCATENATE(C89;D89)","v":{"$error":"#VALUE!"}},267,"Ершова Виктория Львовна",254,{"$f":"IF(VLOOKUP(D89;$V$2:$W$299;2;0)<>1;1;0)","v":{"$error":"#VALUE!"}},{"$nulls":15},"Жигунов Юрий Александрович",1,null,null,null,88,2,"Абу Махади Мохаммед Ибрагим"]
[230,{"$f":"CONCATENATE(C90;D90)","v":{"$error":"#VALUE!"}},257,"Жарикова Светлана Юрьевна",230,{"$f":"IF(VLOOKUP(D90;$V$2:$W$299;2;0)<>1;1;0)","v":{"$error":"#VALUE!"}},{"$nulls":15},"Жирная Татьяна Сергеевна",1,null,null,null,89,2,"Абу Махади Мохаммед Ибрагим"]
[230,{"$f":"CONCATENATE(C91;D91)","v":{"$error":"#VALUE!"}},239,"Жарикова Светлана Юрьевна",230,{"$f":"IF(VLOOKUP(D91;$V$2:$W$299;2;0)<>1;1;0)","v":{"$error":"#VALUE!"}},{"$nulls":15},"Жохова Елена Сергеевна",1,null,null,null,90,2,"Абу Махади Мохаммед Ибрагим"]
[4,{"$f":"CONCATENATE(C92;D92)","v":{"$error":"#VALUE!"}},4,"Жигунов Юрий Александрович",4,{"$f":"IF(VLOOKUP(D92;$V$2:$W$299;2;0)<>1;1;0)","v":{"$error":"#VALUE!"}},{"$nulls":15},"Заборская Светлана Анатольевна (Андрей)",1,null,null,null,91,2,"Абу Махади Мохаммед Ибрагим"]
[213,{"$f":"CONCATENATE(C93;D93)","v":{"$error":"#VALUE!"}},222,"Жирная Татьяна Сергеевна",213,{"$f":"IF(VLOOKUP(D93;$V$2:$W$299;2;0)<>1;1;0)","v":{"$error":"#VALUE!"}},{"$nulls":15},"Закревская Марина Владимировна",1,null,null,null,92,2,"Абу Махади Мохаммед Ибрагим"]
[127,{"$f":"CONCATENATE(C94;D94)","v":{"$error":"#VALUE!"}},132,"Жохова Елена Сергеевна",127,{"$f":"IF(VLOOKUP(D94;$V$2:$W$299;2;0)<>1;1;0)","v":{"$error":"#VALUE!"}},{"$nulls":15},"Захаренкова Светлана Евгеньевна",1,null,null,null,93,2,"Абу Махади Мохаммед Ибрагим"]
[66,{"$f":"CONCATENATE(C95;D95)","v":{"$error":"#VALUE!"}},68,"Заборская Светлана Анатольевна (Андрей)",66,{"$f":"IF(VLOOKUP(D95;$V$2:$W$299;2;0)<>1;1;0)","v":{"$error":"#VALUE!"}},{"$nulls":15},"Захаров Михаил Сергеевич",1,null,null,null,94,2,"Абу Махади Мохаммед Ибрагим"]
[36,{"$f":"CONCATENATE(C96;D96)","v":{"$error":"#VALUE!"}},36,"Закревская Марина Владимировна",36,{"$f":"IF(VLOOKUP(D96;$V$2:$W$299;2;0)<>1;1;0)","v":{"$error":"#VALUE!"}},{"$nulls":15},"Захарова Людмила Захаровна",1,null,null,null,95,2,"Абу Махади Мохаммед Ибрагим"]
[38,{"$f":"CONCATENATE(C97;D97)","v":{"$error":"#VALUE!"}},255,"Заручинский Вячеслав Владимирович",38,{"$f":"IF(VLOOKUP(D97;$V$2:$W$299;2;0)<>1;1;0)","v":{"$error":"#VALUE!"}},{"$nulls":15},"Зиннатов Рафаэль Шакурович",1,null,null,null,96,2,"Абу Махади Мохаммед Ибрагим"]
[38,{"$f":"CONCATENATE(C98;D98)","v":{"$error":"#VALUE!"}},38,"Заручинский Вячеслав Владимирович",38,{"$f":"IF(VLOOKUP(D98;$V$2:$W$299;2;0)<>1;1;0)","v":{"$error":"#VALUE!"}},{"$nulls":15},"Иваненко Петр Олегович",1,null,null,null,97,2,"Абу Махади Мохаммед Ибрагим"]
[12,{"$f":"CONCATENATE(C99;D99)","v":{"$error":"#VALUE!"}},12,"Захаренкова Светлана Евгеньевна",12,{"$f":"IF(VLOOKUP(D99;$V$2:$W$299;2;0)<>1;1;0)","v":{"$error":"#VALUE!"}},{"$nulls":15},"Иванов Владимир Николаевич",1,null,null,null,98,2,"Абу Махади Мохаммед Ибрагим"]
[63,{"$f":"CONCATENATE(C100;D100)","v":{"$error":"#VALUE!"}},65,"Захаров Михаил Сергеевич",63,{"$f":"IF(VLOOKUP(D100;$V$2:$W$299;2;0)<>1;1;0)","v":{"$error":"#VALUE!"}},{"$nulls":15},"Иванов Денис Сильвестрович",1,null,null,null,99,2,"Абу Махади Мохаммед Ибрагим"]
[16,{"$f":"CONCATENATE(C101;D101)","v":{"$error":"#VALUE!"}},16,"Захарова Людмила Захаровна",16,{"$f":"IF(VLOOKUP(D101;$V$2:$W$299;2;0)<>1;1;0)","v":{"$error":"#VALUE!"}},{"$nulls":15},"Иванова Светлана Сергеевна",1,null,null,null,100,2,"Абу Махади Мохаммед Ибрагим"]
[121,{"$f":"CONCATENATE(C102;D102)","v":{"$error":"#VALUE!"}},126,"Зиннатов Рафаэль Шакурович",121,{"$f":"IF(VLOOKUP(D102;$V$2:$W$299;2;0)<>1;1;0)","v":{"$error":"#VALUE!"}},{"$nulls":15},"Иванова Татьяна Викторовна",1,null,null,null,101,1,"Марин Андрей Вячеславович"]
[156,{"$f":"CONCATENATE(C103;D103)","v":{"$error":"#VALUE!"}},164,"Иваненко Петр Олегович",156,{"$f":"IF(VLOOKUP(D103;$V$2:$W$299;2;0)<>1;1;0)","v":{"$error":"#VALUE!"}},{"$nulls":15},"Измайлов Михаил Михайлович",1,null,null,null,102,1,"Марин Андрей Вячеславович"]
[5,{"$f":"CONCATENATE(C104;D104)","v":{"$error":"#VALUE!"}},5,"Иванов Владимир Николаевич",5,{"$f":"IF(VLOOKUP(D104;$V$2:$W$299;2;0)<>1;1;0)","v":{"$error":"#VALUE!"}},{"$nulls":15},"Казарин Сергей Викторович",1,null,null,null,103,1,"Марин Андрей Вячеславович"]
[214,{"$f":"CONCATENATE(C105;D105)","v":{"$error":"#VALUE!"}},223,"Иванов Денис Сильвестрович",214,{"$f":"IF(VLOOKUP(D105;$V$2:$W$299;2;0)<>1;1;0)","v":{"$error":"#VALUE!"}},{"$nulls":15},"Казымов Горхмаз Гамид/Лавренчук Александр Владиславович",1,null,null,null,104,1,"Марин Андрей Вячеславович"]
[279,{"$f":"CONCATENATE(C106;D106)","v":{"$error":"#VALUE!"}},291,"Иванова Светлана Сергеевна",279,{"$f":"IF(VLOOKUP(D106;$V$2:$W$299;2;0)<>1;1;0)","v":{"$error":"#VALUE!"}},{"$nulls":15},"Каляникова Наталья Сергеевна",1,null,null,null,105,1,"Марин Андрей Вячеславович"]
[197,{"$f":"CONCATENATE(C107;D107)","v":{"$error":"#VALUE!"}},205,"Иванова Татьяна Викторовна",197,{"$f":"IF(VLOOKUP(D107;$V$2:$W$299;2;0)<>1;1;0)","v":{"$error":"#VALUE!"}},{"$nulls":15},"Канышкина Юлия Юрьевна",1,null,null,null,106,1,"Марин Андрей Вячеславович"]
[295,{"$f":"CONCATENATE(C108;D108)","v":{"$error":"#VALUE!"}},310,"Измайлов Михаил Михайлович",295,{"$f":"IF(VLOOKUP(D108;$V$2:$W$299;2;0)<>1;1;0)","v":{"$error":"#VALUE!"}},{"$nulls":15},"Карпекина Лилия Рафаэльевна",1,null,null,null,107,1,"Марин Андрей Вячеславович"]
[196,{"$f":"CONCATENATE(C109;D109)","v":{"$error":"#VALUE!"}},204,"Казарин Сергей Викторович",196,{"$f":"IF(VLOOKUP(D109;$V$2:$W$299;2;0)<>1;1;0)","v":{"$error":"#VALUE!"}},{"$nulls":15},"Карпова Елена Витальевна",1,null,null,null,108,1,"Марин Андрей Вячеславович"]
[124,{"$f":"CONCATENATE(C110;D110)","v":{"$error":"#VALUE!"}},129,"Казымов Горхмаз Гамид/Лавренчук Александр Владиславович",124,{"$f":"IF(VLOOKUP(D110;$V$2:$W$299;2;0)<>1;1;0)","v":{"$error":"#VALUE!"}},{"$nulls":15},"Катушкин Роман Юрьевич",1,null,null,null,109,1,"Марин Андрей Вячеславович"]
[250,{"$f":"CONCATENATE(C111;D111)","v":{"$error":"#VALUE!"}},261,"Каляникова Наталья Сергеевна",250,{"$f":"IF(VLOOKUP(D111;$V$2:$W$299;2;0)<>1;1;0)","v":{"$error":"#VALUE!"}},{"$nulls":15},"Катушкин Роман Юрьевич//Валеев Артур Рашидович",1,null,null,null,110,1,"Марин Андрей Вячеславович"]
[153,{"$f":"CONCATENATE(C112;D112)","v":{"$error":"#VALUE!"}},161,"Канышкина Юлия Юрьевна",153,{"$f":"IF(VLOOKUP(D112;$V$2:$W$299;2;0)<>1;1;0)","v":{"$error":"#VALUE!"}},{"$nulls":15},"Кашичкин Александр Борисович",1,null,null,null,111,1,"Марин Андрей Вячеславович"]
[106,{"$f":"CONCATENATE(C113;D113)","v":{"$error":"#VALUE!"}},111,"Карпекина Лилия Рафаэльевна",106,{"$f":"IF(VLOOKUP(D113;$V$2:$W$299;2;0)<>1;1;0)","v":{"$error":"#VALUE!"}},{"$nulls":15},"Киеня Валентина Александровна (Анатолий)",1,null,null,null,112,1,"Марин Андрей Вячеславович"]
[222,{"$f":"CONCATENATE(C114;D114)","v":{"$error":"#VALUE!"}},231,"Карпова Елена Витальевна",222,{"$f":"IF(VLOOKUP(D114;$V$2:$W$299;2;0)<>1;1;0)","v":{"$error":"#VALUE!"}},{"$nulls":15},"Кикоть Наталья Петровна (Андрей)",1,null,null,null,113,1,"Марин Андрей Вячеславович"]
[208,{"$f":"CONCATENATE(C115;D115)","v":{"$error":"#VALUE!"}},218,"Катушкин Роман Юрьевич",208,{"$f":"IF(VLOOKUP(D115;$V$2:$W$299;2;0)<>1;1;0)","v":{"$error":"#VALUE!"}},{"$nulls":15},"Кириенко Раиса Федоровна",1,null,null,null,114,1,"Марин Андрей Вячеславович"]
[207,{"$f":"CONCATENATE(C116;D116)","v":{"$error":"#VALUE!"}},217,"Катушкин Роман Юрьевич//Валеев Артур Рашидович",207,{"$f":"IF(VLOOKUP(D116;$V$2:$W$299;2;0)<>1;1;0)","v":{"$error":"#VALUE!"}},{"$nulls":15},"Кириллов Вадим Александрович",1,null,null,null,115,1,"Марин Андрей Вячеславович"]
[231,{"$f":"CONCATENATE(C117;D117)","v":{"$error":"#VALUE!"}},240,"Кашичкин Александр Борисович",231,{"$f":"IF(VLOOKUP(D117;$V$2:$W$299;2;0)<>1;1;0)","v":{"$error":"#VALUE!"}},{"$nulls":15},"Кириллов Дмитрий Александрович",1,null,null,null,116,1,"Марин Андрей Вячеславович"]
[76,{"$f":"CONCATENATE(C118;D118)","v":{"$error":"#VALUE!"}},82,"Киеня Валентина Александровна (Анатолий)",76,{"$f":"IF(VLOOKUP(D118;$V$2:$W$299;2;0)<>1;1;0)","v":{"$error":"#VALUE!"}},{"$nulls":15},"Коваленко Ирина Леонидовна",1,null,null,null,117,1,"Марин Андрей Вячеславович"]
[82,{"$f":"CONCATENATE(C119;D119)","v":{"$error":"#VALUE!"}},87,"Кикоть Наталья Петровна (Андрей)",82,{"$f":"IF(VLOOKUP(D119;$V$2:$W$299;2;0)<>1;1;0)","v":{"$error":"#VALUE!"}},{"$nulls":15},"Кожемякин Сергей Владимирович",1,null,null,null,118,1,"Марин Андрей Вячеславович"]
[8,{"$f":"CONCATENATE(C120;D120)","v":{"$error":"#VALUE!"}},8,"Кириенко Раиса Федоровна",8,{"$f":"IF(VLOOKUP(D120;$V$2:$W$299;2;0)<>1;1;0)","v":{"$error":"#VALUE!"}},{"$nulls":15},"Козловский Алексей Гаврилович",1,null,null,null,119,1,"Марин Андрей Вячеславович"]
[149,{"$f":"CONCATENATE(C121;D121)","v":{"$error":"#VALUE!"}},157,"Кириллов Вадим Александрович",149,{"$f":"IF(VLOOKUP(D121;$V$2:$W$299;2;0)<>1;1;0)","v":{"$error":"#VALUE!"}},{"$nulls":15},"Колесников Никита Олегович(у Кряжковой Виктория Сергеевна",1,null,null,null,120,1,"Марин Андрей Вячеславович"]
[30,{"$f":"CONCATENATE(C122;D122)","v":{"$error":"#VALUE!"}},30,"Кириллов Дмитрий Александрович",30,{"$f":"IF(VLOOKUP(D122;$V$2:$W$299;2;0)<>1;1;0)","v":{"$error":"#VALUE!"}},{"$nulls":15},"Колесов Вадим Владимирович",1,null,null,null,121,1,"Марин Андрей Вячеславович"]
[269,{"$f":"CONCATENATE(C123;D123)","v":{"$error":"#VALUE!"}},282,"Коваленко Ирина Леонидовна",269,{"$f":"IF(VLOOKUP(D123;$V$2:$W$299;2;0)<>1;1;0)","v":{"$error":"#VALUE!"}},{"$nulls":15},"Колыгина Нина Николаевна",1,null,null,null,122,1,"Марин Андрей Вячеславович"]
[271,{"$f":"CONCATENATE(C124;D124)","v":{"$error":"#VALUE!"}},284,"Кожемякин Сергей Владимирович",271,{"$f":"IF(VLOOKUP(D124;$V$2:$W$299;2;0)<>1;1;0)","v":{"$error":"#VALUE!"}},{"$nulls":15},"Колышкина Александра Сергеевна",1,null,null,null,123,1,"Марин Андрей Вячеславович"]
[265,{"$f":"CONCATENATE(C125;D125)","v":{"$error":"#VALUE!"}},278,"Козловский Алексей Гаврилович",265,{"$f":"IF(VLOOKUP(D125;$V$2:$W$299;2;0)<>1;1;0)","v":{"$error":"#VALUE!"}},{"$nulls":15},"Кондратьева Юлия Викторовна",1,null,null,null,124,1,"Марин Андрей Вячеславович"]
[173,{"$f":"CONCATENATE(C126;D126)","v":{"$error":"#VALUE!"}},181,"Колесников Никита Олегович(у Кряжковой Виктория Сергеевна",173,{"$f":"IF(VLOOKUP(D126;$V$2:$W$299;2;0)<>1;1;0)","v":{"$error":"#VALUE!"}},{"$nulls":15},"Кондратюк Наталья Петровна 1/2,  Соболев Олег Юрьевич 1/2",1,null,null,null,125,1,"Марин Андрей Вячеславович"]
[305,{"$f":"CONCATENATE(C127;D127)","v":{"$error":"#VALUE!"}},320,"Колесов Вадим Владимирович",305,{"$f":"IF(VLOOKUP(D127;$V$2:$W$299;2;0)<>1;1;0)","v":{"$error":"#VALUE!"}},{"$nulls":15},"Кондрашов Роман Вячеславович",1,null,null,null,126,1,"Марин Андрей Вячеславович"]
[69,{"$f":"CONCATENATE(C128;D128)","v":{"$error":"#VALUE!"}},76,"Колташ Анна Владимировна",69,{"$f":"IF(VLOOKUP(D128;$V$2:$W$299;2;0)<>1;1;0)","v":{"$error":"#VALUE!"}},{"$nulls":15},"Кондрашов Сергей Вячеславович//Балыкин Александр Иванович",1,null,null,null,127,1,"Марин Андрей Вячеславович"]
[69,{"$f":"CONCATENATE(C129;D129)","v":{"$error":"#VALUE!"}},75,"Колташ Анна Владимировна",69,{"$f":"IF(VLOOKUP(D129;$V$2:$W$299;2;0)<>1;1;0)","v":{"$error":"#VALUE!"}},{"$nulls":15},"Коновальцев Олег Серафимович",1,null,null,null,128,1,"Марин Андрей Вячеславович"]
[1,{"$f":"CONCATENATE(C130;D130)","v":{"$error":"#VALUE!"}},1,"Колыгина Нина Николаевна",1,{"$f":"IF(VLOOKUP(D130;$V$2:$W$299;2;0)<>1;1;0)","v":{"$error":"#VALUE!"}},{"$nulls":15},"Кононенко Алла Николаевна (Александр)",1,null,null,null,129,1,"Марин Андрей Вячеславович"]
[302,{"$f":"CONCATENATE(C131;D131)","v":{"$error":"#VALUE!"}},317,"Колышкина Александра Сергеевна",302,{"$f":"IF(VLOOKUP(D131;$V$2:$W$299;2;0)<>1;1;0)","v":{"$error":"#VALUE!"}},{"$nulls":15},"Короткевич Наталья Владимировна",1,null,null,null,130,1,"Марин Андрей Вячеславович"]
[123,{"$f":"CONCATENATE(C132;D132)","v":{"$error":"#VALUE!"}},128,"Кондратьева Юлия Викторовна",123,{"$f":"IF(VLOOKUP(D132;$V$2:$W$299;2;0)<>1;1;0)","v":{"$error":"#VALUE!"}},{"$nulls":15},"Корчинская Ирина Анатольевна",1,null,null,null,131,13,"Сидельников Михаил Васильевич"]
[163,{"$f":"CONCATENATE(C133;D133)","v":{"$error":"#VALUE!"}},171,"Кондратюк Наталья Петровна 1/2,  Соболев Олег Юрьевич 1/2",163,{"$f":"IF(VLOOKUP(D133;$V$2:$W$299;2;0)<>1;1;0)","v":{"$error":"#VALUE!"}},{"$nulls":15},"Косенков Степан Фед-ч(Галактионова)",1,null,null,null,132,13,"Сидельников Михаил Васильевич"]
[110,{"$f":"CONCATENATE(C134;D134)","v":{"$error":"#VALUE!"}},115,"Кондрашов Роман Вячеславович",110,{"$f":"IF(VLOOKUP(D134;$V$2:$W$299;2;0)<>1;1;0)","v":{"$error":"#VALUE!"}},{"$nulls":15},"Косенкова Елизавета Евгеньевна",1,null,null,null,133,13,"Сидельников Михаил Васильевич"]
[112,{"$f":"CONCATENATE(C135;D135)","v":{"$error":"#VALUE!"}},117,"Кондрашов Сергей Вячеславович//Балыкин Александр Иванович",112,{"$f":"IF(VLOOKUP(D135;$V$2:$W$299;2;0)<>1;1;0)","v":{"$error":"#VALUE!"}},{"$nulls":15},"Красникова Раиса Михайловна",1,null,null,null,134,13,"Сидельников Михаил Васильевич"]
[190,{"$f":"CONCATENATE(C136;D136)","v":{"$error":"#VALUE!"}},198,"Коновальцев Олег Серафимович",190,{"$f":"IF(VLOOKUP(D136;$V$2:$W$299;2;0)<>1;1;0)","v":{"$error":"#VALUE!"}},{"$nulls":15},"Кривой Владимир Аркадьевич",1,null,null,null,135,13,"Сидельников Михаил Васильевич"]
[83,{"$f":"CONCATENATE(C137;D137)","v":{"$error":"#VALUE!"}},88,"Кононенко Алла Николаевна (Александр)",83,{"$f":"IF(VLOOKUP(D137;$V$2:$W$299;2;0)<>1;1;0)","v":{"$error":"#VALUE!"}},{"$nulls":15},"Крупник Андрей Валерьевич",1,null,null,null,136,13,"Сидельников Михаил Васильевич"]
[133,{"$f":"CONCATENATE(C138;D138)","v":{"$error":"#VALUE!"}},140,"Короткевич Наталья Владимировна",133,{"$f":"IF(VLOOKUP(D138;$V$2:$W$299;2;0)<>1;1;0)","v":{"$error":"#VALUE!"}},{"$nulls":15},"Кудревцев Евгений Александрович",1,null,null,null,137,13,"Сидельников Михаил Васильевич"]
[202,{"$f":"CONCATENATE(C139;D139)","v":{"$error":"#VALUE!"}},212,"Корчинская Ирина Анатольевна",202,{"$f":"IF(VLOOKUP(D139;$V$2:$W$299;2;0)<>1;1;0)","v":{"$error":"#VALUE!"}},{"$nulls":15},"Кудрявцева Наталья Викторовна",1,null,null,null,138,13,"Сидельников Михаил Васильевич"]
[192,{"$f":"CONCATENATE(C140;D140)","v":{"$error":"#VALUE!"}},200,"Косенков Степан Фед-ч(Галактионова)",192,{"$f":"IF(VLOOKUP(D140;$V$2:$W$299;2;0)<>1;1;0)","v":{"$error":"#VALUE!"}},{"$nulls":15},"Куликов Александр Владимирович",1,null,null,null,139,13,"Сидельников Михаил Васильевич"]
[289,{"$f":"CONCATENATE(C141;D141)","v":{"$error":"#VALUE!"}},301,"Косенкова Елизавета Евгеньевна",289,{"$f":"IF(VLOOKUP(D141;$V$2:$W$299;2;0)<>1;1;0)","v":{"$error":"#VALUE!"}},{"$nulls":15},"Куликова Наталья Александровна",1,null,null,null,140,13,"Сидельников Михаил Васильевич"]
[143,{"$f":"CONCATENATE(C142;D142)","v":{"$error":"#VALUE!"}},151,"Красникова Раиса Михайловна",143,{"$f":"IF(VLOOKUP(D142;$V$2:$W$299;2;0)<>1;1;0)","v":{"$error":"#VALUE!"}},{"$nulls":15},"Кушваха Виджай Шанкар",1,null,null,null,141,13,"Сидельников Михаил Васильевич"]
[62,{"$f":"CONCATENATE(C143;D143)","v":{"$error":"#VALUE!"}},64,"Кривой Владимир Аркадьевич",62,{"$f":"IF(VLOOKUP(D143;$V$2:$W$299;2;0)<>1;1;0)","v":{"$error":"#VALUE!"}},{"$nulls":15},"Лайпанов Рустам Сеитбиевич",1,null,null,null,142,13,"Сидельников Михаил Васильевич"]
[225,{"$f":"CONCATENATE(C144;D144)","v":{"$error":"#VALUE!"}},234,"Крупник Андрей Валерьевич",225,{"$f":"IF(VLOOKUP(D144;$V$2:$W$299;2;0)<>1;1;0)","v":{"$error":"#VALUE!"}},{"$nulls":15},"Лапшин Сергей Николаевич",1,null,null,null,143,13,"Сидельников Михаил Васильевич"]
[266,{"$f":"CONCATENATE(C145;D145)","v":{"$error":"#VALUE!"}},279,"Кудревцев Евгений Александрович",266,{"$f":"IF(VLOOKUP(D145;$V$2:$W$299;2;0)<>1;1;0)","v":{"$error":"#VALUE!"}},{"$nulls":15},"Ларионова Наталья Владимировна",1,null,null,null,144,13,"Сидельников Михаил Васильевич"]
[157,{"$f":"CONCATENATE(C146;D146)","v":{"$error":"#VALUE!"}},165,"Кудрявцева Наталья Викторовна",157,{"$f":"IF(VLOOKUP(D146;$V$2:$W$299;2;0)<>1;1;0)","v":{"$error":"#VALUE!"}},{"$nulls":15},"Лебедев Андрей Анатольевич",1,null,null,null,145,13,"Сидельников Михаил Васильевич"]
[194,{"$f":"CONCATENATE(C147;D147)","v":{"$error":"#VALUE!"}},202,"Куликов Александр Владимирович",194,{"$f":"IF(VLOOKUP(D147;$V$2:$W$299;2;0)<>1;1;0)","v":{"$error":"#VALUE!"}},{"$nulls":15},"Лебедева Елена Александровна",1,null,null,null,146,13,"Сидельников Михаил Васильевич"]
[65,{"$f":"CONCATENATE(C148;D148)","v":{"$error":"#VALUE!"}},67,"Куликова Наталья Александровна",65,{"$f":"IF(VLOOKUP(D148;$V$2:$W$299;2;0)<>1;1;0)","v":{"$error":"#VALUE!"}},{"$nulls":15},"Лещёва Ольга Владимировна",1,null,null,null,147,13,"Сидельников Михаил Васильевич"]
[216,{"$f":"CONCATENATE(C149;D149)","v":{"$error":"#VALUE!"}},226,"Кулиш Сергей Александрович",216,{"$f":"IF(VLOOKUP(D149;$V$2:$W$299;2;0)<>1;1;0)","v":{"$error":"#VALUE!"}},{"$nulls":15},"Ли Наталья Сергеевна",1,null,null,null,148,13,"Сидельников Михаил Васильевич"]
[216,{"$f":"CONCATENATE(C150;D150)","v":{"$error":"#VALUE!"}},225,"Кулиш Сергей Александрович",216,{"$f":"IF(VLOOKUP(D150;$V$2:$W$299;2;0)<>1;1;0)","v":{"$error":"#VALUE!"}},{"$nulls":15},"Ловыгина Татьяна Александровна",1,null,null,null,149,13,"Сидельников Михаил Васильевич"]
[56,{"$f":"CONCATENATE(C151;D151)","v":{"$error":"#VALUE!"}},58,"Кушваха Виджай Шанкар",56,{"$f":"IF(VLOOKUP(D151;$V$2:$W$299;2;0)<>1;1;0)","v":{"$error":"#VALUE!"}},{"$nulls":15},"Лопухинова Надежда Михайловна",1,null,null,null,150,13,"Сидельников Михаил Васильевич"]
[150,{"$f":"CONCATENATE(C152;D152)","v":{"$error":"#VALUE!"}},158,"Лайпанов Рустам Сеитбиевич",150,{"$f":"IF(VLOOKUP(D152;$V$2:$W$299;2;0)<>1;1;0)","v":{"$error":"#VALUE!"}},{"$nulls":15},"Абу Махади Мохаммед Ибрагим",1,null,null,null,151,13,"Сидельников Михаил Васильевич"]
[243,{"$f":"CONCATENATE(C153;D153)","v":{"$error":"#VALUE!"}},254,"Лапшин Сергей Николаевич",243,{"$f":"IF(VLOOKUP(D153;$V$2:$W$299;2;0)<>1;1;0)","v":{"$error":"#VALUE!"}},{"$nulls":15},"Лунёв Денис Александрович",1,null,null,null,152,13,"Сидельников Михаил Васильевич"]
[220,{"$f":"CONCATENATE(C154;D154)","v":{"$error":"#VALUE!"}},229,"Ларионова Наталья Владимировна",220,{"$f":"IF(VLOOKUP(D154;$V$2:$W$299;2;0)<>1;1;0)","v":{"$error":"#VALUE!"}},{"$nulls":15},"Лунева Ольга Петровна",1,null,null,null,153,13,"Сидельников Михаил Васильевич"]
[3,{"$f":"CONCATENATE(C155;D155)","v":{"$error":"#VALUE!"}},3,"Лебедев Андрей Анатольевич",3,{"$f":"IF(VLOOKUP(D155;$V$2:$W$299;2;0)<>1;1;0)","v":{"$error":"#VALUE!"}},{"$nulls":15},"Малов Алексей Викторович",1,null,null,null,154,13,"Сидельников Михаил Васильевич"]
[158,{"$f":"CONCATENATE(C156;D156)","v":{"$error":"#VALUE!"}},166,"Лебедева Елена Александровна",158,{"$f":"IF(VLOOKUP(D156;$V$2:$W$299;2;0)<>1;1;0)","v":{"$error":"#VALUE!"}},{"$nulls":15},"Маргиева Марина Евгеньевна",1,null,null,null,155,13,"Сидельников Михаил Васильевич"]
[139,{"$f":"CONCATENATE(C157;D157)","v":{"$error":"#VALUE!"}},149,"Левина Елена Александровна (Дмитрий)",139,{"$f":"IF(VLOOKUP(D157;$V$2:$W$299;2;0)<>1;1;0)","v":{"$error":"#VALUE!"}},{"$nulls":15},"Маркина Людмила Николаевна, Марина",1,null,null,null,156,3,"Анциферов Алексей Сергеевич"]
[139,{"$f":"CONCATENATE(C158;D158)","v":{"$error":"#VALUE!"}},148,"Левина Елена Александровна (Дмитрий)",139,{"$f":"IF(VLOOKUP(D158;$V$2:$W$299;2;0)<>1;1;0)","v":{"$error":"#VALUE!"}},{"$nulls":15},"Марков Максим Юрьевич",1,null,null,null,157,3,"Анциферов Алексей Сергеевич"]
[139,{"$f":"CONCATENATE(C159;D159)","v":{"$error":"#VALUE!"}},147,"Левина Елена Александровна (Дмитрий)",139,{"$f":"IF(VLOOKUP(D159;$V$2:$W$299;2;0)<>1;1;0)","v":{"$error":"#VALUE!"}},{"$nulls":15},"Маркова Тамара Ивановна",1,null,null,null,158,3,"Анциферов Алексей Сергеевич"]
[261,{"$f":"CONCATENATE(C160;D160)","v":{"$error":"#VALUE!"}},275,"Леськов Олег Петрович",261,{"$f":"IF(VLOOKUP(D160;$V$2:$W$299;2;0)<>1;1;0)","v":{"$error":"#VALUE!"}},{"$nulls":15},"Марковнина Светлана Викторовна",1,null,null,null,159,3,"Анциферов Алексей Сергеевич"]
[261,{"$f":"CONCATENATE(C161;D161)","v":{"$error":"#VALUE!"}},274,"Леськов Олег Петрович",261,{"$f":"IF(VLOOKUP(D161;$V$2:$W$299;2;0)<>1;1;0)","v":{"$error":"#VALUE!"}},{"$nulls":15},"Маслов Александр Александрович",1,null,null,null,160,3,"Анциферов Алексей Сергеевич"]
[72,{"$f":"CONCATENATE(C162;D162)","v":{"$error":"#VALUE!"}},78,"Лещёва Ольга Владимировна",72,{"$f":"IF(VLOOKUP(D162;$V$2:$W$299;2;0)<>1;1;0)","v":{"$error":"#VALUE!"}},{"$nulls":15},"Маслов Андрей Геннадьевич (1/2)                 Щербакова Надежда Михайловна (1/2)",1,null,null,null,161,3,"Анциферов Алексей Сергеевич"]
[288,{"$f":"CONCATENATE(C163;D163)","v":{"$error":"#VALUE!"}},300,"Ли Наталья Сергеевна",288,{"$f":"IF(VLOOKUP(D163;$V$2:$W$299;2;0)<>1;1;0)","v":{"$error":"#VALUE!"}},{"$nulls":15},"Абушаев Роман Шамильевич",1,null,null,null,162,3,"Анциферов Алексей Сергеевич"]
[166,{"$f":"CONCATENATE(C164;D164)","v":{"$error":"#VALUE!"}},174,"Ловыгина Татьяна Александровна",166,{"$f":"IF(VLOOKUP(D164;$V$2:$W$299;2;0)<>1;1;0)","v":{"$error":"#VALUE!"}},{"$nulls":15},"Матвеев Денис Львович",1,null,null,null,163,3,"Анциферов Алексей Сергеевич"]
[118,{"$f":"CONCATENATE(C165;D165)","v":{"$error":"#VALUE!"}},123,"Лопухинова Надежда Михайловна",118,{"$f":"IF(VLOOKUP(D165;$V$2:$W$299;2;0)<>1;1;0)","v":{"$error":"#VALUE!"}},{"$nulls":15},"Мельников Михаил Вячеславович / Диденко",1,null,null,null,164,3,"Анциферов Алексей Сергеевич"]
[199,{"$f":"CONCATENATE(C166;D166)","v":{"$error":"#VALUE!"}},208,"Лошкарев Виктор Ильич",199,{"$f":"IF(VLOOKUP(D166;$V$2:$W$299;2;0)<>1;1;0)","v":{"$error":"#VALUE!"}},{"$nulls":15},"Месхидзе Оксана Валерьевна",1,null,null,null,165,3,"Анциферов Алексей Сергеевич"]
[199,{"$f":"CONCATENATE(C167;D167)","v":{"$error":"#VALUE!"}},207,"Лошкарев Виктор Ильич",199,{"$f":"IF(VLOOKUP(D167;$V$2:$W$299;2;0)<>1;1;0)","v":{"$error":"#VALUE!"}},{"$nulls":15},"Милишенко Надежда Ивановна",1,null,null,null,166,3,"Анциферов Алексей Сергеевич"]
[164,{"$f":"CONCATENATE(C168;D168)","v":{"$error":"#VALUE!"}},172,"Лунёв Денис Александрович",164,{"$f":"IF(VLOOKUP(D168;$V$2:$W$299;2;0)<>1;1;0)","v":{"$error":"#VALUE!"}},{"$nulls":15},"Мирошниченко Андрей Иванович Захарова Елена Александровна",1,null,null,null,167,3,"Анциферов Алексей Сергеевич"]
[34,{"$f":"CONCATENATE(C169;D169)","v":{"$error":"#VALUE!"}},34,"Лунева Ольга Петровна",34,{"$f":"IF(VLOOKUP(D169;$V$2:$W$299;2;0)<>1;1;0)","v":{"$error":"#VALUE!"}},{"$nulls":15},"Мирошниченко Екатерина Олеговна",1,null,null,null,168,3,"Анциферов Алексей Сергеевич"]
[13,{"$f":"CONCATENATE(C170;D170)","v":{"$error":"#VALUE!"}},13,"Малов Алексей Викторович",13,{"$f":"IF(VLOOKUP(D170;$V$2:$W$299;2;0)<>1;1;0)","v":{"$error":"#VALUE!"}},{"$nulls":15},"Модин Игорь Николаевич",1,null,null,null,169,3,"Анциферов Алексей Сергеевич"]
[273,{"$f":"CONCATENATE(C171;D171)","v":{"$error":"#VALUE!"}},286,"Маргиева Марина Евгеньевна",273,{"$f":"IF(VLOOKUP(D171;$V$2:$W$299;2;0)<>1;1;0)","v":{"$error":"#VALUE!"}},{"$nulls":15},"Моисеев Андрей Валентинович",1,null,null,null,170,3,"Анциферов Алексей Сергеевич"]
[87,{"$f":"CONCATENATE(C172;D172)","v":{"$error":"#VALUE!"}},92,"Маркина Людмила Николаевна, Марина",87,{"$f":"IF(VLOOKUP(D172;$V$2:$W$299;2;0)<>1;1;0)","v":{"$error":"#VALUE!"}},{"$nulls":15},"Молчанова Ирина Владимировна",1,null,null,null,171,3,"Анциферов Алексей Сергеевич"]
[154,{"$f":"CONCATENATE(C173;D173)","v":{"$error":"#VALUE!"}},162,"Марков Максим Юрьевич",154,{"$f":"IF(VLOOKUP(D173;$V$2:$W$299;2;0)<>1;1;0)","v":{"$error":"#VALUE!"}},{"$nulls":15},"Мудрак Владимир Григорьевич (Марина)",1,null,null,null,172,3,"Анциферов Алексей Сергеевич"]
[270,{"$f":"CONCATENATE(C174;D174)","v":{"$error":"#VALUE!"}},283,"Маркова Тамара Ивановна",270,{"$f":"IF(VLOOKUP(D174;$V$2:$W$299;2;0)<>1;1;0)","v":{"$error":"#VALUE!"}},{"$nulls":15},"Мурадова Альбина Сергеевна",1,null,null,null,173,3,"Анциферов Алексей Сергеевич"]
[9,{"$f":"CONCATENATE(C175;D175)","v":{"$error":"#VALUE!"}},9,"Марковнина Светлана Викторовна",9,{"$f":"IF(VLOOKUP(D175;$V$2:$W$299;2;0)<>1;1;0)","v":{"$error":"#VALUE!"}},{"$nulls":15},"Аксенов Дмитрий Викторович",1,null,null,null,174,3,"Анциферов Алексей Сергеевич"]
[129,{"$f":"CONCATENATE(C176;D176)","v":{"$error":"#VALUE!"}},136,"Маслов Александр Александрович",129,{"$f":"IF(VLOOKUP(D176;$V$2:$W$299;2;0)<>1;1;0)","v":{"$error":"#VALUE!"}},{"$nulls":15},"Недосенко Татьяна Сергеевна (Олег)",1,null,null,null,175,3,"Анциферов Алексей Сергеевич"]
[42,{"$f":"CONCATENATE(C177;D177)","v":{"$error":"#VALUE!"}},42,"Маслов Андрей Геннадьевич (1/2)                 Щербакова Надежда Михайловна (1/2)",42,{"$f":"IF(VLOOKUP(D177;$V$2:$W$299;2;0)<>1;1;0)","v":{"$error":"#VALUE!"}},{"$nulls":15},"Нелюбов Сергей Владимирович",1,null,null,null,176,3,"Анциферов Алексей Сергеевич"]
[96,{"$f":"CONCATENATE(C178;D178)","v":{"$error":"#VALUE!"}},102,"Маслова Валентина Петровна",96,{"$f":"IF(VLOOKUP(D178;$V$2:$W$299;2;0)<>1;1;0)","v":{"$error":"#VALUE!"}},{"$nulls":15},"Нефедов Михаил Владимирович",1,null,null,null,177,3,"Анциферов Алексей Сергеевич"]
[96,{"$f":"CONCATENATE(C179;D179)","v":{"$error":"#VALUE!"}},101,"Маслова Валентина Петровна",96,{"$f":"IF(VLOOKUP(D179;$V$2:$W$299;2;0)<>1;1;0)","v":{"$error":"#VALUE!"}},{"$nulls":15},"Никифоров Андрей Леонидович",1,null,null,null,178,3,"Анциферов Алексей Сергеевич"]
[292,{"$f":"CONCATENATE(C180;D180)","v":{"$error":"#VALUE!"}},305,"Матвеев Денис Львович",292,{"$f":"IF(VLOOKUP(D180;$V$2:$W$299;2;0)<>1;1;0)","v":{"$error":"#VALUE!"}},{"$nulls":15},"Новиков Виктор Викторович",1,null,null,null,179,3,"Анциферов Алексей Сергеевич"]
[209,{"$f":"CONCATENATE(C181;D181)","v":{"$error":"#VALUE!"}},219,"Мельников Михаил Вячеславович / Диденко",209,{"$f":"IF(VLOOKUP(D181;$V$2:$W$299;2;0)<>1;1;0)","v":{"$error":"#VALUE!"}},{"$nulls":15},"Новикова Наталья Петровна",1,null,null,null,180,3,"Анциферов Алексей Сергеевич"]
[257,{"$f":"CONCATENATE(C182;D182)","v":{"$error":"#VALUE!"}},270,"Месхидзе Оксана Валерьевна",257,{"$f":"IF(VLOOKUP(D182;$V$2:$W$299;2;0)<>1;1;0)","v":{"$error":"#VALUE!"}},{"$nulls":15},"Новикова Светлана Владимировна (Анатолий)",1,null,null,null,181,14,"Спиридонов Андрей Владимирович"]
[212,{"$f":"CONCATENATE(C183;D183)","v":{"$error":"#VALUE!"}},221,"Милишенко Надежда Ивановна",212,{"$f":"IF(VLOOKUP(D183;$V$2:$W$299;2;0)<>1;1;0)","v":{"$error":"#VALUE!"}},{"$nulls":15},"Нормуротов Анваржон Абдирайимович",1,null,null,null,182,14,"Спиридонов Андрей Владимирович"]
[320,{"$f":"CONCATENATE(C184;D184)","v":{"$error":"#VALUE!"}},null,"Милоянин Алексей Леонидович",320,{"$f":"IF(VLOOKUP(D184;$V$2:$W$299;2;0)<>1;1;0)","v":{"$error":"#VALUE!"}},{"$nulls":15},"Носикова Александра Васильевна",1,null,null,null,183,14,"Спиридонов Андрей Владимирович"]
[186,{"$f":"CONCATENATE(C185;D185)","v":{"$error":"#VALUE!"}},194,"Мирошниченко Андрей Иванович Захарова Елена Александровна",186,{"$f":"IF(VLOOKUP(D185;$V$2:$W$299;2;0)<>1;1;0)","v":{"$error":"#VALUE!"}},{"$nulls":15},"Носикова Мария Леонидовна",1,null,null,null,184,14,"Спиридонов Андрей Владимирович"]
[187,{"$f":"CONCATENATE(C186;D186)","v":{"$error":"#VALUE!"}},195,"Мирошниченко Екатерина Олеговна",187,{"$f":"IF(VLOOKUP(D186;$V$2:$W$299;2;0)<>1;1;0)","v":{"$error":"#VALUE!"}},{"$nulls":15},"Олег (Гусев Николай Михайлович — был)",1,null,null,null,185,14,"Спиридонов Андрей Владимирович"]
[211,{"$f":"CONCATENATE(C187;D187)","v":{"$error":"#VALUE!"}},220,"Модин Игорь Николаевич",211,{"$f":"IF(VLOOKUP(D187;$V$2:$W$299;2;0)<>1;1;0)","v":{"$error":"#VALUE!"}},{"$nulls":15},"Олейников Дмитрий Александрович",1,null,null,null,186,14,"Спиридонов Андрей Владимирович"]
[242,{"$f":"CONCATENATE(C188;D188)","v":{"$error":"#VALUE!"}},253,"Моисеев Андрей Валентинович",242,{"$f":"IF(VLOOKUP(D188;$V$2:$W$299;2;0)<>1;1;0)","v":{"$error":"#VALUE!"}},{"$nulls":15},"Олейникова Евгения Александровна",1,null,null,null,187,14,"Спиридонов Андрей Владимирович"]
[218,{"$f":"CONCATENATE(C189;D189)","v":{"$error":"#VALUE!"}},227,"Молчанова Ирина Владимировна",218,{"$f":"IF(VLOOKUP(D189;$V$2:$W$299;2;0)<>1;1;0)","v":{"$error":"#VALUE!"}},{"$nulls":15},"Осадчев Константин Владимирович",1,null,null,null,188,14,"Спиридонов Андрей Владимирович"]
[120,{"$f":"CONCATENATE(C190;D190)","v":{"$error":"#VALUE!"}},125,"Мудрак Владимир Григорьевич (Марина)",120,{"$f":"IF(VLOOKUP(D190;$V$2:$W$299;2;0)<>1;1;0)","v":{"$error":"#VALUE!"}},{"$nulls":15},"Острикова Наталья Львовна",1,null,null,null,189,14,"Спиридонов Андрей Владимирович"]
[287,{"$f":"CONCATENATE(C191;D191)","v":{"$error":"#VALUE!"}},299,"Мурадова Альбина Сергеевна",287,{"$f":"IF(VLOOKUP(D191;$V$2:$W$299;2;0)<>1;1;0)","v":{"$error":"#VALUE!"}},{"$nulls":15},"Пархачева Эльвира Валентиновна (Алксандр)",1,null,null,null,190,14,"Спиридонов Андрей Владимирович"]
[170,{"$f":"CONCATENATE(C192;D192)","v":{"$error":"#VALUE!"}},179,"Науменко Дмитрий Александрович",170,{"$f":"IF(VLOOKUP(D192;$V$2:$W$299;2;0)<>1;1;0)","v":{"$error":"#VALUE!"}},{"$nulls":15},"Пахарева Ольга Александровна (Дмитрий)",1,null,null,null,191,14,"Спиридонов Андрей Владимирович"]
[170,{"$f":"CONCATENATE(C193;D193)","v":{"$error":"#VALUE!"}},178,"Науменко Дмитрий Александрович",170,{"$f":"IF(VLOOKUP(D193;$V$2:$W$299;2;0)<>1;1;0)","v":{"$error":"#VALUE!"}},{"$nulls":15},"Петрик Наталья Вячеславовна",1,null,null,null,192,14,"Спиридонов Андрей Владимирович"]
[290,{"$f":"CONCATENATE(C194;D194)","v":{"$error":"#VALUE!"}},303,"Недосенко Татьяна Сергеевна (Олег)",290,{"$f":"IF(VLOOKUP(D194;$V$2:$W$299;2;0)<>1;1;0)","v":{"$error":"#VALUE!"}},{"$nulls":15},"Петров Борис Викторович",1,null,null,null,193,14,"Спиридонов Андрей Владимирович"]
[81,{"$f":"CONCATENATE(C195;D195)","v":{"$error":"#VALUE!"}},86,"Нелюбов Сергей Владимирович",81,{"$f":"IF(VLOOKUP(D195;$V$2:$W$299;2;0)<>1;1;0)","v":{"$error":"#VALUE!"}},{"$nulls":15},"Петрова Елена Николаевна",1,null,null,null,194,14,"Спиридонов Андрей Владимирович"]
[31,{"$f":"CONCATENATE(C196;D196)","v":{"$error":"#VALUE!"}},31,"Нефедов Михаил Владимирович",31,{"$f":"IF(VLOOKUP(D196;$V$2:$W$299;2;0)<>1;1;0)","v":{"$error":"#VALUE!"}},{"$nulls":15},"Петункин Игорь Минович",1,null,null,null,195,14,"Спиридонов Андрей Владимирович"]
[104,{"$f":"CONCATENATE(C197;D197)","v":{"$error":"#VALUE!"}},109,"Никифоров Андрей Леонидович",104,{"$f":"IF(VLOOKUP(D197;$V$2:$W$299;2;0)<>1;1;0)","v":{"$error":"#VALUE!"}},{"$nulls":15},"Пикалёва Алла Григорьевна (Юрий)",1,null,null,null,196,14,"Спиридонов Андрей Владимирович"]
[85,{"$f":"CONCATENATE(C198;D198)","v":{"$error":"#VALUE!"}},90,"Новиков Виктор Викторович",85,{"$f":"IF(VLOOKUP(D198;$V$2:$W$299;2;0)<>1;1;0)","v":{"$error":"#VALUE!"}},{"$nulls":15},"Поликарпова Наталья Дмитриевна",1,null,null,null,197,14,"Спиридонов Андрей Владимирович"]
[300,{"$f":"CONCATENATE(C199;D199)","v":{"$error":"#VALUE!"}},315,"Новикова Наталья Петровна",300,{"$f":"IF(VLOOKUP(D199;$V$2:$W$299;2;0)<>1;1;0)","v":{"$error":"#VALUE!"}},{"$nulls":15},"Полякова Марина Александровна",1,null,null,null,198,14,"Спиридонов Андрей Владимирович"]
[47,{"$f":"CONCATENATE(C200;D200)","v":{"$error":"#VALUE!"}},47,"Новикова Светлана Владимировна (Анатолий)",47,{"$f":"IF(VLOOKUP(D200;$V$2:$W$299;2;0)<>1;1;0)","v":{"$error":"#VALUE!"}},{"$nulls":15},"Пономарева Олеся Сергеевна",1,null,null,null,199,14,"Спиридонов Андрей Владимирович"]
[282,{"$f":"CONCATENATE(C201;D201)","v":{"$error":"#VALUE!"}},294,"Нормуротов Анваржон Абдирайимович",282,{"$f":"IF(VLOOKUP(D201;$V$2:$W$299;2;0)<>1;1;0)","v":{"$error":"#VALUE!"}},{"$nulls":15},"Попова Нина Ивановна",1,null,null,null,200,14,"Спиридонов Андрей Владимирович"]
[204,{"$f":"CONCATENATE(C202;D202)","v":{"$error":"#VALUE!"}},214,"Носикова Александра Васильевна",204,{"$f":"IF(VLOOKUP(D202;$V$2:$W$299;2;0)<>1;1;0)","v":{"$error":"#VALUE!"}},{"$nulls":15},"Постернак Татьяна Николаевна",1,null,null,null,201,4,"Борисов Олег Александрович"]
[291,{"$f":"CONCATENATE(C203;D203)","v":{"$error":"#VALUE!"}},304,"Носикова Мария Леонидовна",291,{"$f":"IF(VLOOKUP(D203;$V$2:$W$299;2;0)<>1;1;0)","v":{"$error":"#VALUE!"}},{"$nulls":15},"Просянов Александр Александрович",1,null,null,null,202,4,"Борисов Олег Александрович"]
[89,{"$f":"CONCATENATE(C204;D204)","v":{"$error":"#VALUE!"}},94,"Олег (Гусев Николай Михайлович — был)",89,{"$f":"IF(VLOOKUP(D204;$V$2:$W$299;2;0)<>1;1;0)","v":{"$error":"#VALUE!"}},{"$nulls":15},"Прохоров Владимир Михайлович",1,null,null,null,203,4,"Борисов Олег Александрович"]
[26,{"$f":"CONCATENATE(C205;D205)","v":{"$error":"#VALUE!"}},26,"Олейников Дмитрий Александрович",26,{"$f":"IF(VLOOKUP(D205;$V$2:$W$299;2;0)<>1;1;0)","v":{"$error":"#VALUE!"}},{"$nulls":15},"Пузанова Екатерина Вячеславовна",1,null,null,null,204,4,"Борисов Олег Александрович"]
[71,{"$f":"CONCATENATE(C206;D206)","v":{"$error":"#VALUE!"}},77,"Олейникова Евгения Александровна",71,{"$f":"IF(VLOOKUP(D206;$V$2:$W$299;2;0)<>1;1;0)","v":{"$error":"#VALUE!"}},{"$nulls":15},"Ратников Алексей Сергеевич",1,null,null,null,205,4,"Борисов Олег Александрович"]
[6,{"$f":"CONCATENATE(C207;D207)","v":{"$error":"#VALUE!"}},6,"Осадчев Константин Владимирович",6,{"$f":"IF(VLOOKUP(D207;$V$2:$W$299;2;0)<>1;1;0)","v":{"$error":"#VALUE!"}},{"$nulls":15},"Решетов Владимир Генадьевич",1,null,null,null,206,4,"Борисов Олег Александрович"]
[80,{"$f":"CONCATENATE(C208;D208)","v":{"$error":"#VALUE!"}},85,"Острикова Наталья Львовна",80,{"$f":"IF(VLOOKUP(D208;$V$2:$W$299;2;0)<>1;1;0)","v":{"$error":"#VALUE!"}},{"$nulls":15},"Родичева Наталья Николаевна - Завилевская Е.И. ???",1,null,null,null,207,4,"Борисов Олег Александрович"]
[201,{"$f":"CONCATENATE(C209;D209)","v":{"$error":"#VALUE!"}},209,"Пархачева Эльвира Валентиновна (Алксандр)",201,{"$f":"IF(VLOOKUP(D209;$V$2:$W$299;2;0)<>1;1;0)","v":{"$error":"#VALUE!"}},{"$nulls":15},"Александров Владимир Александрович",1,null,null,null,208,4,"Борисов Олег Александрович"]
[147,{"$f":"CONCATENATE(C210;D210)","v":{"$error":"#VALUE!"}},155,"Пахарева Ольга Александровна (Дмитрий)",147,{"$f":"IF(VLOOKUP(D210;$V$2:$W$299;2;0)<>1;1;0)","v":{"$error":"#VALUE!"}},{"$nulls":15},"Алексеев Андрей Олегович",1,null,null,null,209,4,"Борисов Олег Александрович"]
[29,{"$f":"CONCATENATE(C211;D211)","v":{"$error":"#VALUE!"}},29,"Петрик Наталья Вячеславовна",29,{"$f":"IF(VLOOKUP(D211,$V$2:$W$299,2,0)<>1,1,0)","v":0},{"$nulls":15},"Рощина Ирина Михайловна",1,null,null,null,210,4,"Борисов Олег Александрович"]
[33,{"$f":"CONCATENATE(C212;D212)","v":{"$error":"#VALUE!"}},33,"Петров Борис Викторович",33,{"$f":"IF(VLOOKUP(D212;$V$2:$W$299;2;0)<>1;1;0)","v":{"$error":"#VALUE!"}},{"$nulls":15},"Рудая Наталья Викторовна",1,null,null,null,211,4,"Борисов Олег Александрович"]
[169,{"$f":"CONCATENATE(C213;D213)","v":{"$error":"#VALUE!"}},177,"Петрова Елена Николаевна",169,{"$f":"IF(VLOOKUP(D213;$V$2:$W$299;2;0)<>1;1;0)","v":{"$error":"#VALUE!"}},{"$nulls":15},"Рыбалкин Андрей Сергеевич",1,null,null,null,212,4,"Борисов Олег Александрович"]
[185,{"$f":"CONCATENATE(C214;D214)","v":{"$error":"#VALUE!"}},193,"Петункин Игорь Минович",185,{"$f":"IF(VLOOKUP(D214;$V$2:$W$299;2;0)<>1;1;0)","v":{"$error":"#VALUE!"}},{"$nulls":15},"Рыжов Андрей Николаевич",1,null,null,null,213,4,"Борисов Олег Александрович"]
[176,{"$f":"CONCATENATE(C215;D215)","v":{"$error":"#VALUE!"}},184,"Пикалёва Алла Григорьевна (Юрий)",176,{"$f":"IF(VLOOKUP(D215;$V$2:$W$299;2;0)<>1;1;0)","v":{"$error":"#VALUE!"}},{"$nulls":15},"Савина Нина Ивановна",1,null,null,null,214,4,"Борисов Олег Александрович"]
[307,{"$f":"CONCATENATE(C216;D216)","v":{"$error":"#VALUE!"}},322,"Поликарпова Наталья Дмитриевна",307,{"$f":"IF(VLOOKUP(D216;$V$2:$W$299;2;0)<>1;1;0)","v":{"$error":"#VALUE!"}},{"$nulls":15},"Садовников Алексей Владимирович(Рошка Александр Николаевич)",1,null,null,null,215,4,"Борисов Олег Александрович"]
[177,{"$f":"CONCATENATE(C217;D217)","v":{"$error":"#VALUE!"}},185,"Полякова Марина Александровна",177,{"$f":"IF(VLOOKUP(D217;$V$2:$W$299;2;0)<>1;1;0)","v":{"$error":"#VALUE!"}},{"$nulls":15},"Сазонов Сергей Александрович - Диденко Оксана Владимировна",1,null,null,null,216,4,"Борисов Олег Александрович"]
[160,{"$f":"CONCATENATE(C218;D218)","v":{"$error":"#VALUE!"}},168,"Пономарева Олеся Сергеевна",160,{"$f":"IF(VLOOKUP(D218;$V$2:$W$299;2;0)<>1;1;0)","v":{"$error":"#VALUE!"}},{"$nulls":15},"Салопаева Татьяна Сергеевна",1,null,null,null,217,4,"Борисов Олег Александрович"]
[53,{"$f":"CONCATENATE(C219;D219)","v":{"$error":"#VALUE!"}},55,"Попова Нина Ивановна",53,{"$f":"IF(VLOOKUP(D219;$V$2:$W$299;2;0)<>1;1;0)","v":{"$error":"#VALUE!"}},{"$nulls":15},"Самоволькина Ирина Владимировна",1,null,null,null,218,4,"Борисов Олег Александрович"]
[102,{"$f":"CONCATENATE(C220;D220)","v":{"$error":"#VALUE!"}},107,"Постернак Татьяна Николаевна",102,{"$f":"IF(VLOOKUP(D220;$V$2:$W$299;2;0)<>1;1;0)","v":{"$error":"#VALUE!"}},{"$nulls":15},"Самородов",1,null,null,null,219,4,"Борисов Олег Александрович"]
[174,{"$f":"CONCATENATE(C221;D221)","v":{"$error":"#VALUE!"}},182,"Просянов Александр Александрович",174,{"$f":"IF(VLOOKUP(D221;$V$2:$W$299;2;0)<>1;1;0)","v":{"$error":"#VALUE!"}},{"$nulls":15},"Саргсян Оганнес Ншанович",1,null,null,null,220,4,"Борисов Олег Александрович"]
[165,{"$f":"CONCATENATE(C222;D222)","v":{"$error":"#VALUE!"}},173,"Прохоров Владимир Михайлович",165,{"$f":"IF(VLOOKUP(D222;$V$2:$W$299;2;0)<>1;1;0)","v":{"$error":"#VALUE!"}},{"$nulls":15},"Сафронова Наталья Михайловна (у Дедков Илья Егорьевич купила)",1,null,null,null,221,8,"Карпова Елена Витальевна"]
[251,{"$f":"CONCATENATE(C223;D223)","v":{"$error":"#VALUE!"}},262,"Пузанова Екатерина Вячеславовна",251,{"$f":"IF(VLOOKUP(D223;$V$2:$W$299;2;0)<>1;1;0)","v":{"$error":"#VALUE!"}},{"$nulls":15},"Сбитнева Юлия Сергеевна",1,null,null,null,222,8,"Карпова Елена Витальевна"]
[315,{"$f":"CONCATENATE(C224;D224)","v":{"$error":"#VALUE!"}},"265-266","Ратников Алексей Сергеевич",315,{"$f":"IF(VLOOKUP(D224;$V$2:$W$299;2;0)<>1;1;0)","v":{"$error":"#VALUE!"}},{"$nulls":15},"Севастьянов Михаил Григорьевич",1,null,null,null,223,8,"Карпова Елена Витальевна"]
[312,{"$f":"CONCATENATE(C225;D225)","v":{"$error":"#VALUE!"}},"306-307-210-211","Решетов Владимир Генадьевич",312,{"$f":"IF(VLOOKUP(D225;$V$2:$W$299;2;0)<>1;1;0)","v":{"$error":"#VALUE!"}},{"$nulls":15},"Севрюгина Ольга Викторовна",1,null,null,null,224,8,"Карпова Елена Витальевна"]
[195,{"$f":"CONCATENATE(C226;D226)","v":{"$error":"#VALUE!"}},203,"Родичева Наталья Николаевна - Завилевская Е.И. ???",195,{"$f":"IF(VLOOKUP(D226;$V$2:$W$299;2;0)<>1;1;0)","v":{"$error":"#VALUE!"}},{"$nulls":15},"Семенова Рима Прановна",1,null,null,null,225,8,"Карпова Елена Витальевна"]
[144,{"$f":"CONCATENATE(C227;D227)","v":{"$error":"#VALUE!"}},153,"Рожкова Глафира Андреевна",144,{"$f":"IF(VLOOKUP(D227;$V$2:$W$299;2;0)<>1;1;0)","v":{"$error":"#VALUE!"}},{"$nulls":15},"Сёмин Александр Иванович",1,null,null,null,226,8,"Карпова Елена Витальевна"]
[144,{"$f":"CONCATENATE(C228;D228)","v":{"$error":"#VALUE!"}},152,"Рожкова Глафира Андреевна",144,{"$f":"IF(VLOOKUP(D228;$V$2:$W$299;2;0)<>1;1;0)","v":{"$error":"#VALUE!"}},{"$nulls":15},"Сергиенко Николай Михайлович",1,null,null,null,227,8,"Карпова Елена Витальевна"]
[74,{"$f":"CONCATENATE(C229;D229)","v":{"$error":"#VALUE!"}},81,"Розова Татьяна Викторовна",74,{"$f":"IF(VLOOKUP(D229;$V$2:$W$299;2;0)<>1;1;0)","v":{"$error":"#VALUE!"}},{"$nulls":15},"Серебряков Игорь Васильевич",1,null,null,null,228,8,"Карпова Елена Витальевна"]
[74,{"$f":"CONCATENATE(C230;D230)","v":{"$error":"#VALUE!"}},80,"Розова Татьяна Викторовна",74,{"$f":"IF(VLOOKUP(D230;$V$2:$W$299;2;0)<>1;1;0)","v":{"$error":"#VALUE!"}},{"$nulls":15},"Серкин Сергей Львовович",1,null,null,null,229,8,"Карпова Елена Витальевна"]
[68,{"$f":"CONCATENATE(C231;D231)","v":{"$error":"#VALUE!"}},70,"Рощина Ирина Михайловна",68,{"$f":"IF(VLOOKUP(D231;$V$2:$W$299;2;0)<>1;1;0)","v":{"$error":"#VALUE!"}},{"$nulls":15},"Сидельникова Ольга Петровна",1,null,null,null,230,8,"Карпова Елена Витальевна"]
[224,{"$f":"CONCATENATE(C232;D232)","v":{"$error":"#VALUE!"}},233,"Рудая Наталья Викторовна",224,{"$f":"IF(VLOOKUP(D232;$V$2:$W$299;2;0)<>1;1;0)","v":{"$error":"#VALUE!"}},{"$nulls":15},"Сидоров Александр Юрьевич",1,null,null,null,231,8,"Карпова Елена Витальевна"]
[134,{"$f":"CONCATENATE(C233;D233)","v":{"$error":"#VALUE!"}},141,"Рыбалкин Андрей Сергеевич",134,{"$f":"IF(VLOOKUP(D233;$V$2:$W$299;2;0)<>1;1;0)","v":{"$error":"#VALUE!"}},{"$nulls":15},"Сиротин Дмитрий Борисович (Приставалова)",1,null,null,null,232,8,"Карпова Елена Витальевна"]
[267,{"$f":"CONCATENATE(C234;D234)","v":{"$error":"#VALUE!"}},280,"Рыжов Андрей Николаевич",267,{"$f":"IF(VLOOKUP(D234;$V$2:$W$299;2;0)<>1;1;0)","v":{"$error":"#VALUE!"}},{"$nulls":15},"Сломов Константин Витальевич",1,null,null,null,233,8,"Карпова Елена Витальевна"]
[258,{"$f":"CONCATENATE(C235;D235)","v":{"$error":"#VALUE!"}},271,"Савина Нина Ивановна",258,{"$f":"IF(VLOOKUP(D235;$V$2:$W$299;2;0)<>1;1;0)","v":{"$error":"#VALUE!"}},{"$nulls":15},"Смирнов Максим Анатольевич, Светлана",1,null,null,null,234,8,"Карпова Елена Витальевна"]
[299,{"$f":"CONCATENATE(C236;D236)","v":{"$error":"#VALUE!"}},314,"Садовников Алексей Владимирович(Рошка Александр Николаевич)",299,{"$f":"IF(VLOOKUP(D236;$V$2:$W$299;2;0)<>1;1;0)","v":{"$error":"#VALUE!"}},{"$nulls":15},"Соколова Ирина Анатольевна",1,null,null,null,235,8,"Карпова Елена Витальевна"]
[210,{"$f":"CONCATENATE(C237;D237)","v":{"$error":"#VALUE!"}},219,"Сазонов Сергей Александрович - Диденко Оксана Владимировна",210,{"$f":"IF(VLOOKUP(D237;$V$2:$W$299;2;0)<>1;1;0)","v":{"$error":"#VALUE!"}},{"$nulls":15},"Солодкий Дмитрий Павлович",1,null,null,null,236,8,"Карпова Елена Витальевна"]
[239,{"$f":"CONCATENATE(C238;D238)","v":{"$error":"#VALUE!"}},250,"Салопаева Татьяна Сергеевна",239,{"$f":"IF(VLOOKUP(D238;$V$2:$W$299;2;0)<>1;1;0)","v":{"$error":"#VALUE!"}},{"$nulls":15},"Спивак Сергей Николаевич",1,null,null,null,237,8,"Карпова Елена Витальевна"]
[238,{"$f":"CONCATENATE(C239;D239)","v":{"$error":"#VALUE!"}},249,"Самоволькина Ирина Владимировна",238,{"$f":"IF(VLOOKUP(D239;$V$2:$W$299;2;0)<>1;1;0)","v":{"$error":"#VALUE!"}},{"$nulls":15},"Амплеева Мария Александровна",1,null,null,null,238,8,"Карпова Елена Витальевна"]
[77,{"$f":"CONCATENATE(C240;D240)","v":{"$error":"#VALUE!"}},83,"Самородов",77,{"$f":"IF(VLOOKUP(D240;$V$2:$W$299;2;0)<>1;1;0)","v":{"$error":"#VALUE!"}},{"$nulls":15},"Старостин Виктор Вячеславович",1,null,null,null,239,8,"Карпова Елена Витальевна"]
[297,{"$f":"CONCATENATE(C241;D241)","v":{"$error":"#VALUE!"}},312,"Саргсян Оганнес Ншанович",297,{"$f":"IF(VLOOKUP(D241;$V$2:$W$299;2;0)<>1;1;0)","v":{"$error":"#VALUE!"}},{"$nulls":15},"Степанов Валерий Владимирович",1,null,null,null,240,8,"Карпова Елена Витальевна"]
[128,{"$f":"CONCATENATE(C242;D242)","v":{"$error":"#VALUE!"}},135,"Сафронова Наталья Михайловна (у Дедков Илья Егорьевич купила)",128,{"$f":"IF(VLOOKUP(D242;$V$2:$W$299;2;0)<>1;1;0)","v":{"$error":"#VALUE!"}},{"$nulls":15},"Степанова Марина Николаевна (Артем)",1,null,null,null,241,5,"Ермошин Владимир Владимирович"]
[67,{"$f":"CONCATENATE(C243;D243)","v":{"$error":"#VALUE!"}},69,"Сбитнева Юлия Сергеевна",67,{"$f":"IF(VLOOKUP(D243;$V$2:$W$299;2;0)<>1;1;0)","v":{"$error":"#VALUE!"}},{"$nulls":15},"Стрелков Андрей Вячеславович",1,null,null,null,242,5,"Ермошин Владимир Владимирович"]
[278,{"$f":"CONCATENATE(C244;D244)","v":{"$error":"#VALUE!"}},290,"Севастьянов Михаил Григорьевич",278,{"$f":"IF(VLOOKUP(D244;$V$2:$W$299;2;0)<>1;1;0)","v":{"$error":"#VALUE!"}},{"$nulls":15},"Стрелков Андрей Вячеславович",1,null,null,null,243,5,"Ермошин Владимир Владимирович"]
[280,{"$f":"CONCATENATE(C245;D245)","v":{"$error":"#VALUE!"}},292,"Севрюгина Ольга Викторовна",280,{"$f":"IF(VLOOKUP(D245;$V$2:$W$299;2;0)<>1;1;0)","v":{"$error":"#VALUE!"}},{"$nulls":15},"Стрелков Николай Валентинович",1,null,null,null,244,5,"Ермошин Владимир Владимирович"]
[215,{"$f":"CONCATENATE(C246;D246)","v":{"$error":"#VALUE!"}},224,"Семенова Рима Прановна",215,{"$f":"IF(VLOOKUP(D246;$V$2:$W$299;2;0)<>1;1;0)","v":{"$error":"#VALUE!"}},{"$nulls":15},"Ступнев Евгений  Романович",1,null,null,null,245,5,"Ермошин Владимир Владимирович"]
[241,{"$f":"CONCATENATE(C247;D247)","v":{"$error":"#VALUE!"}},252,"Сёмин Александр Иванович",241,{"$f":"IF(VLOOKUP(D247;$V$2:$W$299;2;0)<>1;1;0)","v":{"$error":"#VALUE!"}},{"$nulls":15},"Суворов Сергей Анатольевич",1,null,null,null,246,5,"Ермошин Владимир Владимирович"]
[161,{"$f":"CONCATENATE(C248;D248)","v":{"$error":"#VALUE!"}},169,"Сергиенко Николай Михайлович",161,{"$f":"IF(VLOOKUP(D248;$V$2:$W$299;2;0)<>1;1;0)","v":{"$error":"#VALUE!"}},{"$nulls":15},"Суркова Татьяна Александровна",1,null,null,null,247,5,"Ермошин Владимир Владимирович"]
[272,{"$f":"CONCATENATE(C249;D249)","v":{"$error":"#VALUE!"}},285,"Серебряков Игорь Васильевич",272,{"$f":"IF(VLOOKUP(D249;$V$2:$W$299;2;0)<>1;1;0)","v":{"$error":"#VALUE!"}},{"$nulls":15},"Сысоев Евгений Анатольевич",1,null,null,null,248,5,"Ермошин Владимир Владимирович"]
[19,{"$f":"CONCATENATE(C250;D250)","v":{"$error":"#VALUE!"}},19,"Серкин Сергей Львовович",19,{"$f":"IF(VLOOKUP(D250;$V$2:$W$299;2;0)<>1;1;0)","v":{"$error":"#VALUE!"}},{"$nulls":15},"Сысоев Семен Евгеньевич",1,null,null,null,249,5,"Ермошин Владимир Владимирович"]
[310,{"$f":"CONCATENATE(C251;D251)","v":{"$error":"#VALUE!"}},"133-134","Сидельникова Ольга Петровна",310,{"$f":"IF(VLOOKUP(D251;$V$2:$W$299;2;0)<>1;1;0)","v":{"$error":"#VALUE!"}},{"$nulls":15},"Тадлов Виталий Петрович",1,null,null,null,250,5,"Ермошин Владимир Владимирович"]
[205,{"$f":"CONCATENATE(C252;D252)","v":{"$error":"#VALUE!"}},215,"Сидоров Александр Юрьевич",205,{"$f":"IF(VLOOKUP(D252;$V$2:$W$299;2;0)<>1;1;0)","v":{"$error":"#VALUE!"}},{"$nulls":15},"Андреева Любовь Ивановна(у Севастьянова)",1,null,null,null,251,5,"Ермошин Владимир Владимирович"]
[107,{"$f":"CONCATENATE(C253;D253)","v":{"$error":"#VALUE!"}},112,"Сиротин Дмитрий Борисович (Приставалова)",107,{"$f":"IF(VLOOKUP(D253;$V$2:$W$299;2;0)<>1;1;0)","v":{"$error":"#VALUE!"}},{"$nulls":15},"Темникова Елена Станиславовна",1,null,null,null,252,5,"Ермошин Владимир Владимирович"]
[48,{"$f":"CONCATENATE(C254;D254)","v":{"$error":"#VALUE!"}},48,"Сломов Константин Витальевич",48,{"$f":"IF(VLOOKUP(D254;$V$2:$W$299;2;0)<>1;1;0)","v":{"$error":"#VALUE!"}},{"$nulls":15},"Тимофеева Лариса Викторовна",1,null,null,null,253,5,"Ермошин Владимир Владимирович"]
[237,{"$f":"CONCATENATE(C255;D255)","v":{"$error":"#VALUE!"}},248,"Смирнов Максим Анатольевич, Светлана",237,{"$f":"IF(VLOOKUP(D255;$V$2:$W$299;2;0)<>1;1;0)","v":{"$error":"#VALUE!"}},{"$nulls":15},"Тимофеева Татьяна Александровна (Денис)",1,null,null,null,254,5,"Ермошин Владимир Владимирович"]
[263,{"$f":"CONCATENATE(C256;D256)","v":{"$error":"#VALUE!"}},276,"Соколова Ирина Анатольевна",263,{"$f":"IF(VLOOKUP(D256;$V$2:$W$299;2;0)<>1;1;0)","v":{"$error":"#VALUE!"}},{"$nulls":15},"Толкова Елена Анатольевна (Олег)",1,null,null,null,255,5,"Ермошин Владимир Владимирович"]
[100,{"$f":"CONCATENATE(C257;D257)","v":{"$error":"#VALUE!"}},105,"Солодкий Дмитрий Павлович",100,{"$f":"IF(VLOOKUP(D257;$V$2:$W$299;2;0)<>1;1;0)","v":{"$error":"#VALUE!"}},{"$nulls":15},"Трубченко Петр Александрович",1,null,null,null,256,5,"Ермошин Владимир Владимирович"]
[131,{"$f":"CONCATENATE(C258;D258)","v":{"$error":"#VALUE!"}},138,"Спивак Сергей Николаевич",131,{"$f":"IF(VLOOKUP(D258;$V$2:$W$299;2;0)<>1;1;0)","v":{"$error":"#VALUE!"}},{"$nulls":15},"Трыкин Евгений Викторович",1,null,null,null,257,5,"Ермошин Владимир Владимирович"]
[183,{"$f":"CONCATENATE(C259;D259)","v":{"$error":"#VALUE!"}},192,"Спиридонов Андрей Владимирович",183,{"$f":"IF(VLOOKUP(D259;$V$2:$W$299;2;0)<>1;1;0)","v":{"$error":"#VALUE!"}},{"$nulls":15},"Тюленев Вячеслав Рудольфович",1,null,null,null,258,5,"Ермошин Владимир Владимирович"]
[183,{"$f":"CONCATENATE(C260;D260)","v":{"$error":"#VALUE!"}},191,"Спиридонов Андрей Владимирович",183,{"$f":"IF(VLOOKUP(D260;$V$2:$W$299;2;0)<>1;1;0)","v":{"$error":"#VALUE!"}},{"$nulls":15},"Федорова Наталья Владимировна",1,null,null,null,259,5,"Ермошин Владимир Владимирович"]
[21,{"$f":"CONCATENATE(C261;D261)","v":{"$error":"#VALUE!"}},21,"Старостин Виктор Вячеславович",21,{"$f":"IF(VLOOKUP(D261;$V$2:$W$299;2;0)<>1;1;0)","v":{"$error":"#VALUE!"}},{"$nulls":15},"Федорова Юлия Владимировна",1,null,null,null,260,5,"Ермошин Владимир Владимирович"]
[298,{"$f":"CONCATENATE(C262;D262)","v":{"$error":"#VALUE!"}},313,"Степанов Валерий Владимирович",298,{"$f":"IF(VLOOKUP(D262;$V$2:$W$299;2;0)<>1;1;0)","v":{"$error":"#VALUE!"}},{"$nulls":15},"Анисимова (Корнеева) Татьяна Николаевна",1,null,null,null,261,9,"Лапшин Сергей Николаевич"]
[91,{"$f":"CONCATENATE(C263;D263)","v":{"$error":"#VALUE!"}},96,"Степанова Марина Николаевна (Артем)",91,{"$f":"IF(VLOOKUP(D263;$V$2:$W$299;2;0)<>1;1;0)","v":{"$error":"#VALUE!"}},{"$nulls":15},"Фисенко Вадим Петрович",1,null,null,null,262,9,"Лапшин Сергей Николаевич"]
[54,{"$f":"CONCATENATE(C264;D264)","v":{"$error":"#VALUE!"}},56,"Стрелков Андрей Вячеславович",54,{"$f":"IF(VLOOKUP(D264;$V$2:$W$299;2;0)<>1;1;0)","v":{"$error":"#VALUE!"}},{"$nulls":15},"Фисенко Дмитрий Петрович",1,null,null,null,263,9,"Лапшин Сергей Николаевич"]
[317,{"$f":"CONCATENATE(C265;D265)","v":{"$error":"#VALUE!"}},"51-52","Стрелков Андрей Вячеславович",317,{"$f":"IF(VLOOKUP(D265;$V$2:$W$299;2;0)<>1;1;0)","v":{"$error":"#VALUE!"}},{"$nulls":15},"Фомин Андрей Анатольевич",1,null,null,null,264,9,"Лапшин Сергей Николаевич"]
[268,{"$f":"CONCATENATE(C266;D266)","v":{"$error":"#VALUE!"}},281,"Стрелков Николай Валентинович",268,{"$f":"IF(VLOOKUP(D266;$V$2:$W$299;2;0)<>1;1;0)","v":{"$error":"#VALUE!"}},{"$nulls":15},"Фомин Игорь Анатольевич",1,null,null,null,265,9,"Лапшин Сергей Николаевич"]
[172,{"$f":"CONCATENATE(C267;D267)","v":{"$error":"#VALUE!"}},180,"Ступнев Евгений  Романович",172,{"$f":"IF(VLOOKUP(D267;$V$2:$W$299;2;0)<>1;1;0)","v":{"$error":"#VALUE!"}},{"$nulls":15},"Фомичев Александр Петрович",1,null,null,null,266,9,"Лапшин Сергей Николаевич"]
[116,{"$f":"CONCATENATE(C268;D268)","v":{"$error":"#VALUE!"}},121,"Суворов Сергей Анатольевич",116,{"$f":"IF(VLOOKUP(D268;$V$2:$W$299;2;0)<>1;1;0)","v":{"$error":"#VALUE!"}},{"$nulls":15},"Хайлов Алексей Анатольевич",1,null,null,null,267,9,"Лапшин Сергей Николаевич"]
[57,{"$f":"CONCATENATE(C269;D269)","v":{"$error":"#VALUE!"}},59,"Суркова Татьяна Александровна",57,{"$f":"IF(VLOOKUP(D269;$V$2:$W$299;2;0)<>1;1;0)","v":{"$error":"#VALUE!"}},{"$nulls":15},"Хан Виталий Борисович",1,null,null,null,268,9,"Лапшин Сергей Николаевич"]
[46,{"$f":"CONCATENATE(C270;D270)","v":{"$error":"#VALUE!"}},46,"Сысоев Евгений Анатольевич",46,{"$f":"IF(VLOOKUP(D270;$V$2:$W$299;2;0)<>1;1;0)","v":{"$error":"#VALUE!"}},{"$nulls":15},"Харинкина Танзиля Гарафутдиновна",1,null,null,null,269,9,"Лапшин Сергей Николаевич"]
[73,{"$f":"CONCATENATE(C271;D271)","v":{"$error":"#VALUE!"}},79,"Сысоев Семен Евгеньевич",73,{"$f":"IF(VLOOKUP(D271;$V$2:$W$299;2;0)<>1;1;0)","v":{"$error":"#VALUE!"}},{"$nulls":15},"Хаустова Люция Егоровна",1,null,null,null,270,9,"Лапшин Сергей Николаевич"]
[162,{"$f":"CONCATENATE(C272;D272)","v":{"$error":"#VALUE!"}},170,"Тадлов Виталий Петрович",162,{"$f":"IF(VLOOKUP(D272;$V$2:$W$299;2;0)<>1;1;0)","v":{"$error":"#VALUE!"}},{"$nulls":15},"Хачатрян Алла Самвеловна",1,null,null,null,271,9,"Лапшин Сергей Николаевич"]
[252,{"$f":"CONCATENATE(C273;D273)","v":{"$error":"#VALUE!"}},264,"Тарасенко Анатолий Семенович",252,{"$f":"IF(VLOOKUP(D273;$V$2:$W$299;2;0)<>1;1;0)","v":{"$error":"#VALUE!"}},{"$nulls":15},"Анисимова Елена Анатольевна",1,null,null,null,272,9,"Лапшин Сергей Николаевич"]
[252,{"$f":"CONCATENATE(C274;D274)","v":{"$error":"#VALUE!"}},263,"Тарасенко Анатолий Семенович",252,{"$f":"IF(VLOOKUP(D274;$V$2:$W$299;2;0)<>1;1;0)","v":{"$error":"#VALUE!"}},{"$nulls":15},"Черешнева Виктория Викторовна",1,null,null,null,273,9,"Лапшин Сергей Николаевич"]
[45,{"$f":"CONCATENATE(C275;D275)","v":{"$error":"#VALUE!"}},45,"Темникова Елена Станиславовна",45,{"$f":"IF(VLOOKUP(D275;$V$2:$W$299;2;0)<>1;1;0)","v":{"$error":"#VALUE!"}},{"$nulls":15},"Чернявская Оксана Юрьевна",1,null,null,null,274,9,"Лапшин Сергей Николаевич"]
[319,{"$f":"CONCATENATE(C276;D276)","v":{"$error":"#VALUE!"}},"73-74","Тимофеева Лариса Викторовна",319,{"$f":"IF(VLOOKUP(D276;$V$2:$W$299;2;0)<>1;1;0)","v":{"$error":"#VALUE!"}},{"$nulls":15},"Чигрины Анна Анатольевна и Геннадий Иванович",1,null,null,null,275,9,"Лапшин Сергей Николаевич"]
[93,{"$f":"CONCATENATE(C277;D277)","v":{"$error":"#VALUE!"}},98,"Тимофеева Татьяна Александровна (Денис)",93,{"$f":"IF(VLOOKUP(D277;$V$2:$W$299;2;0)<>1;1;0)","v":{"$error":"#VALUE!"}},{"$nulls":15},"Чикачёв Сергей Иванович",1,null,null,null,276,9,"Лапшин Сергей Николаевич"]
[255,{"$f":"CONCATENATE(C278;D278)","v":{"$error":"#VALUE!"}},268,"Толкова Елена Анатольевна (Олег)",255,{"$f":"IF(VLOOKUP(D278;$V$2:$W$299;2;0)<>1;1;0)","v":{"$error":"#VALUE!"}},{"$nulls":15},"Шабунина Светлана Николаевна",1,null,null,null,277,9,"Лапшин Сергей Николаевич"]
[167,{"$f":"CONCATENATE(C279;D279)","v":{"$error":"#VALUE!"}},175,"Трубченко Петр Александрович",167,{"$f":"IF(VLOOKUP(D279;$V$2:$W$299;2;0)<>1;1;0)","v":{"$error":"#VALUE!"}},{"$nulls":15},"Антипова Жанна Михайловна",1,null,null,null,278,9,"Лапшин Сергей Николаевич"]
[99,{"$f":"CONCATENATE(C280;D280)","v":{"$error":"#VALUE!"}},104,"Трыкин Евгений Викторович",99,{"$f":"IF(VLOOKUP(D280;$V$2:$W$299;2;0)<>1;1;0)","v":{"$error":"#VALUE!"}},{"$nulls":15},"Шелухина Мария Сергеевна",1,null,null,null,279,9,"Лапшин Сергей Николаевич"]
[146,{"$f":"CONCATENATE(C281;D281)","v":{"$error":"#VALUE!"}},154,"Тюленев Вячеслав Рудольфович",146,{"$f":"IF(VLOOKUP(D281;$V$2:$W$299;2;0)<>1;1;0)","v":{"$error":"#VALUE!"}},{"$nulls":15},"Шептухина Александра Борисовна",1,null,null,null,280,9,"Лапшин Сергей Николаевич"]
[{"$nulls":21},"Широков Евгений Александрович",1,null,null,null,281,11,"Недосенко Олег Анатольевич"]
[28,{"$f":"CONCATENATE(C283;D283)","v":{"$error":"#VALUE!"}},28,"Федорова Наталья Владимировна",28,{"$f":"IF(VLOOKUP(D283;$V$2:$W$299;2;0)<>1;1;0)","v":{"$error":"#VALUE!"}},{"$nulls":15},"Шорахматов Мухаммадхуджа Замшоевич",1,null,null,null,282,11,"Недосенко Олег Анатольевич"]
[27,{"$f":"CONCATENATE(C284;D284)","v":{"$error":"#VALUE!"}},27,"Федорова Юлия Владимировна",27,{"$f":"IF(VLOOKUP(D284;$V$2:$W$299;2;0)<>1;1;0)","v":{"$error":"#VALUE!"}},{"$nulls":15},"Шурдук Лариса Анатольевна (Игорь)",1,null,null,null,283,11,"Недосенко Олег Анатольевич"]
[135,{"$f":"CONCATENATE(C285;D285)","v":{"$error":"#VALUE!"}},"142-143","Финогин Сергей Александрович",135,{"$f":"IF(VLOOKUP(D285;$V$2:$W$299;2;0)<>1;1;0)","v":{"$error":"#VALUE!"}},{"$nulls":15},"Шустов Василий Александрович",1,null,null,null,284,11,"Недосенко Олег Анатольевич"]
[135,{"$f":"CONCATENATE(C286;D286)","v":{"$error":"#VALUE!"}},143,"Финогин Сергей Александрович",135,{"$f":"IF(VLOOKUP(D286;$V$2:$W$299;2;0)<>1;1;0)","v":{"$error":"#VALUE!"}},{"$nulls":15},"Щербаков Павел Евгеньевич",1,null,null,null,285,11,"Недосенко Олег Анатольевич"]
[135,{"$f":"CONCATENATE(C287;D287)","v":{"$error":"#VALUE!"}},142,"Финогин Сергей Александрович",135,{"$f":"IF(VLOOKUP(D287;$V$2:$W$299;2;0)<>1;1;0)","v":{"$error":"#VALUE!"}},{"$nulls":15},"Щербакова Татьяна Дмитриевна",1,null,null,null,286,11,"Недосенко Олег Анатольевич"]
[59,{"$f":"CONCATENATE(C288;D288)","v":{"$error":"#VALUE!"}},61,"Фисенко Вадим Петрович",59,{"$f":"IF(VLOOKUP(D288;$V$2:$W$299;2;0)<>1;1;0)","v":{"$error":"#VALUE!"}},{"$nulls":15},"Элефтерова Евгения Викторовна (Михаил)",1,null,null,null,287,11,"Недосенко Олег Анатольевич"]
[60,{"$f":"CONCATENATE(C289;D289)","v":{"$error":"#VALUE!"}},62,"Фисенко Дмитрий Петрович",60,{"$f":"IF(VLOOKUP(D289;$V$2:$W$299;2;0)<>1;1;0)","v":{"$error":"#VALUE!"}},{"$nulls":15},"Якиманский Александр Александрович",1,null,null,null,288,11,"Недосенко Олег Анатольевич"]
[248,{"$f":"CONCATENATE(C290;D290)","v":{"$error":"#VALUE!"}},259,"Фомин Андрей Анатольевич",248,{"$f":"IF(VLOOKUP(D290;$V$2:$W$299;2;0)<>1;1;0)","v":{"$error":"#VALUE!"}},{"$nulls":15},"Якушина Любовь Викторовна",1,null,null,null,289,11,"Недосенко Олег Анатольевич"]
[247,{"$f":"CONCATENATE(C291;D291)","v":{"$error":"#VALUE!"}},258,"Фомин Игорь Анатольевич",247,{"$f":"IF(VLOOKUP(D291;$V$2:$W$299;2;0)<>1;1;0)","v":{"$error":"#VALUE!"}},{"$nulls":15},"Янковская Елена Александровна",1,null,null,null,290,11,"Недосенко Олег Анатольевич"]
[103,{"$f":"CONCATENATE(C292;D292)","v":{"$error":"#VALUE!"}},108,"Фомичев Александр Петрович",103,{"$f":"IF(VLOOKUP(D292;$V$2:$W$299;2;0)<>1;1;0)","v":{"$error":"#VALUE!"}},{"$nulls":15},"Янковская Яна Валерьевна",1,null,null,null,291,11,"Недосенко Олег Анатольевич"]
[275,{"$f":"CONCATENATE(C293;D293)","v":{"$error":"#VALUE!"}},288,"Хайлов Алексей Анатольевич",275,{"$f":"IF(VLOOKUP(D293;$V$2:$W$299;2;0)<>1;1;0)","v":{"$error":"#VALUE!"}},{"$nulls":15},"Яструб Валерий Викторович",1,null,null,null,292,11,"Недосенко Олег Анатольевич"]
[22,{"$f":"CONCATENATE(C294;D294)","v":{"$error":"#VALUE!"}},22,"Хан Виталий Борисович",22,{"$f":"IF(VLOOKUP(D294;$V$2:$W$299;2;0)<>1;1;0)","v":{"$error":"#VALUE!"}},{"$nulls":15},"Яшин Евгений Иванович",1,null,null,null,293,11,"Недосенко Олег Анатольевич"]
[20,{"$f":"CONCATENATE(C295;D295)","v":{"$error":"#VALUE!"}},20,"Харинкина Танзиля Гарафутдиновна",20,{"$f":"IF(VLOOKUP(D295;$V$2:$W$299;2;0)<>1;1;0)","v":{"$error":"#VALUE!"}},{"$nulls":15},"Милоянин Алексей Леонидович",{"$nulls":4},294,11,"Недосенко Олег Анатольевич"]
[233,{"$f":"CONCATENATE(C296;D296)","v":{"$error":"#VALUE!"}},242,"Хаустова Люция Егоровна",233,{"$f":"IF(VLOOKUP(D296;$V$2:$W$299;2;0)<>1;1;0)","v":{"$error":"#VALUE!"}},{"$nulls":15},"(пусто)",{"$nulls":4},295,11,"Недосенко Олег Анатольевич"]
[256,{"$f":"CONCATENATE(C297;D297)","v":{"$error":"#VALUE!"}},269,"Хачатрян Алла Самвеловна",256,{"$f":"IF(VLOOKUP(D297;$V$2:$W$299;2;0)<>1;1;0)","v":{"$error":"#VALUE!"}},{"$nulls":15},"Итог Результат",319,null,null,null,296,11,"Недосенко Олег Анатольевич"]
[113,{"$f":"CONCATENATE(C298;D298)","v":{"$error":"#VALUE!"}},"116+118+120","Хрупало Николай Алексеевич",113,{"$f":"IF(VLOOKUP(D298;$V$2:$W$299;2;0)<>1;1;0)","v":{"$error":"#VALUE!"}},{"$nulls":20},297,11,"Недосенко Олег Анатольевич"]
[113,{"$f":"CONCATENATE(C299;D299)","v":{"$error":"#VALUE!"}},"116+118+120","Хрупало Николай Алексеевич",113,{"$f":"IF(VLOOKUP(D299;$V$2:$W$299;2;0)<>1;1;0)","v":{"$error":"#VALUE!"}},{"$nulls":20},298,11,"Недосенко Олег Анатольевич"]
[113,{"$f":"CONCATENATE(C300;D300)","v":{"$error":"#VALUE!"}},"116+118+120","Хрупало Николай Алексеевич",113,{"$f":"IF(VLOOKUP(D300;$V$2:$W$299;2;0)<>1;1;0)","v":{"$error":"#VALUE!"}},{"$nulls":20},299,11,"Недосенко Олег Анатольевич"]
[180,{"$f":"CONCATENATE(C301;D301)","v":{"$error":"#VALUE!"}},188,"Черешнева Виктория Викторовна",180,{"$f":"IF(VLOOKUP(D301;$V$2:$W$299;2;0)<>1;1;0)","v":{"$error":"#VALUE!"}},{"$nulls":20},300,11,"Недосенко Олег Анатольевич"]
[2,{"$f":"CONCATENATE(C302;D302)","v":{"$error":"#VALUE!"}},2,"Чернявская Оксана Юрьевна",2,{"$f":"IF(VLOOKUP(D302;$V$2:$W$299;2;0)<>1;1;0)","v":{"$error":"#VALUE!"}},{"$nulls":20},301,7,"Измайлов Михаил Михайлович"]
[23,{"$f":"CONCATENATE(C303;D303)","v":{"$error":"#VALUE!"}},23,"Чигрины Анна Анатольевна и Геннадий Иванович",23,{"$f":"IF(VLOOKUP(D303;$V$2:$W$299;2;0)<>1;1;0)","v":{"$error":"#VALUE!"}},{"$nulls":20},302,7,"Измайлов Михаил Михайлович"]
[168,{"$f":"CONCATENATE(C304;D304)","v":{"$error":"#VALUE!"}},176,"Чикачёв Сергей Иванович",168,{"$f":"IF(VLOOKUP(D304;$V$2:$W$299;2;0)<>1;1;0)","v":{"$error":"#VALUE!"}},{"$nulls":20},303,7,"Измайлов Михаил Михайлович"]
[84,{"$f":"CONCATENATE(C305;D305)","v":{"$error":"#VALUE!"}},89,"Шабунина Светлана Николаевна",84,{"$f":"IF(VLOOKUP(D305;$V$2:$W$299;2;0)<>1;1;0)","v":{"$error":"#VALUE!"}},{"$nulls":20},304,7,"Измайлов Михаил Михайлович"]
[88,{"$f":"CONCATENATE(C306;D306)","v":{"$error":"#VALUE!"}},"97+93","Шалинов Андрей Вадимович",88,{"$f":"IF(VLOOKUP(D306;$V$2:$W$299;2;0)<>1;1;0)","v":{"$error":"#VALUE!"}},{"$nulls":20},305,7,"Измайлов Михаил Михайлович"]
[88,{"$f":"CONCATENATE(C307;D307)","v":{"$error":"#VALUE!"}},"97+93","Шалинов Андрей Вадимович",88,{"$f":"IF(VLOOKUP(D307;$V$2:$W$299;2;0)<>1;1;0)","v":{"$error":"#VALUE!"}},{"$nulls":20},306,7,"Измайлов Михаил Михайлович"]
[78,{"$f":"CONCATENATE(C308;D308)","v":{"$error":"#VALUE!"}},83,"Шелухина Мария Сергеевна",78,{"$f":"IF(VLOOKUP(D308;$V$2:$W$299;2;0)<>1;1;0)","v":{"$error":"#VALUE!"}},{"$nulls":20},307,7,"Измайлов Михаил Михайлович"]
[306,{"$f":"CONCATENATE(C309;D309)","v":{"$error":"#VALUE!"}},321,"Шептухина Александра Борисовна",306,{"$f":"IF(VLOOKUP(D309;$V$2:$W$299;2;0)<>1;1;0)","v":{"$error":"#VALUE!"}},{"$nulls":20},308,7,"Измайлов Михаил Михайлович"]
[182,{"$f":"CONCATENATE(C310;D310)","v":{"$error":"#VALUE!"}},190,"Широков Евгений Александрович",182,{"$f":"IF(VLOOKUP(D310;$V$2:$W$299;2;0)<>1;1;0)","v":{"$error":"#VALUE!"}},{"$nulls":20},309,7,"Измайлов Михаил Михайлович"]
[95,{"$f":"CONCATENATE(C311;D311)","v":{"$error":"#VALUE!"}},100,"Шорахматов Мухаммадхуджа Замшоевич",95,{"$f":"IF(VLOOKUP(D311;$V$2:$W$299;2;0)<>1;1;0)","v":{"$error":"#VALUE!"}},{"$nulls":20},310,7,"Измайлов Михаил Михайлович"]
[108,{"$f":"CONCATENATE(C312;D312)","v":{"$error":"#VALUE!"}},113,"Шурдук Лариса Анатольевна (Игорь)",108,{"$f":"IF(VLOOKUP(D312;$V$2:$W$299;2;0)<>1;1;0)","v":{"$error":"#VALUE!"}},{"$nulls":20},311,7,"Измайлов Михаил Михайлович"]
[41,{"$f":"CONCATENATE(C313;D313)","v":{"$error":"#VALUE!"}},41,"Шустов Василий Александрович",41,{"$f":"IF(VLOOKUP(D313;$V$2:$W$299;2;0)<>1;1;0)","v":{"$error":"#VALUE!"}},{"$nulls":20},312,7,"Измайлов Михаил Михайлович"]
[152,{"$f":"CONCATENATE(C314;D314)","v":{"$error":"#VALUE!"}},160,"Щербаков Павел Евгеньевич",152,{"$f":"IF(VLOOKUP(D314;$V$2:$W$299;2;0)<>1;1;0)","v":{"$error":"#VALUE!"}},{"$nulls":20},313,7,"Измайлов Михаил Михайлович"]
[227,{"$f":"CONCATENATE(C315;D315)","v":{"$error":"#VALUE!"}},236,"Щербакова Татьяна Дмитриевна",227,{"$f":"IF(VLOOKUP(D315;$V$2:$W$299;2;0)<>1;1;0)","v":{"$error":"#VALUE!"}},{"$nulls":20},314,7,"Измайлов Михаил Михайлович"]
[15,{"$f":"CONCATENATE(C316;D316)","v":{"$error":"#VALUE!"}},15,"Элефтерова Евгения Викторовна (Михаил)",15,{"$f":"IF(VLOOKUP(D316;$V$2:$W$299;2;0)<>1;1;0)","v":{"$error":"#VALUE!"}},{"$nulls":20},315,7,"Измайлов Михаил Михайлович"]
[240,{"$f":"CONCATENATE(C317;D317)","v":{"$error":"#VALUE!"}},251,"Якиманский Александр Александрович",240,{"$f":"IF(VLOOKUP(D317;$V$2:$W$299;2;0)<>1;1;0)","v":{"$error":"#VALUE!"}},{"$nulls":20},316,7,"Измайлов Михаил Михайлович"]
[10,{"$f":"CONCATENATE(C318;D318)","v":{"$error":"#VALUE!"}},10,"Якушина Любовь Викторовна",10,{"$f":"IF(VLOOKUP(D318;$V$2:$W$299;2;0)<>1;1;0)","v":{"$error":"#VALUE!"}},{"$nulls":20},317,7,"Измайлов Михаил Михайлович"]
[55,{"$f":"CONCATENATE(C319;D319)","v":{"$error":"#VALUE!"}},57,"Янковская Елена Александровна",55,{"$f":"IF(VLOOKUP(D319;$V$2:$W$299;2;0)<>1;1;0)","v":{"$error":"#VALUE!"}},{"$nulls":20},318,7,"Измайлов Михаил Михайлович"]
[309,{"$f":"CONCATENATE(C320;D320)","v":{"$error":"#VALUE!"}},324,"Янковская Яна Валерьевна",309,{"$f":"IF(VLOOKUP(D320;$V$2:$W$299;2;0)<>1;1;0)","v":{"$error":"#VALUE!"}},{"$nulls":20},319,7,"Измайлов Михаил Михайлович"]
[17,{"$f":"CONCATENATE(C321;D321)","v":{"$error":"#VALUE!"}},17,"Яструб Валерий Викторович",17,{"$f":"IF(VLOOKUP(D321;$V$2:$W$299;2;0)<>1;1;0)","v":{"$error":"#VALUE!"}},{"$nulls":20},320,7,"Измайлов Михаил Михайлович"]
[40,{"$f":"CONCATENATE(C322;D322)","v":{"$error":"#VALUE!"}},40,"Яшин Евгений Иванович",40,{"$f":"IF(VLOOKUP(D322;$V$2:$W$299;2;0)<>1;1;0)","v":{"$error":"#VALUE!"}},{"$nulls":20},321,7,"Измайлов Михаил Михайлович"]
[321,{"$f":"CONCATENATE(C323;D323)","v":{"$error":"#VALUE!"}},null,"ВОЛГЕЩЕВ ДМИТРИЙЦ ГЕННАДЬЕВИЧ",321,{"$nulls":21},322,7,"Измайлов Михаил Михайлович"]
[322,{"$f":"CONCATENATE(C324;D324)","v":{"$error":"#VALUE!"}},null,"ИВАНОВ СЕРГЕЙ АЛЕКСАНДРОВИЧ",322,{"$nulls":21},323,7,"Измайлов Михаил Михайлович"]
[323,{"$f":"CONCATENATE(C325;D325)","v":{"$error":"#VALUE!"}},null,"ЛЕСКОВСКИЙ АНАТОЛИЙ ВИТАЛЬЕВИЧ",323,{"$nulls":21},324,7,"Измайлов Михаил Михайлович"]
[324,{"$f":"CONCATENATE(C326;D326)","v":{"$error":"#VALUE!"}},null,"камышкина юлия юрьевна",324]
[325,{"$f":"CONCATENATE(C327;D327)","v":{"$error":"#VALUE!"}}]
[326,{"$f":"CONCATENATE(C328;D328)","v":{"$error":"#VALUE!"}}]
[327,{"$f":"CONCATENATE(C329;D329)","v":{"$error":"#VALUE!"}}]
[328,{"$f":"CONCATENATE(C330;D330)","v":{"$error":"#VALUE!"}}]
[329,{"$f":"CONCATENATE(C331;D331)","v":{"$error":"#VALUE!"}}]
[330,{"$f":"CONCATENATE(C332;D332)","v":{"$error":"#VALUE!"}}]
[331,{"$f":"CONCATENATE(C333;D333)","v":{"$error":"#VALUE!"}}]
[332,{"$f":"CONCATENATE(C334;D334)","v":{"$error":"#VALUE!"}}]
[333,{"$f":"CONCATENATE(C335;D335)","v":{"$error":"#VALUE!"}}]
[334,{"$f":"CONCATENATE(C336;D336)","v":{"$error":"#VALUE!"}}]

{"sheet":"Лист6","index":7,"n_rows":625,"n_cols":22,"rows_kept":625,"cut":false,"hidden":true,"merged":[]}
[null,null,"ID","номер участка","план","2016-01-01","2016-02-01","2016-03-01","2016-04-01","2016-05-01","2016-06-01"]
[null,null,79,84,800,null,4000,null,2400,{"$nulls":6},"Данные"]
[null,null,35,35,800,{"$nulls":9},"ID","Количество - 01.01.2016","Количество - 01.02.2016","Количество - 01.03.2016","Количество - 01.04.2016","Количество - 01.05.2016","Количество - 01.06.2016",{"$f":"COUNTA(P3:U3)","v":6}]
[null,null,260,273,800,null,2000,null,null,1000,2000,null,null,null,1,null,1,{"$nulls":4},{"$f":"COUNTA(P4:U4)","v":1}]
[null,null,203,213,800,2600,null,null,null,4200,{"$nulls":4},2,{"$nulls":6},{"$f":"COUNTA(P5:U5)","v":0}]
[null,null,316,"306-307",800,800,{"$nulls":8},3,{"$nulls":6},{"$f":"COUNTA(P6:U6)","v":0}]
[null,null,232,241,800,{"$nulls":9},4,{"$nulls":4},1,null,{"$f":"COUNTA(P7:U7)","v":1}]
[null,null,277,290,800,{"$nulls":9},5,{"$nulls":6},{"$f":"COUNTA(P8:U8)","v":0}]
[null,null,221,230,800,12000,{"$nulls":8},6,{"$nulls":4},1,null,{"$f":"COUNTA(P9:U9)","v":1}]
[null,null,259,272,800,{"$nulls":9},7,{"$nulls":6},{"$f":"COUNTA(P10:U10)","v":0}]
[null,null,109,114,800,null,1000,1000,{"$nulls":6},8,{"$nulls":5},1,{"$f":"COUNTA(P11:U11)","v":1}]
[null,null,130,137,800,null,800,null,null,null,2400,null,null,null,9,{"$nulls":4},1,1,{"$f":"COUNTA(P12:U12)","v":2}]
[null,null,7,7,800,{"$nulls":9},10,{"$nulls":6},{"$f":"COUNTA(P13:U13)","v":0}]
[null,null,7,14,{"$nulls":10},11,{"$nulls":6},{"$f":"COUNTA(P14:U14)","v":0}]
[null,null,193,201,800,{"$nulls":9},12,{"$nulls":6},{"$f":"COUNTA(P15:U15)","v":0}]
[null,null,178,186,800,{"$nulls":9},13,{"$nulls":6},{"$f":"COUNTA(P16:U16)","v":0}]
[null,null,119,124,800,null,null,3000,{"$nulls":6},15,null,1,null,null,null,1,{"$f":"COUNTA(P17:U17)","v":2}]
[null,null,293,308,800,{"$nulls":9},16,{"$nulls":5},1,{"$f":"COUNTA(P18:U18)","v":1}]
[null,null,191,199,800,{"$nulls":9},17,1,null,1,null,null,1,{"$f":"COUNTA(P19:U19)","v":3}]
[null,null,249,260,800,{"$nulls":9},18,{"$nulls":6},{"$f":"COUNTA(P20:U20)","v":0}]
[null,null,72,78,800,{"$nulls":9},19,{"$nulls":5},1,{"$f":"COUNTA(P21:U21)","v":1}]
[null,null,125,130,800,{"$nulls":5},3000,null,null,null,20,{"$nulls":6},{"$f":"COUNTA(P22:U22)","v":0}]
[null,null,229,238,800,{"$nulls":9},21,{"$nulls":6},{"$f":"COUNTA(P23:U23)","v":0}]
[null,null,296,311,800,{"$nulls":9},22,{"$nulls":6},{"$f":"COUNTA(P24:U24)","v":0}]
[null,null,281,293,800,{"$nulls":9},23,1,{"$nulls":5},{"$f":"COUNTA(P25:U25)","v":1}]
[null,null,198,206,800,null,null,3200,null,800,{"$nulls":4},24,{"$nulls":6},{"$f":"COUNTA(P26:U26)","v":0}]
[null,null,52,54,800,3000,2000,800,null,1600,{"$nulls":4},25,null,null,1,null,1,1,{"$f":"COUNTA(P27:U27)","v":3}]
[null,null,51,53,800,3000,2000,800,null,1600,{"$nulls":4},26,{"$nulls":6},{"$f":"COUNTA(P28:U28)","v":0}]
[null,null,136,144,800,{"$nulls":9},27,{"$nulls":6},{"$f":"COUNTA(P29:U29)","v":0}]
[null,null,11,11,800,{"$nulls":9},28,null,1,null,1,null,null,{"$f":"COUNTA(P30:U30)","v":2}]
[null,null,114,119,800,{"$nulls":9},29,1,1,1,1,null,null,{"$f":"COUNTA(P31:U31)","v":4}]
[null,null,151,159,800,{"$nulls":9},30,{"$nulls":6},{"$f":"COUNTA(P32:U32)","v":0}]
[null,null,142,150,800,{"$nulls":9},31,null,null,null,1,1,null,{"$f":"COUNTA(P33:U33)","v":2}]
[null,null,245,256,800,{"$nulls":5},9000,null,null,null,32,1,{"$nulls":4},1,{"$f":"COUNTA(P34:U34)","v":2}]
[null,null,188,196,800,{"$nulls":9},33,{"$nulls":4},1,null,{"$f":"COUNTA(P35:U35)","v":1}]
[null,null,188,197,{"$nulls":10},34,{"$nulls":6},{"$f":"COUNTA(P36:U36)","v":0}]
[null,null,219,228,800,null,null,3000,null,null,3000,null,null,null,35,{"$nulls":6},{"$f":"COUNTA(P37:U37)","v":0}]
[null,null,223,232,800,{"$nulls":9},36,{"$nulls":6},{"$f":"COUNTA(P38:U38)","v":0}]
[null,null,137,145,800,null,1600,null,null,null,800,null,null,null,37,{"$nulls":6},{"$f":"COUNTA(P39:U39)","v":0}]
[null,null,105,110,800,3000,{"$nulls":4},800,null,null,null,38,{"$nulls":5},1,{"$f":"COUNTA(P40:U40)","v":1}]
[null,null,98,103,800,{"$nulls":9},39,{"$nulls":6},{"$f":"COUNTA(P41:U41)","v":0}]
[null,null,274,287,800,null,null,1600,null,null,26800,null,null,null,40,{"$nulls":6},{"$f":"COUNTA(P42:U42)","v":0}]
[null,null,274,295,{"$nulls":10},41,{"$nulls":6},{"$f":"COUNTA(P43:U43)","v":0}]
[null,null,175,183,800,{"$nulls":4},21600,{"$nulls":4},42,1,1,null,1,null,1,{"$f":"COUNTA(P44:U44)","v":4}]
[null,null,175,187,{"$nulls":10},43,{"$nulls":5},1,{"$f":"COUNTA(P45:U45)","v":1}]
[null,null,303,318,800,{"$nulls":9},44,{"$nulls":6},{"$f":"COUNTA(P46:U46)","v":0}]
[null,null,303,319,{"$nulls":10},45,1,1,1,1,1,1,{"$f":"COUNTA(P47:U47)","v":6}]
[null,null,90,95,800,null,null,null,4800,{"$nulls":5},46,{"$nulls":6},{"$f":"COUNTA(P48:U48)","v":0}]
[null,null,206,216,800,{"$nulls":9},47,{"$nulls":6},{"$f":"COUNTA(P49:U49)","v":0}]
[null,null,101,106,800,7000,{"$nulls":8},48,{"$nulls":6},{"$f":"COUNTA(P50:U50)","v":0}]
[null,null,86,91,800,null,2000,null,1000,null,1600,null,null,null,49,{"$nulls":4},1,1,{"$f":"COUNTA(P51:U51)","v":2}]
[null,null,43,43,800,{"$nulls":5},2000,null,null,null,50,null,null,1,null,null,null,{"$f":"COUNTA(P52:U52)","v":1}]
[null,null,25,25,800,null,null,3000,null,3000,800,null,null,null,51,1,1,1,null,1,null,{"$f":"COUNTA(P53:U53)","v":4}]
[null,null,138,146,800,null,3000,null,null,null,2900,null,null,null,52,1,1,1,null,1,null,{"$f":"COUNTA(P54:U54)","v":4}]
[null,null,228,237,800,{"$nulls":9},53,{"$nulls":6},{"$f":"COUNTA(P55:U55)","v":0}]
[null,null,37,37,800,{"$nulls":9},54,{"$nulls":6},{"$f":"COUNTA(P56:U56)","v":0}]
[null,null,126,131,800,null,null,2400,{"$nulls":6},55,null,null,1,null,null,null,{"$f":"COUNTA(P57:U57)","v":1}]
[null,null,58,60,800,null,null,2400,null,null,5600,null,null,null,56,{"$nulls":6},{"$f":"COUNTA(P58:U58)","v":0}]
[null,null,117,122,800,{"$nulls":9},57,{"$nulls":6},{"$f":"COUNTA(P59:U59)","v":0}]
[null,null,61,63,800,{"$nulls":9},58,null,null,1,null,null,1,{"$f":"COUNTA(P60:U60)","v":2}]
[null,null,294,309,800,9600,{"$nulls":8},59,1,{"$nulls":5},{"$f":"COUNTA(P61:U61)","v":1}]
[null,null,286,298,800,null,8000,null,null,null,4000,null,null,null,60,{"$nulls":6},{"$f":"COUNTA(P62:U62)","v":0}]
[null,null,64,66,800,3000,null,1600,null,null,1600,null,null,null,61,{"$nulls":6},{"$f":"COUNTA(P63:U63)","v":0}]
[null,null,94,99,800,{"$nulls":9},62,null,null,1,null,null,null,{"$f":"COUNTA(P64:U64)","v":1}]
[null,null,39,39,800,{"$nulls":9},63,{"$nulls":5},1,{"$f":"COUNTA(P65:U65)","v":1}]
[null,null,276,289,800,{"$nulls":5},21600,null,null,null,64,1,null,1,null,null,1,{"$f":"COUNTA(P66:U66)","v":3}]
[null,null,148,156,800,null,1800,1800,1800,{"$nulls":5},65,{"$nulls":6},{"$f":"COUNTA(P67:U67)","v":0}]
[null,null,308,323,800,{"$nulls":9},66,{"$nulls":6},{"$f":"COUNTA(P68:U68)","v":0}]
[null,null,318,"71-72",800,null,4800,null,4800,{"$nulls":5},67,{"$nulls":6},{"$f":"COUNTA(P69:U69)","v":0}]
[null,null,236,245,800,{"$nulls":4},25000,{"$nulls":4},68,null,1,1,null,1,1,{"$f":"COUNTA(P70:U70)","v":4}]
[null,null,226,235,800,{"$nulls":9},69,{"$nulls":6},{"$f":"COUNTA(P71:U71)","v":0}]
[null,null,285,297,800,null,8000,null,null,null,4000,null,null,null,71,{"$nulls":6},{"$f":"COUNTA(P72:U72)","v":0}]
[null,null,24,24,800,{"$nulls":9},72,{"$nulls":6},{"$f":"COUNTA(P73:U73)","v":0}]
[null,null,50,50,800,null,null,12000,{"$nulls":6},73,{"$nulls":6},{"$f":"COUNTA(P74:U74)","v":0}]
[null,null,122,127,800,null,2000,null,2000,{"$nulls":5},74,1,null,null,null,1,null,{"$f":"COUNTA(P75:U75)","v":2}]
[null,null,301,316,800,{"$nulls":9},76,null,1,null,1,null,null,{"$f":"COUNTA(P76:U76)","v":2}]
[null,null,18,18,800,{"$nulls":9},77,{"$nulls":6},{"$f":"COUNTA(P77:U77)","v":0}]
[null,null,155,163,800,null,600,1600,null,1600,{"$nulls":4},78,{"$nulls":6},{"$f":"COUNTA(P78:U78)","v":0}]
[null,null,44,44,800,{"$nulls":9},79,null,1,null,1,null,null,{"$f":"COUNTA(P79:U79)","v":2}]
[null,null,132,139,800,{"$nulls":9},80,{"$nulls":5},1,{"$f":"COUNTA(P80:U80)","v":1}]
[null,null,159,167,800,null,12000,{"$nulls":7},81,null,null,1,null,null,null,{"$f":"COUNTA(P81:U81)","v":1}]
[null,null,181,189,800,{"$nulls":4},7000,{"$nulls":4},82,1,null,1,null,null,null,{"$f":"COUNTA(P82:U82)","v":2}]
[null,null,284,296,800,null,null,6000,{"$nulls":6},83,1,1,1,1,1,1,{"$f":"COUNTA(P83:U83)","v":6}]
[null,null,264,277,800,4000,null,2000,{"$nulls":6},84,{"$nulls":5},1,{"$f":"COUNTA(P84:U84)","v":1}]
[null,null,32,32,800,2400,{"$nulls":4},2400,null,null,null,85,null,null,null,1,null,null,{"$f":"COUNTA(P85:U85)","v":1}]
[null,null,49,49,800,{"$nulls":4},4800,10200,null,null,null,86,null,1,null,1,null,1,{"$f":"COUNTA(P86:U86)","v":3}]
[null,null,234,243,null,null,4800,{"$nulls":7},87,{"$nulls":6},{"$f":"COUNTA(P87:U87)","v":0}]
[null,null,234,244,{"$nulls":10},88,1,{"$nulls":5},{"$f":"COUNTA(P88:U88)","v":1}]
[null,null,234,"243-244",800,{"$nulls":9},89,{"$nulls":6},{"$f":"COUNTA(P89:U89)","v":0}]
[null,null,254,267,800,{"$nulls":9},90,null,null,null,1,null,null,{"$f":"COUNTA(P90:U90)","v":1}]
[null,null,230,239,800,{"$nulls":9},91,{"$nulls":6},{"$f":"COUNTA(P91:U91)","v":0}]
[null,null,230,257,{"$nulls":5},3500,{"$nulls":4},93,{"$nulls":6},{"$f":"COUNTA(P92:U92)","v":0}]
[null,null,4,4,800,{"$nulls":4},5000,{"$nulls":4},94,{"$nulls":6},{"$f":"COUNTA(P93:U93)","v":0}]
[null,null,213,222,800,{"$nulls":9},95,{"$nulls":5},1,{"$f":"COUNTA(P94:U94)","v":1}]
[null,null,127,132,800,null,1600,{"$nulls":7},96,1,null,null,1,null,1,{"$f":"COUNTA(P95:U95)","v":3}]
[null,null,66,68,800,{"$nulls":9},98,{"$nulls":6},{"$f":"COUNTA(P96:U96)","v":0}]
[null,null,36,36,800,{"$nulls":9},99,{"$nulls":6},{"$f":"COUNTA(P97:U97)","v":0}]
[null,null,38,255,{"$nulls":6},1600,null,null,null,100,1,{"$nulls":5},{"$f":"COUNTA(P98:U98)","v":1}]
[null,null,38,38,800,{"$nulls":9},101,1,{"$nulls":5},{"$f":"COUNTA(P99:U99)","v":1}]
[null,null,12,12,800,{"$nulls":9},102,1,1,1,1,null,1,{"$f":"COUNTA(P100:U100)","v":5}]
[null,null,63,65,800,{"$nulls":5},800,null,null,null,103,1,null,1,null,null,null,{"$f":"COUNTA(P101:U101)","v":2}]
[null,null,16,16,800,{"$nulls":5},12000,null,null,null,104,{"$nulls":6},{"$f":"COUNTA(P102:U102)","v":0}]
[null,null,121,126,800,3000,null,null,3200,{"$nulls":5},105,1,{"$nulls":4},1,{"$f":"COUNTA(P103:U103)","v":2}]
[null,null,156,164,800,null,5000,1000,1000,1000,1000,null,null,null,106,{"$nulls":6},{"$f":"COUNTA(P104:U104)","v":0}]
[null,null,5,5,800,{"$nulls":9},107,null,1,1,1,null,1,{"$f":"COUNTA(P105:U105)","v":4}]
[null,null,214,223,800,null,3000,null,null,null,2000,null,null,null,108,null,1,1,null,null,1,{"$f":"COUNTA(P106:U106)","v":3}]
[null,null,279,291,800,{"$nulls":9},109,null,1,1,null,null,null,{"$f":"COUNTA(P107:U107)","v":2}]
[null,null,197,205,800,{"$nulls":9},110,{"$nulls":6},{"$f":"COUNTA(P108:U108)","v":0}]
[null,null,295,310,800,{"$nulls":9},112,null,1,null,null,null,1,{"$f":"COUNTA(P109:U109)","v":2}]
[null,null,196,204,800,null,null,4800,{"$nulls":6},113,1,null,null,1,null,1,{"$f":"COUNTA(P110:U110)","v":3}]
[null,null,124,129,800,{"$nulls":9},114,{"$nulls":6},{"$f":"COUNTA(P111:U111)","v":0}]
[null,null,250,261,800,null,null,1000,1000,1000,{"$nulls":4},116,null,null,1,null,null,null,{"$f":"COUNTA(P112:U112)","v":1}]
[null,null,153,161,800,null,null,null,7200,{"$nulls":5},117,{"$nulls":6},{"$f":"COUNTA(P113:U113)","v":0}]
[null,null,106,111,800,{"$nulls":9},118,{"$nulls":6},{"$f":"COUNTA(P114:U114)","v":0}]
[null,null,222,231,800,null,3200,null,null,4000,{"$nulls":4},119,null,null,1,null,null,null,{"$f":"COUNTA(P115:U115)","v":1}]
[null,null,208,218,800,{"$nulls":9},120,1,1,1,null,null,1,{"$f":"COUNTA(P116:U116)","v":4}]
[null,null,207,217,800,{"$nulls":9},121,1,null,null,1,null,null,{"$f":"COUNTA(P117:U117)","v":2}]
[null,null,231,240,800,null,5000,null,1000,{"$nulls":5},122,null,1,null,1,null,null,{"$f":"COUNTA(P118:U118)","v":2}]
[null,null,76,82,800,null,2400,null,2400,{"$nulls":5},123,{"$nulls":6},{"$f":"COUNTA(P119:U119)","v":0}]
[null,null,82,87,800,3000,null,3000,{"$nulls":6},124,{"$nulls":6},{"$f":"COUNTA(P120:U120)","v":0}]
[null,null,8,8,800,{"$nulls":5},4000,null,null,null,125,{"$nulls":5},1,{"$f":"COUNTA(P121:U121)","v":1}]
[null,null,149,157,800,null,null,1000,null,1000,{"$nulls":4},126,null,null,1,null,null,null,{"$f":"COUNTA(P122:U122)","v":1}]
[null,null,30,30,800,{"$nulls":9},127,null,1,{"$nulls":4},{"$f":"COUNTA(P123:U123)","v":1}]
[null,null,269,282,800,{"$nulls":9},128,1,{"$nulls":5},{"$f":"COUNTA(P124:U124)","v":1}]
[null,null,271,284,800,{"$nulls":5},5000,null,null,null,129,null,1,null,1,null,null,{"$f":"COUNTA(P125:U125)","v":2}]
[null,null,265,278,800,null,null,3000,{"$nulls":6},130,null,1,null,null,null,1,{"$f":"COUNTA(P126:U126)","v":2}]
[null,null,173,181,800,{"$nulls":9},131,null,null,null,1,null,null,{"$f":"COUNTA(P127:U127)","v":1}]
[null,null,305,320,800,{"$nulls":9},132,{"$nulls":6},{"$f":"COUNTA(P128:U128)","v":0}]
[null,null,69,75,800,{"$nulls":9},133,null,1,1,1,1,1,{"$f":"COUNTA(P129:U129)","v":5}]
[null,null,69,76,{"$nulls":10},134,1,1,{"$nulls":4},{"$f":"COUNTA(P130:U130)","v":2}]
[null,null,1,1,800,null,4200,{"$nulls":7},135,null,null,1,null,null,1,{"$f":"COUNTA(P131:U131)","v":2}]
[null,null,302,317,800,{"$nulls":9},136,{"$nulls":6},{"$f":"COUNTA(P132:U132)","v":0}]
[null,null,123,128,800,{"$nulls":9},137,null,1,null,null,null,1,{"$f":"COUNTA(P133:U133)","v":2}]
[null,null,163,171,800,{"$nulls":9},138,null,1,null,null,null,1,{"$f":"COUNTA(P134:U134)","v":2}]
[null,null,110,115,800,{"$nulls":9},139,{"$nulls":4},1,null,{"$f":"COUNTA(P135:U135)","v":1}]
[null,null,112,117,800,null,4800,null,null,null,4800,null,null,null,142,{"$nulls":6},{"$f":"COUNTA(P136:U136)","v":0}]
[null,null,190,198,800,{"$nulls":5},800,null,null,null,143,{"$nulls":5},1,{"$f":"COUNTA(P137:U137)","v":1}]
[null,null,83,88,800,2800,800,800,800,800,800,null,null,null,144,{"$nulls":6},{"$f":"COUNTA(P138:U138)","v":0}]
[null,null,133,140,800,null,1000,1000,1000,1000,1000,null,null,null,146,{"$nulls":5},1,{"$f":"COUNTA(P139:U139)","v":1}]
[null,null,202,212,800,{"$nulls":9},147,{"$nulls":6},{"$f":"COUNTA(P140:U140)","v":0}]
[null,null,192,200,800,{"$nulls":9},148,null,1,1,1,null,null,{"$f":"COUNTA(P141:U141)","v":3}]
[null,null,289,301,800,{"$nulls":9},149,null,null,1,null,1,null,{"$f":"COUNTA(P142:U142)","v":2}]
[null,null,143,151,800,{"$nulls":5},4800,null,null,null,150,{"$nulls":6},{"$f":"COUNTA(P143:U143)","v":0}]
[null,null,62,64,800,null,null,3200,{"$nulls":6},151,{"$nulls":6},{"$f":"COUNTA(P144:U144)","v":0}]
[null,null,225,234,800,{"$nulls":9},152,{"$nulls":6},{"$f":"COUNTA(P145:U145)","v":0}]
[null,null,266,279,800,{"$nulls":9},153,null,null,null,1,null,null,{"$f":"COUNTA(P146:U146)","v":1}]
[null,null,157,165,800,1000,{"$nulls":8},154,null,null,null,1,1,1,{"$f":"COUNTA(P147:U147)","v":3}]
[null,null,194,202,800,null,5000,{"$nulls":7},155,null,1,1,null,1,null,{"$f":"COUNTA(P148:U148)","v":3}]
[null,null,65,67,800,{"$nulls":9},156,null,1,1,1,1,1,{"$f":"COUNTA(P149:U149)","v":5}]
[null,null,216,225,800,null,5200,{"$nulls":7},157,1,{"$nulls":5},{"$f":"COUNTA(P150:U150)","v":1}]
[null,null,216,226,{"$nulls":10},158,{"$nulls":6},{"$f":"COUNTA(P151:U151)","v":0}]
[null,null,56,58,800,{"$nulls":9},159,null,1,{"$nulls":4},{"$f":"COUNTA(P152:U152)","v":1}]
[null,null,150,158,800,{"$nulls":9},160,{"$nulls":6},{"$f":"COUNTA(P153:U153)","v":0}]
[null,null,243,254,800,5000,4800,null,null,null,4800,null,null,null,161,{"$nulls":6},{"$f":"COUNTA(P154:U154)","v":0}]
[null,null,220,229,800,{"$nulls":9},162,{"$nulls":4},1,null,{"$f":"COUNTA(P155:U155)","v":1}]
[null,null,3,3,800,{"$nulls":9},163,{"$nulls":6},{"$f":"COUNTA(P156:U156)","v":0}]
[null,null,158,166,800,{"$nulls":9},164,{"$nulls":6},{"$f":"COUNTA(P157:U157)","v":0}]
[null,null,139,149,{"$nulls":5},4800,{"$nulls":4},165,{"$nulls":6},{"$f":"COUNTA(P158:U158)","v":0}]
[null,null,139,147,{"$nulls":10},166,{"$nulls":6},{"$f":"COUNTA(P159:U159)","v":0}]
[null,null,139,148,800,{"$nulls":9},167,{"$nulls":6},{"$f":"COUNTA(P160:U160)","v":0}]
[null,null,261,274,null,2400,null,null,2400,{"$nulls":5},168,null,1,null,1,1,null,{"$f":"COUNTA(P161:U161)","v":3}]
[null,null,261,275,800,{"$nulls":9},169,null,null,1,null,1,null,{"$f":"COUNTA(P162:U162)","v":2}]
[null,null,288,300,800,{"$nulls":9},170,1,null,1,null,null,1,{"$f":"COUNTA(P163:U163)","v":3}]
[null,null,166,174,800,{"$nulls":9},172,{"$nulls":6},{"$f":"COUNTA(P164:U164)","v":0}]
[null,null,118,123,800,{"$nulls":9},173,{"$nulls":6},{"$f":"COUNTA(P165:U165)","v":0}]
[null,null,199,207,800,{"$nulls":9},174,1,null,null,null,1,null,{"$f":"COUNTA(P166:U166)","v":2}]
[null,null,199,208,{"$nulls":10},175,{"$nulls":4},1,null,{"$f":"COUNTA(P167:U167)","v":1}]
[null,null,164,172,800,{"$nulls":9},176,1,1,null,null,1,1,{"$f":"COUNTA(P168:U168)","v":4}]
[null,null,34,34,800,{"$nulls":9},177,{"$nulls":6},{"$f":"COUNTA(P169:U169)","v":0}]
[null,null,13,13,800,{"$nulls":9},178,{"$nulls":6},{"$f":"COUNTA(P170:U170)","v":0}]
[null,null,273,286,800,{"$nulls":5},8000,null,null,null,180,{"$nulls":4},1,null,{"$f":"COUNTA(P171:U171)","v":1}]
[null,null,87,92,800,{"$nulls":9},181,{"$nulls":4},1,null,{"$f":"COUNTA(P172:U172)","v":1}]
[null,null,154,162,800,null,null,null,2400,800,1600,null,null,null,182,{"$nulls":4},1,null,{"$f":"COUNTA(P173:U173)","v":1}]
[null,null,270,283,800,{"$nulls":9},183,1,{"$nulls":5},{"$f":"COUNTA(P174:U174)","v":1}]
[null,null,9,9,800,{"$nulls":4},9000,1600,null,null,null,185,{"$nulls":6},{"$f":"COUNTA(P175:U175)","v":0}]
[null,null,129,136,800,null,3000,null,3000,{"$nulls":5},186,null,null,null,1,null,null,{"$f":"COUNTA(P176:U176)","v":1}]
[null,null,42,42,800,5000,1400,null,1600,null,1600,null,null,null,187,null,null,null,1,null,null,{"$f":"COUNTA(P177:U177)","v":1}]
[null,null,96,101,null,9000,null,null,2000,null,2000,null,null,null,188,{"$nulls":6},{"$f":"COUNTA(P178:U178)","v":0}]
[null,null,96,102,800,{"$nulls":9},190,{"$nulls":5},1,{"$f":"COUNTA(P179:U179)","v":1}]
[null,null,292,305,800,{"$nulls":9},191,{"$nulls":6},{"$f":"COUNTA(P180:U180)","v":0}]
[null,null,209,219,800,{"$nulls":4},2000,3000,null,null,null,192,{"$nulls":6},{"$f":"COUNTA(P181:U181)","v":0}]
[null,null,257,270,800,{"$nulls":9},193,{"$nulls":6},{"$f":"COUNTA(P182:U182)","v":0}]
[null,null,212,221,800,600,null,1600,800,{"$nulls":5},194,null,1,{"$nulls":4},{"$f":"COUNTA(P183:U183)","v":1}]
[null,null,320,null,800,null,null,null,13200,{"$nulls":5},196,null,null,1,null,null,null,{"$f":"COUNTA(P184:U184)","v":1}]
[null,null,186,194,800,null,null,null,5000,{"$nulls":5},197,{"$nulls":6},{"$f":"COUNTA(P185:U185)","v":0}]
[null,null,187,195,800,null,null,null,5000,{"$nulls":5},198,null,null,1,null,1,null,{"$f":"COUNTA(P186:U186)","v":2}]
[null,null,211,220,800,{"$nulls":9},199,{"$nulls":6},{"$f":"COUNTA(P187:U187)","v":0}]
[null,null,242,253,800,{"$nulls":9},201,1,null,null,null,1,null,{"$f":"COUNTA(P188:U188)","v":2}]
[null,null,218,227,800,null,null,1000,null,null,5000,null,null,null,202,{"$nulls":6},{"$f":"COUNTA(P189:U189)","v":0}]
[null,null,120,125,800,5000,6600,2000,null,null,1200,null,null,null,203,1,null,null,null,1,null,{"$f":"COUNTA(P190:U190)","v":2}]
[null,null,287,299,800,{"$nulls":9},204,{"$nulls":6},{"$f":"COUNTA(P191:U191)","v":0}]
[null,null,170,178,null,2400,null,2400,null,null,2400,null,null,null,205,{"$nulls":6},{"$f":"COUNTA(P192:U192)","v":0}]
[null,null,170,179,800,{"$nulls":9},206,{"$nulls":6},{"$f":"COUNTA(P193:U193)","v":0}]
[null,null,290,303,800,{"$nulls":4},5000,{"$nulls":4},207,{"$nulls":6},{"$f":"COUNTA(P194:U194)","v":0}]
[null,null,81,86,800,null,null,3200,{"$nulls":6},208,{"$nulls":6},{"$f":"COUNTA(P195:U195)","v":0}]
[null,null,31,31,800,null,null,null,2400,2400,{"$nulls":4},209,{"$nulls":4},1,1,{"$f":"COUNTA(P196:U196)","v":2}]
[null,null,104,109,800,{"$nulls":9},210,{"$nulls":6},{"$f":"COUNTA(P197:U197)","v":0}]
[null,null,85,90,800,null,null,null,4800,{"$nulls":5},211,{"$nulls":6},{"$f":"COUNTA(P198:U198)","v":0}]
[null,null,300,315,800,{"$nulls":9},212,1,null,1,1,null,null,{"$f":"COUNTA(P199:U199)","v":3}]
[null,null,47,47,800,{"$nulls":9},213,{"$nulls":6},{"$f":"COUNTA(P200:U200)","v":0}]
[null,null,282,294,800,{"$nulls":9},214,null,1,null,null,null,1,{"$f":"COUNTA(P201:U201)","v":2}]
[null,null,204,214,800,{"$nulls":9},215,null,1,{"$nulls":4},{"$f":"COUNTA(P202:U202)","v":1}]
[null,null,291,304,800,{"$nulls":9},216,null,1,{"$nulls":4},{"$f":"COUNTA(P203:U203)","v":1}]
[null,null,89,94,800,{"$nulls":9},218,null,null,1,null,null,1,{"$f":"COUNTA(P204:U204)","v":2}]
[null,null,26,26,800,{"$nulls":9},219,null,null,1,null,null,1,{"$f":"COUNTA(P205:U205)","v":2}]
[null,null,71,77,800,{"$nulls":9},220,{"$nulls":6},{"$f":"COUNTA(P206:U206)","v":0}]
[null,null,6,6,800,{"$nulls":4},4000,{"$nulls":4},221,1,{"$nulls":5},{"$f":"COUNTA(P207:U207)","v":1}]
[null,null,80,85,800,{"$nulls":5},4000,null,null,null,222,null,1,null,null,1,null,{"$f":"COUNTA(P208:U208)","v":2}]
[null,null,201,209,800,4000,null,null,null,3200,{"$nulls":4},223,{"$nulls":6},{"$f":"COUNTA(P209:U209)","v":0}]
[null,null,147,155,800,{"$nulls":9},224,{"$nulls":6},{"$f":"COUNTA(P210:U210)","v":0}]
[null,null,29,29,800,{"$nulls":9},225,{"$nulls":6},{"$f":"COUNTA(P211:U211)","v":0}]
[null,null,33,33,800,{"$nulls":4},10050,{"$nulls":4},226,{"$nulls":6},{"$f":"COUNTA(P212:U212)","v":0}]
[null,null,169,177,800,null,null,5400,null,2400,{"$nulls":4},227,null,1,1,null,null,null,{"$f":"COUNTA(P213:U213)","v":2}]
[null,null,185,193,800,{"$nulls":9},228,{"$nulls":6},{"$f":"COUNTA(P214:U214)","v":0}]
[null,null,176,184,800,5000,3000,null,null,3000,3500,null,null,null,229,{"$nulls":6},{"$f":"COUNTA(P215:U215)","v":0}]
[null,null,307,322,800,{"$nulls":4},8000,{"$nulls":4},230,{"$nulls":4},1,null,{"$f":"COUNTA(P216:U216)","v":1}]
[null,null,177,185,800,{"$nulls":9},231,null,1,null,1,null,null,{"$f":"COUNTA(P217:U217)","v":2}]
[null,null,160,168,800,{"$nulls":9},232,{"$nulls":6},{"$f":"COUNTA(P218:U218)","v":0}]
[null,null,53,55,800,{"$nulls":9},233,{"$nulls":5},1,{"$f":"COUNTA(P219:U219)","v":1}]
[null,null,102,107,800,800,800,800,800,null,800,null,null,null,234,null,1,{"$nulls":4},{"$f":"COUNTA(P220:U220)","v":1}]
[null,null,174,182,800,1000,null,null,null,3000,{"$nulls":4},236,{"$nulls":4},1,null,{"$f":"COUNTA(P221:U221)","v":1}]
[null,null,165,173,800,{"$nulls":9},237,1,null,1,null,null,null,{"$f":"COUNTA(P222:U222)","v":2}]
[null,null,251,262,800,{"$nulls":9},238,{"$nulls":6},{"$f":"COUNTA(P223:U223)","v":0}]
[null,null,315,"265-266",800,{"$nulls":9},239,{"$nulls":6},{"$f":"COUNTA(P224:U224)","v":0}]
[null,null,312,"210-211",800,2000,null,null,2000,null,2000,null,null,null,240,{"$nulls":6},{"$f":"COUNTA(P225:U225)","v":0}]
[null,null,314,"246-247",800,{"$nulls":9},241,1,1,1,null,null,1,{"$f":"COUNTA(P226:U226)","v":4}]
[null,null,{"$f":"{#н/д}","v":{"$error":"#N/A"}},203,800,{"$nulls":5},4000,null,null,null,242,{"$nulls":6},{"$f":"COUNTA(P227:U227)","v":0}]
[null,null,144,152,{"$nulls":10},243,1,1,null,null,null,1,{"$f":"COUNTA(P228:U228)","v":3}]
[null,null,144,153,800,{"$nulls":9},245,{"$nulls":5},1,{"$f":"COUNTA(P229:U229)","v":1}]
[null,null,74,80,null,6000,null,null,null,2400,{"$nulls":4},247,{"$nulls":6},{"$f":"COUNTA(P230:U230)","v":0}]
[null,null,74,81,800,{"$nulls":9},248,{"$nulls":5},1,{"$f":"COUNTA(P231:U231)","v":1}]
[null,null,68,70,800,null,1600,800,null,800,800,null,null,null,249,{"$nulls":6},{"$f":"COUNTA(P232:U232)","v":0}]
[null,null,224,233,800,{"$nulls":9},250,null,null,1,1,1,null,{"$f":"COUNTA(P233:U233)","v":3}]
[null,null,134,141,800,12000,4800,{"$nulls":7},251,{"$nulls":6},{"$f":"COUNTA(P234:U234)","v":0}]
[null,null,267,280,800,null,4000,2000,2000,{"$nulls":5},252,null,1,1,null,1,null,{"$f":"COUNTA(P235:U235)","v":3}]
[null,null,258,271,800,{"$nulls":5},4800,null,null,null,254,{"$nulls":6},{"$f":"COUNTA(P236:U236)","v":0}]
[null,null,299,314,800,{"$nulls":9},255,null,null,1,null,1,null,{"$f":"COUNTA(P237:U237)","v":2}]
[null,null,210,219,800,{"$nulls":9},256,{"$nulls":6},{"$f":"COUNTA(P238:U238)","v":0}]
[null,null,239,250,800,{"$nulls":9},257,{"$nulls":6},{"$f":"COUNTA(P239:U239)","v":0}]
[null,null,238,249,800,{"$nulls":9},258,{"$nulls":5},1,{"$f":"COUNTA(P240:U240)","v":1}]
[null,null,297,312,800,{"$nulls":9},259,{"$nulls":6},{"$f":"COUNTA(P241:U241)","v":0}]
[null,null,128,135,800,4000,{"$nulls":8},260,null,1,null,null,1,1,{"$f":"COUNTA(P242:U242)","v":3}]
[null,null,67,69,800,{"$nulls":9},261,1,null,null,1,null,null,{"$f":"COUNTA(P243:U243)","v":2}]
[null,null,278,290,800,{"$nulls":9},263,null,1,1,null,null,null,{"$f":"COUNTA(P244:U244)","v":2}]
[null,null,280,292,800,{"$nulls":9},264,1,null,1,null,null,null,{"$f":"COUNTA(P245:U245)","v":2}]
[null,null,215,224,800,null,7000,{"$nulls":7},265,null,null,1,null,null,null,{"$f":"COUNTA(P246:U246)","v":1}]
[null,null,241,252,800,3000,800,800,null,null,2400,null,null,null,266,{"$nulls":6},{"$f":"COUNTA(P247:U247)","v":0}]
[null,null,161,169,800,{"$nulls":9},267,null,1,1,1,null,null,{"$f":"COUNTA(P248:U248)","v":3}]
[null,null,272,285,800,{"$nulls":9},268,1,null,null,1,null,1,{"$f":"COUNTA(P249:U249)","v":3}]
[null,null,19,19,800,{"$nulls":5},4000,null,null,null,269,{"$nulls":6},{"$f":"COUNTA(P250:U250)","v":0}]
[null,null,310,"133-134",800,5000,null,5000,4950,5000,{"$nulls":4},270,{"$nulls":6},{"$f":"COUNTA(P251:U251)","v":0}]
[null,null,205,215,800,{"$nulls":9},271,{"$nulls":5},1,{"$f":"COUNTA(P252:U252)","v":1}]
[null,null,107,112,800,null,2000,3600,1600,null,800,null,null,null,272,{"$nulls":6},{"$f":"COUNTA(P253:U253)","v":0}]
[null,null,48,48,800,{"$nulls":9},273,{"$nulls":5},1,{"$f":"COUNTA(P254:U254)","v":1}]
[null,null,237,248,800,31000,null,2000,{"$nulls":6},274,null,null,1,null,null,1,{"$f":"COUNTA(P255:U255)","v":2}]
[null,null,263,276,800,null,2600,800,{"$nulls":6},275,{"$nulls":5},1,{"$f":"COUNTA(P256:U256)","v":1}]
[null,null,100,105,800,5050.3,{"$nulls":8},276,{"$nulls":5},1,{"$f":"COUNTA(P257:U257)","v":1}]
[null,null,131,138,800,null,null,null,14400,{"$nulls":5},277,{"$nulls":6},{"$f":"COUNTA(P258:U258)","v":0}]
[null,null,183,191,800,20000,{"$nulls":8},278,{"$nulls":6},{"$f":"COUNTA(P259:U259)","v":0}]
[null,null,183,192,{"$nulls":10},279,{"$nulls":6},{"$f":"COUNTA(P260:U260)","v":0}]
[null,null,21,21,800,{"$nulls":9},280,{"$nulls":6},{"$f":"COUNTA(P261:U261)","v":0}]
[null,null,298,313,800,null,4800,{"$nulls":7},281,{"$nulls":6},{"$f":"COUNTA(P262:U262)","v":0}]
[null,null,91,96,800,{"$nulls":9},282,{"$nulls":6},{"$f":"COUNTA(P263:U263)","v":0}]
[null,null,54,56,800,{"$nulls":9},284,null,null,1,null,null,null,{"$f":"COUNTA(P264:U264)","v":1}]
[null,null,317,"51-52",800,{"$nulls":9},285,null,1,null,null,null,1,{"$f":"COUNTA(P265:U265)","v":2}]
[null,null,268,281,800,3000,null,null,3000,null,3000,null,null,null,286,null,1,null,null,null,1,{"$f":"COUNTA(P266:U266)","v":2}]
[null,null,172,180,800,{"$nulls":9},287,{"$nulls":6},{"$f":"COUNTA(P267:U267)","v":0}]
[null,null,116,121,800,null,null,10000,{"$nulls":6},288,{"$nulls":6},{"$f":"COUNTA(P268:U268)","v":0}]
[null,null,57,59,800,{"$nulls":9},289,{"$nulls":6},{"$f":"COUNTA(P269:U269)","v":0}]
[null,null,46,46,800,{"$nulls":9},290,{"$nulls":4},1,null,{"$f":"COUNTA(P270:U270)","v":1}]
[null,null,73,79,800,{"$nulls":9},291,{"$nulls":6},{"$f":"COUNTA(P271:U271)","v":0}]
[null,null,162,170,800,{"$nulls":4},12000,{"$nulls":4},292,{"$nulls":6},{"$f":"COUNTA(P272:U272)","v":0}]
[null,null,252,263,800,null,800,1600,null,1600,{"$nulls":4},293,{"$nulls":6},{"$f":"COUNTA(P273:U273)","v":0}]
[null,null,252,264,{"$nulls":10},294,1,{"$nulls":5},{"$f":"COUNTA(P274:U274)","v":1}]
[null,null,45,45,800,800,800,800,800,800,800,null,null,null,295,{"$nulls":6},{"$f":"COUNTA(P275:U275)","v":0}]
[null,null,319,"73-74",800,null,2000,null,4000,4000,{"$nulls":4},296,{"$nulls":6},{"$f":"COUNTA(P276:U276)","v":0}]
[null,null,93,98,800,{"$nulls":9},297,{"$nulls":6},{"$f":"COUNTA(P277:U277)","v":0}]
[null,null,255,268,800,null,null,3200,null,3200,{"$nulls":4},298,null,1,{"$nulls":4},{"$f":"COUNTA(P278:U278)","v":1}]
[null,null,167,175,800,{"$nulls":9},299,{"$nulls":6},{"$f":"COUNTA(P279:U279)","v":0}]
[null,null,99,104,800,{"$nulls":9},300,{"$nulls":6},{"$f":"COUNTA(P280:U280)","v":0}]
[null,null,146,154,800,{"$nulls":5},26000,null,null,null,301,{"$nulls":6},{"$f":"COUNTA(P281:U281)","v":0}]
[null,null,29,29,800,9000,1600,800,1600,{"$nulls":5},302,{"$nulls":6},{"$f":"COUNTA(P282:U282)","v":0}]
[null,null,28,28,800,null,4000,null,2400,{"$nulls":5},303,{"$nulls":6},{"$f":"COUNTA(P283:U283)","v":0}]
[null,null,27,27,800,{"$nulls":9},305,{"$nulls":6},{"$f":"COUNTA(P284:U284)","v":0}]
[null,null,135,142,800,null,null,8000,null,null,21000,null,null,null,306,{"$nulls":6},{"$f":"COUNTA(P285:U285)","v":0}]
[null,null,135,143,{"$nulls":10},307,{"$nulls":4},1,null,{"$f":"COUNTA(P286:U286)","v":1}]
[null,null,135,"142-143",{"$nulls":10},308,{"$nulls":6},{"$f":"COUNTA(P287:U287)","v":0}]
[null,null,59,61,800,2400,{"$nulls":8},309,{"$nulls":6},{"$f":"COUNTA(P288:U288)","v":0}]
[null,null,60,62,800,{"$nulls":9},310,1,null,1,1,1,null,{"$f":"COUNTA(P289:U289)","v":4}]
[null,null,248,259,800,{"$nulls":5},1700,null,null,null,312,1,null,null,1,null,1,{"$f":"COUNTA(P290:U290)","v":3}]
[null,null,247,258,800,{"$nulls":9},314,{"$nulls":6},{"$f":"COUNTA(P291:U291)","v":0}]
[null,null,103,108,800,6000,null,6000,{"$nulls":6},315,{"$nulls":6},{"$f":"COUNTA(P292:U292)","v":0}]
[null,null,275,288,800,{"$nulls":5},16000,null,null,null,316,1,{"$nulls":5},{"$f":"COUNTA(P293:U293)","v":1}]
[null,null,22,22,800,{"$nulls":9},317,{"$nulls":6},{"$f":"COUNTA(P294:U294)","v":0}]
[null,null,20,20,800,{"$nulls":9},318,null,1,null,1,null,null,{"$f":"COUNTA(P295:U295)","v":2}]
[null,null,233,242,800,{"$nulls":5},7000,null,null,null,319,null,1,null,1,1,null,{"$f":"COUNTA(P296:U296)","v":3}]
[null,null,256,269,800,{"$nulls":9},320,null,null,null,1,null,null,{"$f":"COUNTA(P297:U297)","v":1}]
[null,null,113,118,800,6000,{"$nulls":8},"#Н/Д",{"$nulls":5},1,{"$f":"COUNTA(P298:U298)","v":1}]
[null,null,113,120,{"$nulls":10},"Итог Результат",44,52,50,38,43,64]
[null,null,113,116,{"$nulls":4},3000,null,3000]
[null,null,180,188,800,{"$nulls":4},4800]
[null,null,2,2,800]
[null,null,23,23,800,11600]
[null,null,168,176,800,null,2000,null,2000,2000]
[null,null,84,89,800,{"$nulls":5},4800]
[null,null,88,97,800,8000]
[null,null,88,93,800]
[null,null,78,83,800]
[null,null,77,83,800]
[null,null,306,321,800]
[null,null,182,190,800,{"$nulls":4},9200]
[null,null,95,100,800,{"$nulls":5},9000]
[null,null,108,113,800,null,4000,2400,null,null,2400]
[null,null,41,41,800]
[null,null,152,160,800]
[null,null,227,236,800,null,3800,4800]
[null,null,15,15,800,null,4000,null,null,null,4800]
[null,null,240,251,800]
[null,null,10,10,800]
[null,null,55,57,800,null,null,3200]
[null,null,309,324,800]
[null,null,17,17,800,3000,null,2000,null,null,2000]
[null,null,40,40,800]
[]
[]
[]
[null,null,"номер участка","- все -"]
[]
[null,null,"ID"]
[null,null,88,2]
[null,null,29,2]
[null,null,1,1]
[null,null,2,1]
[null,null,3,1]
[null,null,4,1]
[null,null,5,1]
[null,null,6,1]
[null,null,7,1]
[null,null,8,1]
[null,null,9,1]
[null,null,10,1]
[null,null,11,1]
[null,null,12,1]
[null,null,13,1]
[null,null,15,1]
[null,null,16,1]
[null,null,17,1]
[null,null,18,1]
[null,null,19,1]
[null,null,20,1]
[null,null,21,1]
[null,null,22,1]
[null,null,23,1]
[null,null,24,1]
[null,null,25,1]
[null,null,26,1]
[null,null,27,1]
[null,null,28,1]
[null,null,30,1]
[null,null,31,1]
[null,null,32,1]
[null,null,33,1]
[null,null,34,1]
[null,null,35,1]
[null,null,36,1]
[null,null,37,1]
[null,null,38,1]
[null,null,39,1]
[null,null,40,1]
[null,null,41,1]
[null,null,42,1]
[null,null,43,1]
[null,null,44,1]
[null,null,45,1]
[null,null,46,1]
[null,null,47,1]
[null,null,48,1]
[null,null,49,1]
[null,null,50,1]
[null,null,51,1]
[null,null,52,1]
[null,null,53,1]
[null,null,54,1]
[null,null,55,1]
[null,null,56,1]
[null,null,57,1]
[null,null,58,1]
[null,null,59,1]
[null,null,60,1]
[null,null,61,1]
[null,null,62,1]
[null,null,63,1]
[null,null,64,1]
[null,null,65,1]
[null,null,66,1]
[null,null,67,1]
[null,null,68,1]
[null,null,69,1]
[null,null,71,1]
[null,null,72,1]
[null,null,73,1]
[null,null,74,1]
[null,null,76,1]
[null,null,77,1]
[null,null,78,1]
[null,null,79,1]
[null,null,80,1]
[null,null,81,1]
[null,null,82,1]
[null,null,83,1]
[null,null,84,1]
[null,null,85,1]
[null,null,86,1]
[null,null,87,1]
[null,null,89,1]
[null,null,90,1]
[null,null,91,1]
[null,null,93,1]
[null,null,94,1]
[null,null,95,1]
[null,null,96,1]
[null,null,98,1]
[null,null,99,1]
[null,null,100,1]
[null,null,101,1]
[null,null,102,1]
[null,null,103,1]
[null,null,104,1]
[null,null,105,1]
[null,null,106,1]
[null,null,107,1]
[null,null,108,1]
[null,null,109,1]
[null,null,110,1]
[null,null,112,1]
[null,null,113,1]
[null,null,114,1]
[null,null,116,1]
[null,null,117,1]
[null,null,118,1]
[null,null,119,1]
[null,null,120,1]
[null,null,121,1]
[null,null,122,1]
[null,null,123,1]
[null,null,124,1]
[null,null,125,1]
[null,null,126,1]
[null,null,127,1]
[null,null,128,1]
[null,null,129,1]
[null,null,130,1]
[null,null,131,1]
[null,null,132,1]
[null,null,133,1]
[null,null,134,1]
[null,null,135,1]
[null,null,136,1]
[null,null,137,1]
[null,null,138,1]
[null,null,139,1]
[null,null,142,1]
[null,null,143,1]
[null,null,144,1]
[null,null,146,1]
[null,null,147,1]
[null,null,148,1]
[null,null,149,1]
[null,null,150,1]
[null,null,151,1]
[null,null,152,1]
[null,null,153,1]
[null,null,154,1]
[null,null,155,1]
[null,null,156,1]
[null,null,157,1]
[null,null,158,1]
[null,null,159,1]
[null,null,160,1]
[null,null,161,1]
[null,null,162,1]
[null,null,163,1]
[null,null,164,1]
[null,null,165,1]
[null,null,166,1]
[null,null,167,1]
[null,null,168,1]
[null,null,169,1]
[null,null,170,1]
[null,null,172,1]
[null,null,173,1]
[null,null,174,1]
[null,null,175,1]
[null,null,176,1]
[null,null,177,1]
[null,null,178,1]
[null,null,180,1]
[null,null,181,1]
[null,null,182,1]
[null,null,183,1]
[null,null,185,1]
[null,null,186,1]
[null,null,187,1]
[null,null,188,1]
[null,null,190,1]
[null,null,191,1]
[null,null,192,1]
[null,null,193,1]
[null,null,194,1]
[null,null,196,1]
[null,null,197,1]
[null,null,198,1]
[null,null,199,1]
[null,null,201,1]
[null,null,202,1]
[null,null,203,1]
[null,null,204,1]
[null,null,205,1]
[null,null,206,1]
[null,null,207,1]
[null,null,208,1]
[null,null,209,1]
[null,null,210,1]
[null,null,211,1]
[null,null,212,1]
[null,null,213,1]
[null,null,214,1]
[null,null,215,1]
[null,null,216,1]
[null,null,218,1]
[null,null,219,1]
[null,null,220,1]
[null,null,221,1]
[null,null,222,1]
[null,null,223,1]
[null,null,224,1]
[null,null,225,1]
[null,null,226,1]
[null,null,227,1]
[null,null,228,1]
[null,null,229,1]
[null,null,230,1]
[null,null,231,1]
[null,null,232,1]
[null,null,233,1]
[null,null,234,1]
[null,null,236,1]
[null,null,237,1]
[null,null,238,1]
[null,null,239,1]
[null,null,240,1]
[null,null,241,1]
[null,null,242,1]
[null,null,243,1]
[null,null,245,1]
[null,null,247,1]
[null,null,248,1]
[null,null,249,1]
[null,null,250,1]
[null,null,251,1]
[null,null,252,1]
[null,null,254,1]
[null,null,255,1]
[null,null,256,1]
[null,null,257,1]
[null,null,258,1]
[null,null,259,1]
[null,null,260,1]
[null,null,261,1]
[null,null,263,1]
[null,null,264,1]
[null,null,265,1]
[null,null,266,1]
[null,null,267,1]
[null,null,268,1]
[null,null,269,1]
[null,null,270,1]
[null,null,271,1]
[null,null,272,1]
[null,null,273,1]
[null,null,274,1]
[null,null,275,1]
[null,null,276,1]
[null,null,277,1]
[null,null,278,1]
[null,null,279,1]
[null,null,280,1]
[null,null,281,1]
[null,null,282,1]
[null,null,284,1]
[null,null,285,1]
[null,null,286,1]
[null,null,287,1]
[null,null,288,1]
[null,null,289,1]
[null,null,290,1]
[null,null,291,1]
[null,null,292,1]
[null,null,293,1]
[null,null,294,1]
[null,null,295,1]
[null,null,296,1]
[null,null,297,1]
[null,null,298,1]
[null,null,299,1]
[null,null,300,1]
[null,null,301,1]
[null,null,302,1]
[null,null,303,1]
[null,null,305,1]
[null,null,306,1]
[null,null,307,1]
[null,null,308,1]
[null,null,309,1]
[null,null,310,1]
[null,null,312,1]
[null,null,314,1]
[null,null,315,1]
[null,null,316,1]
[null,null,317,1]
[null,null,318,1]
[null,null,319,1]
[null,null,320,1]
[null,null,"#Н/Д",1]
[null,null,"Итог Результат",297]